{"text_format":"1","workbook":"xlsx","n_sheets":10,"sheets":["PF14702","svod","домены","uniprot_tax","taxonomy","architecture","1+2_tab","3_tab","final_tab","chosen_tab"],"not_rendered":{"charts":0,"images":0,"macros":0,"external_links":0,"defined_names":0,"comments":0,"pivot_tables":1},"unopened":[],"bounds":{"document_bytes":16777216,"sheet_cells":100000,"rows_first":2000,"rows_last":500,"rows_between":2000,"halvings":0,"cell_chars":16384,"cell_head_chars":4096},"cells_cut":0,"cells_raw":0,"read":"whole","date_system":"1900"}

{"sheet":"PF14702","index":0,"n_rows":2682,"n_cols":8,"rows_kept":2682,"cut":false,"hidden":false,"merged":[]}
["Sequence_ID","Sequence_AC","Sequence_length","Pfam_AC","From","To","Pfam_seq_num","Description"]
["A0A010QTU3_9PEZI","A0A010QTU3",1568,"PF06202",1070,1546,1981,"PF06202.13 Amylo-alpha-1,6-glucosidase"]
["A0A010QTU3_9PEZI","A0A010QTU3",1568,"PF14701",138,581,800,"PF14701.5 Glycogen debranching enzyme, glucanotransferase domain"]
["A0A010QTU3_9PEZI","A0A010QTU3",1568,"PF14699",36,136,587,"PF14699.5 N-terminal domain from the human glycogen debranching enzyme"]
["A0A010QTU3_9PEZI","A0A010QTU3",1568,"PF14702",757,1001,717,"PF14702.5 Central domain of human glycogen debranching enzyme"]
["A0A016T824_9BILA","A0A016T824",1191,"PF06202",1095,1189,1981,"PF06202.13 Amylo-alpha-1,6-glucosidase"]
["A0A016T824_9BILA","A0A016T824",1191,"PF14701",202,634,800,"PF14701.5 Glycogen debranching enzyme, glucanotransferase domain"]
["A0A016T824_9BILA","A0A016T824",1191,"PF14702",772,1028,717,"PF14702.5 Central domain of human glycogen debranching enzyme"]
["A0A016T8T2_9BILA","A0A016T8T2",1119,"PF06202",1023,1117,1981,"PF06202.13 Amylo-alpha-1,6-glucosidase"]
["A0A016T8T2_9BILA","A0A016T8T2",1119,"PF14701",130,562,800,"PF14701.5 Glycogen debranching enzyme, glucanotransferase domain"]
["A0A016T8T2_9BILA","A0A016T8T2",1119,"PF14702",700,956,717,"PF14702.5 Central domain of human glycogen debranching enzyme"]
["A0A016T905_9BILA","A0A016T905",1215,"PF06202",1119,1213,1981,"PF06202.13 Amylo-alpha-1,6-glucosidase"]
["A0A016T905_9BILA","A0A016T905",1215,"PF14701",226,658,800,"PF14701.5 Glycogen debranching enzyme, glucanotransferase domain"]
["A0A016T905_9BILA","A0A016T905",1215,"PF14702",796,1052,717,"PF14702.5 Central domain of human glycogen debranching enzyme"]
["A0A023AYK6_GRENI","A0A023AYK6",1800,"PF16561",689,773,2886,"PF16561.4 Glycogen recognition site of AMP-activated protein kinase"]
["A0A023AYK6_GRENI","A0A023AYK6",1800,"PF06202",1120,1574,1981,"PF06202.13 Amylo-alpha-1,6-glucosidase"]
["A0A023AYK6_GRENI","A0A023AYK6",1800,"PF14701",105,334,800,"PF14701.5 Glycogen debranching enzyme, glucanotransferase domain"]
["A0A023AYK6_GRENI","A0A023AYK6",1800,"PF14701",318,505,800,"PF14701.5 Glycogen debranching enzyme, glucanotransferase domain"]
["A0A023AYK6_GRENI","A0A023AYK6",1800,"PF14702",810,1052,717,"PF14702.5 Central domain of human glycogen debranching enzyme"]
["A0A026W7M0_CERBI","A0A026W7M0",1968,"PF06202",1054,1549,1981,"PF06202.13 Amylo-alpha-1,6-glucosidase"]
["A0A026W7M0_CERBI","A0A026W7M0",1968,"PF14701",117,553,800,"PF14701.5 Glycogen debranching enzyme, glucanotransferase domain"]
["A0A026W7M0_CERBI","A0A026W7M0",1968,"PF14699",33,114,587,"PF14699.5 N-terminal domain from the human glycogen debranching enzyme"]
["A0A026W7M0_CERBI","A0A026W7M0",1968,"PF14702",698,973,717,"PF14702.5 Central domain of human glycogen debranching enzyme"]
["A0A044QLY7_ONCVO","A0A044QLY7",1497,"PF06202",1016,1485,1981,"PF06202.13 Amylo-alpha-1,6-glucosidase"]
["A0A044QLY7_ONCVO","A0A044QLY7",1497,"PF14701",121,554,800,"PF14701.5 Glycogen debranching enzyme, glucanotransferase domain"]
["A0A044QLY7_ONCVO","A0A044QLY7",1497,"PF14702",691,948,717,"PF14702.5 Central domain of human glycogen debranching enzyme"]
["A0A058Z1Q6_9EUKA","A0A058Z1Q6",2944,"PF06202",2057,2347,1981,"PF06202.13 Amylo-alpha-1,6-glucosidase"]
["A0A058Z1Q6_9EUKA","A0A058Z1Q6",2944,"PF06202",2572,2670,1981,"PF06202.13 Amylo-alpha-1,6-glucosidase"]
["A0A058Z1Q6_9EUKA","A0A058Z1Q6",2944,"PF06202",2692,2789,1981,"PF06202.13 Amylo-alpha-1,6-glucosidase"]
["A0A058Z1Q6_9EUKA","A0A058Z1Q6",2944,"PF14701",767,875,800,"PF14701.5 Glycogen debranching enzyme, glucanotransferase domain"]
["A0A058Z1Q6_9EUKA","A0A058Z1Q6",2944,"PF14701",942,1072,800,"PF14701.5 Glycogen debranching enzyme, glucanotransferase domain"]
["A0A058Z1Q6_9EUKA","A0A058Z1Q6",2944,"PF14701",1117,1372,800,"PF14701.5 Glycogen debranching enzyme, glucanotransferase domain"]
["A0A058Z1Q6_9EUKA","A0A058Z1Q6",2944,"PF14702",1585,1816,717,"PF14702.5 Central domain of human glycogen debranching enzyme"]
["A0A059JG84_9EURO","A0A059JG84",1523,"PF06202",1039,1511,1981,"PF06202.13 Amylo-alpha-1,6-glucosidase"]
["A0A059JG84_9EURO","A0A059JG84",1523,"PF14701",139,571,800,"PF14701.5 Glycogen debranching enzyme, glucanotransferase domain"]
["A0A059JG84_9EURO","A0A059JG84",1523,"PF14699",39,137,587,"PF14699.5 N-terminal domain from the human glycogen debranching enzyme"]
["A0A059JG84_9EURO","A0A059JG84",1523,"PF14702",726,966,717,"PF14702.5 Central domain of human glycogen debranching enzyme"]
["A0A060SM73_PYCCI","A0A060SM73",1597,"PF06202",1108,1584,1981,"PF06202.13 Amylo-alpha-1,6-glucosidase"]
["A0A060SM73_PYCCI","A0A060SM73",1597,"PF14701",206,638,800,"PF14701.5 Glycogen debranching enzyme, glucanotransferase domain"]
["A0A060SM73_PYCCI","A0A060SM73",1597,"PF14699",95,183,587,"PF14699.5 N-terminal domain from the human glycogen debranching enzyme"]
["A0A060SM73_PYCCI","A0A060SM73",1597,"PF14702",795,1036,717,"PF14702.5 Central domain of human glycogen debranching enzyme"]
["A0A061HK78_BLUGR","A0A061HK78",1558,"PF06202",1059,1541,1981,"PF06202.13 Amylo-alpha-1,6-glucosidase"]
["A0A061HK78_BLUGR","A0A061HK78",1558,"PF14701",139,585,800,"PF14701.5 Glycogen debranching enzyme, glucanotransferase domain"]
["A0A061HK78_BLUGR","A0A061HK78",1558,"PF14699",41,137,587,"PF14699.5 N-terminal domain from the human glycogen debranching enzyme"]
["A0A061HK78_BLUGR","A0A061HK78",1558,"PF14702",746,990,717,"PF14702.5 Central domain of human glycogen debranching enzyme"]
["A0A063C724_9HYPO","A0A063C724",1582,"PF06202",1095,1567,1981,"PF06202.13 Amylo-alpha-1,6-glucosidase"]
["A0A063C724_9HYPO","A0A063C724",1582,"PF14701",168,612,800,"PF14701.5 Glycogen debranching enzyme, glucanotransferase domain"]
["A0A063C724_9HYPO","A0A063C724",1582,"PF14699",41,166,587,"PF14699.5 N-terminal domain from the human glycogen debranching enzyme"]
["A0A063C724_9HYPO","A0A063C724",1582,"PF14702",778,1022,717,"PF14702.5 Central domain of human glycogen debranching enzyme"]
["A0A066VMY2_9HOMO","A0A066VMY2",1552,"PF06202",1068,1540,1981,"PF06202.13 Amylo-alpha-1,6-glucosidase"]
["A0A066VMY2_9HOMO","A0A066VMY2",1552,"PF14701",192,611,800,"PF14701.5 Glycogen debranching enzyme, glucanotransferase domain"]
["A0A066VMY2_9HOMO","A0A066VMY2",1552,"PF14699",104,193,587,"PF14699.5 N-terminal domain from the human glycogen debranching enzyme"]
["A0A066VMY2_9HOMO","A0A066VMY2",1552,"PF14702",757,996,717,"PF14702.5 Central domain of human glycogen debranching enzyme"]
["A0A066VPH2_9BASI","A0A066VPH2",1557,"PF06202",1068,1544,1981,"PF06202.13 Amylo-alpha-1,6-glucosidase"]
["A0A066VPH2_9BASI","A0A066VPH2",1557,"PF14701",159,600,800,"PF14701.5 Glycogen debranching enzyme, glucanotransferase domain"]
["A0A066VPH2_9BASI","A0A066VPH2",1557,"PF14699",36,141,587,"PF14699.5 N-terminal domain from the human glycogen debranching enzyme"]
["A0A066VPH2_9BASI","A0A066VPH2",1557,"PF14702",756,996,717,"PF14702.5 Central domain of human glycogen debranching enzyme"]
["A0A066XER0_COLSU","A0A066XER0",1568,"PF06202",1071,1546,1981,"PF06202.13 Amylo-alpha-1,6-glucosidase"]
["A0A066XER0_COLSU","A0A066XER0",1568,"PF14701",138,581,800,"PF14701.5 Glycogen debranching enzyme, glucanotransferase domain"]
["A0A066XER0_COLSU","A0A066XER0",1568,"PF14699",36,136,587,"PF14699.5 N-terminal domain from the human glycogen debranching enzyme"]
["A0A066XER0_COLSU","A0A066XER0",1568,"PF14702",757,1001,717,"PF14702.5 Central domain of human glycogen debranching enzyme"]
["A0A067MEC5_9HOMO","A0A067MEC5",1597,"PF06202",1110,1586,1981,"PF06202.13 Amylo-alpha-1,6-glucosidase"]
["A0A067MEC5_9HOMO","A0A067MEC5",1597,"PF14701",201,637,800,"PF14701.5 Glycogen debranching enzyme, glucanotransferase domain"]
["A0A067MEC5_9HOMO","A0A067MEC5",1597,"PF14699",85,175,587,"PF14699.5 N-terminal domain from the human glycogen debranching enzyme"]
["A0A067MEC5_9HOMO","A0A067MEC5",1597,"PF14702",798,1038,717,"PF14702.5 Central domain of human glycogen debranching enzyme"]
["A0A067NTR2_PLEOS","A0A067NTR2",1591,"PF06202",1106,1582,1981,"PF06202.13 Amylo-alpha-1,6-glucosidase"]
["A0A067NTR2_PLEOS","A0A067NTR2",1591,"PF14701",205,636,800,"PF14701.5 Glycogen debranching enzyme, glucanotransferase domain"]
["A0A067NTR2_PLEOS","A0A067NTR2",1591,"PF14699",91,179,587,"PF14699.5 N-terminal domain from the human glycogen debranching enzyme"]
["A0A067NTR2_PLEOS","A0A067NTR2",1591,"PF14702",793,1034,717,"PF14702.5 Central domain of human glycogen debranching enzyme"]
["A0A067Q6F6_9HOMO","A0A067Q6F6",1608,"PF06202",1119,1595,1981,"PF06202.13 Amylo-alpha-1,6-glucosidase"]
["A0A067Q6F6_9HOMO","A0A067Q6F6",1608,"PF14701",213,649,800,"PF14701.5 Glycogen debranching enzyme, glucanotransferase domain"]
["A0A067Q6F6_9HOMO","A0A067Q6F6",1608,"PF14699",98,186,587,"PF14699.5 N-terminal domain from the human glycogen debranching enzyme"]
["A0A067Q6F6_9HOMO","A0A067Q6F6",1608,"PF14702",806,1047,717,"PF14702.5 Central domain of human glycogen debranching enzyme"]
["A0A067R0B7_ZOONE","A0A067R0B7",1500,"PF06202",1021,1500,1981,"PF06202.13 Amylo-alpha-1,6-glucosidase"]
["A0A067R0B7_ZOONE","A0A067R0B7",1500,"PF14701",121,556,800,"PF14701.5 Glycogen debranching enzyme, glucanotransferase domain"]
["A0A067R0B7_ZOONE","A0A067R0B7",1500,"PF14699",26,118,587,"PF14699.5 N-terminal domain from the human glycogen debranching enzyme"]
["A0A067R0B7_ZOONE","A0A067R0B7",1500,"PF14702",698,900,717,"PF14702.5 Central domain of human glycogen debranching enzyme"]
["A0A067R0B7_ZOONE","A0A067R0B7",1500,"PF14702",900,946,717,"PF14702.5 Central domain of human glycogen debranching enzyme"]
["A0A067S4G4_9AGAR","A0A067S4G4",1593,"PF06202",1110,1586,1981,"PF06202.13 Amylo-alpha-1,6-glucosidase"]
["A0A067S4G4_9AGAR","A0A067S4G4",1593,"PF14701",209,640,800,"PF14701.5 Glycogen debranching enzyme, glucanotransferase domain"]
["A0A067S4G4_9AGAR","A0A067S4G4",1593,"PF14699",96,183,587,"PF14699.5 N-terminal domain from the human glycogen debranching enzyme"]
["A0A067S4G4_9AGAR","A0A067S4G4",1593,"PF14702",797,1038,717,"PF14702.5 Central domain of human glycogen debranching enzyme"]
["A0A068S7K8_9FUNG","A0A068S7K8",1533,"PF06202",1066,1526,1981,"PF06202.13 Amylo-alpha-1,6-glucosidase"]
["A0A068S7K8_9FUNG","A0A068S7K8",1533,"PF14701",178,606,800,"PF14701.5 Glycogen debranching enzyme, glucanotransferase domain"]
["A0A068S7K8_9FUNG","A0A068S7K8",1533,"PF14699",92,173,587,"PF14699.5 N-terminal domain from the human glycogen debranching enzyme"]
["A0A068S7K8_9FUNG","A0A068S7K8",1533,"PF14702",756,992,717,"PF14702.5 Central domain of human glycogen debranching enzyme"]
["A0A068S963_9FUNG","A0A068S963",1501,"PF06202",1034,1494,1981,"PF06202.13 Amylo-alpha-1,6-glucosidase"]
["A0A068S963_9FUNG","A0A068S963",1501,"PF14701",146,574,800,"PF14701.5 Glycogen debranching enzyme, glucanotransferase domain"]
["A0A068S963_9FUNG","A0A068S963",1501,"PF14699",60,141,587,"PF14699.5 N-terminal domain from the human glycogen debranching enzyme"]
["A0A068S963_9FUNG","A0A068S963",1501,"PF14702",724,960,717,"PF14702.5 Central domain of human glycogen debranching enzyme"]
["A0A068X5G4_HYMMI","A0A068X5G4",1667,"PF06202",1083,1587,1981,"PF06202.13 Amylo-alpha-1,6-glucosidase"]
["A0A068X5G4_HYMMI","A0A068X5G4",1667,"PF14701",141,571,800,"PF14701.5 Glycogen debranching enzyme, glucanotransferase domain"]
["A0A068X5G4_HYMMI","A0A068X5G4",1667,"PF14699",29,132,587,"PF14699.5 N-terminal domain from the human glycogen debranching enzyme"]
["A0A068X5G4_HYMMI","A0A068X5G4",1667,"PF14702",711,1008,717,"PF14702.5 Central domain of human glycogen debranching enzyme"]
["A0A068Y9Z0_ECHMU","A0A068Y9Z0",1565,"PF06202",1032,1545,1981,"PF06202.13 Amylo-alpha-1,6-glucosidase"]
["A0A068Y9Z0_ECHMU","A0A068Y9Z0",1565,"PF14701",91,521,800,"PF14701.5 Glycogen debranching enzyme, glucanotransferase domain"]
["A0A068Y9Z0_ECHMU","A0A068Y9Z0",1565,"PF14702",661,958,717,"PF14702.5 Central domain of human glycogen debranching enzyme"]
["A0A072P3F0_9EURO","A0A072P3F0",1553,"PF06202",1066,1538,1981,"PF06202.13 Amylo-alpha-1,6-glucosidase"]
["A0A072P3F0_9EURO","A0A072P3F0",1553,"PF14701",140,581,800,"PF14701.5 Glycogen debranching enzyme, glucanotransferase domain"]
["A0A072P3F0_9EURO","A0A072P3F0",1553,"PF14699",42,138,587,"PF14699.5 N-terminal domain from the human glycogen debranching enzyme"]
["A0A072P3F0_9EURO","A0A072P3F0",1553,"PF14702",749,993,717,"PF14702.5 Central domain of human glycogen debranching enzyme"]
["A0A074SCB3_9HOMO","A0A074SCB3",1609,"PF06202",1123,1597,1981,"PF06202.13 Amylo-alpha-1,6-glucosidase"]
["A0A074SCB3_9HOMO","A0A074SCB3",1609,"PF14701",216,654,800,"PF14701.5 Glycogen debranching enzyme, glucanotransferase domain"]
["A0A074SCB3_9HOMO","A0A074SCB3",1609,"PF14699",104,190,587,"PF14699.5 N-terminal domain from the human glycogen debranching enzyme"]
["A0A074SCB3_9HOMO","A0A074SCB3",1609,"PF14702",812,1051,717,"PF14702.5 Central domain of human glycogen debranching enzyme"]
["A0A074TF13_HAMHA","A0A074TF13",1877,"PF16561",867,962,2886,"PF16561.4 Glycogen recognition site of AMP-activated protein kinase"]
["A0A074TF13_HAMHA","A0A074TF13",1877,"PF06202",1372,1849,1981,"PF06202.13 Amylo-alpha-1,6-glucosidase"]
["A0A074TF13_HAMHA","A0A074TF13",1877,"PF14701",160,611,800,"PF14701.5 Glycogen debranching enzyme, glucanotransferase domain"]
["A0A074TF13_HAMHA","A0A074TF13",1877,"PF14702",973,1241,717,"PF14702.5 Central domain of human glycogen debranching enzyme"]
["A0A074WED3_9PEZI","A0A074WED3",1541,"PF06202",1058,1530,1981,"PF06202.13 Amylo-alpha-1,6-glucosidase"]
["A0A074WED3_9PEZI","A0A074WED3",1541,"PF14701",139,579,800,"PF14701.5 Glycogen debranching enzyme, glucanotransferase domain"]
["A0A074WED3_9PEZI","A0A074WED3",1541,"PF14699",41,137,587,"PF14699.5 N-terminal domain from the human glycogen debranching enzyme"]
["A0A074WED3_9PEZI","A0A074WED3",1541,"PF14702",742,985,717,"PF14702.5 Central domain of human glycogen debranching enzyme"]
["A0A074X1S4_9PEZI","A0A074X1S4",1541,"PF06202",1057,1530,1981,"PF06202.13 Amylo-alpha-1,6-glucosidase"]
["A0A074X1S4_9PEZI","A0A074X1S4",1541,"PF14701",139,579,800,"PF14701.5 Glycogen debranching enzyme, glucanotransferase domain"]
["A0A074X1S4_9PEZI","A0A074X1S4",1541,"PF14699",41,137,587,"PF14699.5 N-terminal domain from the human glycogen debranching enzyme"]
["A0A074X1S4_9PEZI","A0A074X1S4",1541,"PF14702",742,985,717,"PF14702.5 Central domain of human glycogen debranching enzyme"]
["A0A074Y8R4_9PEZI","A0A074Y8R4",1541,"PF06202",1057,1530,1981,"PF06202.13 Amylo-alpha-1,6-glucosidase"]
["A0A074Y8R4_9PEZI","A0A074Y8R4",1541,"PF14701",139,579,800,"PF14701.5 Glycogen debranching enzyme, glucanotransferase domain"]
["A0A074Y8R4_9PEZI","A0A074Y8R4",1541,"PF14699",41,137,587,"PF14699.5 N-terminal domain from the human glycogen debranching enzyme"]
["A0A074Y8R4_9PEZI","A0A074Y8R4",1541,"PF14702",742,985,717,"PF14702.5 Central domain of human glycogen debranching enzyme"]
["A0A074YD67_AURPU","A0A074YD67",1541,"PF06202",1058,1530,1981,"PF06202.13 Amylo-alpha-1,6-glucosidase"]
["A0A074YD67_AURPU","A0A074YD67",1541,"PF14701",139,579,800,"PF14701.5 Glycogen debranching enzyme, glucanotransferase domain"]
["A0A074YD67_AURPU","A0A074YD67",1541,"PF14699",41,137,587,"PF14699.5 N-terminal domain from the human glycogen debranching enzyme"]
["A0A074YD67_AURPU","A0A074YD67",1541,"PF14702",742,985,717,"PF14702.5 Central domain of human glycogen debranching enzyme"]
["A0A075A357_9TREM","A0A075A357",1693,"PF06202",1123,1627,1981,"PF06202.13 Amylo-alpha-1,6-glucosidase"]
["A0A075A357_9TREM","A0A075A357",1693,"PF14701",145,587,800,"PF14701.5 Glycogen debranching enzyme, glucanotransferase domain"]
["A0A075A357_9TREM","A0A075A357",1693,"PF14699",28,130,587,"PF14699.5 N-terminal domain from the human glycogen debranching enzyme"]
["A0A075A357_9TREM","A0A075A357",1693,"PF14702",727,1025,717,"PF14702.5 Central domain of human glycogen debranching enzyme"]
["A0A075AYU9_9FUNG","A0A075AYU9",1618,"PF06202",1021,1504,1981,"PF06202.13 Amylo-alpha-1,6-glucosidase"]
["A0A075AYU9_9FUNG","A0A075AYU9",1618,"PF06202",1502,1616,1981,"PF06202.13 Amylo-alpha-1,6-glucosidase"]
["A0A075AYU9_9FUNG","A0A075AYU9",1618,"PF14701",84,500,800,"PF14701.5 Glycogen debranching enzyme, glucanotransferase domain"]
["A0A075AYU9_9FUNG","A0A075AYU9",1618,"PF14702",694,951,717,"PF14702.5 Central domain of human glycogen debranching enzyme"]
["A0A077YY88_TRITR","A0A077YY88",1583,"PF06202",1096,1571,1981,"PF06202.13 Amylo-alpha-1,6-glucosidase"]
["A0A077YY88_TRITR","A0A077YY88",1583,"PF14701",138,584,800,"PF14701.5 Glycogen debranching enzyme, glucanotransferase domain"]
["A0A077YY88_TRITR","A0A077YY88",1583,"PF14702",729,1018,717,"PF14702.5 Central domain of human glycogen debranching enzyme"]
["A0A077Z661_TRITR","A0A077Z661",1538,"PF06202",1013,1085,1981,"PF06202.13 Amylo-alpha-1,6-glucosidase"]
["A0A077Z661_TRITR","A0A077Z661",1538,"PF06202",1090,1524,1981,"PF06202.13 Amylo-alpha-1,6-glucosidase"]
["A0A077Z661_TRITR","A0A077Z661",1538,"PF14701",129,565,800,"PF14701.5 Glycogen debranching enzyme, glucanotransferase domain"]
["A0A077Z661_TRITR","A0A077Z661",1538,"PF14702",723,884,717,"PF14702.5 Central domain of human glycogen debranching enzyme"]
["A0A077Z661_TRITR","A0A077Z661",1538,"PF14702",892,929,717,"PF14702.5 Central domain of human glycogen debranching enzyme"]
["A0A078A3A7_STYLE","A0A078A3A7",1661,"PF16561",741,830,2886,"PF16561.4 Glycogen recognition site of AMP-activated protein kinase"]
["A0A078A3A7_STYLE","A0A078A3A7",1661,"PF06202",1181,1653,1981,"PF06202.13 Amylo-alpha-1,6-glucosidase"]
["A0A078A3A7_STYLE","A0A078A3A7",1661,"PF14701",109,545,800,"PF14701.5 Glycogen debranching enzyme, glucanotransferase domain"]
["A0A078A3A7_STYLE","A0A078A3A7",1661,"PF14702",855,1116,717,"PF14702.5 Central domain of human glycogen debranching enzyme"]
["A0A078AI91_STYLE","A0A078AI91",816,"PF16561",556,640,2886,"PF16561.4 Glycogen recognition site of AMP-activated protein kinase"]
["A0A078AI91_STYLE","A0A078AI91",816,"PF14701",114,291,800,"PF14701.5 Glycogen debranching enzyme, glucanotransferase domain"]
["A0A078AI91_STYLE","A0A078AI91",816,"PF14701",372,458,800,"PF14701.5 Glycogen debranching enzyme, glucanotransferase domain"]
["A0A078AI91_STYLE","A0A078AI91",816,"PF14702",651,814,717,"PF14702.5 Central domain of human glycogen debranching enzyme"]
["A0A081CN43_PSEA2","A0A081CN43",1628,"PF06202",1148,1621,1981,"PF06202.13 Amylo-alpha-1,6-glucosidase"]
["A0A081CN43_PSEA2","A0A081CN43",1628,"PF14701",236,677,800,"PF14701.5 Glycogen debranching enzyme, glucanotransferase domain"]
["A0A081CN43_PSEA2","A0A081CN43",1628,"PF14699",107,209,587,"PF14699.5 N-terminal domain from the human glycogen debranching enzyme"]
["A0A081CN43_PSEA2","A0A081CN43",1628,"PF14702",834,1076,717,"PF14702.5 Central domain of human glycogen debranching enzyme"]
["A0A084GGA7_9PEZI","A0A084GGA7",1566,"PF06202",1072,1546,1981,"PF06202.13 Amylo-alpha-1,6-glucosidase"]
["A0A084GGA7_9PEZI","A0A084GGA7",1566,"PF14701",144,587,800,"PF14701.5 Glycogen debranching enzyme, glucanotransferase domain"]
["A0A084GGA7_9PEZI","A0A084GGA7",1566,"PF14699",41,142,587,"PF14699.5 N-terminal domain from the human glycogen debranching enzyme"]
["A0A084GGA7_9PEZI","A0A084GGA7",1566,"PF14702",755,999,717,"PF14702.5 Central domain of human glycogen debranching enzyme"]
["A0A084QI67_9HYPO","A0A084QI67",1563,"PF06202",1079,1551,1981,"PF06202.13 Amylo-alpha-1,6-glucosidase"]
["A0A084QI67_9HYPO","A0A084QI67",1563,"PF14701",144,588,800,"PF14701.5 Glycogen debranching enzyme, glucanotransferase domain"]
["A0A084QI67_9HYPO","A0A084QI67",1563,"PF14699",41,142,587,"PF14699.5 N-terminal domain from the human glycogen debranching enzyme"]
["A0A084QI67_9HYPO","A0A084QI67",1563,"PF14702",762,1006,717,"PF14702.5 Central domain of human glycogen debranching enzyme"]
["A0A084W0C3_ANOSI","A0A084W0C3",1558,"PF06202",1077,1546,1981,"PF06202.13 Amylo-alpha-1,6-glucosidase"]
["A0A084W0C3_ANOSI","A0A084W0C3",1558,"PF14701",165,604,800,"PF14701.5 Glycogen debranching enzyme, glucanotransferase domain"]
["A0A084W0C3_ANOSI","A0A084W0C3",1558,"PF14699",57,159,587,"PF14699.5 N-terminal domain from the human glycogen debranching enzyme"]
["A0A084W0C3_ANOSI","A0A084W0C3",1558,"PF14702",742,1010,717,"PF14702.5 Central domain of human glycogen debranching enzyme"]
["A0A085NDC7_9BILA","A0A085NDC7",1627,"PF06202",1101,1558,1981,"PF06202.13 Amylo-alpha-1,6-glucosidase"]
["A0A085NDC7_9BILA","A0A085NDC7",1627,"PF14701",129,565,800,"PF14701.5 Glycogen debranching enzyme, glucanotransferase domain"]
["A0A085NDC7_9BILA","A0A085NDC7",1627,"PF14702",723,1016,717,"PF14702.5 Central domain of human glycogen debranching enzyme"]
["A0A085NML0_9BILA","A0A085NML0",1716,"PF06202",1130,1617,1981,"PF06202.13 Amylo-alpha-1,6-glucosidase"]
["A0A085NML0_9BILA","A0A085NML0",1716,"PF14701",210,628,800,"PF14701.5 Glycogen debranching enzyme, glucanotransferase domain"]
["A0A085NML0_9BILA","A0A085NML0",1716,"PF14702",773,1062,717,"PF14702.5 Central domain of human glycogen debranching enzyme"]
["A0A086THF9_ACRC1","A0A086THF9",1561,"PF06202",1076,1548,1981,"PF06202.13 Amylo-alpha-1,6-glucosidase"]
["A0A086THF9_ACRC1","A0A086THF9",1561,"PF14701",143,587,800,"PF14701.5 Glycogen debranching enzyme, glucanotransferase domain"]
["A0A086THF9_ACRC1","A0A086THF9",1561,"PF14699",41,141,587,"PF14699.5 N-terminal domain from the human glycogen debranching enzyme"]
["A0A086THF9_ACRC1","A0A086THF9",1561,"PF14702",759,1003,717,"PF14702.5 Central domain of human glycogen debranching enzyme"]
["A0A087QMK8_APTFO","A0A087QMK8",1504,"PF06202",1016,1499,1981,"PF06202.13 Amylo-alpha-1,6-glucosidase"]
["A0A087QMK8_APTFO","A0A087QMK8",1504,"PF14701",93,523,800,"PF14701.5 Glycogen debranching enzyme, glucanotransferase domain"]
["A0A087QMK8_APTFO","A0A087QMK8",1504,"PF14699",4,89,587,"PF14699.5 N-terminal domain from the human glycogen debranching enzyme"]
["A0A087QMK8_APTFO","A0A087QMK8",1504,"PF14702",668,946,717,"PF14702.5 Central domain of human glycogen debranching enzyme"]
["A0A087U9R3_9ARAC","A0A087U9R3",74,"PF14702",1,74,717,"PF14702.5 Central domain of human glycogen debranching enzyme"]
["A0A087U9R4_9ARAC","A0A087U9R4",152,"PF14702",3,100,717,"PF14702.5 Central domain of human glycogen debranching enzyme"]
["A0A087X458_POEFO","A0A087X458",1534,"PF06202",1043,1529,1981,"PF06202.13 Amylo-alpha-1,6-glucosidase"]
["A0A087X458_POEFO","A0A087X458",1534,"PF14701",119,552,800,"PF14701.5 Glycogen debranching enzyme, glucanotransferase domain"]
["A0A087X458_POEFO","A0A087X458",1534,"PF14699",29,115,587,"PF14699.5 N-terminal domain from the human glycogen debranching enzyme"]
["A0A087X458_POEFO","A0A087X458",1534,"PF14702",698,975,717,"PF14702.5 Central domain of human glycogen debranching enzyme"]
["A0A088ALS8_APIME","A0A088ALS8",1556,"PF06202",1069,1535,1981,"PF06202.13 Amylo-alpha-1,6-glucosidase"]
["A0A088ALS8_APIME","A0A088ALS8",1556,"PF14701",125,561,800,"PF14701.5 Glycogen debranching enzyme, glucanotransferase domain"]
["A0A088ALS8_APIME","A0A088ALS8",1556,"PF14699",40,121,587,"PF14699.5 N-terminal domain from the human glycogen debranching enzyme"]
["A0A088ALS8_APIME","A0A088ALS8",1556,"PF14702",708,982,717,"PF14702.5 Central domain of human glycogen debranching enzyme"]
["A0A090L6T4_STRRB","A0A090L6T4",1486,"PF06202",1002,1470,1981,"PF06202.13 Amylo-alpha-1,6-glucosidase"]
["A0A090L6T4_STRRB","A0A090L6T4",1486,"PF14701",113,533,800,"PF14701.5 Glycogen debranching enzyme, glucanotransferase domain"]
["A0A090L6T4_STRRB","A0A090L6T4",1486,"PF14702",670,934,717,"PF14702.5 Central domain of human glycogen debranching enzyme"]
["A0A091D443_FUKDA","A0A091D443",1351,"PF06202",924,1269,1981,"PF06202.13 Amylo-alpha-1,6-glucosidase"]
["A0A091D443_FUKDA","A0A091D443",1351,"PF06202",1268,1346,1981,"PF06202.13 Amylo-alpha-1,6-glucosidase"]
["A0A091D443_FUKDA","A0A091D443",1351,"PF14701",120,364,800,"PF14701.5 Glycogen debranching enzyme, glucanotransferase domain"]
["A0A091D443_FUKDA","A0A091D443",1351,"PF14701",356,484,800,"PF14701.5 Glycogen debranching enzyme, glucanotransferase domain"]
["A0A091D443_FUKDA","A0A091D443",1351,"PF14699",31,116,587,"PF14699.5 N-terminal domain from the human glycogen debranching enzyme"]
["A0A091D443_FUKDA","A0A091D443",1351,"PF14702",589,855,717,"PF14702.5 Central domain of human glycogen debranching enzyme"]
["A0A091EIV1_CORBR","A0A091EIV1",1517,"PF06202",1037,1512,1981,"PF06202.13 Amylo-alpha-1,6-glucosidase"]
["A0A091EIV1_CORBR","A0A091EIV1",1517,"PF14701",106,536,800,"PF14701.5 Glycogen debranching enzyme, glucanotransferase domain"]
["A0A091EIV1_CORBR","A0A091EIV1",1517,"PF14699",17,102,587,"PF14699.5 N-terminal domain from the human glycogen debranching enzyme"]
["A0A091EIV1_CORBR","A0A091EIV1",1517,"PF14702",681,959,717,"PF14702.5 Central domain of human glycogen debranching enzyme"]
["A0A091G6W5_9AVES","A0A091G6W5",1502,"PF06202",1014,1497,1981,"PF06202.13 Amylo-alpha-1,6-glucosidase"]
["A0A091G6W5_9AVES","A0A091G6W5",1502,"PF14701",93,523,800,"PF14701.5 Glycogen debranching enzyme, glucanotransferase domain"]
["A0A091G6W5_9AVES","A0A091G6W5",1502,"PF14699",4,89,587,"PF14699.5 N-terminal domain from the human glycogen debranching enzyme"]
["A0A091G6W5_9AVES","A0A091G6W5",1502,"PF14702",668,944,717,"PF14702.5 Central domain of human glycogen debranching enzyme"]
["A0A091GQE9_BUCRH","A0A091GQE9",1504,"PF06202",1028,1499,1981,"PF06202.13 Amylo-alpha-1,6-glucosidase"]
["A0A091GQE9_BUCRH","A0A091GQE9",1504,"PF14701",93,523,800,"PF14701.5 Glycogen debranching enzyme, glucanotransferase domain"]
["A0A091GQE9_BUCRH","A0A091GQE9",1504,"PF14699",4,89,587,"PF14699.5 N-terminal domain from the human glycogen debranching enzyme"]
["A0A091GQE9_BUCRH","A0A091GQE9",1504,"PF14702",668,946,717,"PF14702.5 Central domain of human glycogen debranching enzyme"]
["A0A091HRX4_CALAN","A0A091HRX4",1512,"PF06202",1017,1507,1981,"PF06202.13 Amylo-alpha-1,6-glucosidase"]
["A0A091HRX4_CALAN","A0A091HRX4",1512,"PF14701",93,523,800,"PF14701.5 Glycogen debranching enzyme, glucanotransferase domain"]
["A0A091HRX4_CALAN","A0A091HRX4",1512,"PF14699",4,89,587,"PF14699.5 N-terminal domain from the human glycogen debranching enzyme"]
["A0A091HRX4_CALAN","A0A091HRX4",1512,"PF14702",661,947,717,"PF14702.5 Central domain of human glycogen debranching enzyme"]
["A0A091KHC9_9AVES","A0A091KHC9",1504,"PF06202",1016,1499,1981,"PF06202.13 Amylo-alpha-1,6-glucosidase"]
["A0A091KHC9_9AVES","A0A091KHC9",1504,"PF14701",93,523,800,"PF14701.5 Glycogen debranching enzyme, glucanotransferase domain"]
["A0A091KHC9_9AVES","A0A091KHC9",1504,"PF14699",4,89,587,"PF14699.5 N-terminal domain from the human glycogen debranching enzyme"]
["A0A091KHC9_9AVES","A0A091KHC9",1504,"PF14702",668,946,717,"PF14702.5 Central domain of human glycogen debranching enzyme"]
["A0A091KUT8_9GRUI","A0A091KUT8",1504,"PF06202",1016,1499,1981,"PF06202.13 Amylo-alpha-1,6-glucosidase"]
["A0A091KUT8_9GRUI","A0A091KUT8",1504,"PF14701",93,523,800,"PF14701.5 Glycogen debranching enzyme, glucanotransferase domain"]
["A0A091KUT8_9GRUI","A0A091KUT8",1504,"PF14699",4,89,587,"PF14699.5 N-terminal domain from the human glycogen debranching enzyme"]
["A0A091KUT8_9GRUI","A0A091KUT8",1504,"PF14702",668,946,717,"PF14702.5 Central domain of human glycogen debranching enzyme"]
["A0A091LLM9_CATAU","A0A091LLM9",1504,"PF06202",1016,1499,1981,"PF06202.13 Amylo-alpha-1,6-glucosidase"]
["A0A091LLM9_CATAU","A0A091LLM9",1504,"PF14701",93,523,800,"PF14701.5 Glycogen debranching enzyme, glucanotransferase domain"]
["A0A091LLM9_CATAU","A0A091LLM9",1504,"PF14699",4,89,587,"PF14699.5 N-terminal domain from the human glycogen debranching enzyme"]
["A0A091LLM9_CATAU","A0A091LLM9",1504,"PF14702",668,946,717,"PF14702.5 Central domain of human glycogen debranching enzyme"]
["A0A091MDQ5_CARIC","A0A091MDQ5",1504,"PF06202",1016,1499,1981,"PF06202.13 Amylo-alpha-1,6-glucosidase"]
["A0A091MDQ5_CARIC","A0A091MDQ5",1504,"PF14701",93,523,800,"PF14701.5 Glycogen debranching enzyme, glucanotransferase domain"]
["A0A091MDQ5_CARIC","A0A091MDQ5",1504,"PF14699",4,89,587,"PF14699.5 N-terminal domain from the human glycogen debranching enzyme"]
["A0A091MDQ5_CARIC","A0A091MDQ5",1504,"PF14702",668,946,717,"PF14702.5 Central domain of human glycogen debranching enzyme"]
["A0A091NKW9_APAVI","A0A091NKW9",1504,"PF06202",1017,1499,1981,"PF06202.13 Amylo-alpha-1,6-glucosidase"]
["A0A091NKW9_APAVI","A0A091NKW9",1504,"PF14701",93,523,800,"PF14701.5 Glycogen debranching enzyme, glucanotransferase domain"]
["A0A091NKW9_APAVI","A0A091NKW9",1504,"PF14699",4,89,587,"PF14699.5 N-terminal domain from the human glycogen debranching enzyme"]
["A0A091NKW9_APAVI","A0A091NKW9",1504,"PF14702",668,946,717,"PF14702.5 Central domain of human glycogen debranching enzyme"]
["A0A091P1S7_HALAL","A0A091P1S7",1504,"PF06202",1016,1499,1981,"PF06202.13 Amylo-alpha-1,6-glucosidase"]
["A0A091P1S7_HALAL","A0A091P1S7",1504,"PF14701",93,523,800,"PF14701.5 Glycogen debranching enzyme, glucanotransferase domain"]
["A0A091P1S7_HALAL","A0A091P1S7",1504,"PF14699",4,89,587,"PF14699.5 N-terminal domain from the human glycogen debranching enzyme"]
["A0A091P1S7_HALAL","A0A091P1S7",1504,"PF14702",668,946,717,"PF14702.5 Central domain of human glycogen debranching enzyme"]
["A0A091QG56_MERNU","A0A091QG56",1504,"PF06202",1016,1499,1981,"PF06202.13 Amylo-alpha-1,6-glucosidase"]
["A0A091QG56_MERNU","A0A091QG56",1504,"PF14701",93,523,800,"PF14701.5 Glycogen debranching enzyme, glucanotransferase domain"]
["A0A091QG56_MERNU","A0A091QG56",1504,"PF14699",4,89,587,"PF14699.5 N-terminal domain from the human glycogen debranching enzyme"]
["A0A091QG56_MERNU","A0A091QG56",1504,"PF14702",668,946,717,"PF14702.5 Central domain of human glycogen debranching enzyme"]
["A0A091RCN7_9GRUI","A0A091RCN7",910,"PF14701",93,523,800,"PF14701.5 Glycogen debranching enzyme, glucanotransferase domain"]
["A0A091RCN7_9GRUI","A0A091RCN7",910,"PF14699",4,89,587,"PF14699.5 N-terminal domain from the human glycogen debranching enzyme"]
["A0A091RCN7_9GRUI","A0A091RCN7",910,"PF14702",668,910,717,"PF14702.5 Central domain of human glycogen debranching enzyme"]
["A0A091T2P6_NESNO","A0A091T2P6",866,"PF06202",393,861,1981,"PF06202.13 Amylo-alpha-1,6-glucosidase"]
["A0A091T2P6_NESNO","A0A091T2P6",866,"PF14702",30,308,717,"PF14702.5 Central domain of human glycogen debranching enzyme"]
["A0A091TI76_PHALP","A0A091TI76",1504,"PF06202",1016,1499,1981,"PF06202.13 Amylo-alpha-1,6-glucosidase"]
["A0A091TI76_PHALP","A0A091TI76",1504,"PF14701",93,523,800,"PF14701.5 Glycogen debranching enzyme, glucanotransferase domain"]
["A0A091TI76_PHALP","A0A091TI76",1504,"PF14699",4,89,587,"PF14699.5 N-terminal domain from the human glycogen debranching enzyme"]
["A0A091TI76_PHALP","A0A091TI76",1504,"PF14702",668,946,717,"PF14702.5 Central domain of human glycogen debranching enzyme"]
["A0A091TXK1_9AVES","A0A091TXK1",954,"PF06202",475,949,1981,"PF06202.13 Amylo-alpha-1,6-glucosidase"]
["A0A091TXK1_9AVES","A0A091TXK1",954,"PF14702",118,396,717,"PF14702.5 Central domain of human glycogen debranching enzyme"]
["A0A091UFK0_PHORB","A0A091UFK0",1504,"PF06202",1016,1499,1981,"PF06202.13 Amylo-alpha-1,6-glucosidase"]
["A0A091UFK0_PHORB","A0A091UFK0",1504,"PF14701",93,523,800,"PF14701.5 Glycogen debranching enzyme, glucanotransferase domain"]
["A0A091UFK0_PHORB","A0A091UFK0",1504,"PF14699",4,89,587,"PF14699.5 N-terminal domain from the human glycogen debranching enzyme"]
["A0A091UFK0_PHORB","A0A091UFK0",1504,"PF14702",668,946,717,"PF14702.5 Central domain of human glycogen debranching enzyme"]
["A0A091VAU0_NIPNI","A0A091VAU0",1504,"PF06202",1016,1499,1981,"PF06202.13 Amylo-alpha-1,6-glucosidase"]
["A0A091VAU0_NIPNI","A0A091VAU0",1504,"PF14701",93,523,800,"PF14701.5 Glycogen debranching enzyme, glucanotransferase domain"]
["A0A091VAU0_NIPNI","A0A091VAU0",1504,"PF14699",4,89,587,"PF14699.5 N-terminal domain from the human glycogen debranching enzyme"]
["A0A091VAU0_NIPNI","A0A091VAU0",1504,"PF14702",668,946,717,"PF14702.5 Central domain of human glycogen debranching enzyme"]
["A0A091XK00_OPIHO","A0A091XK00",1534,"PF06202",1046,1529,1981,"PF06202.13 Amylo-alpha-1,6-glucosidase"]
["A0A091XK00_OPIHO","A0A091XK00",1534,"PF14701",120,550,800,"PF14701.5 Glycogen debranching enzyme, glucanotransferase domain"]
["A0A091XK00_OPIHO","A0A091XK00",1534,"PF14699",31,116,587,"PF14699.5 N-terminal domain from the human glycogen debranching enzyme"]
["A0A091XK00_OPIHO","A0A091XK00",1534,"PF14702",695,976,717,"PF14702.5 Central domain of human glycogen debranching enzyme"]
["A0A093CNC6_TAUER","A0A093CNC6",1504,"PF06202",1016,1499,1981,"PF06202.13 Amylo-alpha-1,6-glucosidase"]
["A0A093CNC6_TAUER","A0A093CNC6",1504,"PF14701",93,523,800,"PF14701.5 Glycogen debranching enzyme, glucanotransferase domain"]
["A0A093CNC6_TAUER","A0A093CNC6",1504,"PF14699",4,89,587,"PF14699.5 N-terminal domain from the human glycogen debranching enzyme"]
["A0A093CNC6_TAUER","A0A093CNC6",1504,"PF14702",668,946,717,"PF14702.5 Central domain of human glycogen debranching enzyme"]
["A0A093CQ14_9AVES","A0A093CQ14",1504,"PF06202",1016,1499,1981,"PF06202.13 Amylo-alpha-1,6-glucosidase"]
["A0A093CQ14_9AVES","A0A093CQ14",1504,"PF14701",93,523,800,"PF14701.5 Glycogen debranching enzyme, glucanotransferase domain"]
["A0A093CQ14_9AVES","A0A093CQ14",1504,"PF14699",4,89,587,"PF14699.5 N-terminal domain from the human glycogen debranching enzyme"]
["A0A093CQ14_9AVES","A0A093CQ14",1504,"PF14702",668,946,717,"PF14702.5 Central domain of human glycogen debranching enzyme"]
["A0A093EJE1_TYTAL","A0A093EJE1",1499,"PF06202",1025,1494,1981,"PF06202.13 Amylo-alpha-1,6-glucosidase"]
["A0A093EJE1_TYTAL","A0A093EJE1",1499,"PF14701",93,518,800,"PF14701.5 Glycogen debranching enzyme, glucanotransferase domain"]
["A0A093EJE1_TYTAL","A0A093EJE1",1499,"PF14699",4,89,587,"PF14699.5 N-terminal domain from the human glycogen debranching enzyme"]
["A0A093EJE1_TYTAL","A0A093EJE1",1499,"PF14702",663,941,717,"PF14702.5 Central domain of human glycogen debranching enzyme"]
["A0A093H545_PICPB","A0A093H545",1502,"PF06202",1014,1497,1981,"PF06202.13 Amylo-alpha-1,6-glucosidase"]
["A0A093H545_PICPB","A0A093H545",1502,"PF14701",93,523,800,"PF14701.5 Glycogen debranching enzyme, glucanotransferase domain"]
["A0A093H545_PICPB","A0A093H545",1502,"PF14699",4,89,587,"PF14699.5 N-terminal domain from the human glycogen debranching enzyme"]
["A0A093H545_PICPB","A0A093H545",1502,"PF14702",668,944,717,"PF14702.5 Central domain of human glycogen debranching enzyme"]
["A0A093J624_EURHL","A0A093J624",1502,"PF06202",1012,1497,1981,"PF06202.13 Amylo-alpha-1,6-glucosidase"]
["A0A093J624_EURHL","A0A093J624",1502,"PF14701",93,523,800,"PF14701.5 Glycogen debranching enzyme, glucanotransferase domain"]
["A0A093J624_EURHL","A0A093J624",1502,"PF14699",4,89,587,"PF14699.5 N-terminal domain from the human glycogen debranching enzyme"]
["A0A093J624_EURHL","A0A093J624",1502,"PF14702",668,944,717,"PF14702.5 Central domain of human glycogen debranching enzyme"]
["A0A093LME3_FULGA","A0A093LME3",1504,"PF06202",1016,1499,1981,"PF06202.13 Amylo-alpha-1,6-glucosidase"]
["A0A093LME3_FULGA","A0A093LME3",1504,"PF14701",93,523,800,"PF14701.5 Glycogen debranching enzyme, glucanotransferase domain"]
["A0A093LME3_FULGA","A0A093LME3",1504,"PF14699",4,89,587,"PF14699.5 N-terminal domain from the human glycogen debranching enzyme"]
["A0A093LME3_FULGA","A0A093LME3",1504,"PF14702",668,946,717,"PF14702.5 Central domain of human glycogen debranching enzyme"]
["A0A093PRZ8_9PASS","A0A093PRZ8",1533,"PF06202",1052,1528,1981,"PF06202.13 Amylo-alpha-1,6-glucosidase"]
["A0A093PRZ8_9PASS","A0A093PRZ8",1533,"PF14701",120,552,800,"PF14701.5 Glycogen debranching enzyme, glucanotransferase domain"]
["A0A093PRZ8_9PASS","A0A093PRZ8",1533,"PF14699",31,116,587,"PF14699.5 N-terminal domain from the human glycogen debranching enzyme"]
["A0A093PRZ8_9PASS","A0A093PRZ8",1533,"PF14702",697,975,717,"PF14702.5 Central domain of human glycogen debranching enzyme"]
["A0A093Y8C9_9PEZI","A0A093Y8C9",1539,"PF06202",1046,1523,1981,"PF06202.13 Amylo-alpha-1,6-glucosidase"]
["A0A093Y8C9_9PEZI","A0A093Y8C9",1539,"PF14701",140,577,800,"PF14701.5 Glycogen debranching enzyme, glucanotransferase domain"]
["A0A093Y8C9_9PEZI","A0A093Y8C9",1539,"PF14699",42,138,587,"PF14699.5 N-terminal domain from the human glycogen debranching enzyme"]
["A0A093Y8C9_9PEZI","A0A093Y8C9",1539,"PF14702",732,976,717,"PF14702.5 Central domain of human glycogen debranching enzyme"]
["A0A093Y8Z0_9PEZI","A0A093Y8Z0",1539,"PF06202",1046,1523,1981,"PF06202.13 Amylo-alpha-1,6-glucosidase"]
["A0A093Y8Z0_9PEZI","A0A093Y8Z0",1539,"PF14701",140,577,800,"PF14701.5 Glycogen debranching enzyme, glucanotransferase domain"]
["A0A093Y8Z0_9PEZI","A0A093Y8Z0",1539,"PF14699",42,138,587,"PF14699.5 N-terminal domain from the human glycogen debranching enzyme"]
["A0A093Y8Z0_9PEZI","A0A093Y8Z0",1539,"PF14702",732,976,717,"PF14702.5 Central domain of human glycogen debranching enzyme"]
["A0A093ZDG4_9PEZI","A0A093ZDG4",1538,"PF06202",1045,1522,1981,"PF06202.13 Amylo-alpha-1,6-glucosidase"]
["A0A093ZDG4_9PEZI","A0A093ZDG4",1538,"PF14701",140,571,800,"PF14701.5 Glycogen debranching enzyme, glucanotransferase domain"]
["A0A093ZDG4_9PEZI","A0A093ZDG4",1538,"PF14699",42,138,587,"PF14699.5 N-terminal domain from the human glycogen debranching enzyme"]
["A0A093ZDG4_9PEZI","A0A093ZDG4",1538,"PF14702",731,975,717,"PF14702.5 Central domain of human glycogen debranching enzyme"]
["A0A094A6U6_9PEZI","A0A094A6U6",1544,"PF06202",1051,1528,1981,"PF06202.13 Amylo-alpha-1,6-glucosidase"]
["A0A094A6U6_9PEZI","A0A094A6U6",1544,"PF14701",140,577,800,"PF14701.5 Glycogen debranching enzyme, glucanotransferase domain"]
["A0A094A6U6_9PEZI","A0A094A6U6",1544,"PF14699",42,138,587,"PF14699.5 N-terminal domain from the human glycogen debranching enzyme"]
["A0A094A6U6_9PEZI","A0A094A6U6",1544,"PF14702",737,981,717,"PF14702.5 Central domain of human glycogen debranching enzyme"]
["A0A094AGV0_9PEZI","A0A094AGV0",1533,"PF06202",1042,1519,1981,"PF06202.13 Amylo-alpha-1,6-glucosidase"]
["A0A094AGV0_9PEZI","A0A094AGV0",1533,"PF14701",140,571,800,"PF14701.5 Glycogen debranching enzyme, glucanotransferase domain"]
["A0A094AGV0_9PEZI","A0A094AGV0",1533,"PF14699",42,138,587,"PF14699.5 N-terminal domain from the human glycogen debranching enzyme"]
["A0A094AGV0_9PEZI","A0A094AGV0",1533,"PF14702",728,972,717,"PF14702.5 Central domain of human glycogen debranching enzyme"]
["A0A094BZU4_9PEZI","A0A094BZU4",1538,"PF06202",1045,1522,1981,"PF06202.13 Amylo-alpha-1,6-glucosidase"]
["A0A094BZU4_9PEZI","A0A094BZU4",1538,"PF14701",140,571,800,"PF14701.5 Glycogen debranching enzyme, glucanotransferase domain"]
["A0A094BZU4_9PEZI","A0A094BZU4",1538,"PF14699",42,138,587,"PF14699.5 N-terminal domain from the human glycogen debranching enzyme"]
["A0A094BZU4_9PEZI","A0A094BZU4",1538,"PF14702",731,975,717,"PF14702.5 Central domain of human glycogen debranching enzyme"]
["A0A094CBT3_9PEZI","A0A094CBT3",1539,"PF06202",1048,1525,1981,"PF06202.13 Amylo-alpha-1,6-glucosidase"]
["A0A094CBT3_9PEZI","A0A094CBT3",1539,"PF14701",140,577,800,"PF14701.5 Glycogen debranching enzyme, glucanotransferase domain"]
["A0A094CBT3_9PEZI","A0A094CBT3",1539,"PF14699",42,138,587,"PF14699.5 N-terminal domain from the human glycogen debranching enzyme"]
["A0A094CBT3_9PEZI","A0A094CBT3",1539,"PF14702",734,978,717,"PF14702.5 Central domain of human glycogen debranching enzyme"]
["A0A094DFK1_9PEZI","A0A094DFK1",1539,"PF06202",1046,1523,1981,"PF06202.13 Amylo-alpha-1,6-glucosidase"]
["A0A094DFK1_9PEZI","A0A094DFK1",1539,"PF14701",140,577,800,"PF14701.5 Glycogen debranching enzyme, glucanotransferase domain"]
["A0A094DFK1_9PEZI","A0A094DFK1",1539,"PF14699",42,138,587,"PF14699.5 N-terminal domain from the human glycogen debranching enzyme"]
["A0A094DFK1_9PEZI","A0A094DFK1",1539,"PF14702",732,976,717,"PF14702.5 Central domain of human glycogen debranching enzyme"]
["A0A094EPV8_9PEZI","A0A094EPV8",1538,"PF06202",1045,1522,1981,"PF06202.13 Amylo-alpha-1,6-glucosidase"]
["A0A094EPV8_9PEZI","A0A094EPV8",1538,"PF14701",140,574,800,"PF14701.5 Glycogen debranching enzyme, glucanotransferase domain"]
["A0A094EPV8_9PEZI","A0A094EPV8",1538,"PF14699",42,138,587,"PF14699.5 N-terminal domain from the human glycogen debranching enzyme"]
["A0A094EPV8_9PEZI","A0A094EPV8",1538,"PF14702",731,975,717,"PF14702.5 Central domain of human glycogen debranching enzyme"]
["A0A094FZP8_9PEZI","A0A094FZP8",1544,"PF06202",1051,1528,1981,"PF06202.13 Amylo-alpha-1,6-glucosidase"]
["A0A094FZP8_9PEZI","A0A094FZP8",1544,"PF14701",140,577,800,"PF14701.5 Glycogen debranching enzyme, glucanotransferase domain"]
["A0A094FZP8_9PEZI","A0A094FZP8",1544,"PF14699",42,138,587,"PF14699.5 N-terminal domain from the human glycogen debranching enzyme"]
["A0A094FZP8_9PEZI","A0A094FZP8",1544,"PF14702",737,981,717,"PF14702.5 Central domain of human glycogen debranching enzyme"]
["A0A094GBR2_9PEZI","A0A094GBR2",1539,"PF06202",1048,1525,1981,"PF06202.13 Amylo-alpha-1,6-glucosidase"]
["A0A094GBR2_9PEZI","A0A094GBR2",1539,"PF14701",140,577,800,"PF14701.5 Glycogen debranching enzyme, glucanotransferase domain"]
["A0A094GBR2_9PEZI","A0A094GBR2",1539,"PF14699",42,138,587,"PF14699.5 N-terminal domain from the human glycogen debranching enzyme"]
["A0A094GBR2_9PEZI","A0A094GBR2",1539,"PF14702",734,978,717,"PF14702.5 Central domain of human glycogen debranching enzyme"]
["A0A094H8A7_9PEZI","A0A094H8A7",1544,"PF06202",1051,1528,1981,"PF06202.13 Amylo-alpha-1,6-glucosidase"]
["A0A094H8A7_9PEZI","A0A094H8A7",1544,"PF14701",140,577,800,"PF14701.5 Glycogen debranching enzyme, glucanotransferase domain"]
["A0A094H8A7_9PEZI","A0A094H8A7",1544,"PF14699",42,138,587,"PF14699.5 N-terminal domain from the human glycogen debranching enzyme"]
["A0A094H8A7_9PEZI","A0A094H8A7",1544,"PF14702",737,981,717,"PF14702.5 Central domain of human glycogen debranching enzyme"]
["A0A094JA99_9PEZI","A0A094JA99",1538,"PF06202",1045,1522,1981,"PF06202.13 Amylo-alpha-1,6-glucosidase"]
["A0A094JA99_9PEZI","A0A094JA99",1538,"PF14701",140,574,800,"PF14701.5 Glycogen debranching enzyme, glucanotransferase domain"]
["A0A094JA99_9PEZI","A0A094JA99",1538,"PF14699",42,138,587,"PF14699.5 N-terminal domain from the human glycogen debranching enzyme"]
["A0A094JA99_9PEZI","A0A094JA99",1538,"PF14702",731,975,717,"PF14702.5 Central domain of human glycogen debranching enzyme"]
["A0A094ZFT4_SCHHA","A0A094ZFT4",1588,"PF06202",1082,1577,1981,"PF06202.13 Amylo-alpha-1,6-glucosidase"]
["A0A094ZFT4_SCHHA","A0A094ZFT4",1588,"PF14701",117,558,800,"PF14701.5 Glycogen debranching enzyme, glucanotransferase domain"]
["A0A094ZFT4_SCHHA","A0A094ZFT4",1588,"PF14699",1,103,587,"PF14699.5 N-terminal domain from the human glycogen debranching enzyme"]
["A0A094ZFT4_SCHHA","A0A094ZFT4",1588,"PF14702",698,997,717,"PF14702.5 Central domain of human glycogen debranching enzyme"]
["A0A095DHE2_CRYGR","A0A095DHE2",1593,"PF06202",1106,1582,1981,"PF06202.13 Amylo-alpha-1,6-glucosidase"]
["A0A095DHE2_CRYGR","A0A095DHE2",1593,"PF14701",198,634,800,"PF14701.5 Glycogen debranching enzyme, glucanotransferase domain"]
["A0A095DHE2_CRYGR","A0A095DHE2",1593,"PF14699",80,168,587,"PF14699.5 N-terminal domain from the human glycogen debranching enzyme"]
["A0A095DHE2_CRYGR","A0A095DHE2",1593,"PF14702",795,1034,717,"PF14702.5 Central domain of human glycogen debranching enzyme"]
["A0A096N6Q6_PAPAN","A0A096N6Q6",1526,"PF06202",1040,1521,1981,"PF06202.13 Amylo-alpha-1,6-glucosidase"]
["A0A096N6Q6_PAPAN","A0A096N6Q6",1526,"PF14701",120,549,800,"PF14701.5 Glycogen debranching enzyme, glucanotransferase domain"]
["A0A096N6Q6_PAPAN","A0A096N6Q6",1526,"PF14699",31,116,587,"PF14699.5 N-terminal domain from the human glycogen debranching enzyme"]
["A0A096N6Q6_PAPAN","A0A096N6Q6",1526,"PF14702",695,972,717,"PF14702.5 Central domain of human glycogen debranching enzyme"]
["A0A099P130_PICKU","A0A099P130",1535,"PF06202",1041,1517,1981,"PF06202.13 Amylo-alpha-1,6-glucosidase"]
["A0A099P130_PICKU","A0A099P130",1535,"PF14701",139,564,800,"PF14701.5 Glycogen debranching enzyme, glucanotransferase domain"]
["A0A099P130_PICKU","A0A099P130",1535,"PF14699",45,137,587,"PF14699.5 N-terminal domain from the human glycogen debranching enzyme"]
["A0A099P130_PICKU","A0A099P130",1535,"PF14702",726,970,717,"PF14702.5 Central domain of human glycogen debranching enzyme"]
["A0A0A0AG33_CHAVO","A0A0A0AG33",1531,"PF06202",1043,1526,1981,"PF06202.13 Amylo-alpha-1,6-glucosidase"]
["A0A0A0AG33_CHAVO","A0A0A0AG33",1531,"PF14701",120,550,800,"PF14701.5 Glycogen debranching enzyme, glucanotransferase domain"]
["A0A0A0AG33_CHAVO","A0A0A0AG33",1531,"PF14699",31,116,587,"PF14699.5 N-terminal domain from the human glycogen debranching enzyme"]
["A0A0A0AG33_CHAVO","A0A0A0AG33",1531,"PF14702",695,973,717,"PF14702.5 Central domain of human glycogen debranching enzyme"]
["A0A0A1NX13_9FUNG","A0A0A1NX13",764,"PF06202",285,755,1981,"PF06202.13 Amylo-alpha-1,6-glucosidase"]
["A0A0A1NX13_9FUNG","A0A0A1NX13",764,"PF14702",1,223,717,"PF14702.5 Central domain of human glycogen debranching enzyme"]
["A0A0A1P236_9FUNG","A0A0A1P236",764,"PF06202",284,755,1981,"PF06202.13 Amylo-alpha-1,6-glucosidase"]
["A0A0A1P236_9FUNG","A0A0A1P236",764,"PF14702",1,223,717,"PF14702.5 Central domain of human glycogen debranching enzyme"]
["A0A0A1TRF2_9HYPO","A0A0A1TRF2",1553,"PF06202",1067,1540,1981,"PF06202.13 Amylo-alpha-1,6-glucosidase"]
["A0A0A1TRF2_9HYPO","A0A0A1TRF2",1553,"PF14701",143,586,800,"PF14701.5 Glycogen debranching enzyme, glucanotransferase domain"]
["A0A0A1TRF2_9HYPO","A0A0A1TRF2",1553,"PF14699",40,141,587,"PF14699.5 N-terminal domain from the human glycogen debranching enzyme"]
["A0A0A1TRF2_9HYPO","A0A0A1TRF2",1553,"PF14702",751,995,717,"PF14702.5 Central domain of human glycogen debranching enzyme"]
["A0A0A1U014_ENTIV","A0A0A1U014",1426,"PF06202",947,1418,1981,"PF06202.13 Amylo-alpha-1,6-glucosidase"]
["A0A0A1U014_ENTIV","A0A0A1U014",1426,"PF14701",107,526,800,"PF14701.5 Glycogen debranching enzyme, glucanotransferase domain"]
["A0A0A1U014_ENTIV","A0A0A1U014",1426,"PF14702",668,893,717,"PF14702.5 Central domain of human glycogen debranching enzyme"]
["A0A0A1UPQ1_9HYPO","A0A0A1UPQ1",1541,"PF06202",1071,1537,1981,"PF06202.13 Amylo-alpha-1,6-glucosidase"]
["A0A0A1UPQ1_9HYPO","A0A0A1UPQ1",1541,"PF14701",144,588,800,"PF14701.5 Glycogen debranching enzyme, glucanotransferase domain"]
["A0A0A1UPQ1_9HYPO","A0A0A1UPQ1",1541,"PF14699",41,142,587,"PF14699.5 N-terminal domain from the human glycogen debranching enzyme"]
["A0A0A1UPQ1_9HYPO","A0A0A1UPQ1",1541,"PF14702",754,998,717,"PF14702.5 Central domain of human glycogen debranching enzyme"]
["A0A0A2IUN1_PENEN","A0A0A2IUN1",1534,"PF06202",1053,1525,1981,"PF06202.13 Amylo-alpha-1,6-glucosidase"]
["A0A0A2IUN1_PENEN","A0A0A2IUN1",1534,"PF14701",135,573,800,"PF14701.5 Glycogen debranching enzyme, glucanotransferase domain"]
["A0A0A2IUN1_PENEN","A0A0A2IUN1",1534,"PF14699",37,133,587,"PF14699.5 N-terminal domain from the human glycogen debranching enzyme"]
["A0A0A2IUN1_PENEN","A0A0A2IUN1",1534,"PF14702",737,980,717,"PF14702.5 Central domain of human glycogen debranching enzyme"]
["A0A0A2LCV9_PENIT","A0A0A2LCV9",1534,"PF06202",1053,1525,1981,"PF06202.13 Amylo-alpha-1,6-glucosidase"]
["A0A0A2LCV9_PENIT","A0A0A2LCV9",1534,"PF14701",135,573,800,"PF14701.5 Glycogen debranching enzyme, glucanotransferase domain"]
["A0A0A2LCV9_PENIT","A0A0A2LCV9",1534,"PF14699",37,133,587,"PF14699.5 N-terminal domain from the human glycogen debranching enzyme"]
["A0A0A2LCV9_PENIT","A0A0A2LCV9",1534,"PF14702",737,980,717,"PF14702.5 Central domain of human glycogen debranching enzyme"]
["A0A0A2UZZ1_PARBA","A0A0A2UZZ1",1455,"PF06202",982,1437,1981,"PF06202.13 Amylo-alpha-1,6-glucosidase"]
["A0A0A2UZZ1_PARBA","A0A0A2UZZ1",1455,"PF14701",154,597,800,"PF14701.5 Glycogen debranching enzyme, glucanotransferase domain"]
["A0A0A2UZZ1_PARBA","A0A0A2UZZ1",1455,"PF14699",46,152,587,"PF14699.5 N-terminal domain from the human glycogen debranching enzyme"]
["A0A0A2UZZ1_PARBA","A0A0A2UZZ1",1455,"PF14702",775,975,717,"PF14702.5 Central domain of human glycogen debranching enzyme"]
["A0A0A2VHZ6_BEABA","A0A0A2VHZ6",1545,"PF06202",1060,1533,1981,"PF06202.13 Amylo-alpha-1,6-glucosidase"]
["A0A0A2VHZ6_BEABA","A0A0A2VHZ6",1545,"PF14701",141,584,800,"PF14701.5 Glycogen debranching enzyme, glucanotransferase domain"]
["A0A0A2VHZ6_BEABA","A0A0A2VHZ6",1545,"PF14699",41,139,587,"PF14699.5 N-terminal domain from the human glycogen debranching enzyme"]
["A0A0A2VHZ6_BEABA","A0A0A2VHZ6",1545,"PF14702",744,988,717,"PF14702.5 Central domain of human glycogen debranching enzyme"]
["A0A0A8L004_9SACH","A0A0A8L004",1522,"PF06202",1034,1511,1981,"PF06202.13 Amylo-alpha-1,6-glucosidase"]
["A0A0A8L004_9SACH","A0A0A8L004",1522,"PF14701",135,554,800,"PF14701.5 Glycogen debranching enzyme, glucanotransferase domain"]
["A0A0A8L004_9SACH","A0A0A8L004",1522,"PF14699",45,133,587,"PF14699.5 N-terminal domain from the human glycogen debranching enzyme"]
["A0A0A8L004_9SACH","A0A0A8L004",1522,"PF14702",722,964,717,"PF14702.5 Central domain of human glycogen debranching enzyme"]
["A0A0B1P1J1_UNCNE","A0A0B1P1J1",1555,"PF06202",1066,1544,1981,"PF06202.13 Amylo-alpha-1,6-glucosidase"]
["A0A0B1P1J1_UNCNE","A0A0B1P1J1",1555,"PF14701",139,584,800,"PF14701.5 Glycogen debranching enzyme, glucanotransferase domain"]
["A0A0B1P1J1_UNCNE","A0A0B1P1J1",1555,"PF14699",41,137,587,"PF14699.5 N-terminal domain from the human glycogen debranching enzyme"]
["A0A0B1P1J1_UNCNE","A0A0B1P1J1",1555,"PF14702",749,993,717,"PF14702.5 Central domain of human glycogen debranching enzyme"]
["A0A0B1TUK7_OESDE","A0A0B1TUK7",690,"PF06202",302,677,1981,"PF06202.13 Amylo-alpha-1,6-glucosidase"]
["A0A0B1TUK7_OESDE","A0A0B1TUK7",690,"PF14702",86,316,717,"PF14702.5 Central domain of human glycogen debranching enzyme"]
["A0A0B2V6Z8_TOXCA","A0A0B2V6Z8",1096,"PF06202",1026,1096,1981,"PF06202.13 Amylo-alpha-1,6-glucosidase"]
["A0A0B2V6Z8_TOXCA","A0A0B2V6Z8",1096,"PF14701",129,565,800,"PF14701.5 Glycogen debranching enzyme, glucanotransferase domain"]
["A0A0B2V6Z8_TOXCA","A0A0B2V6Z8",1096,"PF14702",702,959,717,"PF14702.5 Central domain of human glycogen debranching enzyme"]
["A0A0B2VE34_TOXCA","A0A0B2VE34",575,"PF06202",102,566,1981,"PF06202.13 Amylo-alpha-1,6-glucosidase"]
["A0A0B2VE34_TOXCA","A0A0B2VE34",575,"PF14702",1,35,717,"PF14702.5 Central domain of human glycogen debranching enzyme"]
["A0A0B2WZE8_9HYPO","A0A0B2WZE8",1555,"PF06202",1071,1543,1981,"PF06202.13 Amylo-alpha-1,6-glucosidase"]
["A0A0B2WZE8_9HYPO","A0A0B2WZE8",1555,"PF14701",144,588,800,"PF14701.5 Glycogen debranching enzyme, glucanotransferase domain"]
["A0A0B2WZE8_9HYPO","A0A0B2WZE8",1555,"PF14699",41,142,587,"PF14699.5 N-terminal domain from the human glycogen debranching enzyme"]
["A0A0B2WZE8_9HYPO","A0A0B2WZE8",1555,"PF14702",754,998,717,"PF14702.5 Central domain of human glycogen debranching enzyme"]
["A0A0B4GUX9_9HYPO","A0A0B4GUX9",1551,"PF06202",1066,1538,1981,"PF06202.13 Amylo-alpha-1,6-glucosidase"]
["A0A0B4GUX9_9HYPO","A0A0B4GUX9",1551,"PF14701",139,583,800,"PF14701.5 Glycogen debranching enzyme, glucanotransferase domain"]
["A0A0B4GUX9_9HYPO","A0A0B4GUX9",1551,"PF14699",36,137,587,"PF14699.5 N-terminal domain from the human glycogen debranching enzyme"]
["A0A0B4GUX9_9HYPO","A0A0B4GUX9",1551,"PF14702",749,993,717,"PF14702.5 Central domain of human glycogen debranching enzyme"]
["A0A0B7N845_9FUNG","A0A0B7N845",1521,"PF06202",1046,1509,1981,"PF06202.13 Amylo-alpha-1,6-glucosidase"]
["A0A0B7N845_9FUNG","A0A0B7N845",1521,"PF14701",143,587,800,"PF14701.5 Glycogen debranching enzyme, glucanotransferase domain"]
["A0A0B7N845_9FUNG","A0A0B7N845",1521,"PF14699",46,134,587,"PF14699.5 N-terminal domain from the human glycogen debranching enzyme"]
["A0A0B7N845_9FUNG","A0A0B7N845",1521,"PF14702",740,975,717,"PF14702.5 Central domain of human glycogen debranching enzyme"]
["A0A0B8N525_9EURO","A0A0B8N525",1524,"PF06202",1040,1513,1981,"PF06202.13 Amylo-alpha-1,6-glucosidase"]
["A0A0B8N525_9EURO","A0A0B8N525",1524,"PF14701",135,566,800,"PF14701.5 Glycogen debranching enzyme, glucanotransferase domain"]
["A0A0B8N525_9EURO","A0A0B8N525",1524,"PF14699",37,133,587,"PF14699.5 N-terminal domain from the human glycogen debranching enzyme"]
["A0A0B8N525_9EURO","A0A0B8N525",1524,"PF14702",723,967,717,"PF14702.5 Central domain of human glycogen debranching enzyme"]
["A0A0C2GKR7_9BILA","A0A0C2GKR7",105,"PF14702",1,76,717,"PF14702.5 Central domain of human glycogen debranching enzyme"]
["A0A0C2M3A6_THEKT","A0A0C2M3A6",188,"PF14702",6,180,717,"PF14702.5 Central domain of human glycogen debranching enzyme"]
["A0A0C2MJT8_THEKT","A0A0C2MJT8",234,"PF14702",2,89,717,"PF14702.5 Central domain of human glycogen debranching enzyme"]
["A0A0C2X5E2_AMAMU","A0A0C2X5E2",1598,"PF06202",1107,1583,1981,"PF06202.13 Amylo-alpha-1,6-glucosidase"]
["A0A0C2X5E2_AMAMU","A0A0C2X5E2",1598,"PF14701",209,637,800,"PF14701.5 Glycogen debranching enzyme, glucanotransferase domain"]
["A0A0C2X5E2_AMAMU","A0A0C2X5E2",1598,"PF14699",96,183,587,"PF14699.5 N-terminal domain from the human glycogen debranching enzyme"]
["A0A0C2X5E2_AMAMU","A0A0C2X5E2",1598,"PF14702",794,1035,717,"PF14702.5 Central domain of human glycogen debranching enzyme"]
["A0A0C2YVD8_HEBCY","A0A0C2YVD8",1594,"PF06202",1106,1582,1981,"PF06202.13 Amylo-alpha-1,6-glucosidase"]
["A0A0C2YVD8_HEBCY","A0A0C2YVD8",1594,"PF14701",205,636,800,"PF14701.5 Glycogen debranching enzyme, glucanotransferase domain"]
["A0A0C2YVD8_HEBCY","A0A0C2YVD8",1594,"PF14699",92,179,587,"PF14699.5 N-terminal domain from the human glycogen debranching enzyme"]
["A0A0C2YVD8_HEBCY","A0A0C2YVD8",1594,"PF14702",793,1034,717,"PF14702.5 Central domain of human glycogen debranching enzyme"]
["A0A0C3ACH9_9HOMO","A0A0C3ACH9",939,"PF14701",196,627,800,"PF14701.5 Glycogen debranching enzyme, glucanotransferase domain"]
["A0A0C3ACH9_9HOMO","A0A0C3ACH9",939,"PF14699",80,169,587,"PF14699.5 N-terminal domain from the human glycogen debranching enzyme"]
["A0A0C3ACH9_9HOMO","A0A0C3ACH9",939,"PF14702",787,938,717,"PF14702.5 Central domain of human glycogen debranching enzyme"]
["A0A0C3BSZ1_9HOMO","A0A0C3BSZ1",1595,"PF06202",1110,1583,1981,"PF06202.13 Amylo-alpha-1,6-glucosidase"]
["A0A0C3BSZ1_9HOMO","A0A0C3BSZ1",1595,"PF14701",208,643,800,"PF14701.5 Glycogen debranching enzyme, glucanotransferase domain"]
["A0A0C3BSZ1_9HOMO","A0A0C3BSZ1",1595,"PF14699",95,181,587,"PF14699.5 N-terminal domain from the human glycogen debranching enzyme"]
["A0A0C3BSZ1_9HOMO","A0A0C3BSZ1",1595,"PF14702",797,1038,717,"PF14702.5 Central domain of human glycogen debranching enzyme"]
["A0A0C3FWV3_9HOMO","A0A0C3FWV3",1583,"PF06202",1096,1572,1981,"PF06202.13 Amylo-alpha-1,6-glucosidase"]
["A0A0C3FWV3_9HOMO","A0A0C3FWV3",1583,"PF14701",197,626,800,"PF14701.5 Glycogen debranching enzyme, glucanotransferase domain"]
["A0A0C3FWV3_9HOMO","A0A0C3FWV3",1583,"PF14699",82,170,587,"PF14699.5 N-terminal domain from the human glycogen debranching enzyme"]
["A0A0C3FWV3_9HOMO","A0A0C3FWV3",1583,"PF14702",783,1024,717,"PF14702.5 Central domain of human glycogen debranching enzyme"]
["A0A0C3HLL3_9PEZI","A0A0C3HLL3",1551,"PF06202",1062,1536,1981,"PF06202.13 Amylo-alpha-1,6-glucosidase"]
["A0A0C3HLL3_9PEZI","A0A0C3HLL3",1551,"PF14701",138,585,800,"PF14701.5 Glycogen debranching enzyme, glucanotransferase domain"]
["A0A0C3HLL3_9PEZI","A0A0C3HLL3",1551,"PF14699",41,136,587,"PF14699.5 N-terminal domain from the human glycogen debranching enzyme"]
["A0A0C3HLL3_9PEZI","A0A0C3HLL3",1551,"PF14702",745,989,717,"PF14702.5 Central domain of human glycogen debranching enzyme"]
["A0A0C3L9K1_9HOMO","A0A0C3L9K1",1609,"PF06202",1125,1598,1981,"PF06202.13 Amylo-alpha-1,6-glucosidase"]
["A0A0C3L9K1_9HOMO","A0A0C3L9K1",1609,"PF14701",222,655,800,"PF14701.5 Glycogen debranching enzyme, glucanotransferase domain"]
["A0A0C3L9K1_9HOMO","A0A0C3L9K1",1609,"PF14699",106,195,587,"PF14699.5 N-terminal domain from the human glycogen debranching enzyme"]
["A0A0C3L9K1_9HOMO","A0A0C3L9K1",1609,"PF14702",812,1053,717,"PF14702.5 Central domain of human glycogen debranching enzyme"]
["A0A0C3PQW6_PISTI","A0A0C3PQW6",1596,"PF06202",1109,1585,1981,"PF06202.13 Amylo-alpha-1,6-glucosidase"]
["A0A0C3PQW6_PISTI","A0A0C3PQW6",1596,"PF14701",207,639,800,"PF14701.5 Glycogen debranching enzyme, glucanotransferase domain"]
["A0A0C3PQW6_PISTI","A0A0C3PQW6",1596,"PF14699",92,180,587,"PF14699.5 N-terminal domain from the human glycogen debranching enzyme"]
["A0A0C3PQW6_PISTI","A0A0C3PQW6",1596,"PF14702",796,1037,717,"PF14702.5 Central domain of human glycogen debranching enzyme"]
["A0A0C3SDX7_PHLGI","A0A0C3SDX7",1590,"PF06202",1105,1581,1981,"PF06202.13 Amylo-alpha-1,6-glucosidase"]
["A0A0C3SDX7_PHLGI","A0A0C3SDX7",1590,"PF14701",201,635,800,"PF14701.5 Glycogen debranching enzyme, glucanotransferase domain"]
["A0A0C3SDX7_PHLGI","A0A0C3SDX7",1590,"PF14699",88,177,587,"PF14699.5 N-terminal domain from the human glycogen debranching enzyme"]
["A0A0C3SDX7_PHLGI","A0A0C3SDX7",1590,"PF14702",792,1033,717,"PF14702.5 Central domain of human glycogen debranching enzyme"]
["A0A0C4EF57_MAGP6","A0A0C4EF57",1577,"PF06202",1076,1560,1981,"PF06202.13 Amylo-alpha-1,6-glucosidase"]
["A0A0C4EF57_MAGP6","A0A0C4EF57",1577,"PF14701",143,586,800,"PF14701.5 Glycogen debranching enzyme, glucanotransferase domain"]
["A0A0C4EF57_MAGP6","A0A0C4EF57",1577,"PF14699",41,141,587,"PF14699.5 N-terminal domain from the human glycogen debranching enzyme"]
["A0A0C4EF57_MAGP6","A0A0C4EF57",1577,"PF14702",759,1003,717,"PF14702.5 Central domain of human glycogen debranching enzyme"]
["A0A0C7N3C4_9SACH","A0A0C7N3C4",1521,"PF06202",1030,1507,1981,"PF06202.13 Amylo-alpha-1,6-glucosidase"]
["A0A0C7N3C4_9SACH","A0A0C7N3C4",1521,"PF14701",137,557,800,"PF14701.5 Glycogen debranching enzyme, glucanotransferase domain"]
["A0A0C7N3C4_9SACH","A0A0C7N3C4",1521,"PF14699",47,135,587,"PF14699.5 N-terminal domain from the human glycogen debranching enzyme"]
["A0A0C7N3C4_9SACH","A0A0C7N3C4",1521,"PF14702",718,959,717,"PF14702.5 Central domain of human glycogen debranching enzyme"]
["A0A0C9LWN1_9FUNG","A0A0C9LWN1",1500,"PF06202",1025,1488,1981,"PF06202.13 Amylo-alpha-1,6-glucosidase"]
["A0A0C9LWN1_9FUNG","A0A0C9LWN1",1500,"PF14701",144,242,800,"PF14701.5 Glycogen debranching enzyme, glucanotransferase domain"]
["A0A0C9LWN1_9FUNG","A0A0C9LWN1",1500,"PF14701",240,567,800,"PF14701.5 Glycogen debranching enzyme, glucanotransferase domain"]
["A0A0C9LWN1_9FUNG","A0A0C9LWN1",1500,"PF14699",46,135,587,"PF14699.5 N-terminal domain from the human glycogen debranching enzyme"]
["A0A0C9LWN1_9FUNG","A0A0C9LWN1",1500,"PF14702",719,954,717,"PF14702.5 Central domain of human glycogen debranching enzyme"]
["A0A0C9WFV0_9HOMO","A0A0C9WFV0",1596,"PF06202",1111,1587,1981,"PF06202.13 Amylo-alpha-1,6-glucosidase"]
["A0A0C9WFV0_9HOMO","A0A0C9WFV0",1596,"PF14701",208,639,800,"PF14701.5 Glycogen debranching enzyme, glucanotransferase domain"]
["A0A0C9WFV0_9HOMO","A0A0C9WFV0",1596,"PF14699",93,181,587,"PF14699.5 N-terminal domain from the human glycogen debranching enzyme"]
["A0A0C9WFV0_9HOMO","A0A0C9WFV0",1596,"PF14702",796,1039,717,"PF14702.5 Central domain of human glycogen debranching enzyme"]
["A0A0C9X698_9AGAR","A0A0C9X698",1596,"PF06202",1111,1587,1981,"PF06202.13 Amylo-alpha-1,6-glucosidase"]
["A0A0C9X698_9AGAR","A0A0C9X698",1596,"PF14701",209,641,800,"PF14701.5 Glycogen debranching enzyme, glucanotransferase domain"]
["A0A0C9X698_9AGAR","A0A0C9X698",1596,"PF14699",96,183,587,"PF14699.5 N-terminal domain from the human glycogen debranching enzyme"]
["A0A0C9X698_9AGAR","A0A0C9X698",1596,"PF14702",798,1039,717,"PF14702.5 Central domain of human glycogen debranching enzyme"]
["A0A0C9Z1J0_9HOMO","A0A0C9Z1J0",1594,"PF06202",1107,1583,1981,"PF06202.13 Amylo-alpha-1,6-glucosidase"]
["A0A0C9Z1J0_9HOMO","A0A0C9Z1J0",1594,"PF14701",205,637,800,"PF14701.5 Glycogen debranching enzyme, glucanotransferase domain"]
["A0A0C9Z1J0_9HOMO","A0A0C9Z1J0",1594,"PF14699",90,178,587,"PF14699.5 N-terminal domain from the human glycogen debranching enzyme"]
["A0A0C9Z1J0_9HOMO","A0A0C9Z1J0",1594,"PF14702",794,1035,717,"PF14702.5 Central domain of human glycogen debranching enzyme"]
["A0A0D0A959_9HOMO","A0A0D0A959",1601,"PF06202",1113,1589,1981,"PF06202.13 Amylo-alpha-1,6-glucosidase"]
["A0A0D0A959_9HOMO","A0A0D0A959",1601,"PF14701",211,643,800,"PF14701.5 Glycogen debranching enzyme, glucanotransferase domain"]
["A0A0D0A959_9HOMO","A0A0D0A959",1601,"PF14699",96,184,587,"PF14699.5 N-terminal domain from the human glycogen debranching enzyme"]
["A0A0D0A959_9HOMO","A0A0D0A959",1601,"PF14702",800,1041,717,"PF14702.5 Central domain of human glycogen debranching enzyme"]
["A0A0D0CW47_9AGAR","A0A0D0CW47",1593,"PF06202",1103,1579,1981,"PF06202.13 Amylo-alpha-1,6-glucosidase"]
["A0A0D0CW47_9AGAR","A0A0D0CW47",1593,"PF14701",203,634,800,"PF14701.5 Glycogen debranching enzyme, glucanotransferase domain"]
["A0A0D0CW47_9AGAR","A0A0D0CW47",1593,"PF14699",89,177,587,"PF14699.5 N-terminal domain from the human glycogen debranching enzyme"]
["A0A0D0CW47_9AGAR","A0A0D0CW47",1593,"PF14702",791,1032,717,"PF14702.5 Central domain of human glycogen debranching enzyme"]
["A0A0D0ECG9_9HOMO","A0A0D0ECG9",1593,"PF06202",1108,1584,1981,"PF06202.13 Amylo-alpha-1,6-glucosidase"]
["A0A0D0ECG9_9HOMO","A0A0D0ECG9",1593,"PF14701",206,637,800,"PF14701.5 Glycogen debranching enzyme, glucanotransferase domain"]
["A0A0D0ECG9_9HOMO","A0A0D0ECG9",1593,"PF14699",91,179,587,"PF14699.5 N-terminal domain from the human glycogen debranching enzyme"]
["A0A0D0ECG9_9HOMO","A0A0D0ECG9",1593,"PF14702",794,1037,717,"PF14702.5 Central domain of human glycogen debranching enzyme"]
["A0A0D1DW40_USTMA","A0A0D1DW40",1568,"PF06202",1088,1561,1981,"PF06202.13 Amylo-alpha-1,6-glucosidase"]
["A0A0D1DW40_USTMA","A0A0D1DW40",1568,"PF14701",180,617,800,"PF14701.5 Glycogen debranching enzyme, glucanotransferase domain"]
["A0A0D1DW40_USTMA","A0A0D1DW40",1568,"PF14699",51,153,587,"PF14699.5 N-terminal domain from the human glycogen debranching enzyme"]
["A0A0D1DW40_USTMA","A0A0D1DW40",1568,"PF14702",774,1016,717,"PF14702.5 Central domain of human glycogen debranching enzyme"]
["A0A0D1Y1X4_9EURO","A0A0D1Y1X4",1552,"PF06202",1065,1537,1981,"PF06202.13 Amylo-alpha-1,6-glucosidase"]
["A0A0D1Y1X4_9EURO","A0A0D1Y1X4",1552,"PF14701",140,582,800,"PF14701.5 Glycogen debranching enzyme, glucanotransferase domain"]
["A0A0D1Y1X4_9EURO","A0A0D1Y1X4",1552,"PF14699",42,138,587,"PF14699.5 N-terminal domain from the human glycogen debranching enzyme"]
["A0A0D1Y1X4_9EURO","A0A0D1Y1X4",1552,"PF14702",748,992,717,"PF14702.5 Central domain of human glycogen debranching enzyme"]
["A0A0D1YTW6_9EURO","A0A0D1YTW6",1551,"PF06202",1064,1536,1981,"PF06202.13 Amylo-alpha-1,6-glucosidase"]
["A0A0D1YTW6_9EURO","A0A0D1YTW6",1551,"PF14701",140,582,800,"PF14701.5 Glycogen debranching enzyme, glucanotransferase domain"]
["A0A0D1YTW6_9EURO","A0A0D1YTW6",1551,"PF14699",42,138,587,"PF14699.5 N-terminal domain from the human glycogen debranching enzyme"]
["A0A0D1YTW6_9EURO","A0A0D1YTW6",1551,"PF14702",747,991,717,"PF14702.5 Central domain of human glycogen debranching enzyme"]
["A0A0D1ZYM2_9EURO","A0A0D1ZYM2",1554,"PF06202",1067,1539,1981,"PF06202.13 Amylo-alpha-1,6-glucosidase"]
["A0A0D1ZYM2_9EURO","A0A0D1ZYM2",1554,"PF14701",140,582,800,"PF14701.5 Glycogen debranching enzyme, glucanotransferase domain"]
["A0A0D1ZYM2_9EURO","A0A0D1ZYM2",1554,"PF14699",42,138,587,"PF14699.5 N-terminal domain from the human glycogen debranching enzyme"]
["A0A0D1ZYM2_9EURO","A0A0D1ZYM2",1554,"PF14702",750,994,717,"PF14702.5 Central domain of human glycogen debranching enzyme"]
["A0A0D2A5A0_9PEZI","A0A0D2A5A0",1562,"PF06202",1073,1546,1981,"PF06202.13 Amylo-alpha-1,6-glucosidase"]
["A0A0D2A5A0_9PEZI","A0A0D2A5A0",1562,"PF14701",141,587,800,"PF14701.5 Glycogen debranching enzyme, glucanotransferase domain"]
["A0A0D2A5A0_9PEZI","A0A0D2A5A0",1562,"PF14699",43,139,587,"PF14699.5 N-terminal domain from the human glycogen debranching enzyme"]
["A0A0D2A5A0_9PEZI","A0A0D2A5A0",1562,"PF14702",757,1000,717,"PF14702.5 Central domain of human glycogen debranching enzyme"]
["A0A0D2AR99_9EURO","A0A0D2AR99",1537,"PF06202",1067,1530,1981,"PF06202.13 Amylo-alpha-1,6-glucosidase"]
["A0A0D2AR99_9EURO","A0A0D2AR99",1537,"PF14701",140,582,800,"PF14701.5 Glycogen debranching enzyme, glucanotransferase domain"]
["A0A0D2AR99_9EURO","A0A0D2AR99",1537,"PF14699",42,138,587,"PF14699.5 N-terminal domain from the human glycogen debranching enzyme"]
["A0A0D2AR99_9EURO","A0A0D2AR99",1537,"PF14702",750,994,717,"PF14702.5 Central domain of human glycogen debranching enzyme"]
["A0A0D2CKN8_9EURO","A0A0D2CKN8",1561,"PF06202",1074,1546,1981,"PF06202.13 Amylo-alpha-1,6-glucosidase"]
["A0A0D2CKN8_9EURO","A0A0D2CKN8",1561,"PF14701",140,591,800,"PF14701.5 Glycogen debranching enzyme, glucanotransferase domain"]
["A0A0D2CKN8_9EURO","A0A0D2CKN8",1561,"PF14699",42,138,587,"PF14699.5 N-terminal domain from the human glycogen debranching enzyme"]
["A0A0D2CKN8_9EURO","A0A0D2CKN8",1561,"PF14702",757,1001,717,"PF14702.5 Central domain of human glycogen debranching enzyme"]
["A0A0D2DJ28_9EURO","A0A0D2DJ28",1554,"PF06202",1067,1539,1981,"PF06202.13 Amylo-alpha-1,6-glucosidase"]
["A0A0D2DJ28_9EURO","A0A0D2DJ28",1554,"PF14701",140,582,800,"PF14701.5 Glycogen debranching enzyme, glucanotransferase domain"]
["A0A0D2DJ28_9EURO","A0A0D2DJ28",1554,"PF14699",42,138,587,"PF14699.5 N-terminal domain from the human glycogen debranching enzyme"]
["A0A0D2DJ28_9EURO","A0A0D2DJ28",1554,"PF14702",750,994,717,"PF14702.5 Central domain of human glycogen debranching enzyme"]
["A0A0D2E8D8_9EURO","A0A0D2E8D8",1554,"PF06202",1067,1539,1981,"PF06202.13 Amylo-alpha-1,6-glucosidase"]
["A0A0D2E8D8_9EURO","A0A0D2E8D8",1554,"PF14701",140,582,800,"PF14701.5 Glycogen debranching enzyme, glucanotransferase domain"]
["A0A0D2E8D8_9EURO","A0A0D2E8D8",1554,"PF14699",42,138,587,"PF14699.5 N-terminal domain from the human glycogen debranching enzyme"]
["A0A0D2E8D8_9EURO","A0A0D2E8D8",1554,"PF14702",750,994,717,"PF14702.5 Central domain of human glycogen debranching enzyme"]
["A0A0D2G1H9_9EURO","A0A0D2G1H9",1552,"PF06202",1065,1537,1981,"PF06202.13 Amylo-alpha-1,6-glucosidase"]
["A0A0D2G1H9_9EURO","A0A0D2G1H9",1552,"PF14701",140,582,800,"PF14701.5 Glycogen debranching enzyme, glucanotransferase domain"]
["A0A0D2G1H9_9EURO","A0A0D2G1H9",1552,"PF14699",42,138,587,"PF14699.5 N-terminal domain from the human glycogen debranching enzyme"]
["A0A0D2G1H9_9EURO","A0A0D2G1H9",1552,"PF14702",748,992,717,"PF14702.5 Central domain of human glycogen debranching enzyme"]
["A0A0D2HJE3_9EURO","A0A0D2HJE3",1917,"PF00793",1587,1887,7270,"PF00793.19 DAHP synthetase I family"]
["A0A0D2HJE3_9EURO","A0A0D2HJE3",1917,"PF06202",1074,1537,1981,"PF06202.13 Amylo-alpha-1,6-glucosidase"]
["A0A0D2HJE3_9EURO","A0A0D2HJE3",1917,"PF14701",140,591,800,"PF14701.5 Glycogen debranching enzyme, glucanotransferase domain"]
["A0A0D2HJE3_9EURO","A0A0D2HJE3",1917,"PF14699",42,138,587,"PF14699.5 N-terminal domain from the human glycogen debranching enzyme"]
["A0A0D2HJE3_9EURO","A0A0D2HJE3",1917,"PF14702",757,1001,717,"PF14702.5 Central domain of human glycogen debranching enzyme"]
["A0A0D2I322_9EURO","A0A0D2I322",1534,"PF06202",1065,1528,1981,"PF06202.13 Amylo-alpha-1,6-glucosidase"]
["A0A0D2I322_9EURO","A0A0D2I322",1534,"PF14701",140,582,800,"PF14701.5 Glycogen debranching enzyme, glucanotransferase domain"]
["A0A0D2I322_9EURO","A0A0D2I322",1534,"PF14699",42,138,587,"PF14699.5 N-terminal domain from the human glycogen debranching enzyme"]
["A0A0D2I322_9EURO","A0A0D2I322",1534,"PF14702",748,992,717,"PF14702.5 Central domain of human glycogen debranching enzyme"]
["A0A0D2KAA1_9EURO","A0A0D2KAA1",1538,"PF06202",1074,1538,1981,"PF06202.13 Amylo-alpha-1,6-glucosidase"]
["A0A0D2KAA1_9EURO","A0A0D2KAA1",1538,"PF14701",140,591,800,"PF14701.5 Glycogen debranching enzyme, glucanotransferase domain"]
["A0A0D2KAA1_9EURO","A0A0D2KAA1",1538,"PF14699",42,138,587,"PF14699.5 N-terminal domain from the human glycogen debranching enzyme"]
["A0A0D2KAA1_9EURO","A0A0D2KAA1",1538,"PF14702",757,1001,717,"PF14702.5 Central domain of human glycogen debranching enzyme"]
["A0A0D2NY00_9AGAR","A0A0D2NY00",1591,"PF06202",1107,1583,1981,"PF06202.13 Amylo-alpha-1,6-glucosidase"]
["A0A0D2NY00_9AGAR","A0A0D2NY00",1591,"PF14701",206,637,800,"PF14701.5 Glycogen debranching enzyme, glucanotransferase domain"]
["A0A0D2NY00_9AGAR","A0A0D2NY00",1591,"PF14699",93,180,587,"PF14699.5 N-terminal domain from the human glycogen debranching enzyme"]
["A0A0D2NY00_9AGAR","A0A0D2NY00",1591,"PF14702",794,1035,717,"PF14702.5 Central domain of human glycogen debranching enzyme"]
["A0A0D2X4G8_CAPO3","A0A0D2X4G8",1949,"PF06202",1302,1932,1981,"PF06202.13 Amylo-alpha-1,6-glucosidase"]
["A0A0D2X4G8_CAPO3","A0A0D2X4G8",1949,"PF14701",199,555,800,"PF14701.5 Glycogen debranching enzyme, glucanotransferase domain"]
["A0A0D2X4G8_CAPO3","A0A0D2X4G8",1949,"PF14701",588,707,800,"PF14701.5 Glycogen debranching enzyme, glucanotransferase domain"]
["A0A0D2X4G8_CAPO3","A0A0D2X4G8",1949,"PF14699",104,197,587,"PF14699.5 N-terminal domain from the human glycogen debranching enzyme"]
["A0A0D2X4G8_CAPO3","A0A0D2X4G8",1949,"PF14702",858,1057,717,"PF14702.5 Central domain of human glycogen debranching enzyme"]
["A0A0D2X4G8_CAPO3","A0A0D2X4G8",1949,"PF14702",1110,1232,717,"PF14702.5 Central domain of human glycogen debranching enzyme"]
["A0A0D2XWJ8_FUSO4","A0A0D2XWJ8",1556,"PF06202",1072,1544,1981,"PF06202.13 Amylo-alpha-1,6-glucosidase"]
["A0A0D2XWJ8_FUSO4","A0A0D2XWJ8",1556,"PF14701",144,580,800,"PF14701.5 Glycogen debranching enzyme, glucanotransferase domain"]
["A0A0D2XWJ8_FUSO4","A0A0D2XWJ8",1556,"PF14699",42,142,587,"PF14699.5 N-terminal domain from the human glycogen debranching enzyme"]
["A0A0D2XWJ8_FUSO4","A0A0D2XWJ8",1556,"PF14702",755,999,717,"PF14702.5 Central domain of human glycogen debranching enzyme"]
["A0A0D7AM24_9AGAR","A0A0D7AM24",1585,"PF06202",1100,1576,1981,"PF06202.13 Amylo-alpha-1,6-glucosidase"]
["A0A0D7AM24_9AGAR","A0A0D7AM24",1585,"PF14701",198,630,800,"PF14701.5 Glycogen debranching enzyme, glucanotransferase domain"]
["A0A0D7AM24_9AGAR","A0A0D7AM24",1585,"PF14699",83,171,587,"PF14699.5 N-terminal domain from the human glycogen debranching enzyme"]
["A0A0D7AM24_9AGAR","A0A0D7AM24",1585,"PF14702",787,1028,717,"PF14702.5 Central domain of human glycogen debranching enzyme"]
["A0A0D7BL27_9HOMO","A0A0D7BL27",1575,"PF06202",1087,1564,1981,"PF06202.13 Amylo-alpha-1,6-glucosidase"]
["A0A0D7BL27_9HOMO","A0A0D7BL27",1575,"PF14701",187,618,800,"PF14701.5 Glycogen debranching enzyme, glucanotransferase domain"]
["A0A0D7BL27_9HOMO","A0A0D7BL27",1575,"PF14699",74,161,587,"PF14699.5 N-terminal domain from the human glycogen debranching enzyme"]
["A0A0D7BL27_9HOMO","A0A0D7BL27",1575,"PF14702",775,1015,717,"PF14702.5 Central domain of human glycogen debranching enzyme"]
["A0A0D8Y173_DICVI","A0A0D8Y173",1440,"PF06202",1018,1273,1981,"PF06202.13 Amylo-alpha-1,6-glucosidase"]
["A0A0D8Y173_DICVI","A0A0D8Y173",1440,"PF06202",1266,1431,1981,"PF06202.13 Amylo-alpha-1,6-glucosidase"]
["A0A0D8Y173_DICVI","A0A0D8Y173",1440,"PF14701",150,575,800,"PF14701.5 Glycogen debranching enzyme, glucanotransferase domain"]
["A0A0D8Y173_DICVI","A0A0D8Y173",1440,"PF14702",713,951,717,"PF14702.5 Central domain of human glycogen debranching enzyme"]
["A0A0D9N9Z1_ASPFA","A0A0D9N9Z1",1518,"PF06202",1052,1515,1981,"PF06202.13 Amylo-alpha-1,6-glucosidase"]
["A0A0D9N9Z1_ASPFA","A0A0D9N9Z1",1518,"PF14701",135,573,800,"PF14701.5 Glycogen debranching enzyme, glucanotransferase domain"]
["A0A0D9N9Z1_ASPFA","A0A0D9N9Z1",1518,"PF14699",37,133,587,"PF14699.5 N-terminal domain from the human glycogen debranching enzyme"]
["A0A0D9N9Z1_ASPFA","A0A0D9N9Z1",1518,"PF14702",736,979,717,"PF14702.5 Central domain of human glycogen debranching enzyme"]
["A0A0D9S6N5_CHLSB","A0A0D9S6N5",1532,"PF06202",1042,1527,1981,"PF06202.13 Amylo-alpha-1,6-glucosidase"]
["A0A0D9S6N5_CHLSB","A0A0D9S6N5",1532,"PF14701",120,551,800,"PF14701.5 Glycogen debranching enzyme, glucanotransferase domain"]
["A0A0D9S6N5_CHLSB","A0A0D9S6N5",1532,"PF14699",31,116,587,"PF14699.5 N-terminal domain from the human glycogen debranching enzyme"]
["A0A0D9S6N5_CHLSB","A0A0D9S6N5",1532,"PF14702",697,974,717,"PF14702.5 Central domain of human glycogen debranching enzyme"]
["A0A0E1RUZ2_COCIM","A0A0E1RUZ2",1605,"PF06202",1115,1587,1981,"PF06202.13 Amylo-alpha-1,6-glucosidase"]
["A0A0E1RUZ2_COCIM","A0A0E1RUZ2",1605,"PF14701",201,644,800,"PF14701.5 Glycogen debranching enzyme, glucanotransferase domain"]
["A0A0E1RUZ2_COCIM","A0A0E1RUZ2",1605,"PF14699",113,199,587,"PF14699.5 N-terminal domain from the human glycogen debranching enzyme"]
["A0A0E1RUZ2_COCIM","A0A0E1RUZ2",1605,"PF14702",799,1042,717,"PF14702.5 Central domain of human glycogen debranching enzyme"]
["A0A0E9NAY6_9ASCO","A0A0E9NAY6",1594,"PF06202",1107,1553,1981,"PF06202.13 Amylo-alpha-1,6-glucosidase"]
["A0A0E9NAY6_9ASCO","A0A0E9NAY6",1594,"PF14701",221,654,800,"PF14701.5 Glycogen debranching enzyme, glucanotransferase domain"]
["A0A0E9NAY6_9ASCO","A0A0E9NAY6",1594,"PF14699",118,219,587,"PF14699.5 N-terminal domain from the human glycogen debranching enzyme"]
["A0A0E9NAY6_9ASCO","A0A0E9NAY6",1594,"PF14702",802,1036,717,"PF14702.5 Central domain of human glycogen debranching enzyme"]
["A0A0F0I5P1_ASPPU","A0A0F0I5P1",1518,"PF06202",1052,1515,1981,"PF06202.13 Amylo-alpha-1,6-glucosidase"]
["A0A0F0I5P1_ASPPU","A0A0F0I5P1",1518,"PF14701",135,573,800,"PF14701.5 Glycogen debranching enzyme, glucanotransferase domain"]
["A0A0F0I5P1_ASPPU","A0A0F0I5P1",1518,"PF14699",37,133,587,"PF14699.5 N-terminal domain from the human glycogen debranching enzyme"]
["A0A0F0I5P1_ASPPU","A0A0F0I5P1",1518,"PF14702",736,979,717,"PF14702.5 Central domain of human glycogen debranching enzyme"]
["A0A0F4GBS7_9PEZI","A0A0F4GBS7",1549,"PF06202",1064,1536,1981,"PF06202.13 Amylo-alpha-1,6-glucosidase"]
["A0A0F4GBS7_9PEZI","A0A0F4GBS7",1549,"PF14701",141,579,800,"PF14701.5 Glycogen debranching enzyme, glucanotransferase domain"]
["A0A0F4GBS7_9PEZI","A0A0F4GBS7",1549,"PF14699",43,139,587,"PF14699.5 N-terminal domain from the human glycogen debranching enzyme"]
["A0A0F4GBS7_9PEZI","A0A0F4GBS7",1549,"PF14702",746,989,717,"PF14702.5 Central domain of human glycogen debranching enzyme"]
["A0A0F4YRT6_TALEM","A0A0F4YRT6",1543,"PF06202",1050,1522,1981,"PF06202.13 Amylo-alpha-1,6-glucosidase"]
["A0A0F4YRT6_TALEM","A0A0F4YRT6",1543,"PF14701",135,575,800,"PF14701.5 Glycogen debranching enzyme, glucanotransferase domain"]
["A0A0F4YRT6_TALEM","A0A0F4YRT6",1543,"PF14699",37,133,587,"PF14699.5 N-terminal domain from the human glycogen debranching enzyme"]
["A0A0F4YRT6_TALEM","A0A0F4YRT6",1543,"PF14702",733,977,717,"PF14702.5 Central domain of human glycogen debranching enzyme"]
["A0A0F4ZGE2_9PEZI","A0A0F4ZGE2",1571,"PF06202",1071,1548,1981,"PF06202.13 Amylo-alpha-1,6-glucosidase"]
["A0A0F4ZGE2_9PEZI","A0A0F4ZGE2",1571,"PF14701",146,585,800,"PF14701.5 Glycogen debranching enzyme, glucanotransferase domain"]
["A0A0F4ZGE2_9PEZI","A0A0F4ZGE2",1571,"PF14699",42,144,587,"PF14699.5 N-terminal domain from the human glycogen debranching enzyme"]
["A0A0F4ZGE2_9PEZI","A0A0F4ZGE2",1571,"PF14702",758,1002,717,"PF14702.5 Central domain of human glycogen debranching enzyme"]
["A0A0F7TMN7_9EURO","A0A0F7TMN7",1531,"PF06202",1048,1522,1981,"PF06202.13 Amylo-alpha-1,6-glucosidase"]
["A0A0F7TMN7_9EURO","A0A0F7TMN7",1531,"PF14701",135,570,800,"PF14701.5 Glycogen debranching enzyme, glucanotransferase domain"]
["A0A0F7TMN7_9EURO","A0A0F7TMN7",1531,"PF14699",37,133,587,"PF14699.5 N-terminal domain from the human glycogen debranching enzyme"]
["A0A0F7TMN7_9EURO","A0A0F7TMN7",1531,"PF14702",734,977,717,"PF14702.5 Central domain of human glycogen debranching enzyme"]
["A0A0F8A3N1_9HYPO","A0A0F8A3N1",1565,"PF06202",1073,1548,1981,"PF06202.13 Amylo-alpha-1,6-glucosidase"]
["A0A0F8A3N1_9HYPO","A0A0F8A3N1",1565,"PF14701",143,587,800,"PF14701.5 Glycogen debranching enzyme, glucanotransferase domain"]
["A0A0F8A3N1_9HYPO","A0A0F8A3N1",1565,"PF14699",41,141,587,"PF14699.5 N-terminal domain from the human glycogen debranching enzyme"]
["A0A0F8A3N1_9HYPO","A0A0F8A3N1",1565,"PF14702",759,1003,717,"PF14702.5 Central domain of human glycogen debranching enzyme"]
["A0A0F8B4S6_CERFI","A0A0F8B4S6",1363,"PF06202",865,1342,1981,"PF06202.13 Amylo-alpha-1,6-glucosidase"]
["A0A0F8B4S6_CERFI","A0A0F8B4S6",1363,"PF14701",80,518,800,"PF14701.5 Glycogen debranching enzyme, glucanotransferase domain"]
["A0A0F8B4S6_CERFI","A0A0F8B4S6",1363,"PF14699",7,78,587,"PF14699.5 N-terminal domain from the human glycogen debranching enzyme"]
["A0A0F8B4S6_CERFI","A0A0F8B4S6",1363,"PF14702",667,787,717,"PF14702.5 Central domain of human glycogen debranching enzyme"]
["A0A0F8B4S6_CERFI","A0A0F8B4S6",1363,"PF14702",776,826,717,"PF14702.5 Central domain of human glycogen debranching enzyme"]
["A0A0F8UGN8_9EURO","A0A0F8UGN8",1537,"PF06202",1053,1527,1981,"PF06202.13 Amylo-alpha-1,6-glucosidase"]
["A0A0F8UGN8_9EURO","A0A0F8UGN8",1537,"PF14701",134,575,800,"PF14701.5 Glycogen debranching enzyme, glucanotransferase domain"]
["A0A0F8UGN8_9EURO","A0A0F8UGN8",1537,"PF14699",36,132,587,"PF14699.5 N-terminal domain from the human glycogen debranching enzyme"]
["A0A0F8UGN8_9EURO","A0A0F8UGN8",1537,"PF14702",738,982,717,"PF14702.5 Central domain of human glycogen debranching enzyme"]
["A0A0F9X9B6_TRIHA","A0A0F9X9B6",1557,"PF06202",1068,1543,1981,"PF06202.13 Amylo-alpha-1,6-glucosidase"]
["A0A0F9X9B6_TRIHA","A0A0F9X9B6",1557,"PF14701",144,588,800,"PF14701.5 Glycogen debranching enzyme, glucanotransferase domain"]
["A0A0F9X9B6_TRIHA","A0A0F9X9B6",1557,"PF14699",41,142,587,"PF14699.5 N-terminal domain from the human glycogen debranching enzyme"]
["A0A0F9X9B6_TRIHA","A0A0F9X9B6",1557,"PF14702",754,998,717,"PF14702.5 Central domain of human glycogen debranching enzyme"]
["A0A0G2E4D9_9PEZI","A0A0G2E4D9",1545,"PF06202",1058,1529,1981,"PF06202.13 Amylo-alpha-1,6-glucosidase"]
["A0A0G2E4D9_9PEZI","A0A0G2E4D9",1545,"PF14701",133,579,800,"PF14701.5 Glycogen debranching enzyme, glucanotransferase domain"]
["A0A0G2E4D9_9PEZI","A0A0G2E4D9",1545,"PF14699",35,131,587,"PF14699.5 N-terminal domain from the human glycogen debranching enzyme"]
["A0A0G2E4D9_9PEZI","A0A0G2E4D9",1545,"PF14702",741,985,717,"PF14702.5 Central domain of human glycogen debranching enzyme"]
["A0A0G2F9N9_9PEZI","A0A0G2F9N9",1556,"PF06202",1059,1533,1981,"PF06202.13 Amylo-alpha-1,6-glucosidase"]
["A0A0G2F9N9_9PEZI","A0A0G2F9N9",1556,"PF14701",137,568,800,"PF14701.5 Glycogen debranching enzyme, glucanotransferase domain"]
["A0A0G2F9N9_9PEZI","A0A0G2F9N9",1556,"PF14699",36,135,587,"PF14699.5 N-terminal domain from the human glycogen debranching enzyme"]
["A0A0G2F9N9_9PEZI","A0A0G2F9N9",1556,"PF14702",742,986,717,"PF14702.5 Central domain of human glycogen debranching enzyme"]
["A0A0G2FU03_9EURO","A0A0G2FU03",1920,"PF00793",1587,1897,7270,"PF00793.19 DAHP synthetase I family"]
["A0A0G2FU03_9EURO","A0A0G2FU03",1920,"PF06202",1076,1548,1981,"PF06202.13 Amylo-alpha-1,6-glucosidase"]
["A0A0G2FU03_9EURO","A0A0G2FU03",1920,"PF14701",149,591,800,"PF14701.5 Glycogen debranching enzyme, glucanotransferase domain"]
["A0A0G2FU03_9EURO","A0A0G2FU03",1920,"PF14699",51,147,587,"PF14699.5 N-terminal domain from the human glycogen debranching enzyme"]
["A0A0G2FU03_9EURO","A0A0G2FU03",1920,"PF14702",759,1003,717,"PF14702.5 Central domain of human glycogen debranching enzyme"]
["A0A0G2I3T6_9EURO","A0A0G2I3T6",1573,"PF06202",1063,1554,1981,"PF06202.13 Amylo-alpha-1,6-glucosidase"]
["A0A0G2I3T6_9EURO","A0A0G2I3T6",1573,"PF14701",141,584,800,"PF14701.5 Glycogen debranching enzyme, glucanotransferase domain"]
["A0A0G2I3T6_9EURO","A0A0G2I3T6",1573,"PF14699",38,139,587,"PF14699.5 N-terminal domain from the human glycogen debranching enzyme"]
["A0A0G2I3T6_9EURO","A0A0G2I3T6",1573,"PF14702",743,991,717,"PF14702.5 Central domain of human glycogen debranching enzyme"]
["A0A0G2JGI9_MOUSE","A0A0G2JGI9",1279,"PF06202",1043,1279,1981,"PF06202.13 Amylo-alpha-1,6-glucosidase"]
["A0A0G2JGI9_MOUSE","A0A0G2JGI9",1279,"PF14701",120,551,800,"PF14701.5 Glycogen debranching enzyme, glucanotransferase domain"]
["A0A0G2JGI9_MOUSE","A0A0G2JGI9",1279,"PF14699",31,116,587,"PF14699.5 N-terminal domain from the human glycogen debranching enzyme"]
["A0A0G2JGI9_MOUSE","A0A0G2JGI9",1279,"PF14702",697,974,717,"PF14702.5 Central domain of human glycogen debranching enzyme"]
["A0A0G4G102_VITBC","A0A0G4G102",1743,"PF16561",821,911,2886,"PF16561.4 Glycogen recognition site of AMP-activated protein kinase"]
["A0A0G4G102_VITBC","A0A0G4G102",1743,"PF06202",1237,1701,1981,"PF06202.13 Amylo-alpha-1,6-glucosidase"]
["A0A0G4G102_VITBC","A0A0G4G102",1743,"PF14701",126,569,800,"PF14701.5 Glycogen debranching enzyme, glucanotransferase domain"]
["A0A0G4G102_VITBC","A0A0G4G102",1743,"PF14702",924,1168,717,"PF14702.5 Central domain of human glycogen debranching enzyme"]
["A0A0G4KZD0_9PEZI","A0A0G4KZD0",162,"PF06202",8,80,1981,"PF06202.13 Amylo-alpha-1,6-glucosidase"]
["A0A0G4KZD0_9PEZI","A0A0G4KZD0",162,"PF14702",41,107,717,"PF14702.5 Central domain of human glycogen debranching enzyme"]
["A0A0G4LQK9_9PEZI","A0A0G4LQK9",1548,"PF06202",1049,1525,1981,"PF06202.13 Amylo-alpha-1,6-glucosidase"]
["A0A0G4LQK9_9PEZI","A0A0G4LQK9",1548,"PF14701",143,569,800,"PF14701.5 Glycogen debranching enzyme, glucanotransferase domain"]
["A0A0G4LQK9_9PEZI","A0A0G4LQK9",1548,"PF14699",41,141,587,"PF14699.5 N-terminal domain from the human glycogen debranching enzyme"]
["A0A0G4LQK9_9PEZI","A0A0G4LQK9",1548,"PF14702",742,980,717,"PF14702.5 Central domain of human glycogen debranching enzyme"]
["A0A0G4MAL6_9PEZI","A0A0G4MAL6",1525,"PF06202",1026,1502,1981,"PF06202.13 Amylo-alpha-1,6-glucosidase"]
["A0A0G4MAL6_9PEZI","A0A0G4MAL6",1525,"PF14701",143,586,800,"PF14701.5 Glycogen debranching enzyme, glucanotransferase domain"]
["A0A0G4MAL6_9PEZI","A0A0G4MAL6",1525,"PF14699",41,141,587,"PF14699.5 N-terminal domain from the human glycogen debranching enzyme"]
["A0A0G4MAL6_9PEZI","A0A0G4MAL6",1525,"PF14702",713,957,717,"PF14702.5 Central domain of human glycogen debranching enzyme"]
["A0A0G4NW80_PENCA","A0A0G4NW80",1534,"PF06202",1053,1525,1981,"PF06202.13 Amylo-alpha-1,6-glucosidase"]
["A0A0G4NW80_PENCA","A0A0G4NW80",1534,"PF14701",135,573,800,"PF14701.5 Glycogen debranching enzyme, glucanotransferase domain"]
["A0A0G4NW80_PENCA","A0A0G4NW80",1534,"PF14699",37,133,587,"PF14699.5 N-terminal domain from the human glycogen debranching enzyme"]
["A0A0G4NW80_PENCA","A0A0G4NW80",1534,"PF14702",737,980,717,"PF14702.5 Central domain of human glycogen debranching enzyme"]
["A0A0H1B6U3_9EURO","A0A0H1B6U3",1579,"PF06202",1073,1561,1981,"PF06202.13 Amylo-alpha-1,6-glucosidase"]
["A0A0H1B6U3_9EURO","A0A0H1B6U3",1579,"PF14701",141,584,800,"PF14701.5 Glycogen debranching enzyme, glucanotransferase domain"]
["A0A0H1B6U3_9EURO","A0A0H1B6U3",1579,"PF14699",38,139,587,"PF14699.5 N-terminal domain from the human glycogen debranching enzyme"]
["A0A0H1B6U3_9EURO","A0A0H1B6U3",1579,"PF14702",757,1001,717,"PF14702.5 Central domain of human glycogen debranching enzyme"]
["A0A0H2RII2_9HOMO","A0A0H2RII2",1619,"PF06202",1132,1608,1981,"PF06202.13 Amylo-alpha-1,6-glucosidase"]
["A0A0H2RII2_9HOMO","A0A0H2RII2",1619,"PF14701",233,665,800,"PF14701.5 Glycogen debranching enzyme, glucanotransferase domain"]
["A0A0H2RII2_9HOMO","A0A0H2RII2",1619,"PF14699",118,206,587,"PF14699.5 N-terminal domain from the human glycogen debranching enzyme"]
["A0A0H2RII2_9HOMO","A0A0H2RII2",1619,"PF14702",819,1060,717,"PF14702.5 Central domain of human glycogen debranching enzyme"]
["A0A0H5C1A1_CYBJA","A0A0H5C1A1",798,"PF06202",315,788,1981,"PF06202.13 Amylo-alpha-1,6-glucosidase"]
["A0A0H5C1A1_CYBJA","A0A0H5C1A1",798,"PF14702",7,245,717,"PF14702.5 Central domain of human glycogen debranching enzyme"]
["A0A0J0XP15_9TREE","A0A0J0XP15",1602,"PF06202",1103,1586,1981,"PF06202.13 Amylo-alpha-1,6-glucosidase"]
["A0A0J0XP15_9TREE","A0A0J0XP15",1602,"PF14701",202,634,800,"PF14701.5 Glycogen debranching enzyme, glucanotransferase domain"]
["A0A0J0XP15_9TREE","A0A0J0XP15",1602,"PF14699",88,177,587,"PF14699.5 N-terminal domain from the human glycogen debranching enzyme"]
["A0A0J0XP15_9TREE","A0A0J0XP15",1602,"PF14702",790,1031,717,"PF14702.5 Central domain of human glycogen debranching enzyme"]
["A0A0J7BGE2_COCIT","A0A0J7BGE2",1512,"PF06202",1022,1494,1981,"PF06202.13 Amylo-alpha-1,6-glucosidase"]
["A0A0J7BGE2_COCIT","A0A0J7BGE2",1512,"PF14701",108,551,800,"PF14701.5 Glycogen debranching enzyme, glucanotransferase domain"]
["A0A0J7BGE2_COCIT","A0A0J7BGE2",1512,"PF14699",37,99,587,"PF14699.5 N-terminal domain from the human glycogen debranching enzyme"]
["A0A0J7BGE2_COCIT","A0A0J7BGE2",1512,"PF14702",706,949,717,"PF14702.5 Central domain of human glycogen debranching enzyme"]
["A0A0J7NAZ8_LASNI","A0A0J7NAZ8",946,"PF06202",449,925,1981,"PF06202.13 Amylo-alpha-1,6-glucosidase"]
["A0A0J7NAZ8_LASNI","A0A0J7NAZ8",946,"PF14702",118,372,717,"PF14702.5 Central domain of human glycogen debranching enzyme"]
["A0A0J8TWI9_COCIT","A0A0J8TWI9",1605,"PF06202",1115,1587,1981,"PF06202.13 Amylo-alpha-1,6-glucosidase"]
["A0A0J8TWI9_COCIT","A0A0J8TWI9",1605,"PF14701",201,644,800,"PF14701.5 Glycogen debranching enzyme, glucanotransferase domain"]
["A0A0J8TWI9_COCIT","A0A0J8TWI9",1605,"PF14699",113,199,587,"PF14699.5 N-terminal domain from the human glycogen debranching enzyme"]
["A0A0J8TWI9_COCIT","A0A0J8TWI9",1605,"PF14702",799,1042,717,"PF14702.5 Central domain of human glycogen debranching enzyme"]
["A0A0J9V7A0_FUSO4","A0A0J9V7A0",1396,"PF06202",912,1384,1981,"PF06202.13 Amylo-alpha-1,6-glucosidase"]
["A0A0J9V7A0_FUSO4","A0A0J9V7A0",1396,"PF14701",1,420,800,"PF14701.5 Glycogen debranching enzyme, glucanotransferase domain"]
["A0A0J9V7A0_FUSO4","A0A0J9V7A0",1396,"PF14702",595,839,717,"PF14702.5 Central domain of human glycogen debranching enzyme"]
["A0A0K0E803_STRER","A0A0K0E803",1474,"PF06202",990,1458,1981,"PF06202.13 Amylo-alpha-1,6-glucosidase"]
["A0A0K0E803_STRER","A0A0K0E803",1474,"PF14701",112,532,800,"PF14701.5 Glycogen debranching enzyme, glucanotransferase domain"]
["A0A0K0E803_STRER","A0A0K0E803",1474,"PF14702",669,922,717,"PF14702.5 Central domain of human glycogen debranching enzyme"]
["A0A0K0FGL4_9BILA","A0A0K0FGL4",1476,"PF06202",991,1459,1981,"PF06202.13 Amylo-alpha-1,6-glucosidase"]
["A0A0K0FGL4_9BILA","A0A0K0FGL4",1476,"PF14701",113,533,800,"PF14701.5 Glycogen debranching enzyme, glucanotransferase domain"]
["A0A0K0FGL4_9BILA","A0A0K0FGL4",1476,"PF14702",670,923,717,"PF14702.5 Central domain of human glycogen debranching enzyme"]
["A0A0K6GIF6_9HOMO","A0A0K6GIF6",1609,"PF06202",1123,1597,1981,"PF06202.13 Amylo-alpha-1,6-glucosidase"]
["A0A0K6GIF6_9HOMO","A0A0K6GIF6",1609,"PF14701",216,654,800,"PF14701.5 Glycogen debranching enzyme, glucanotransferase domain"]
["A0A0K6GIF6_9HOMO","A0A0K6GIF6",1609,"PF14699",104,190,587,"PF14699.5 N-terminal domain from the human glycogen debranching enzyme"]
["A0A0K6GIF6_9HOMO","A0A0K6GIF6",1609,"PF14702",812,1051,717,"PF14702.5 Central domain of human glycogen debranching enzyme"]
["A0A0K8LPV6_9EURO","A0A0K8LPV6",2382,"PF06202",1056,1519,1981,"PF06202.13 Amylo-alpha-1,6-glucosidase"]
["A0A0K8LPV6_9EURO","A0A0K8LPV6",2382,"PF14703",1762,1965,3820,"PF14703.5 Cytosolic domain of 10TM putative phosphate transporter"]
["A0A0K8LPV6_9EURO","A0A0K8LPV6",2382,"PF02714",1976,2255,3868,"PF02714.14 Calcium-dependent channel, 7TM region, putative phosphate"]
["A0A0K8LPV6_9EURO","A0A0K8LPV6",2382,"PF13967",1585,1742,3368,"PF13967.5 Late exocytosis, associated with Golgi transport"]
["A0A0K8LPV6_9EURO","A0A0K8LPV6",2382,"PF14701",135,576,800,"PF14701.5 Glycogen debranching enzyme, glucanotransferase domain"]
["A0A0K8LPV6_9EURO","A0A0K8LPV6",2382,"PF14699",37,133,587,"PF14699.5 N-terminal domain from the human glycogen debranching enzyme"]
["A0A0K8LPV6_9EURO","A0A0K8LPV6",2382,"PF14702",740,983,717,"PF14702.5 Central domain of human glycogen debranching enzyme"]
["A0A0L0BUP1_LUCCU","A0A0L0BUP1",1322,"PF06202",1054,1318,1981,"PF06202.13 Amylo-alpha-1,6-glucosidase"]
["A0A0L0BUP1_LUCCU","A0A0L0BUP1",1322,"PF14701",137,579,800,"PF14701.5 Glycogen debranching enzyme, glucanotransferase domain"]
["A0A0L0BUP1_LUCCU","A0A0L0BUP1",1322,"PF14699",31,131,587,"PF14699.5 N-terminal domain from the human glycogen debranching enzyme"]
["A0A0L0BUP1_LUCCU","A0A0L0BUP1",1322,"PF14702",717,987,717,"PF14702.5 Central domain of human glycogen debranching enzyme"]
["A0A0L0D597_THETB","A0A0L0D597",1413,"PF06202",961,1406,1981,"PF06202.13 Amylo-alpha-1,6-glucosidase"]
["A0A0L0D597_THETB","A0A0L0D597",1413,"PF14701",88,491,800,"PF14701.5 Glycogen debranching enzyme, glucanotransferase domain"]
["A0A0L0D597_THETB","A0A0L0D597",1413,"PF14702",632,893,717,"PF14702.5 Central domain of human glycogen debranching enzyme"]
["A0A0L0FY95_9EUKA","A0A0L0FY95",897,"PF06202",403,881,1981,"PF06202.13 Amylo-alpha-1,6-glucosidase"]
["A0A0L0FY95_9EUKA","A0A0L0FY95",897,"PF14702",59,329,717,"PF14702.5 Central domain of human glycogen debranching enzyme"]
["A0A0L0HGW7_SPIPN","A0A0L0HGW7",1741,"PF06202",1208,1725,1981,"PF06202.13 Amylo-alpha-1,6-glucosidase"]
["A0A0L0HGW7_SPIPN","A0A0L0HGW7",1741,"PF14701",173,613,800,"PF14701.5 Glycogen debranching enzyme, glucanotransferase domain"]
["A0A0L0HGW7_SPIPN","A0A0L0HGW7",1741,"PF14699",69,158,587,"PF14699.5 N-terminal domain from the human glycogen debranching enzyme"]
["A0A0L0HGW7_SPIPN","A0A0L0HGW7",1741,"PF14702",773,1119,717,"PF14702.5 Central domain of human glycogen debranching enzyme"]
["A0A0L0N7E7_9HYPO","A0A0L0N7E7",1560,"PF06202",1075,1547,1981,"PF06202.13 Amylo-alpha-1,6-glucosidase"]
["A0A0L0N7E7_9HYPO","A0A0L0N7E7",1560,"PF14701",144,588,800,"PF14701.5 Glycogen debranching enzyme, glucanotransferase domain"]
["A0A0L0N7E7_9HYPO","A0A0L0N7E7",1560,"PF14699",41,142,587,"PF14699.5 N-terminal domain from the human glycogen debranching enzyme"]
["A0A0L0N7E7_9HYPO","A0A0L0N7E7",1560,"PF14702",758,1002,717,"PF14702.5 Central domain of human glycogen debranching enzyme"]
["A0A0L0P4J2_9ASCO","A0A0L0P4J2",1514,"PF06202",1026,1499,1981,"PF06202.13 Amylo-alpha-1,6-glucosidase"]
["A0A0L0P4J2_9ASCO","A0A0L0P4J2",1514,"PF14701",135,556,800,"PF14701.5 Glycogen debranching enzyme, glucanotransferase domain"]
["A0A0L0P4J2_9ASCO","A0A0L0P4J2",1514,"PF14699",45,133,587,"PF14699.5 N-terminal domain from the human glycogen debranching enzyme"]
["A0A0L0P4J2_9ASCO","A0A0L0P4J2",1514,"PF14702",715,955,717,"PF14702.5 Central domain of human glycogen debranching enzyme"]
["A0A0L0TEU8_ALLMA","A0A0L0TEU8",1651,"PF06202",1115,1595,1981,"PF06202.13 Amylo-alpha-1,6-glucosidase"]
["A0A0L0TEU8_ALLMA","A0A0L0TEU8",1651,"PF14701",201,650,800,"PF14701.5 Glycogen debranching enzyme, glucanotransferase domain"]
["A0A0L0TEU8_ALLMA","A0A0L0TEU8",1651,"PF14699",104,197,587,"PF14699.5 N-terminal domain from the human glycogen debranching enzyme"]
["A0A0L0TEU8_ALLMA","A0A0L0TEU8",1651,"PF14702",796,1043,717,"PF14702.5 Central domain of human glycogen debranching enzyme"]
["A0A0L0TF30_ALLMA","A0A0L0TF30",1402,"PF06202",866,1346,1981,"PF06202.13 Amylo-alpha-1,6-glucosidase"]
["A0A0L0TF30_ALLMA","A0A0L0TF30",1402,"PF14701",200,369,800,"PF14701.5 Glycogen debranching enzyme, glucanotransferase domain"]
["A0A0L0TF30_ALLMA","A0A0L0TF30",1402,"PF14701",363,401,800,"PF14701.5 Glycogen debranching enzyme, glucanotransferase domain"]
["A0A0L0TF30_ALLMA","A0A0L0TF30",1402,"PF14699",104,197,587,"PF14699.5 N-terminal domain from the human glycogen debranching enzyme"]
["A0A0L0TF30_ALLMA","A0A0L0TF30",1402,"PF14702",547,794,717,"PF14702.5 Central domain of human glycogen debranching enzyme"]
["A0A0L0VQ97_9BASI","A0A0L0VQ97",1628,"PF06202",1142,1618,1981,"PF06202.13 Amylo-alpha-1,6-glucosidase"]
["A0A0L0VQ97_9BASI","A0A0L0VQ97",1628,"PF14701",221,660,800,"PF14701.5 Glycogen debranching enzyme, glucanotransferase domain"]
["A0A0L0VQ97_9BASI","A0A0L0VQ97",1628,"PF14699",101,191,587,"PF14699.5 N-terminal domain from the human glycogen debranching enzyme"]
["A0A0L0VQ97_9BASI","A0A0L0VQ97",1628,"PF14702",817,1070,717,"PF14702.5 Central domain of human glycogen debranching enzyme"]
["A0A0L1HSN2_9PLEO","A0A0L1HSN2",2266,"PF06202",1788,2247,1981,"PF06202.13 Amylo-alpha-1,6-glucosidase"]
["A0A0L1HSN2_9PLEO","A0A0L1HSN2",2266,"PF00620",347,510,15894,"PF00620.26 RhoGAP domain"]
["A0A0L1HSN2_9PLEO","A0A0L1HSN2",2266,"PF14701",864,1310,800,"PF14701.5 Glycogen debranching enzyme, glucanotransferase domain"]
["A0A0L1HSN2_9PLEO","A0A0L1HSN2",2266,"PF14699",766,862,587,"PF14699.5 N-terminal domain from the human glycogen debranching enzyme"]
["A0A0L1HSN2_9PLEO","A0A0L1HSN2",2266,"PF14702",1471,1715,717,"PF14702.5 Central domain of human glycogen debranching enzyme"]
["A0A0L1J5G2_ASPNO","A0A0L1J5G2",2214,"PF06202",1052,1505,1981,"PF06202.13 Amylo-alpha-1,6-glucosidase"]
["A0A0L1J5G2_ASPNO","A0A0L1J5G2",2214,"PF14703",1635,1838,3820,"PF14703.5 Cytosolic domain of 10TM putative phosphate transporter"]
["A0A0L1J5G2_ASPNO","A0A0L1J5G2",2214,"PF02714",1849,2007,3868,"PF02714.14 Calcium-dependent channel, 7TM region, putative phosphate"]
["A0A0L1J5G2_ASPNO","A0A0L1J5G2",2214,"PF02714",2004,2104,3868,"PF02714.14 Calcium-dependent channel, 7TM region, putative phosphate"]
["A0A0L1J5G2_ASPNO","A0A0L1J5G2",2214,"PF13967",1476,1615,3368,"PF13967.5 Late exocytosis, associated with Golgi transport"]
["A0A0L1J5G2_ASPNO","A0A0L1J5G2",2214,"PF14701",135,573,800,"PF14701.5 Glycogen debranching enzyme, glucanotransferase domain"]
["A0A0L1J5G2_ASPNO","A0A0L1J5G2",2214,"PF14699",37,133,587,"PF14699.5 N-terminal domain from the human glycogen debranching enzyme"]
["A0A0L1J5G2_ASPNO","A0A0L1J5G2",2214,"PF14702",736,979,717,"PF14702.5 Central domain of human glycogen debranching enzyme"]
["A0A0L6UGP3_9BASI","A0A0L6UGP3",1642,"PF06202",1132,1603,1981,"PF06202.13 Amylo-alpha-1,6-glucosidase"]
["A0A0L6UGP3_9BASI","A0A0L6UGP3",1642,"PF14701",211,650,800,"PF14701.5 Glycogen debranching enzyme, glucanotransferase domain"]
["A0A0L6UGP3_9BASI","A0A0L6UGP3",1642,"PF14699",93,183,587,"PF14699.5 N-terminal domain from the human glycogen debranching enzyme"]
["A0A0L6UGP3_9BASI","A0A0L6UGP3",1642,"PF14702",807,1060,717,"PF14702.5 Central domain of human glycogen debranching enzyme"]
["A0A0L6WZ71_9AGAR","A0A0L6WZ71",1871,"PF06202",1385,1860,1981,"PF06202.13 Amylo-alpha-1,6-glucosidase"]
["A0A0L6WZ71_9AGAR","A0A0L6WZ71",1871,"PF00153",12,107,89340,"PF00153.26 Mitochondrial carrier protein"]
["A0A0L6WZ71_9AGAR","A0A0L6WZ71",1871,"PF00153",109,199,89340,"PF00153.26 Mitochondrial carrier protein"]
["A0A0L6WZ71_9AGAR","A0A0L6WZ71",1871,"PF00153",199,296,89340,"PF00153.26 Mitochondrial carrier protein"]
["A0A0L6WZ71_9AGAR","A0A0L6WZ71",1871,"PF14701",507,915,800,"PF14701.5 Glycogen debranching enzyme, glucanotransferase domain"]
["A0A0L6WZ71_9AGAR","A0A0L6WZ71",1871,"PF14699",390,478,587,"PF14699.5 N-terminal domain from the human glycogen debranching enzyme"]
["A0A0L6WZ71_9AGAR","A0A0L6WZ71",1871,"PF14702",1072,1313,717,"PF14702.5 Central domain of human glycogen debranching enzyme"]
["A0A0L7QQA0_9HYME","A0A0L7QQA0",1970,"PF06202",1066,1531,1981,"PF06202.13 Amylo-alpha-1,6-glucosidase"]
["A0A0L7QQA0_9HYME","A0A0L7QQA0",1970,"PF14701",125,559,800,"PF14701.5 Glycogen debranching enzyme, glucanotransferase domain"]
["A0A0L7QQA0_9HYME","A0A0L7QQA0",1970,"PF14699",40,121,587,"PF14699.5 N-terminal domain from the human glycogen debranching enzyme"]
["A0A0L7QQA0_9HYME","A0A0L7QQA0",1970,"PF14702",704,978,717,"PF14702.5 Central domain of human glycogen debranching enzyme"]
["A0A0L8G6V0_OCTBM","A0A0L8G6V0",1407,"PF06202",912,1398,1981,"PF06202.13 Amylo-alpha-1,6-glucosidase"]
["A0A0L8G6V0_OCTBM","A0A0L8G6V0",1407,"PF14701",1,428,800,"PF14701.5 Glycogen debranching enzyme, glucanotransferase domain"]
["A0A0L8G6V0_OCTBM","A0A0L8G6V0",1407,"PF14702",572,845,717,"PF14702.5 Central domain of human glycogen debranching enzyme"]
["A0A0L9T245_9HYPO","A0A0L9T245",1568,"PF06202",1081,1553,1981,"PF06202.13 Amylo-alpha-1,6-glucosidase"]
["A0A0L9T245_9HYPO","A0A0L9T245",1568,"PF14701",144,596,800,"PF14701.5 Glycogen debranching enzyme, glucanotransferase domain"]
["A0A0L9T245_9HYPO","A0A0L9T245",1568,"PF14699",41,142,587,"PF14699.5 N-terminal domain from the human glycogen debranching enzyme"]
["A0A0L9T245_9HYPO","A0A0L9T245",1568,"PF14702",764,1008,717,"PF14702.5 Central domain of human glycogen debranching enzyme"]
["A0A0M8N0M3_9HYPO","A0A0M8N0M3",1557,"PF06202",1072,1544,1981,"PF06202.13 Amylo-alpha-1,6-glucosidase"]
["A0A0M8N0M3_9HYPO","A0A0M8N0M3",1557,"PF14701",139,583,800,"PF14701.5 Glycogen debranching enzyme, glucanotransferase domain"]
["A0A0M8N0M3_9HYPO","A0A0M8N0M3",1557,"PF14699",36,137,587,"PF14699.5 N-terminal domain from the human glycogen debranching enzyme"]
["A0A0M8N0M3_9HYPO","A0A0M8N0M3",1557,"PF14702",755,999,717,"PF14702.5 Central domain of human glycogen debranching enzyme"]
["A0A0M9A074_9HYME","A0A0M9A074",1877,"PF06202",1014,1470,1981,"PF06202.13 Amylo-alpha-1,6-glucosidase"]
["A0A0M9A074_9HYME","A0A0M9A074",1877,"PF14701",125,193,800,"PF14701.5 Glycogen debranching enzyme, glucanotransferase domain"]
["A0A0M9A074_9HYME","A0A0M9A074",1877,"PF14701",191,514,800,"PF14701.5 Glycogen debranching enzyme, glucanotransferase domain"]
["A0A0M9A074_9HYME","A0A0M9A074",1877,"PF14699",40,121,587,"PF14699.5 N-terminal domain from the human glycogen debranching enzyme"]
["A0A0M9A074_9HYME","A0A0M9A074",1877,"PF14702",661,935,717,"PF14702.5 Central domain of human glycogen debranching enzyme"]
["A0A0M9EXZ4_9HYPO","A0A0M9EXZ4",1553,"PF06202",1069,1541,1981,"PF06202.13 Amylo-alpha-1,6-glucosidase"]
["A0A0M9EXZ4_9HYPO","A0A0M9EXZ4",1553,"PF14701",144,577,800,"PF14701.5 Glycogen debranching enzyme, glucanotransferase domain"]
["A0A0M9EXZ4_9HYPO","A0A0M9EXZ4",1553,"PF14699",42,142,587,"PF14699.5 N-terminal domain from the human glycogen debranching enzyme"]
["A0A0M9EXZ4_9HYPO","A0A0M9EXZ4",1553,"PF14702",752,996,717,"PF14702.5 Central domain of human glycogen debranching enzyme"]
["A0A0M9WGZ0_9EURO","A0A0M9WGZ0",1535,"PF06202",1054,1526,1981,"PF06202.13 Amylo-alpha-1,6-glucosidase"]
["A0A0M9WGZ0_9EURO","A0A0M9WGZ0",1535,"PF14701",136,574,800,"PF14701.5 Glycogen debranching enzyme, glucanotransferase domain"]
["A0A0M9WGZ0_9EURO","A0A0M9WGZ0",1535,"PF14699",37,134,587,"PF14699.5 N-terminal domain from the human glycogen debranching enzyme"]
["A0A0M9WGZ0_9EURO","A0A0M9WGZ0",1535,"PF14702",738,981,717,"PF14702.5 Central domain of human glycogen debranching enzyme"]
["A0A0N0NS63_9EURO","A0A0N0NS63",1538,"PF06202",1047,1520,1981,"PF06202.13 Amylo-alpha-1,6-glucosidase"]
["A0A0N0NS63_9EURO","A0A0N0NS63",1538,"PF14701",140,572,800,"PF14701.5 Glycogen debranching enzyme, glucanotransferase domain"]
["A0A0N0NS63_9EURO","A0A0N0NS63",1538,"PF14699",42,138,587,"PF14699.5 N-terminal domain from the human glycogen debranching enzyme"]
["A0A0N0NS63_9EURO","A0A0N0NS63",1538,"PF14702",731,974,717,"PF14702.5 Central domain of human glycogen debranching enzyme"]
["A0A0N4T439_BRUPA","A0A0N4T439",827,"PF06202",348,816,1981,"PF06202.13 Amylo-alpha-1,6-glucosidase"]
["A0A0N4T439_BRUPA","A0A0N4T439",827,"PF14702",23,280,717,"PF14702.5 Central domain of human glycogen debranching enzyme"]
["A0A0N4UM20_DRAME","A0A0N4UM20",1467,"PF06202",993,1459,1981,"PF06202.13 Amylo-alpha-1,6-glucosidase"]
["A0A0N4UM20_DRAME","A0A0N4UM20",1467,"PF14701",101,534,800,"PF14701.5 Glycogen debranching enzyme, glucanotransferase domain"]
["A0A0N4UM20_DRAME","A0A0N4UM20",1467,"PF14702",672,926,717,"PF14702.5 Central domain of human glycogen debranching enzyme"]
["A0A0N4VFZ0_ENTVE","A0A0N4VFZ0",1464,"PF06202",985,1449,1981,"PF06202.13 Amylo-alpha-1,6-glucosidase"]
["A0A0N4VFZ0_ENTVE","A0A0N4VFZ0",1464,"PF14701",112,524,800,"PF14701.5 Glycogen debranching enzyme, glucanotransferase domain"]
["A0A0N4VFZ0_ENTVE","A0A0N4VFZ0",1464,"PF14702",661,918,717,"PF14702.5 Central domain of human glycogen debranching enzyme"]
["A0A0N4VVA2_HAEPC","A0A0N4VVA2",194,"PF06202",103,194,1981,"PF06202.13 Amylo-alpha-1,6-glucosidase"]
["A0A0N4VVA2_HAEPC","A0A0N4VVA2",194,"PF14702",1,36,717,"PF14702.5 Central domain of human glycogen debranching enzyme"]
["A0A0N4VY25_HAEPC","A0A0N4VY25",210,"PF14702",26,100,717,"PF14702.5 Central domain of human glycogen debranching enzyme"]
["A0A0N4ZYY6_PARTI","A0A0N4ZYY6",1476,"PF06202",991,1459,1981,"PF06202.13 Amylo-alpha-1,6-glucosidase"]
["A0A0N4ZYY6_PARTI","A0A0N4ZYY6",1476,"PF14701",113,533,800,"PF14701.5 Glycogen debranching enzyme, glucanotransferase domain"]
["A0A0N4ZYY6_PARTI","A0A0N4ZYY6",1476,"PF14699",35,110,587,"PF14699.5 N-terminal domain from the human glycogen debranching enzyme"]
["A0A0N4ZYY6_PARTI","A0A0N4ZYY6",1476,"PF14702",670,923,717,"PF14702.5 Central domain of human glycogen debranching enzyme"]
["A0A0N5AQW6_9BILA","A0A0N5AQW6",1457,"PF06202",984,1448,1981,"PF06202.13 Amylo-alpha-1,6-glucosidase"]
["A0A0N5AQW6_9BILA","A0A0N5AQW6",1457,"PF14701",109,543,800,"PF14701.5 Glycogen debranching enzyme, glucanotransferase domain"]
["A0A0N5AQW6_9BILA","A0A0N5AQW6",1457,"PF14702",680,917,717,"PF14702.5 Central domain of human glycogen debranching enzyme"]
["A0A0N5CB21_STREA","A0A0N5CB21",1476,"PF06202",991,1459,1981,"PF06202.13 Amylo-alpha-1,6-glucosidase"]
["A0A0N5CB21_STREA","A0A0N5CB21",1476,"PF14701",113,533,800,"PF14701.5 Glycogen debranching enzyme, glucanotransferase domain"]
["A0A0N5CB21_STREA","A0A0N5CB21",1476,"PF14702",670,923,717,"PF14702.5 Central domain of human glycogen debranching enzyme"]
["A0A0N5CNJ6_THECL","A0A0N5CNJ6",1448,"PF06202",958,1440,1981,"PF06202.13 Amylo-alpha-1,6-glucosidase"]
["A0A0N5CNJ6_THECL","A0A0N5CNJ6",1448,"PF14701",108,319,800,"PF14701.5 Glycogen debranching enzyme, glucanotransferase domain"]
["A0A0N5CNJ6_THECL","A0A0N5CNJ6",1448,"PF14701",300,496,800,"PF14701.5 Glycogen debranching enzyme, glucanotransferase domain"]
["A0A0N5CNJ6_THECL","A0A0N5CNJ6",1448,"PF14699",33,106,587,"PF14699.5 N-terminal domain from the human glycogen debranching enzyme"]
["A0A0N5CNJ6_THECL","A0A0N5CNJ6",1448,"PF14702",633,890,717,"PF14702.5 Central domain of human glycogen debranching enzyme"]
["A0A0N5DQX3_TRIMR","A0A0N5DQX3",1777,"PF06202",1062,1538,1981,"PF06202.13 Amylo-alpha-1,6-glucosidase"]
["A0A0N5DQX3_TRIMR","A0A0N5DQX3",1777,"PF14701",164,593,800,"PF14701.5 Glycogen debranching enzyme, glucanotransferase domain"]
["A0A0N5DQX3_TRIMR","A0A0N5DQX3",1777,"PF14702",703,994,717,"PF14702.5 Central domain of human glycogen debranching enzyme"]
["A0A0N5E2Y0_TRIMR","A0A0N5E2Y0",1663,"PF06202",1186,1651,1981,"PF06202.13 Amylo-alpha-1,6-glucosidase"]
["A0A0N5E2Y0_TRIMR","A0A0N5E2Y0",1663,"PF14701",272,686,800,"PF14701.5 Glycogen debranching enzyme, glucanotransferase domain"]
["A0A0N5E2Y0_TRIMR","A0A0N5E2Y0",1663,"PF14702",831,1119,717,"PF14702.5 Central domain of human glycogen debranching enzyme"]
["A0A0P1BQ20_9BASI","A0A0P1BQ20",1601,"PF06202",1115,1591,1981,"PF06202.13 Amylo-alpha-1,6-glucosidase"]
["A0A0P1BQ20_9BASI","A0A0P1BQ20",1601,"PF14701",195,643,800,"PF14701.5 Glycogen debranching enzyme, glucanotransferase domain"]
["A0A0P1BQ20_9BASI","A0A0P1BQ20",1601,"PF14699",64,170,587,"PF14699.5 N-terminal domain from the human glycogen debranching enzyme"]
["A0A0P1BQ20_9BASI","A0A0P1BQ20",1601,"PF14702",801,1043,717,"PF14702.5 Central domain of human glycogen debranching enzyme"]
["A0A0P7BVC3_9HYPO","A0A0P7BVC3",1553,"PF06202",1068,1540,1981,"PF06202.13 Amylo-alpha-1,6-glucosidase"]
["A0A0P7BVC3_9HYPO","A0A0P7BVC3",1553,"PF14701",138,576,800,"PF14701.5 Glycogen debranching enzyme, glucanotransferase domain"]
["A0A0P7BVC3_9HYPO","A0A0P7BVC3",1553,"PF14699",36,136,587,"PF14699.5 N-terminal domain from the human glycogen debranching enzyme"]
["A0A0P7BVC3_9HYPO","A0A0P7BVC3",1553,"PF14702",751,995,717,"PF14702.5 Central domain of human glycogen debranching enzyme"]
["A0A0P7USB6_9TELE","A0A0P7USB6",1158,"PF06202",1081,1158,1981,"PF06202.13 Amylo-alpha-1,6-glucosidase"]
["A0A0P7USB6_9TELE","A0A0P7USB6",1158,"PF14701",128,559,800,"PF14701.5 Glycogen debranching enzyme, glucanotransferase domain"]
["A0A0P7USB6_9TELE","A0A0P7USB6",1158,"PF14699",38,124,587,"PF14699.5 N-terminal domain from the human glycogen debranching enzyme"]
["A0A0P7USB6_9TELE","A0A0P7USB6",1158,"PF14702",735,1012,717,"PF14702.5 Central domain of human glycogen debranching enzyme"]
["A0A0P8XMZ1_DROAN","A0A0P8XMZ1",1546,"PF06202",1064,1533,1981,"PF06202.13 Amylo-alpha-1,6-glucosidase"]
["A0A0P8XMZ1_DROAN","A0A0P8XMZ1",1546,"PF14701",147,589,800,"PF14701.5 Glycogen debranching enzyme, glucanotransferase domain"]
["A0A0P8XMZ1_DROAN","A0A0P8XMZ1",1546,"PF14699",38,141,587,"PF14699.5 N-terminal domain from the human glycogen debranching enzyme"]
["A0A0P8XMZ1_DROAN","A0A0P8XMZ1",1546,"PF14702",727,997,717,"PF14702.5 Central domain of human glycogen debranching enzyme"]
["A0A0P9AD98_DROAN","A0A0P9AD98",1539,"PF06202",1057,1526,1981,"PF06202.13 Amylo-alpha-1,6-glucosidase"]
["A0A0P9AD98_DROAN","A0A0P9AD98",1539,"PF14701",140,582,800,"PF14701.5 Glycogen debranching enzyme, glucanotransferase domain"]
["A0A0P9AD98_DROAN","A0A0P9AD98",1539,"PF14699",31,134,587,"PF14699.5 N-terminal domain from the human glycogen debranching enzyme"]
["A0A0P9AD98_DROAN","A0A0P9AD98",1539,"PF14702",720,990,717,"PF14702.5 Central domain of human glycogen debranching enzyme"]
["A0A0Q3LTJ5_AMAAE","A0A0Q3LTJ5",1530,"PF06202",1057,1525,1981,"PF06202.13 Amylo-alpha-1,6-glucosidase"]
["A0A0Q3LTJ5_AMAAE","A0A0Q3LTJ5",1530,"PF14701",120,550,800,"PF14701.5 Glycogen debranching enzyme, glucanotransferase domain"]
["A0A0Q3LTJ5_AMAAE","A0A0Q3LTJ5",1530,"PF14699",31,116,587,"PF14699.5 N-terminal domain from the human glycogen debranching enzyme"]
["A0A0Q3LTJ5_AMAAE","A0A0Q3LTJ5",1530,"PF14702",695,972,717,"PF14702.5 Central domain of human glycogen debranching enzyme"]
["A0A0Q9W6A7_DROVI","A0A0Q9W6A7",1572,"PF06202",1091,1560,1981,"PF06202.13 Amylo-alpha-1,6-glucosidase"]
["A0A0Q9W6A7_DROVI","A0A0Q9W6A7",1572,"PF14701",174,616,800,"PF14701.5 Glycogen debranching enzyme, glucanotransferase domain"]
["A0A0Q9W6A7_DROVI","A0A0Q9W6A7",1572,"PF14699",65,168,587,"PF14699.5 N-terminal domain from the human glycogen debranching enzyme"]
["A0A0Q9W6A7_DROVI","A0A0Q9W6A7",1572,"PF14702",754,1024,717,"PF14702.5 Central domain of human glycogen debranching enzyme"]
["A0A0Q9WH87_DROVI","A0A0Q9WH87",1538,"PF06202",1057,1526,1981,"PF06202.13 Amylo-alpha-1,6-glucosidase"]
["A0A0Q9WH87_DROVI","A0A0Q9WH87",1538,"PF14701",140,582,800,"PF14701.5 Glycogen debranching enzyme, glucanotransferase domain"]
["A0A0Q9WH87_DROVI","A0A0Q9WH87",1538,"PF14699",31,134,587,"PF14699.5 N-terminal domain from the human glycogen debranching enzyme"]
["A0A0Q9WH87_DROVI","A0A0Q9WH87",1538,"PF14702",720,990,717,"PF14702.5 Central domain of human glycogen debranching enzyme"]
["A0A0Q9X8G5_DROMO","A0A0Q9X8G5",1601,"PF06202",1120,1589,1981,"PF06202.13 Amylo-alpha-1,6-glucosidase"]
["A0A0Q9X8G5_DROMO","A0A0Q9X8G5",1601,"PF14701",203,645,800,"PF14701.5 Glycogen debranching enzyme, glucanotransferase domain"]
["A0A0Q9X8G5_DROMO","A0A0Q9X8G5",1601,"PF14699",94,197,587,"PF14699.5 N-terminal domain from the human glycogen debranching enzyme"]
["A0A0Q9X8G5_DROMO","A0A0Q9X8G5",1601,"PF14702",783,1053,717,"PF14702.5 Central domain of human glycogen debranching enzyme"]
["A0A0Q9X9A0_DROMO","A0A0Q9X9A0",1538,"PF06202",1057,1526,1981,"PF06202.13 Amylo-alpha-1,6-glucosidase"]
["A0A0Q9X9A0_DROMO","A0A0Q9X9A0",1538,"PF14701",140,582,800,"PF14701.5 Glycogen debranching enzyme, glucanotransferase domain"]
["A0A0Q9X9A0_DROMO","A0A0Q9X9A0",1538,"PF14699",31,134,587,"PF14699.5 N-terminal domain from the human glycogen debranching enzyme"]
["A0A0Q9X9A0_DROMO","A0A0Q9X9A0",1538,"PF14702",720,990,717,"PF14702.5 Central domain of human glycogen debranching enzyme"]
["A0A0Q9XL69_DROMO","A0A0Q9XL69",1580,"PF06202",1099,1568,1981,"PF06202.13 Amylo-alpha-1,6-glucosidase"]
["A0A0Q9XL69_DROMO","A0A0Q9XL69",1580,"PF14701",182,624,800,"PF14701.5 Glycogen debranching enzyme, glucanotransferase domain"]
["A0A0Q9XL69_DROMO","A0A0Q9XL69",1580,"PF14699",73,176,587,"PF14699.5 N-terminal domain from the human glycogen debranching enzyme"]
["A0A0Q9XL69_DROMO","A0A0Q9XL69",1580,"PF14702",762,1032,717,"PF14702.5 Central domain of human glycogen debranching enzyme"]
["A0A0R3NSL8_DROPS","A0A0R3NSL8",1583,"PF06202",1101,1570,1981,"PF06202.13 Amylo-alpha-1,6-glucosidase"]
["A0A0R3NSL8_DROPS","A0A0R3NSL8",1583,"PF14701",184,626,800,"PF14701.5 Glycogen debranching enzyme, glucanotransferase domain"]
["A0A0R3NSL8_DROPS","A0A0R3NSL8",1583,"PF14699",75,178,587,"PF14699.5 N-terminal domain from the human glycogen debranching enzyme"]
["A0A0R3NSL8_DROPS","A0A0R3NSL8",1583,"PF14702",764,1034,717,"PF14702.5 Central domain of human glycogen debranching enzyme"]
["A0A0R3PR76_ANGCS","A0A0R3PR76",1448,"PF06202",967,1430,1981,"PF06202.13 Amylo-alpha-1,6-glucosidase"]
["A0A0R3PR76_ANGCS","A0A0R3PR76",1448,"PF14701",109,539,800,"PF14701.5 Glycogen debranching enzyme, glucanotransferase domain"]
["A0A0R3PR76_ANGCS","A0A0R3PR76",1448,"PF14699",33,107,587,"PF14699.5 N-terminal domain from the human glycogen debranching enzyme"]
["A0A0R3PR76_ANGCS","A0A0R3PR76",1448,"PF14702",676,902,717,"PF14702.5 Central domain of human glycogen debranching enzyme"]
["A0A0R3QD39_9BILA","A0A0R3QD39",198,"PF14702",43,197,717,"PF14702.5 Central domain of human glycogen debranching enzyme"]
["A0A0R3RCE9_9BILA","A0A0R3RCE9",257,"PF06202",109,250,1981,"PF06202.13 Amylo-alpha-1,6-glucosidase"]
["A0A0R3RCE9_9BILA","A0A0R3RCE9",257,"PF14702",3,41,717,"PF14702.5 Central domain of human glycogen debranching enzyme"]
["A0A0R3RER8_BRUMA","A0A0R3RER8",1495,"PF06202",1016,1484,1981,"PF06202.13 Amylo-alpha-1,6-glucosidase"]
["A0A0R3RER8_BRUMA","A0A0R3RER8",1495,"PF14701",121,554,800,"PF14701.5 Glycogen debranching enzyme, glucanotransferase domain"]
["A0A0R3RER8_BRUMA","A0A0R3RER8",1495,"PF14702",691,948,717,"PF14702.5 Central domain of human glycogen debranching enzyme"]
["A0A0R3S651_9BILA","A0A0R3S651",844,"PF06202",392,829,1981,"PF06202.13 Amylo-alpha-1,6-glucosidase"]
["A0A0R3S651_9BILA","A0A0R3S651",844,"PF14702",125,349,717,"PF14702.5 Central domain of human glycogen debranching enzyme"]
["A0A0R3SBE9_HYMDI","A0A0R3SBE9",144,"PF14702",2,130,717,"PF14702.5 Central domain of human glycogen debranching enzyme"]
["A0A0R3TSV0_HYMNN","A0A0R3TSV0",1524,"PF06202",1102,1523,1981,"PF06202.13 Amylo-alpha-1,6-glucosidase"]
["A0A0R3TSV0_HYMNN","A0A0R3TSV0",1524,"PF14701",141,571,800,"PF14701.5 Glycogen debranching enzyme, glucanotransferase domain"]
["A0A0R3TSV0_HYMNN","A0A0R3TSV0",1524,"PF14699",29,132,587,"PF14699.5 N-terminal domain from the human glycogen debranching enzyme"]
["A0A0R3TSV0_HYMNN","A0A0R3TSV0",1524,"PF14702",711,1027,717,"PF14702.5 Central domain of human glycogen debranching enzyme"]
["A0A0R3U9I3_9CEST","A0A0R3U9I3",942,"PF14701",141,571,800,"PF14701.5 Glycogen debranching enzyme, glucanotransferase domain"]
["A0A0R3U9I3_9CEST","A0A0R3U9I3",942,"PF14699",29,132,587,"PF14699.5 N-terminal domain from the human glycogen debranching enzyme"]
["A0A0R3U9I3_9CEST","A0A0R3U9I3",942,"PF14702",767,903,717,"PF14702.5 Central domain of human glycogen debranching enzyme"]
["A0A0R3UQS6_9CEST","A0A0R3UQS6",856,"PF06202",266,776,1981,"PF06202.13 Amylo-alpha-1,6-glucosidase"]
["A0A0R3UQS6_9CEST","A0A0R3UQS6",856,"PF14702",1,192,717,"PF14702.5 Central domain of human glycogen debranching enzyme"]
["A0A0R3XAA9_HYDTA","A0A0R3XAA9",493,"PF14701",26,245,800,"PF14701.5 Glycogen debranching enzyme, glucanotransferase domain"]
["A0A0R3XAA9_HYDTA","A0A0R3XAA9",493,"PF14702",385,488,717,"PF14702.5 Central domain of human glycogen debranching enzyme"]
["A0A0R3XCR1_HYDTA","A0A0R3XCR1",189,"PF14702",6,130,717,"PF14702.5 Central domain of human glycogen debranching enzyme"]
["A0A0R4IA63_DANRE","A0A0R4IA63",181,"PF14702",142,181,717,"PF14702.5 Central domain of human glycogen debranching enzyme"]
["A0A0R4IF54_DANRE","A0A0R4IF54",1533,"PF06202",1044,1528,1981,"PF06202.13 Amylo-alpha-1,6-glucosidase"]
["A0A0R4IF54_DANRE","A0A0R4IF54",1533,"PF14701",120,552,800,"PF14701.5 Glycogen debranching enzyme, glucanotransferase domain"]
["A0A0R4IF54_DANRE","A0A0R4IF54",1533,"PF14699",30,116,587,"PF14699.5 N-terminal domain from the human glycogen debranching enzyme"]
["A0A0R4IF54_DANRE","A0A0R4IF54",1533,"PF14702",698,975,717,"PF14702.5 Central domain of human glycogen debranching enzyme"]
["A0A0R4IH04_DANRE","A0A0R4IH04",996,"PF06202",525,991,1981,"PF06202.13 Amylo-alpha-1,6-glucosidase"]
["A0A0R4IH04_DANRE","A0A0R4IH04",996,"PF14702",159,436,717,"PF14702.5 Central domain of human glycogen debranching enzyme"]
["A0A0R4IU33_DANRE","A0A0R4IU33",1533,"PF06202",1044,1528,1981,"PF06202.13 Amylo-alpha-1,6-glucosidase"]
["A0A0R4IU33_DANRE","A0A0R4IU33",1533,"PF14701",120,552,800,"PF14701.5 Glycogen debranching enzyme, glucanotransferase domain"]
["A0A0R4IU33_DANRE","A0A0R4IU33",1533,"PF14699",30,116,587,"PF14699.5 N-terminal domain from the human glycogen debranching enzyme"]
["A0A0R4IU33_DANRE","A0A0R4IU33",1533,"PF14702",698,975,717,"PF14702.5 Central domain of human glycogen debranching enzyme"]
["A0A0R4IV67_DANRE","A0A0R4IV67",1532,"PF06202",1043,1527,1981,"PF06202.13 Amylo-alpha-1,6-glucosidase"]
["A0A0R4IV67_DANRE","A0A0R4IV67",1532,"PF14701",120,551,800,"PF14701.5 Glycogen debranching enzyme, glucanotransferase domain"]
["A0A0R4IV67_DANRE","A0A0R4IV67",1532,"PF14699",30,116,587,"PF14699.5 N-terminal domain from the human glycogen debranching enzyme"]
["A0A0R4IV67_DANRE","A0A0R4IV67",1532,"PF14702",697,974,717,"PF14702.5 Central domain of human glycogen debranching enzyme"]
["A0A0R4IZH8_DANRE","A0A0R4IZH8",1532,"PF06202",1045,1527,1981,"PF06202.13 Amylo-alpha-1,6-glucosidase"]
["A0A0R4IZH8_DANRE","A0A0R4IZH8",1532,"PF14701",122,553,800,"PF14701.5 Glycogen debranching enzyme, glucanotransferase domain"]
["A0A0R4IZH8_DANRE","A0A0R4IZH8",1532,"PF14699",32,118,587,"PF14699.5 N-terminal domain from the human glycogen debranching enzyme"]
["A0A0R4IZH8_DANRE","A0A0R4IZH8",1532,"PF14702",699,976,717,"PF14702.5 Central domain of human glycogen debranching enzyme"]
["A0A0S7E419_9EURO","A0A0S7E419",1527,"PF06202",1056,1518,1981,"PF06202.13 Amylo-alpha-1,6-glucosidase"]
["A0A0S7E419_9EURO","A0A0S7E419",1527,"PF14701",135,576,800,"PF14701.5 Glycogen debranching enzyme, glucanotransferase domain"]
["A0A0S7E419_9EURO","A0A0S7E419",1527,"PF14699",37,133,587,"PF14699.5 N-terminal domain from the human glycogen debranching enzyme"]
["A0A0S7E419_9EURO","A0A0S7E419",1527,"PF14702",740,983,717,"PF14702.5 Central domain of human glycogen debranching enzyme"]
["A0A0T6B546_9SCAR","A0A0T6B546",950,"PF14701",126,563,800,"PF14701.5 Glycogen debranching enzyme, glucanotransferase domain"]
["A0A0T6B546_9SCAR","A0A0T6B546",950,"PF14699",31,123,587,"PF14699.5 N-terminal domain from the human glycogen debranching enzyme"]
["A0A0T6B546_9SCAR","A0A0T6B546",950,"PF14702",812,944,717,"PF14702.5 Central domain of human glycogen debranching enzyme"]
["A0A0U1M6K4_9EURO","A0A0U1M6K4",1524,"PF06202",1041,1513,1981,"PF06202.13 Amylo-alpha-1,6-glucosidase"]
["A0A0U1M6K4_9EURO","A0A0U1M6K4",1524,"PF14701",136,567,800,"PF14701.5 Glycogen debranching enzyme, glucanotransferase domain"]
["A0A0U1M6K4_9EURO","A0A0U1M6K4",1524,"PF14699",38,134,587,"PF14699.5 N-terminal domain from the human glycogen debranching enzyme"]
["A0A0U1M6K4_9EURO","A0A0U1M6K4",1524,"PF14702",724,968,717,"PF14702.5 Central domain of human glycogen debranching enzyme"]
["A0A0U5G358_9EURO","A0A0U5G358",1537,"PF06202",1054,1528,1981,"PF06202.13 Amylo-alpha-1,6-glucosidase"]
["A0A0U5G358_9EURO","A0A0U5G358",1537,"PF14701",134,575,800,"PF14701.5 Glycogen debranching enzyme, glucanotransferase domain"]
["A0A0U5G358_9EURO","A0A0U5G358",1537,"PF14699",36,132,587,"PF14699.5 N-terminal domain from the human glycogen debranching enzyme"]
["A0A0U5G358_9EURO","A0A0U5G358",1537,"PF14702",739,983,717,"PF14702.5 Central domain of human glycogen debranching enzyme"]
["A0A0V0QAH6_PSEPJ","A0A0V0QAH6",2516,"PF16561",1652,1727,2886,"PF16561.4 Glycogen recognition site of AMP-activated protein kinase"]
["A0A0V0QAH6_PSEPJ","A0A0V0QAH6",2516,"PF06202",2050,2510,1981,"PF06202.13 Amylo-alpha-1,6-glucosidase"]
["A0A0V0QAH6_PSEPJ","A0A0V0QAH6",2516,"PF14701",1063,1485,800,"PF14701.5 Glycogen debranching enzyme, glucanotransferase domain"]
["A0A0V0QAH6_PSEPJ","A0A0V0QAH6",2516,"PF14702",1731,1981,717,"PF14702.5 Central domain of human glycogen debranching enzyme"]
["A0A0V0R3M8_PSEPJ","A0A0V0R3M8",1959,"PF16561",730,811,2886,"PF16561.4 Glycogen recognition site of AMP-activated protein kinase"]
["A0A0V0R3M8_PSEPJ","A0A0V0R3M8",1959,"PF06202",1125,1604,1981,"PF06202.13 Amylo-alpha-1,6-glucosidase"]
["A0A0V0R3M8_PSEPJ","A0A0V0R3M8",1959,"PF00071",1756,1914,44451,"PF00071.21 Ras family"]
["A0A0V0R3M8_PSEPJ","A0A0V0R3M8",1959,"PF14701",148,573,800,"PF14701.5 Glycogen debranching enzyme, glucanotransferase domain"]
["A0A0V0R3M8_PSEPJ","A0A0V0R3M8",1959,"PF14702",819,1054,717,"PF14702.5 Central domain of human glycogen debranching enzyme"]
["A0A0V0SG53_9BILA","A0A0V0SG53",1713,"PF06202",1083,1566,1981,"PF06202.13 Amylo-alpha-1,6-glucosidase"]
["A0A0V0SG53_9BILA","A0A0V0SG53",1713,"PF01060",1604,1680,2082,"PF01060.22 Transthyretin-like family"]
["A0A0V0SG53_9BILA","A0A0V0SG53",1713,"PF14701",127,552,800,"PF14701.5 Glycogen debranching enzyme, glucanotransferase domain"]
["A0A0V0SG53_9BILA","A0A0V0SG53",1713,"PF14699",31,123,587,"PF14699.5 N-terminal domain from the human glycogen debranching enzyme"]
["A0A0V0SG53_9BILA","A0A0V0SG53",1713,"PF14702",703,1012,717,"PF14702.5 Central domain of human glycogen debranching enzyme"]
["A0A0V0TWA6_9BILA","A0A0V0TWA6",1601,"PF06202",1119,1588,1981,"PF06202.13 Amylo-alpha-1,6-glucosidase"]
["A0A0V0TWA6_9BILA","A0A0V0TWA6",1601,"PF14701",125,563,800,"PF14701.5 Glycogen debranching enzyme, glucanotransferase domain"]
["A0A0V0TWA6_9BILA","A0A0V0TWA6",1601,"PF14699",29,121,587,"PF14699.5 N-terminal domain from the human glycogen debranching enzyme"]
["A0A0V0TWA6_9BILA","A0A0V0TWA6",1601,"PF14702",714,1034,717,"PF14702.5 Central domain of human glycogen debranching enzyme"]
["A0A0V0TWF8_9BILA","A0A0V0TWF8",1625,"PF06202",1119,1588,1981,"PF06202.13 Amylo-alpha-1,6-glucosidase"]
["A0A0V0TWF8_9BILA","A0A0V0TWF8",1625,"PF14701",125,563,800,"PF14701.5 Glycogen debranching enzyme, glucanotransferase domain"]
["A0A0V0TWF8_9BILA","A0A0V0TWF8",1625,"PF14699",29,121,587,"PF14699.5 N-terminal domain from the human glycogen debranching enzyme"]
["A0A0V0TWF8_9BILA","A0A0V0TWF8",1625,"PF14702",714,1034,717,"PF14702.5 Central domain of human glycogen debranching enzyme"]
["A0A0V0TWQ3_9BILA","A0A0V0TWQ3",946,"PF14701",125,550,800,"PF14701.5 Glycogen debranching enzyme, glucanotransferase domain"]
["A0A0V0TWQ3_9BILA","A0A0V0TWQ3",946,"PF14699",29,121,587,"PF14699.5 N-terminal domain from the human glycogen debranching enzyme"]
["A0A0V0TWQ3_9BILA","A0A0V0TWQ3",946,"PF14702",701,920,717,"PF14702.5 Central domain of human glycogen debranching enzyme"]
["A0A0V0VQX3_9BILA","A0A0V0VQX3",966,"PF14701",145,570,800,"PF14701.5 Glycogen debranching enzyme, glucanotransferase domain"]
["A0A0V0VQX3_9BILA","A0A0V0VQX3",966,"PF14699",49,141,587,"PF14699.5 N-terminal domain from the human glycogen debranching enzyme"]
["A0A0V0VQX3_9BILA","A0A0V0VQX3",966,"PF14702",721,939,717,"PF14702.5 Central domain of human glycogen debranching enzyme"]
["A0A0V0VQX8_9BILA","A0A0V0VQX8",1619,"PF06202",1113,1582,1981,"PF06202.13 Amylo-alpha-1,6-glucosidase"]
["A0A0V0VQX8_9BILA","A0A0V0VQX8",1619,"PF14701",145,583,800,"PF14701.5 Glycogen debranching enzyme, glucanotransferase domain"]
["A0A0V0VQX8_9BILA","A0A0V0VQX8",1619,"PF14699",49,141,587,"PF14699.5 N-terminal domain from the human glycogen debranching enzyme"]
["A0A0V0VQX8_9BILA","A0A0V0VQX8",1619,"PF14702",734,1028,717,"PF14702.5 Central domain of human glycogen debranching enzyme"]
["A0A0V0VQY2_9BILA","A0A0V0VQY2",671,"PF14701",3,211,800,"PF14701.5 Glycogen debranching enzyme, glucanotransferase domain"]
["A0A0V0VQY2_9BILA","A0A0V0VQY2",671,"PF14702",362,656,717,"PF14702.5 Central domain of human glycogen debranching enzyme"]
["A0A0V0VQY7_9BILA","A0A0V0VQY7",1595,"PF06202",1113,1582,1981,"PF06202.13 Amylo-alpha-1,6-glucosidase"]
["A0A0V0VQY7_9BILA","A0A0V0VQY7",1595,"PF14701",145,583,800,"PF14701.5 Glycogen debranching enzyme, glucanotransferase domain"]
["A0A0V0VQY7_9BILA","A0A0V0VQY7",1595,"PF14699",49,141,587,"PF14699.5 N-terminal domain from the human glycogen debranching enzyme"]
["A0A0V0VQY7_9BILA","A0A0V0VQY7",1595,"PF14702",734,1028,717,"PF14702.5 Central domain of human glycogen debranching enzyme"]
["A0A0V0X128_9BILA","A0A0V0X128",1729,"PF06202",1112,1582,1981,"PF06202.13 Amylo-alpha-1,6-glucosidase"]
["A0A0V0X128_9BILA","A0A0V0X128",1729,"PF01060",1620,1696,2082,"PF01060.22 Transthyretin-like family"]
["A0A0V0X128_9BILA","A0A0V0X128",1729,"PF14701",145,583,800,"PF14701.5 Glycogen debranching enzyme, glucanotransferase domain"]
["A0A0V0X128_9BILA","A0A0V0X128",1729,"PF14699",49,141,587,"PF14699.5 N-terminal domain from the human glycogen debranching enzyme"]
["A0A0V0X128_9BILA","A0A0V0X128",1729,"PF14702",734,1028,717,"PF14702.5 Central domain of human glycogen debranching enzyme"]
["A0A0V0X1D4_9BILA","A0A0V0X1D4",1759,"PF06202",1142,1612,1981,"PF06202.13 Amylo-alpha-1,6-glucosidase"]
["A0A0V0X1D4_9BILA","A0A0V0X1D4",1759,"PF01060",1650,1726,2082,"PF01060.22 Transthyretin-like family"]
["A0A0V0X1D4_9BILA","A0A0V0X1D4",1759,"PF14701",145,583,800,"PF14701.5 Glycogen debranching enzyme, glucanotransferase domain"]
["A0A0V0X1D4_9BILA","A0A0V0X1D4",1759,"PF14699",49,141,587,"PF14699.5 N-terminal domain from the human glycogen debranching enzyme"]
["A0A0V0X1D4_9BILA","A0A0V0X1D4",1759,"PF14702",734,1058,717,"PF14702.5 Central domain of human glycogen debranching enzyme"]
["A0A0V0X1F2_9BILA","A0A0V0X1F2",1504,"PF06202",1107,1504,1981,"PF06202.13 Amylo-alpha-1,6-glucosidase"]
["A0A0V0X1F2_9BILA","A0A0V0X1F2",1504,"PF14701",140,578,800,"PF14701.5 Glycogen debranching enzyme, glucanotransferase domain"]
["A0A0V0X1F2_9BILA","A0A0V0X1F2",1504,"PF14699",44,136,587,"PF14699.5 N-terminal domain from the human glycogen debranching enzyme"]
["A0A0V0X1F2_9BILA","A0A0V0X1F2",1504,"PF14702",729,1023,717,"PF14702.5 Central domain of human glycogen debranching enzyme"]
["A0A0V0X1G1_9BILA","A0A0V0X1G1",1724,"PF06202",1107,1577,1981,"PF06202.13 Amylo-alpha-1,6-glucosidase"]
["A0A0V0X1G1_9BILA","A0A0V0X1G1",1724,"PF01060",1615,1691,2082,"PF01060.22 Transthyretin-like family"]
["A0A0V0X1G1_9BILA","A0A0V0X1G1",1724,"PF14701",140,578,800,"PF14701.5 Glycogen debranching enzyme, glucanotransferase domain"]
["A0A0V0X1G1_9BILA","A0A0V0X1G1",1724,"PF14699",44,136,587,"PF14699.5 N-terminal domain from the human glycogen debranching enzyme"]
["A0A0V0X1G1_9BILA","A0A0V0X1G1",1724,"PF14702",729,1023,717,"PF14702.5 Central domain of human glycogen debranching enzyme"]
["A0A0V0X1J3_9BILA","A0A0V0X1J3",1595,"PF06202",1112,1582,1981,"PF06202.13 Amylo-alpha-1,6-glucosidase"]
["A0A0V0X1J3_9BILA","A0A0V0X1J3",1595,"PF14701",145,583,800,"PF14701.5 Glycogen debranching enzyme, glucanotransferase domain"]
["A0A0V0X1J3_9BILA","A0A0V0X1J3",1595,"PF14699",49,141,587,"PF14699.5 N-terminal domain from the human glycogen debranching enzyme"]
["A0A0V0X1J3_9BILA","A0A0V0X1J3",1595,"PF14702",734,1028,717,"PF14702.5 Central domain of human glycogen debranching enzyme"]
["A0A0V0Y4S8_TRIPS","A0A0V0Y4S8",1561,"PF06202",1066,1548,1981,"PF06202.13 Amylo-alpha-1,6-glucosidase"]
["A0A0V0Y4S8_TRIPS","A0A0V0Y4S8",1561,"PF14701",127,552,800,"PF14701.5 Glycogen debranching enzyme, glucanotransferase domain"]
["A0A0V0Y4S8_TRIPS","A0A0V0Y4S8",1561,"PF14699",31,123,587,"PF14699.5 N-terminal domain from the human glycogen debranching enzyme"]
["A0A0V0Y4S8_TRIPS","A0A0V0Y4S8",1561,"PF14702",705,998,717,"PF14702.5 Central domain of human glycogen debranching enzyme"]
["A0A0V0Y4W1_TRIPS","A0A0V0Y4W1",1574,"PF06202",1079,1561,1981,"PF06202.13 Amylo-alpha-1,6-glucosidase"]
["A0A0V0Y4W1_TRIPS","A0A0V0Y4W1",1574,"PF14701",127,565,800,"PF14701.5 Glycogen debranching enzyme, glucanotransferase domain"]
["A0A0V0Y4W1_TRIPS","A0A0V0Y4W1",1574,"PF14699",31,123,587,"PF14699.5 N-terminal domain from the human glycogen debranching enzyme"]
["A0A0V0Y4W1_TRIPS","A0A0V0Y4W1",1574,"PF14702",718,1011,717,"PF14702.5 Central domain of human glycogen debranching enzyme"]
["A0A0V1AFM7_9BILA","A0A0V1AFM7",1590,"PF06202",1111,1579,1981,"PF06202.13 Amylo-alpha-1,6-glucosidase"]
["A0A0V1AFM7_9BILA","A0A0V1AFM7",1590,"PF14701",142,567,800,"PF14701.5 Glycogen debranching enzyme, glucanotransferase domain"]
["A0A0V1AFM7_9BILA","A0A0V1AFM7",1590,"PF14699",50,143,587,"PF14699.5 N-terminal domain from the human glycogen debranching enzyme"]
["A0A0V1AFM7_9BILA","A0A0V1AFM7",1590,"PF14702",718,1027,717,"PF14702.5 Central domain of human glycogen debranching enzyme"]
["A0A0V1AG06_9BILA","A0A0V1AG06",1504,"PF06202",1107,1504,1981,"PF06202.13 Amylo-alpha-1,6-glucosidase"]
["A0A0V1AG06_9BILA","A0A0V1AG06",1504,"PF14701",140,578,800,"PF14701.5 Glycogen debranching enzyme, glucanotransferase domain"]
["A0A0V1AG06_9BILA","A0A0V1AG06",1504,"PF14699",44,136,587,"PF14699.5 N-terminal domain from the human glycogen debranching enzyme"]
["A0A0V1AG06_9BILA","A0A0V1AG06",1504,"PF14702",729,1023,717,"PF14702.5 Central domain of human glycogen debranching enzyme"]
["A0A0V1AHE9_9BILA","A0A0V1AHE9",1596,"PF06202",1109,1579,1981,"PF06202.13 Amylo-alpha-1,6-glucosidase"]
["A0A0V1AHE9_9BILA","A0A0V1AHE9",1596,"PF14701",142,580,800,"PF14701.5 Glycogen debranching enzyme, glucanotransferase domain"]
["A0A0V1AHE9_9BILA","A0A0V1AHE9",1596,"PF14699",50,143,587,"PF14699.5 N-terminal domain from the human glycogen debranching enzyme"]
["A0A0V1AHE9_9BILA","A0A0V1AHE9",1596,"PF14702",731,1025,717,"PF14702.5 Central domain of human glycogen debranching enzyme"]
["A0A0V1CSK8_TRIBR","A0A0V1CSK8",1464,"PF06202",1108,1449,1981,"PF06202.13 Amylo-alpha-1,6-glucosidase"]
["A0A0V1CSK8_TRIBR","A0A0V1CSK8",1464,"PF14701",140,578,800,"PF14701.5 Glycogen debranching enzyme, glucanotransferase domain"]
["A0A0V1CSK8_TRIBR","A0A0V1CSK8",1464,"PF14699",44,136,587,"PF14699.5 N-terminal domain from the human glycogen debranching enzyme"]
["A0A0V1CSK8_TRIBR","A0A0V1CSK8",1464,"PF14702",729,1023,717,"PF14702.5 Central domain of human glycogen debranching enzyme"]
["A0A0V1CSQ0_TRIBR","A0A0V1CSQ0",1619,"PF06202",1113,1582,1981,"PF06202.13 Amylo-alpha-1,6-glucosidase"]
["A0A0V1CSQ0_TRIBR","A0A0V1CSQ0",1619,"PF14701",145,583,800,"PF14701.5 Glycogen debranching enzyme, glucanotransferase domain"]
["A0A0V1CSQ0_TRIBR","A0A0V1CSQ0",1619,"PF14699",49,141,587,"PF14699.5 N-terminal domain from the human glycogen debranching enzyme"]
["A0A0V1CSQ0_TRIBR","A0A0V1CSQ0",1619,"PF14702",734,1028,717,"PF14702.5 Central domain of human glycogen debranching enzyme"]
["A0A0V1CT18_TRIBR","A0A0V1CT18",1742,"PF06202",1113,1582,1981,"PF06202.13 Amylo-alpha-1,6-glucosidase"]
["A0A0V1CT18_TRIBR","A0A0V1CT18",1742,"PF01060",1633,1709,2082,"PF01060.22 Transthyretin-like family"]
["A0A0V1CT18_TRIBR","A0A0V1CT18",1742,"PF14701",145,583,800,"PF14701.5 Glycogen debranching enzyme, glucanotransferase domain"]
["A0A0V1CT18_TRIBR","A0A0V1CT18",1742,"PF14699",49,141,587,"PF14699.5 N-terminal domain from the human glycogen debranching enzyme"]
["A0A0V1CT18_TRIBR","A0A0V1CT18",1742,"PF14702",734,1028,717,"PF14702.5 Central domain of human glycogen debranching enzyme"]
["A0A0V1CUE4_TRIBR","A0A0V1CUE4",1737,"PF06202",1108,1577,1981,"PF06202.13 Amylo-alpha-1,6-glucosidase"]
["A0A0V1CUE4_TRIBR","A0A0V1CUE4",1737,"PF01060",1628,1704,2082,"PF01060.22 Transthyretin-like family"]
["A0A0V1CUE4_TRIBR","A0A0V1CUE4",1737,"PF14701",140,578,800,"PF14701.5 Glycogen debranching enzyme, glucanotransferase domain"]
["A0A0V1CUE4_TRIBR","A0A0V1CUE4",1737,"PF14699",44,136,587,"PF14699.5 N-terminal domain from the human glycogen debranching enzyme"]
["A0A0V1CUE4_TRIBR","A0A0V1CUE4",1737,"PF14702",729,1023,717,"PF14702.5 Central domain of human glycogen debranching enzyme"]
["A0A0V1HRF5_9BILA","A0A0V1HRF5",1067,"PF14701",161,600,800,"PF14701.5 Glycogen debranching enzyme, glucanotransferase domain"]
["A0A0V1HRF5_9BILA","A0A0V1HRF5",1067,"PF14699",65,157,587,"PF14699.5 N-terminal domain from the human glycogen debranching enzyme"]
["A0A0V1HRF5_9BILA","A0A0V1HRF5",1067,"PF14702",753,1047,717,"PF14702.5 Central domain of human glycogen debranching enzyme"]
["A0A0V1L3P3_9BILA","A0A0V1L3P3",1715,"PF06202",1098,1568,1981,"PF06202.13 Amylo-alpha-1,6-glucosidase"]
["A0A0V1L3P3_9BILA","A0A0V1L3P3",1715,"PF01060",1606,1682,2082,"PF01060.22 Transthyretin-like family"]
["A0A0V1L3P3_9BILA","A0A0V1L3P3",1715,"PF14701",131,569,800,"PF14701.5 Glycogen debranching enzyme, glucanotransferase domain"]
["A0A0V1L3P3_9BILA","A0A0V1L3P3",1715,"PF14699",35,127,587,"PF14699.5 N-terminal domain from the human glycogen debranching enzyme"]
["A0A0V1L3P3_9BILA","A0A0V1L3P3",1715,"PF14702",720,1014,717,"PF14702.5 Central domain of human glycogen debranching enzyme"]
["A0A0V1L3R1_9BILA","A0A0V1L3R1",1702,"PF06202",1085,1555,1981,"PF06202.13 Amylo-alpha-1,6-glucosidase"]
["A0A0V1L3R1_9BILA","A0A0V1L3R1",1702,"PF01060",1593,1669,2082,"PF01060.22 Transthyretin-like family"]
["A0A0V1L3R1_9BILA","A0A0V1L3R1",1702,"PF14701",131,556,800,"PF14701.5 Glycogen debranching enzyme, glucanotransferase domain"]
["A0A0V1L3R1_9BILA","A0A0V1L3R1",1702,"PF14699",35,127,587,"PF14699.5 N-terminal domain from the human glycogen debranching enzyme"]
["A0A0V1L3R1_9BILA","A0A0V1L3R1",1702,"PF14702",707,1001,717,"PF14702.5 Central domain of human glycogen debranching enzyme"]
["A0A0V1L4L3_9BILA","A0A0V1L4L3",1586,"PF06202",1098,1568,1981,"PF06202.13 Amylo-alpha-1,6-glucosidase"]
["A0A0V1L4L3_9BILA","A0A0V1L4L3",1586,"PF14701",131,569,800,"PF14701.5 Glycogen debranching enzyme, glucanotransferase domain"]
["A0A0V1L4L3_9BILA","A0A0V1L4L3",1586,"PF14699",35,127,587,"PF14699.5 N-terminal domain from the human glycogen debranching enzyme"]
["A0A0V1L4L3_9BILA","A0A0V1L4L3",1586,"PF14702",720,1014,717,"PF14702.5 Central domain of human glycogen debranching enzyme"]
["A0A0V1PH35_9BILA","A0A0V1PH35",1759,"PF06202",1137,1606,1981,"PF06202.13 Amylo-alpha-1,6-glucosidase"]
["A0A0V1PH35_9BILA","A0A0V1PH35",1759,"PF01060",1650,1726,2082,"PF01060.22 Transthyretin-like family"]
["A0A0V1PH35_9BILA","A0A0V1PH35",1759,"PF14701",169,607,800,"PF14701.5 Glycogen debranching enzyme, glucanotransferase domain"]
["A0A0V1PH35_9BILA","A0A0V1PH35",1759,"PF14699",73,165,587,"PF14699.5 N-terminal domain from the human glycogen debranching enzyme"]
["A0A0V1PH35_9BILA","A0A0V1PH35",1759,"PF14702",758,1052,717,"PF14702.5 Central domain of human glycogen debranching enzyme"]
["A0A0V1PHD2_9BILA","A0A0V1PHD2",1738,"PF06202",1124,1591,1981,"PF06202.13 Amylo-alpha-1,6-glucosidase"]
["A0A0V1PHD2_9BILA","A0A0V1PHD2",1738,"PF01060",1629,1705,2082,"PF01060.22 Transthyretin-like family"]
["A0A0V1PHD2_9BILA","A0A0V1PHD2",1738,"PF14701",169,594,800,"PF14701.5 Glycogen debranching enzyme, glucanotransferase domain"]
["A0A0V1PHD2_9BILA","A0A0V1PHD2",1738,"PF14699",73,165,587,"PF14699.5 N-terminal domain from the human glycogen debranching enzyme"]
["A0A0V1PHD2_9BILA","A0A0V1PHD2",1738,"PF14702",745,1039,717,"PF14702.5 Central domain of human glycogen debranching enzyme"]
["A0A0W0FZI5_9AGAR","A0A0W0FZI5",1593,"PF06202",1105,1581,1981,"PF06202.13 Amylo-alpha-1,6-glucosidase"]
["A0A0W0FZI5_9AGAR","A0A0W0FZI5",1593,"PF14701",205,635,800,"PF14701.5 Glycogen debranching enzyme, glucanotransferase domain"]
["A0A0W0FZI5_9AGAR","A0A0W0FZI5",1593,"PF14699",91,179,587,"PF14699.5 N-terminal domain from the human glycogen debranching enzyme"]
["A0A0W0FZI5_9AGAR","A0A0W0FZI5",1593,"PF14702",792,1033,717,"PF14702.5 Central domain of human glycogen debranching enzyme"]
["A0A0W4ZQK3_PNECA","A0A0W4ZQK3",1516,"PF06202",1031,1505,1981,"PF06202.13 Amylo-alpha-1,6-glucosidase"]
["A0A0W4ZQK3_PNECA","A0A0W4ZQK3",1516,"PF14701",133,570,800,"PF14701.5 Glycogen debranching enzyme, glucanotransferase domain"]
["A0A0W4ZQK3_PNECA","A0A0W4ZQK3",1516,"PF14699",35,131,587,"PF14699.5 N-terminal domain from the human glycogen debranching enzyme"]
["A0A0W4ZQK3_PNECA","A0A0W4ZQK3",1516,"PF14702",722,960,717,"PF14702.5 Central domain of human glycogen debranching enzyme"]
["A0A0W4ZUI4_PNEJI","A0A0W4ZUI4",1516,"PF06202",1030,1504,1981,"PF06202.13 Amylo-alpha-1,6-glucosidase"]
["A0A0W4ZUI4_PNEJI","A0A0W4ZUI4",1516,"PF14701",134,571,800,"PF14701.5 Glycogen debranching enzyme, glucanotransferase domain"]
["A0A0W4ZUI4_PNEJI","A0A0W4ZUI4",1516,"PF14699",35,132,587,"PF14699.5 N-terminal domain from the human glycogen debranching enzyme"]
["A0A0W4ZUI4_PNEJI","A0A0W4ZUI4",1516,"PF14702",723,959,717,"PF14702.5 Central domain of human glycogen debranching enzyme"]
["A0A0W7W367_9HYPO","A0A0W7W367",1557,"PF06202",1068,1543,1981,"PF06202.13 Amylo-alpha-1,6-glucosidase"]
["A0A0W7W367_9HYPO","A0A0W7W367",1557,"PF14701",144,588,800,"PF14701.5 Glycogen debranching enzyme, glucanotransferase domain"]
["A0A0W7W367_9HYPO","A0A0W7W367",1557,"PF14699",41,142,587,"PF14699.5 N-terminal domain from the human glycogen debranching enzyme"]
["A0A0W7W367_9HYPO","A0A0W7W367",1557,"PF14702",754,998,717,"PF14702.5 Central domain of human glycogen debranching enzyme"]
["A0A101MIR9_9EURO","A0A101MIR9",1534,"PF06202",1053,1525,1981,"PF06202.13 Amylo-alpha-1,6-glucosidase"]
["A0A101MIR9_9EURO","A0A101MIR9",1534,"PF14701",135,573,800,"PF14701.5 Glycogen debranching enzyme, glucanotransferase domain"]
["A0A101MIR9_9EURO","A0A101MIR9",1534,"PF14699",37,133,587,"PF14699.5 N-terminal domain from the human glycogen debranching enzyme"]
["A0A101MIR9_9EURO","A0A101MIR9",1534,"PF14702",737,980,717,"PF14702.5 Central domain of human glycogen debranching enzyme"]
["A0A109FAQ5_9BASI","A0A109FAQ5",1612,"PF06202",1121,1597,1981,"PF06202.13 Amylo-alpha-1,6-glucosidase"]
["A0A109FAQ5_9BASI","A0A109FAQ5",1612,"PF14701",205,654,800,"PF14701.5 Glycogen debranching enzyme, glucanotransferase domain"]
["A0A109FAQ5_9BASI","A0A109FAQ5",1612,"PF14699",90,177,587,"PF14699.5 N-terminal domain from the human glycogen debranching enzyme"]
["A0A109FAQ5_9BASI","A0A109FAQ5",1612,"PF14702",806,1049,717,"PF14702.5 Central domain of human glycogen debranching enzyme"]
["A0A124BUR9_ASPNG","A0A124BUR9",2359,"PF06202",1056,1527,1981,"PF06202.13 Amylo-alpha-1,6-glucosidase"]
["A0A124BUR9_ASPNG","A0A124BUR9",2359,"PF14703",1738,1941,3820,"PF14703.5 Cytosolic domain of 10TM putative phosphate transporter"]
["A0A124BUR9_ASPNG","A0A124BUR9",2359,"PF02714",1952,2231,3868,"PF02714.14 Calcium-dependent channel, 7TM region, putative phosphate"]
["A0A124BUR9_ASPNG","A0A124BUR9",2359,"PF13967",1559,1718,3368,"PF13967.5 Late exocytosis, associated with Golgi transport"]
["A0A124BUR9_ASPNG","A0A124BUR9",2359,"PF14701",135,576,800,"PF14701.5 Glycogen debranching enzyme, glucanotransferase domain"]
["A0A124BUR9_ASPNG","A0A124BUR9",2359,"PF14699",37,133,587,"PF14699.5 N-terminal domain from the human glycogen debranching enzyme"]
["A0A124BUR9_ASPNG","A0A124BUR9",2359,"PF14702",740,983,717,"PF14702.5 Central domain of human glycogen debranching enzyme"]
["A0A132A5T5_SARSC","A0A132A5T5",1435,"PF06202",958,1418,1981,"PF06202.13 Amylo-alpha-1,6-glucosidase"]
["A0A132A5T5_SARSC","A0A132A5T5",1435,"PF14701",137,586,800,"PF14701.5 Glycogen debranching enzyme, glucanotransferase domain"]
["A0A132A5T5_SARSC","A0A132A5T5",1435,"PF14699",49,128,587,"PF14699.5 N-terminal domain from the human glycogen debranching enzyme"]
["A0A132A5T5_SARSC","A0A132A5T5",1435,"PF14702",736,783,717,"PF14702.5 Central domain of human glycogen debranching enzyme"]
["A0A132A5T5_SARSC","A0A132A5T5",1435,"PF14702",774,874,717,"PF14702.5 Central domain of human glycogen debranching enzyme"]
["A0A135LZ37_PENPA","A0A135LZ37",1534,"PF06202",1053,1525,1981,"PF06202.13 Amylo-alpha-1,6-glucosidase"]
["A0A135LZ37_PENPA","A0A135LZ37",1534,"PF14701",135,573,800,"PF14701.5 Glycogen debranching enzyme, glucanotransferase domain"]
["A0A135LZ37_PENPA","A0A135LZ37",1534,"PF14699",37,133,587,"PF14699.5 N-terminal domain from the human glycogen debranching enzyme"]
["A0A135LZ37_PENPA","A0A135LZ37",1534,"PF14702",737,980,717,"PF14702.5 Central domain of human glycogen debranching enzyme"]
["A0A135RMG2_9PEZI","A0A135RMG2",1568,"PF06202",1070,1546,1981,"PF06202.13 Amylo-alpha-1,6-glucosidase"]
["A0A135RMG2_9PEZI","A0A135RMG2",1568,"PF14701",138,581,800,"PF14701.5 Glycogen debranching enzyme, glucanotransferase domain"]
["A0A135RMG2_9PEZI","A0A135RMG2",1568,"PF14699",36,136,587,"PF14699.5 N-terminal domain from the human glycogen debranching enzyme"]
["A0A135RMG2_9PEZI","A0A135RMG2",1568,"PF14702",757,1001,717,"PF14702.5 Central domain of human glycogen debranching enzyme"]
["A0A135UQZ0_9PEZI","A0A135UQZ0",1568,"PF06202",1070,1546,1981,"PF06202.13 Amylo-alpha-1,6-glucosidase"]
["A0A135UQZ0_9PEZI","A0A135UQZ0",1568,"PF14701",138,581,800,"PF14701.5 Glycogen debranching enzyme, glucanotransferase domain"]
["A0A135UQZ0_9PEZI","A0A135UQZ0",1568,"PF14699",36,136,587,"PF14699.5 N-terminal domain from the human glycogen debranching enzyme"]
["A0A135UQZ0_9PEZI","A0A135UQZ0",1568,"PF14702",757,1001,717,"PF14702.5 Central domain of human glycogen debranching enzyme"]
["A0A136J2Y3_9PEZI","A0A136J2Y3",1548,"PF06202",1062,1537,1981,"PF06202.13 Amylo-alpha-1,6-glucosidase"]
["A0A136J2Y3_9PEZI","A0A136J2Y3",1548,"PF14701",143,578,800,"PF14701.5 Glycogen debranching enzyme, glucanotransferase domain"]
["A0A136J2Y3_9PEZI","A0A136J2Y3",1548,"PF14699",41,141,587,"PF14699.5 N-terminal domain from the human glycogen debranching enzyme"]
["A0A136J2Y3_9PEZI","A0A136J2Y3",1548,"PF14702",748,992,717,"PF14702.5 Central domain of human glycogen debranching enzyme"]
["A0A137P5H3_CONC2","A0A137P5H3",1566,"PF06202",1045,1524,1981,"PF06202.13 Amylo-alpha-1,6-glucosidase"]
["A0A137P5H3_CONC2","A0A137P5H3",1566,"PF14701",136,579,800,"PF14701.5 Glycogen debranching enzyme, glucanotransferase domain"]
["A0A137P5H3_CONC2","A0A137P5H3",1566,"PF14699",42,134,587,"PF14699.5 N-terminal domain from the human glycogen debranching enzyme"]
["A0A137P5H3_CONC2","A0A137P5H3",1566,"PF14702",736,982,717,"PF14702.5 Central domain of human glycogen debranching enzyme"]
["A0A137QHA0_9AGAR","A0A137QHA0",1590,"PF06202",1109,1581,1981,"PF06202.13 Amylo-alpha-1,6-glucosidase"]
["A0A137QHA0_9AGAR","A0A137QHA0",1590,"PF14701",204,635,800,"PF14701.5 Glycogen debranching enzyme, glucanotransferase domain"]
["A0A137QHA0_9AGAR","A0A137QHA0",1590,"PF14699",91,178,587,"PF14699.5 N-terminal domain from the human glycogen debranching enzyme"]
["A0A137QHA0_9AGAR","A0A137QHA0",1590,"PF14702",792,1037,717,"PF14702.5 Central domain of human glycogen debranching enzyme"]
["A0A139A531_GONPR","A0A139A531",1710,"PF06202",1194,1702,1981,"PF06202.13 Amylo-alpha-1,6-glucosidase"]
["A0A139A531_GONPR","A0A139A531",1710,"PF14701",180,628,800,"PF14701.5 Glycogen debranching enzyme, glucanotransferase domain"]
["A0A139A531_GONPR","A0A139A531",1710,"PF14699",40,162,587,"PF14699.5 N-terminal domain from the human glycogen debranching enzyme"]
["A0A139A531_GONPR","A0A139A531",1710,"PF14702",789,1107,717,"PF14702.5 Central domain of human glycogen debranching enzyme"]
["A0A139GV41_9PEZI","A0A139GV41",1554,"PF06202",1068,1540,1981,"PF06202.13 Amylo-alpha-1,6-glucosidase"]
["A0A139GV41_9PEZI","A0A139GV41",1554,"PF14701",141,579,800,"PF14701.5 Glycogen debranching enzyme, glucanotransferase domain"]
["A0A139GV41_9PEZI","A0A139GV41",1554,"PF14699",43,139,587,"PF14699.5 N-terminal domain from the human glycogen debranching enzyme"]
["A0A139GV41_9PEZI","A0A139GV41",1554,"PF14702",750,993,717,"PF14702.5 Central domain of human glycogen debranching enzyme"]
["A0A139IKD5_9PEZI","A0A139IKD5",1554,"PF06202",1067,1540,1981,"PF06202.13 Amylo-alpha-1,6-glucosidase"]
["A0A139IKD5_9PEZI","A0A139IKD5",1554,"PF14701",141,579,800,"PF14701.5 Glycogen debranching enzyme, glucanotransferase domain"]
["A0A139IKD5_9PEZI","A0A139IKD5",1554,"PF14699",43,139,587,"PF14699.5 N-terminal domain from the human glycogen debranching enzyme"]
["A0A139IKD5_9PEZI","A0A139IKD5",1554,"PF14702",750,993,717,"PF14702.5 Central domain of human glycogen debranching enzyme"]
["A0A139WC21_TRICA","A0A139WC21",1542,"PF06202",1437,1542,1981,"PF06202.13 Amylo-alpha-1,6-glucosidase"]
["A0A139WC21_TRICA","A0A139WC21",1542,"PF14701",514,949,800,"PF14701.5 Glycogen debranching enzyme, glucanotransferase domain"]
["A0A139WC21_TRICA","A0A139WC21",1542,"PF14699",423,511,587,"PF14699.5 N-terminal domain from the human glycogen debranching enzyme"]
["A0A139WC21_TRICA","A0A139WC21",1542,"PF14702",1097,1369,717,"PF14702.5 Central domain of human glycogen debranching enzyme"]
["A0A150VIY2_9PEZI","A0A150VIY2",1552,"PF06202",1066,1538,1981,"PF06202.13 Amylo-alpha-1,6-glucosidase"]
["A0A150VIY2_9PEZI","A0A150VIY2",1552,"PF14701",141,581,800,"PF14701.5 Glycogen debranching enzyme, glucanotransferase domain"]
["A0A150VIY2_9PEZI","A0A150VIY2",1552,"PF14699",43,139,587,"PF14699.5 N-terminal domain from the human glycogen debranching enzyme"]
["A0A150VIY2_9PEZI","A0A150VIY2",1552,"PF14702",750,993,717,"PF14702.5 Central domain of human glycogen debranching enzyme"]
["A0A151GPN9_9HYPO","A0A151GPN9",1584,"PF06202",1076,1548,1981,"PF06202.13 Amylo-alpha-1,6-glucosidase"]
["A0A151GPN9_9HYPO","A0A151GPN9",1584,"PF14701",144,589,800,"PF14701.5 Glycogen debranching enzyme, glucanotransferase domain"]
["A0A151GPN9_9HYPO","A0A151GPN9",1584,"PF14699",41,142,587,"PF14699.5 N-terminal domain from the human glycogen debranching enzyme"]
["A0A151GPN9_9HYPO","A0A151GPN9",1584,"PF14702",759,1003,717,"PF14702.5 Central domain of human glycogen debranching enzyme"]
["A0A151M4V6_ALLMI","A0A151M4V6",2015,"PF03351",1750,1863,2235,"PF03351.16 DOMON domain"]
["A0A151M4V6_ALLMI","A0A151M4V6",2015,"PF06202",1043,1526,1981,"PF06202.13 Amylo-alpha-1,6-glucosidase"]
["A0A151M4V6_ALLMI","A0A151M4V6",2015,"PF02014",1584,1708,1011,"PF02014.15 Reeler domain"]
["A0A151M4V6_ALLMI","A0A151M4V6",2015,"PF14701",120,550,800,"PF14701.5 Glycogen debranching enzyme, glucanotransferase domain"]
["A0A151M4V6_ALLMI","A0A151M4V6",2015,"PF14699",31,116,587,"PF14699.5 N-terminal domain from the human glycogen debranching enzyme"]
["A0A151M4V6_ALLMI","A0A151M4V6",2015,"PF14702",696,973,717,"PF14702.5 Central domain of human glycogen debranching enzyme"]
["A0A151M4W7_ALLMI","A0A151M4W7",1980,"PF03351",1750,1863,2235,"PF03351.16 DOMON domain"]
["A0A151M4W7_ALLMI","A0A151M4W7",1980,"PF06202",1043,1526,1981,"PF06202.13 Amylo-alpha-1,6-glucosidase"]
["A0A151M4W7_ALLMI","A0A151M4W7",1980,"PF02014",1584,1708,1011,"PF02014.15 Reeler domain"]
["A0A151M4W7_ALLMI","A0A151M4W7",1980,"PF14701",120,550,800,"PF14701.5 Glycogen debranching enzyme, glucanotransferase domain"]
["A0A151M4W7_ALLMI","A0A151M4W7",1980,"PF14699",31,116,587,"PF14699.5 N-terminal domain from the human glycogen debranching enzyme"]
["A0A151M4W7_ALLMI","A0A151M4W7",1980,"PF14702",696,973,717,"PF14702.5 Central domain of human glycogen debranching enzyme"]
["A0A151VFH8_HYPMA","A0A151VFH8",1592,"PF06202",1104,1579,1981,"PF06202.13 Amylo-alpha-1,6-glucosidase"]
["A0A151VFH8_HYPMA","A0A151VFH8",1592,"PF14701",210,634,800,"PF14701.5 Glycogen debranching enzyme, glucanotransferase domain"]
["A0A151VFH8_HYPMA","A0A151VFH8",1592,"PF14699",93,181,587,"PF14699.5 N-terminal domain from the human glycogen debranching enzyme"]
["A0A151VFH8_HYPMA","A0A151VFH8",1592,"PF14702",791,1032,717,"PF14702.5 Central domain of human glycogen debranching enzyme"]
["A0A151WGY4_9HYME","A0A151WGY4",1763,"PF06202",985,1462,1981,"PF06202.13 Amylo-alpha-1,6-glucosidase"]
["A0A151WGY4_9HYME","A0A151WGY4",1763,"PF14701",127,561,800,"PF14701.5 Glycogen debranching enzyme, glucanotransferase domain"]
["A0A151WGY4_9HYME","A0A151WGY4",1763,"PF14699",42,123,587,"PF14699.5 N-terminal domain from the human glycogen debranching enzyme"]
["A0A151WGY4_9HYME","A0A151WGY4",1763,"PF14702",635,909,717,"PF14702.5 Central domain of human glycogen debranching enzyme"]
["A0A152A9F1_9MYCE","A0A152A9F1",1552,"PF06202",1084,1547,1981,"PF06202.13 Amylo-alpha-1,6-glucosidase"]
["A0A152A9F1_9MYCE","A0A152A9F1",1552,"PF14701",180,620,800,"PF14701.5 Glycogen debranching enzyme, glucanotransferase domain"]
["A0A152A9F1_9MYCE","A0A152A9F1",1552,"PF14699",81,178,587,"PF14699.5 N-terminal domain from the human glycogen debranching enzyme"]
["A0A152A9F1_9MYCE","A0A152A9F1",1552,"PF14702",757,1015,717,"PF14702.5 Central domain of human glycogen debranching enzyme"]
["A0A154PFZ0_9HYME","A0A154PFZ0",1969,"PF06202",1066,1533,1981,"PF06202.13 Amylo-alpha-1,6-glucosidase"]
["A0A154PFZ0_9HYME","A0A154PFZ0",1969,"PF14701",125,559,800,"PF14701.5 Glycogen debranching enzyme, glucanotransferase domain"]
["A0A154PFZ0_9HYME","A0A154PFZ0",1969,"PF14699",40,121,587,"PF14699.5 N-terminal domain from the human glycogen debranching enzyme"]
["A0A154PFZ0_9HYME","A0A154PFZ0",1969,"PF14702",706,980,717,"PF14702.5 Central domain of human glycogen debranching enzyme"]
["A0A158NS37_ATTCE","A0A158NS37",1589,"PF06202",1091,1568,1981,"PF06202.13 Amylo-alpha-1,6-glucosidase"]
["A0A158NS37_ATTCE","A0A158NS37",1589,"PF14701",161,595,800,"PF14701.5 Glycogen debranching enzyme, glucanotransferase domain"]
["A0A158NS37_ATTCE","A0A158NS37",1589,"PF14699",76,157,587,"PF14699.5 N-terminal domain from the human glycogen debranching enzyme"]
["A0A158NS37_ATTCE","A0A158NS37",1589,"PF14702",741,1015,717,"PF14702.5 Central domain of human glycogen debranching enzyme"]
["A0A158PC84_ANGCA","A0A158PC84",1124,"PF06202",979,1053,1981,"PF06202.13 Amylo-alpha-1,6-glucosidase"]
["A0A158PC84_ANGCA","A0A158PC84",1124,"PF14701",122,553,800,"PF14701.5 Glycogen debranching enzyme, glucanotransferase domain"]
["A0A158PC84_ANGCA","A0A158PC84",1124,"PF14699",47,120,587,"PF14699.5 N-terminal domain from the human glycogen debranching enzyme"]
["A0A158PC84_ANGCA","A0A158PC84",1124,"PF14702",677,912,717,"PF14702.5 Central domain of human glycogen debranching enzyme"]
["A0A158PN69_ANISI","A0A158PN69",1488,"PF06202",1015,1479,1981,"PF06202.13 Amylo-alpha-1,6-glucosidase"]
["A0A158PN69_ANISI","A0A158PN69",1488,"PF14701",113,532,800,"PF14701.5 Glycogen debranching enzyme, glucanotransferase domain"]
["A0A158PN69_ANISI","A0A158PN69",1488,"PF14702",683,948,717,"PF14702.5 Central domain of human glycogen debranching enzyme"]
["A0A158QFZ4_HYMDI","A0A158QFZ4",1731,"PF06202",1081,1153,1981,"PF06202.13 Amylo-alpha-1,6-glucosidase"]
["A0A158QFZ4_HYMDI","A0A158QFZ4",1731,"PF06202",1154,1482,1981,"PF06202.13 Amylo-alpha-1,6-glucosidase"]
["A0A158QFZ4_HYMDI","A0A158QFZ4",1731,"PF06202",1480,1567,1981,"PF06202.13 Amylo-alpha-1,6-glucosidase"]
["A0A158QFZ4_HYMDI","A0A158QFZ4",1731,"PF06202",1650,1725,1981,"PF06202.13 Amylo-alpha-1,6-glucosidase"]
["A0A158QFZ4_HYMDI","A0A158QFZ4",1731,"PF14701",141,571,800,"PF14701.5 Glycogen debranching enzyme, glucanotransferase domain"]
["A0A158QFZ4_HYMDI","A0A158QFZ4",1731,"PF14699",29,132,587,"PF14699.5 N-terminal domain from the human glycogen debranching enzyme"]
["A0A158QFZ4_HYMDI","A0A158QFZ4",1731,"PF14702",711,1008,717,"PF14702.5 Central domain of human glycogen debranching enzyme"]
["A0A158QX09_NIPBR","A0A158QX09",1463,"PF06202",987,1450,1981,"PF06202.13 Amylo-alpha-1,6-glucosidase"]
["A0A158QX09_NIPBR","A0A158QX09",1463,"PF14701",108,540,800,"PF14701.5 Glycogen debranching enzyme, glucanotransferase domain"]
["A0A158QX09_NIPBR","A0A158QX09",1463,"PF14699",53,106,587,"PF14699.5 N-terminal domain from the human glycogen debranching enzyme"]
["A0A158QX09_NIPBR","A0A158QX09",1463,"PF14702",678,931,717,"PF14702.5 Central domain of human glycogen debranching enzyme"]
["A0A158R7U9_TAEAS","A0A158R7U9",1737,"PF06202",1143,1656,1981,"PF06202.13 Amylo-alpha-1,6-glucosidase"]
["A0A158R7U9_TAEAS","A0A158R7U9",1737,"PF14701",174,632,800,"PF14701.5 Glycogen debranching enzyme, glucanotransferase domain"]
["A0A158R7U9_TAEAS","A0A158R7U9",1737,"PF14699",62,165,587,"PF14699.5 N-terminal domain from the human glycogen debranching enzyme"]
["A0A158R7U9_TAEAS","A0A158R7U9",1737,"PF14702",772,1069,717,"PF14702.5 Central domain of human glycogen debranching enzyme"]
["A0A162K3D0_9HYPO","A0A162K3D0",1545,"PF06202",1060,1533,1981,"PF06202.13 Amylo-alpha-1,6-glucosidase"]
["A0A162K3D0_9HYPO","A0A162K3D0",1545,"PF14701",141,584,800,"PF14701.5 Glycogen debranching enzyme, glucanotransferase domain"]
["A0A162K3D0_9HYPO","A0A162K3D0",1545,"PF14699",41,139,587,"PF14699.5 N-terminal domain from the human glycogen debranching enzyme"]
["A0A162K3D0_9HYPO","A0A162K3D0",1545,"PF14702",744,988,717,"PF14702.5 Central domain of human glycogen debranching enzyme"]
["A0A162UR45_PHYB8","A0A162UR45",1363,"PF06202",896,1354,1981,"PF06202.13 Amylo-alpha-1,6-glucosidase"]
["A0A162UR45_PHYB8","A0A162UR45",1363,"PF14701",1,437,800,"PF14701.5 Glycogen debranching enzyme, glucanotransferase domain"]
["A0A162UR45_PHYB8","A0A162UR45",1363,"PF14702",589,825,717,"PF14702.5 Central domain of human glycogen debranching enzyme"]
["A0A163DBX9_DIDRA","A0A163DBX9",1553,"PF06202",1066,1539,1981,"PF06202.13 Amylo-alpha-1,6-glucosidase"]
["A0A163DBX9_DIDRA","A0A163DBX9",1553,"PF14701",140,586,800,"PF14701.5 Glycogen debranching enzyme, glucanotransferase domain"]
["A0A163DBX9_DIDRA","A0A163DBX9",1553,"PF14699",42,138,587,"PF14699.5 N-terminal domain from the human glycogen debranching enzyme"]
["A0A163DBX9_DIDRA","A0A163DBX9",1553,"PF14702",749,993,717,"PF14702.5 Central domain of human glycogen debranching enzyme"]
["A0A164NPU1_9CRUS","A0A164NPU1",1612,"PF06202",1106,1593,1981,"PF06202.13 Amylo-alpha-1,6-glucosidase"]
["A0A164NPU1_9CRUS","A0A164NPU1",1612,"PF14701",152,210,800,"PF14701.5 Glycogen debranching enzyme, glucanotransferase domain"]
["A0A164NPU1_9CRUS","A0A164NPU1",1612,"PF14701",201,610,800,"PF14701.5 Glycogen debranching enzyme, glucanotransferase domain"]
["A0A164NPU1_9CRUS","A0A164NPU1",1612,"PF14699",53,148,587,"PF14699.5 N-terminal domain from the human glycogen debranching enzyme"]
["A0A164NPU1_9CRUS","A0A164NPU1",1612,"PF14702",752,1039,717,"PF14702.5 Central domain of human glycogen debranching enzyme"]
["A0A164VTK7_9HOMO","A0A164VTK7",1609,"PF06202",1120,1598,1981,"PF06202.13 Amylo-alpha-1,6-glucosidase"]
["A0A164VTK7_9HOMO","A0A164VTK7",1609,"PF14701",212,648,800,"PF14701.5 Glycogen debranching enzyme, glucanotransferase domain"]
["A0A164VTK7_9HOMO","A0A164VTK7",1609,"PF14699",100,186,587,"PF14699.5 N-terminal domain from the human glycogen debranching enzyme"]
["A0A164VTK7_9HOMO","A0A164VTK7",1609,"PF14702",807,1048,717,"PF14702.5 Central domain of human glycogen debranching enzyme"]
["A0A165GB67_9APHY","A0A165GB67",1522,"PF06202",1031,1507,1981,"PF06202.13 Amylo-alpha-1,6-glucosidase"]
["A0A165GB67_9APHY","A0A165GB67",1522,"PF14701",124,562,800,"PF14701.5 Glycogen debranching enzyme, glucanotransferase domain"]
["A0A165GB67_9APHY","A0A165GB67",1522,"PF14699",12,100,587,"PF14699.5 N-terminal domain from the human glycogen debranching enzyme"]
["A0A165GB67_9APHY","A0A165GB67",1522,"PF14702",719,960,717,"PF14702.5 Central domain of human glycogen debranching enzyme"]
["A0A165HYM6_9BASI","A0A165HYM6",1613,"PF06202",1124,1600,1981,"PF06202.13 Amylo-alpha-1,6-glucosidase"]
["A0A165HYM6_9BASI","A0A165HYM6",1613,"PF14701",221,655,800,"PF14701.5 Glycogen debranching enzyme, glucanotransferase domain"]
["A0A165HYM6_9BASI","A0A165HYM6",1613,"PF14699",102,193,587,"PF14699.5 N-terminal domain from the human glycogen debranching enzyme"]
["A0A165HYM6_9BASI","A0A165HYM6",1613,"PF14702",812,1052,717,"PF14702.5 Central domain of human glycogen debranching enzyme"]
["A0A165JZD4_9PEZI","A0A165JZD4",1551,"PF06202",1066,1540,1981,"PF06202.13 Amylo-alpha-1,6-glucosidase"]
["A0A165JZD4_9PEZI","A0A165JZD4",1551,"PF14701",141,583,800,"PF14701.5 Glycogen debranching enzyme, glucanotransferase domain"]
["A0A165JZD4_9PEZI","A0A165JZD4",1551,"PF14699",43,139,587,"PF14699.5 N-terminal domain from the human glycogen debranching enzyme"]
["A0A165JZD4_9PEZI","A0A165JZD4",1551,"PF14702",750,993,717,"PF14702.5 Central domain of human glycogen debranching enzyme"]
["A0A165LZL5_9APHY","A0A165LZL5",1605,"PF06202",1116,1592,1981,"PF06202.13 Amylo-alpha-1,6-glucosidase"]
["A0A165LZL5_9APHY","A0A165LZL5",1605,"PF14701",208,646,800,"PF14701.5 Glycogen debranching enzyme, glucanotransferase domain"]
["A0A165LZL5_9APHY","A0A165LZL5",1605,"PF14699",96,184,587,"PF14699.5 N-terminal domain from the human glycogen debranching enzyme"]
["A0A165LZL5_9APHY","A0A165LZL5",1605,"PF14702",803,1044,717,"PF14702.5 Central domain of human glycogen debranching enzyme"]
["A0A165U9Q9_9HOMO","A0A165U9Q9",1609,"PF06202",1122,1598,1981,"PF06202.13 Amylo-alpha-1,6-glucosidase"]
["A0A165U9Q9_9HOMO","A0A165U9Q9",1609,"PF14701",215,652,800,"PF14701.5 Glycogen debranching enzyme, glucanotransferase domain"]
["A0A165U9Q9_9HOMO","A0A165U9Q9",1609,"PF14699",100,188,587,"PF14699.5 N-terminal domain from the human glycogen debranching enzyme"]
["A0A165U9Q9_9HOMO","A0A165U9Q9",1609,"PF14702",809,1050,717,"PF14702.5 Central domain of human glycogen debranching enzyme"]
["A0A166BCP4_EXIGL","A0A166BCP4",1613,"PF06202",1111,1604,1981,"PF06202.13 Amylo-alpha-1,6-glucosidase"]
["A0A166BCP4_EXIGL","A0A166BCP4",1613,"PF14701",201,638,800,"PF14701.5 Glycogen debranching enzyme, glucanotransferase domain"]
["A0A166BCP4_EXIGL","A0A166BCP4",1613,"PF14699",88,174,587,"PF14699.5 N-terminal domain from the human glycogen debranching enzyme"]
["A0A166BCP4_EXIGL","A0A166BCP4",1613,"PF14702",796,1039,717,"PF14702.5 Central domain of human glycogen debranching enzyme"]
["A0A166CDF1_9HOMO","A0A166CDF1",1597,"PF06202",1107,1586,1981,"PF06202.13 Amylo-alpha-1,6-glucosidase"]
["A0A166CDF1_9HOMO","A0A166CDF1",1597,"PF14701",198,632,800,"PF14701.5 Glycogen debranching enzyme, glucanotransferase domain"]
["A0A166CDF1_9HOMO","A0A166CDF1",1597,"PF14699",84,171,587,"PF14699.5 N-terminal domain from the human glycogen debranching enzyme"]
["A0A166CDF1_9HOMO","A0A166CDF1",1597,"PF14702",794,1036,717,"PF14702.5 Central domain of human glycogen debranching enzyme"]
["A0A166FBI4_9HOMO","A0A166FBI4",1582,"PF06202",1095,1571,1981,"PF06202.13 Amylo-alpha-1,6-glucosidase"]
["A0A166FBI4_9HOMO","A0A166FBI4",1582,"PF14701",195,625,800,"PF14701.5 Glycogen debranching enzyme, glucanotransferase domain"]
["A0A166FBI4_9HOMO","A0A166FBI4",1582,"PF14699",80,168,587,"PF14699.5 N-terminal domain from the human glycogen debranching enzyme"]
["A0A166FBI4_9HOMO","A0A166FBI4",1582,"PF14702",782,1023,717,"PF14702.5 Central domain of human glycogen debranching enzyme"]
["A0A166HVI1_9HOMO","A0A166HVI1",1609,"PF06202",1120,1598,1981,"PF06202.13 Amylo-alpha-1,6-glucosidase"]
["A0A166HVI1_9HOMO","A0A166HVI1",1609,"PF14701",212,648,800,"PF14701.5 Glycogen debranching enzyme, glucanotransferase domain"]
["A0A166HVI1_9HOMO","A0A166HVI1",1609,"PF14699",100,186,587,"PF14699.5 N-terminal domain from the human glycogen debranching enzyme"]
["A0A166HVI1_9HOMO","A0A166HVI1",1609,"PF14702",807,1048,717,"PF14702.5 Central domain of human glycogen debranching enzyme"]
["A0A166UV10_9PEZI","A0A166UV10",1573,"PF06202",1076,1551,1981,"PF06202.13 Amylo-alpha-1,6-glucosidase"]
["A0A166UV10_9PEZI","A0A166UV10",1573,"PF14701",143,586,800,"PF14701.5 Glycogen debranching enzyme, glucanotransferase domain"]
["A0A166UV10_9PEZI","A0A166UV10",1573,"PF14699",41,141,587,"PF14699.5 N-terminal domain from the human glycogen debranching enzyme"]
["A0A166UV10_9PEZI","A0A166UV10",1573,"PF14702",762,1006,717,"PF14702.5 Central domain of human glycogen debranching enzyme"]
["A0A167BNH3_9PEZI","A0A167BNH3",1620,"PF06202",1123,1598,1981,"PF06202.13 Amylo-alpha-1,6-glucosidase"]
["A0A167BNH3_9PEZI","A0A167BNH3",1620,"PF14701",190,633,800,"PF14701.5 Glycogen debranching enzyme, glucanotransferase domain"]
["A0A167BNH3_9PEZI","A0A167BNH3",1620,"PF14699",88,188,587,"PF14699.5 N-terminal domain from the human glycogen debranching enzyme"]
["A0A167BNH3_9PEZI","A0A167BNH3",1620,"PF14702",809,1053,717,"PF14702.5 Central domain of human glycogen debranching enzyme"]
["A0A167S918_9BASI","A0A167S918",1615,"PF06202",1126,1602,1981,"PF06202.13 Amylo-alpha-1,6-glucosidase"]
["A0A167S918_9BASI","A0A167S918",1615,"PF14701",223,657,800,"PF14701.5 Glycogen debranching enzyme, glucanotransferase domain"]
["A0A167S918_9BASI","A0A167S918",1615,"PF14699",104,195,587,"PF14699.5 N-terminal domain from the human glycogen debranching enzyme"]
["A0A167S918_9BASI","A0A167S918",1615,"PF14702",814,1054,717,"PF14702.5 Central domain of human glycogen debranching enzyme"]
["A0A167UPF6_9PEZI","A0A167UPF6",1568,"PF06202",1070,1548,1981,"PF06202.13 Amylo-alpha-1,6-glucosidase"]
["A0A167UPF6_9PEZI","A0A167UPF6",1568,"PF14701",139,582,800,"PF14701.5 Glycogen debranching enzyme, glucanotransferase domain"]
["A0A167UPF6_9PEZI","A0A167UPF6",1568,"PF14699",37,137,587,"PF14699.5 N-terminal domain from the human glycogen debranching enzyme"]
["A0A167UPF6_9PEZI","A0A167UPF6",1568,"PF14702",757,1001,717,"PF14702.5 Central domain of human glycogen debranching enzyme"]
["A0A168GI85_MUCCL","A0A168GI85",1446,"PF06202",970,1434,1981,"PF06202.13 Amylo-alpha-1,6-glucosidase"]
["A0A168GI85_MUCCL","A0A168GI85",1446,"PF14701",68,512,800,"PF14701.5 Glycogen debranching enzyme, glucanotransferase domain"]
["A0A168GI85_MUCCL","A0A168GI85",1446,"PF14699",4,59,587,"PF14699.5 N-terminal domain from the human glycogen debranching enzyme"]
["A0A168GI85_MUCCL","A0A168GI85",1446,"PF14702",664,899,717,"PF14702.5 Central domain of human glycogen debranching enzyme"]
["A0A168GXS6_CORDF","A0A168GXS6",1545,"PF06202",1058,1533,1981,"PF06202.13 Amylo-alpha-1,6-glucosidase"]
["A0A168GXS6_CORDF","A0A168GXS6",1545,"PF14701",141,584,800,"PF14701.5 Glycogen debranching enzyme, glucanotransferase domain"]
["A0A168GXS6_CORDF","A0A168GXS6",1545,"PF14699",41,139,587,"PF14699.5 N-terminal domain from the human glycogen debranching enzyme"]
["A0A168GXS6_CORDF","A0A168GXS6",1545,"PF14702",744,988,717,"PF14702.5 Central domain of human glycogen debranching enzyme"]
["A0A177BY91_9PLEO","A0A177BY91",1552,"PF06202",1064,1537,1981,"PF06202.13 Amylo-alpha-1,6-glucosidase"]
["A0A177BY91_9PLEO","A0A177BY91",1552,"PF14701",139,585,800,"PF14701.5 Glycogen debranching enzyme, glucanotransferase domain"]
["A0A177BY91_9PLEO","A0A177BY91",1552,"PF14699",41,137,587,"PF14699.5 N-terminal domain from the human glycogen debranching enzyme"]
["A0A177BY91_9PLEO","A0A177BY91",1552,"PF14702",748,991,717,"PF14702.5 Central domain of human glycogen debranching enzyme"]
["A0A177DMY2_ALTAL","A0A177DMY2",1561,"PF06202",1069,1542,1981,"PF06202.13 Amylo-alpha-1,6-glucosidase"]
["A0A177DMY2_ALTAL","A0A177DMY2",1561,"PF14701",145,591,800,"PF14701.5 Glycogen debranching enzyme, glucanotransferase domain"]
["A0A177DMY2_ALTAL","A0A177DMY2",1561,"PF14699",47,143,587,"PF14699.5 N-terminal domain from the human glycogen debranching enzyme"]
["A0A177DMY2_ALTAL","A0A177DMY2",1561,"PF14702",752,996,717,"PF14702.5 Central domain of human glycogen debranching enzyme"]
["A0A177WDZ8_BATDE","A0A177WDZ8",1177,"PF14701",142,589,800,"PF14701.5 Glycogen debranching enzyme, glucanotransferase domain"]
["A0A177WDZ8_BATDE","A0A177WDZ8",1177,"PF14699",35,124,587,"PF14699.5 N-terminal domain from the human glycogen debranching enzyme"]
["A0A177WDZ8_BATDE","A0A177WDZ8",1177,"PF14702",749,1147,717,"PF14702.5 Central domain of human glycogen debranching enzyme"]
["A0A178BB70_9PLEO","A0A178BB70",1554,"PF06202",1066,1539,1981,"PF06202.13 Amylo-alpha-1,6-glucosidase"]
["A0A178BB70_9PLEO","A0A178BB70",1554,"PF14701",142,588,800,"PF14701.5 Glycogen debranching enzyme, glucanotransferase domain"]
["A0A178BB70_9PLEO","A0A178BB70",1554,"PF14699",44,140,587,"PF14699.5 N-terminal domain from the human glycogen debranching enzyme"]
["A0A178BB70_9PLEO","A0A178BB70",1554,"PF14702",749,993,717,"PF14702.5 Central domain of human glycogen debranching enzyme"]
["A0A178EBW2_9PLEO","A0A178EBW2",1563,"PF06202",1076,1549,1981,"PF06202.13 Amylo-alpha-1,6-glucosidase"]
["A0A178EBW2_9PLEO","A0A178EBW2",1563,"PF14701",148,594,800,"PF14701.5 Glycogen debranching enzyme, glucanotransferase domain"]
["A0A178EBW2_9PLEO","A0A178EBW2",1563,"PF14699",50,146,587,"PF14699.5 N-terminal domain from the human glycogen debranching enzyme"]
["A0A178EBW2_9PLEO","A0A178EBW2",1563,"PF14702",759,1003,717,"PF14702.5 Central domain of human glycogen debranching enzyme"]
["A0A180H1Z8_PUCT1","A0A180H1Z8",1616,"PF06202",1130,1606,1981,"PF06202.13 Amylo-alpha-1,6-glucosidase"]
["A0A180H1Z8_PUCT1","A0A180H1Z8",1616,"PF14701",209,648,800,"PF14701.5 Glycogen debranching enzyme, glucanotransferase domain"]
["A0A180H1Z8_PUCT1","A0A180H1Z8",1616,"PF14699",89,179,587,"PF14699.5 N-terminal domain from the human glycogen debranching enzyme"]
["A0A180H1Z8_PUCT1","A0A180H1Z8",1616,"PF14702",805,1058,717,"PF14702.5 Central domain of human glycogen debranching enzyme"]
["A0A183AAW8_9TREM","A0A183AAW8",1572,"PF06202",1054,1569,1981,"PF06202.13 Amylo-alpha-1,6-glucosidase"]
["A0A183AAW8_9TREM","A0A183AAW8",1572,"PF14701",86,514,800,"PF14701.5 Glycogen debranching enzyme, glucanotransferase domain"]
["A0A183AAW8_9TREM","A0A183AAW8",1572,"PF14702",654,955,717,"PF14702.5 Central domain of human glycogen debranching enzyme"]
["A0A183E542_9BILA","A0A183E542",258,"PF06202",185,258,1981,"PF06202.13 Amylo-alpha-1,6-glucosidase"]
["A0A183E542_9BILA","A0A183E542",258,"PF14702",10,47,717,"PF14702.5 Central domain of human glycogen debranching enzyme"]
["A0A183EVV2_9BILA","A0A183EVV2",223,"PF14701",2,42,800,"PF14701.5 Glycogen debranching enzyme, glucanotransferase domain"]
["A0A183EVV2_9BILA","A0A183EVV2",223,"PF14702",179,223,717,"PF14702.5 Central domain of human glycogen debranching enzyme"]
["A0A183IQB6_9BILA","A0A183IQB6",1215,"PF06202",1017,1208,1981,"PF06202.13 Amylo-alpha-1,6-glucosidase"]
["A0A183IQB6_9BILA","A0A183IQB6",1215,"PF14701",109,576,800,"PF14701.5 Glycogen debranching enzyme, glucanotransferase domain"]
["A0A183IQB6_9BILA","A0A183IQB6",1215,"PF14699",12,104,587,"PF14699.5 N-terminal domain from the human glycogen debranching enzyme"]
["A0A183IQB6_9BILA","A0A183IQB6",1215,"PF14702",721,792,717,"PF14702.5 Central domain of human glycogen debranching enzyme"]
["A0A183IQB6_9BILA","A0A183IQB6",1215,"PF14702",777,950,717,"PF14702.5 Central domain of human glycogen debranching enzyme"]
["A0A183L3P4_9TREM","A0A183L3P4",130,"PF14702",1,37,717,"PF14702.5 Central domain of human glycogen debranching enzyme"]
["A0A183L5T7_9TREM","A0A183L5T7",255,"PF14702",153,255,717,"PF14702.5 Central domain of human glycogen debranching enzyme"]
["A0A183MQF5_9TREM","A0A183MQF5",1246,"PF06202",749,1235,1981,"PF06202.13 Amylo-alpha-1,6-glucosidase"]
["A0A183MQF5_9TREM","A0A183MQF5",1246,"PF14701",4,226,800,"PF14701.5 Glycogen debranching enzyme, glucanotransferase domain"]
["A0A183MQF5_9TREM","A0A183MQF5",1246,"PF14702",366,665,717,"PF14702.5 Central domain of human glycogen debranching enzyme"]
["A0A183PB67_9TREM","A0A183PB67",255,"PF14702",1,147,717,"PF14702.5 Central domain of human glycogen debranching enzyme"]
["A0A183PBC8_9TREM","A0A183PBC8",348,"PF06202",136,343,1981,"PF06202.13 Amylo-alpha-1,6-glucosidase"]
["A0A183PBC8_9TREM","A0A183PBC8",348,"PF14702",18,55,717,"PF14702.5 Central domain of human glycogen debranching enzyme"]
["A0A183PHM0_9TREM","A0A183PHM0",468,"PF14701",4,226,800,"PF14701.5 Glycogen debranching enzyme, glucanotransferase domain"]
["A0A183PHM0_9TREM","A0A183PHM0",468,"PF14702",366,468,717,"PF14702.5 Central domain of human glycogen debranching enzyme"]
["A0A183QFQ2_9TREM","A0A183QFQ2",441,"PF14701",1,43,800,"PF14701.5 Glycogen debranching enzyme, glucanotransferase domain"]
["A0A183QFQ2_9TREM","A0A183QFQ2",441,"PF14702",152,410,717,"PF14702.5 Central domain of human glycogen debranching enzyme"]
["A0A183QFQ3_9TREM","A0A183QFQ3",569,"PF06202",124,549,1981,"PF06202.13 Amylo-alpha-1,6-glucosidase"]
["A0A183QFQ3_9TREM","A0A183QFQ3",569,"PF14702",20,59,717,"PF14702.5 Central domain of human glycogen debranching enzyme"]
["A0A183TE88_SCHSO","A0A183TE88",1557,"PF06202",1078,1543,1981,"PF06202.13 Amylo-alpha-1,6-glucosidase"]
["A0A183TE88_SCHSO","A0A183TE88",1557,"PF14701",118,548,800,"PF14701.5 Glycogen debranching enzyme, glucanotransferase domain"]
["A0A183TE88_SCHSO","A0A183TE88",1557,"PF14699",3,106,587,"PF14699.5 N-terminal domain from the human glycogen debranching enzyme"]
["A0A183TE88_SCHSO","A0A183TE88",1557,"PF14702",688,984,717,"PF14702.5 Central domain of human glycogen debranching enzyme"]
["A0A183VKK7_TRIRE","A0A183VKK7",99,"PF14702",1,32,717,"PF14702.5 Central domain of human glycogen debranching enzyme"]
["A0A183WMJ4_TRIRE","A0A183WMJ4",142,"PF14702",17,113,717,"PF14702.5 Central domain of human glycogen debranching enzyme"]
["A0A183WVX9_TRIRE","A0A183WVX9",213,"PF14702",103,208,717,"PF14702.5 Central domain of human glycogen debranching enzyme"]
["A0A194PXK2_PAPXU","A0A194PXK2",1697,"PF06202",1217,1681,1981,"PF06202.13 Amylo-alpha-1,6-glucosidase"]
["A0A194PXK2_PAPXU","A0A194PXK2",1697,"PF14701",329,526,800,"PF14701.5 Glycogen debranching enzyme, glucanotransferase domain"]
["A0A194PXK2_PAPXU","A0A194PXK2",1697,"PF14701",515,732,800,"PF14701.5 Glycogen debranching enzyme, glucanotransferase domain"]
["A0A194PXK2_PAPXU","A0A194PXK2",1697,"PF14699",208,327,587,"PF14699.5 N-terminal domain from the human glycogen debranching enzyme"]
["A0A194PXK2_PAPXU","A0A194PXK2",1697,"PF14702",891,1151,717,"PF14702.5 Central domain of human glycogen debranching enzyme"]
["A0A194REP1_PAPMA","A0A194REP1",1298,"PF14701",276,649,800,"PF14701.5 Glycogen debranching enzyme, glucanotransferase domain"]
["A0A194REP1_PAPMA","A0A194REP1",1298,"PF14701",654,861,800,"PF14701.5 Glycogen debranching enzyme, glucanotransferase domain"]
["A0A194REP1_PAPMA","A0A194REP1",1298,"PF14699",158,274,587,"PF14699.5 N-terminal domain from the human glycogen debranching enzyme"]
["A0A194REP1_PAPMA","A0A194REP1",1298,"PF14702",1019,1156,717,"PF14702.5 Central domain of human glycogen debranching enzyme"]
["A0A194REP1_PAPMA","A0A194REP1",1298,"PF14702",1145,1271,717,"PF14702.5 Central domain of human glycogen debranching enzyme"]
["A0A194SBG9_RHOGW","A0A194SBG9",1620,"PF06202",1128,1604,1981,"PF06202.13 Amylo-alpha-1,6-glucosidase"]
["A0A194SBG9_RHOGW","A0A194SBG9",1620,"PF14701",211,661,800,"PF14701.5 Glycogen debranching enzyme, glucanotransferase domain"]
["A0A194SBG9_RHOGW","A0A194SBG9",1620,"PF14699",93,180,587,"PF14699.5 N-terminal domain from the human glycogen debranching enzyme"]
["A0A194SBG9_RHOGW","A0A194SBG9",1620,"PF14702",814,1056,717,"PF14702.5 Central domain of human glycogen debranching enzyme"]
["A0A194XSF5_9HELO","A0A194XSF5",1566,"PF06202",1069,1544,1981,"PF06202.13 Amylo-alpha-1,6-glucosidase"]
["A0A194XSF5_9HELO","A0A194XSF5",1566,"PF14701",139,585,800,"PF14701.5 Glycogen debranching enzyme, glucanotransferase domain"]
["A0A194XSF5_9HELO","A0A194XSF5",1566,"PF14699",41,137,587,"PF14699.5 N-terminal domain from the human glycogen debranching enzyme"]
["A0A194XSF5_9HELO","A0A194XSF5",1566,"PF14702",753,997,717,"PF14702.5 Central domain of human glycogen debranching enzyme"]
["A0BFM1_PARTE","A0BFM1",1057,"PF16561",699,773,2886,"PF16561.4 Glycogen recognition site of AMP-activated protein kinase"]
["A0BFM1_PARTE","A0BFM1",1057,"PF14701",125,545,800,"PF14701.5 Glycogen debranching enzyme, glucanotransferase domain"]
["A0BFM1_PARTE","A0BFM1",1057,"PF14702",776,1010,717,"PF14702.5 Central domain of human glycogen debranching enzyme"]
["A0BWA0_PARTE","A0BWA0",1528,"PF16561",691,766,2886,"PF16561.4 Glycogen recognition site of AMP-activated protein kinase"]
["A0BWA0_PARTE","A0BWA0",1528,"PF06202",1053,1522,1981,"PF06202.13 Amylo-alpha-1,6-glucosidase"]
["A0BWA0_PARTE","A0BWA0",1528,"PF14701",138,538,800,"PF14701.5 Glycogen debranching enzyme, glucanotransferase domain"]
["A0BWA0_PARTE","A0BWA0",1528,"PF14702",769,1003,717,"PF14702.5 Central domain of human glycogen debranching enzyme"]
["A0EEA7_PARTE","A0EEA7",1236,"PF16561",498,575,2886,"PF16561.4 Glycogen recognition site of AMP-activated protein kinase"]
["A0EEA7_PARTE","A0EEA7",1236,"PF06202",810,1220,1981,"PF06202.13 Amylo-alpha-1,6-glucosidase"]
["A0EEA7_PARTE","A0EEA7",1236,"PF14701",13,255,800,"PF14701.5 Glycogen debranching enzyme, glucanotransferase domain"]
["A0EEA7_PARTE","A0EEA7",1236,"PF14701",242,352,800,"PF14701.5 Glycogen debranching enzyme, glucanotransferase domain"]
["A0EEA7_PARTE","A0EEA7",1236,"PF14702",572,773,717,"PF14702.5 Central domain of human glycogen debranching enzyme"]
["A1CS73_ASPCL","A1CS73",1542,"PF06202",1055,1527,1981,"PF06202.13 Amylo-alpha-1,6-glucosidase"]
["A1CS73_ASPCL","A1CS73",1542,"PF14701",135,576,800,"PF14701.5 Glycogen debranching enzyme, glucanotransferase domain"]
["A1CS73_ASPCL","A1CS73",1542,"PF14699",37,133,587,"PF14699.5 N-terminal domain from the human glycogen debranching enzyme"]
["A1CS73_ASPCL","A1CS73",1542,"PF14702",739,982,717,"PF14702.5 Central domain of human glycogen debranching enzyme"]
["A1D547_NEOFI","A1D547",1537,"PF06202",1056,1528,1981,"PF06202.13 Amylo-alpha-1,6-glucosidase"]
["A1D547_NEOFI","A1D547",1537,"PF14701",135,576,800,"PF14701.5 Glycogen debranching enzyme, glucanotransferase domain"]
["A1D547_NEOFI","A1D547",1537,"PF14699",37,133,587,"PF14699.5 N-terminal domain from the human glycogen debranching enzyme"]
["A1D547_NEOFI","A1D547",1537,"PF14702",740,983,717,"PF14702.5 Central domain of human glycogen debranching enzyme"]
["A2DRU5_TRIVA","A2DRU5",1149,"PF14701",106,486,800,"PF14701.5 Glycogen debranching enzyme, glucanotransferase domain"]
["A2DRU5_TRIVA","A2DRU5",1149,"PF14702",595,680,717,"PF14702.5 Central domain of human glycogen debranching enzyme"]
["A2DRU5_TRIVA","A2DRU5",1149,"PF14702",668,794,717,"PF14702.5 Central domain of human glycogen debranching enzyme"]
["A2EWE5_TRIVA","A2EWE5",1413,"PF06202",918,1382,1981,"PF06202.13 Amylo-alpha-1,6-glucosidase"]
["A2EWE5_TRIVA","A2EWE5",1413,"PF14701",106,388,800,"PF14701.5 Glycogen debranching enzyme, glucanotransferase domain"]
["A2EWE5_TRIVA","A2EWE5",1413,"PF14701",379,497,800,"PF14701.5 Glycogen debranching enzyme, glucanotransferase domain"]
["A2EWE5_TRIVA","A2EWE5",1413,"PF14702",627,851,717,"PF14702.5 Central domain of human glycogen debranching enzyme"]
["A2F4M9_TRIVA","A2F4M9",1469,"PF06202",964,1446,1981,"PF06202.13 Amylo-alpha-1,6-glucosidase"]
["A2F4M9_TRIVA","A2F4M9",1469,"PF14701",110,540,800,"PF14701.5 Glycogen debranching enzyme, glucanotransferase domain"]
["A2F4M9_TRIVA","A2F4M9",1469,"PF14702",671,903,717,"PF14702.5 Central domain of human glycogen debranching enzyme"]
["A2Q8Z7_ASPNC","A2Q8Z7",1539,"PF06202",1056,1528,1981,"PF06202.13 Amylo-alpha-1,6-glucosidase"]
["A2Q8Z7_ASPNC","A2Q8Z7",1539,"PF14701",135,576,800,"PF14701.5 Glycogen debranching enzyme, glucanotransferase domain"]
["A2Q8Z7_ASPNC","A2Q8Z7",1539,"PF14699",37,133,587,"PF14699.5 N-terminal domain from the human glycogen debranching enzyme"]
["A2Q8Z7_ASPNC","A2Q8Z7",1539,"PF14702",740,983,717,"PF14702.5 Central domain of human glycogen debranching enzyme"]
["A3GF70_PICST","A3GF70",1526,"PF06202",1032,1508,1981,"PF06202.13 Amylo-alpha-1,6-glucosidase"]
["A3GF70_PICST","A3GF70",1526,"PF14701",137,563,800,"PF14701.5 Glycogen debranching enzyme, glucanotransferase domain"]
["A3GF70_PICST","A3GF70",1526,"PF14699",47,135,587,"PF14699.5 N-terminal domain from the human glycogen debranching enzyme"]
["A3GF70_PICST","A3GF70",1526,"PF14702",721,961,717,"PF14702.5 Central domain of human glycogen debranching enzyme"]
["A5DQ07_PICGU","A5DQ07",942,"PF14701",135,561,800,"PF14701.5 Glycogen debranching enzyme, glucanotransferase domain"]
["A5DQ07_PICGU","A5DQ07",942,"PF14699",44,133,587,"PF14699.5 N-terminal domain from the human glycogen debranching enzyme"]
["A5DQ07_PICGU","A5DQ07",942,"PF14702",719,917,717,"PF14702.5 Central domain of human glycogen debranching enzyme"]
["A5E4R5_LODEL","A5E4R5",1524,"PF06202",1036,1511,1981,"PF06202.13 Amylo-alpha-1,6-glucosidase"]
["A5E4R5_LODEL","A5E4R5",1524,"PF14701",138,562,800,"PF14701.5 Glycogen debranching enzyme, glucanotransferase domain"]
["A5E4R5_LODEL","A5E4R5",1524,"PF14699",48,136,587,"PF14699.5 N-terminal domain from the human glycogen debranching enzyme"]
["A5E4R5_LODEL","A5E4R5",1524,"PF14702",725,965,717,"PF14702.5 Central domain of human glycogen debranching enzyme"]
["A6R0W1_AJECN","A6R0W1",1800,"PF06202",1076,1562,1981,"PF06202.13 Amylo-alpha-1,6-glucosidase"]
["A6R0W1_AJECN","A6R0W1",1800,"PF00069",1626,1766,236455,"PF00069.24 Protein kinase domain"]
["A6R0W1_AJECN","A6R0W1",1800,"PF14701",141,584,800,"PF14701.5 Glycogen debranching enzyme, glucanotransferase domain"]
["A6R0W1_AJECN","A6R0W1",1800,"PF14699",38,139,587,"PF14699.5 N-terminal domain from the human glycogen debranching enzyme"]
["A6R0W1_AJECN","A6R0W1",1800,"PF14702",760,1004,717,"PF14702.5 Central domain of human glycogen debranching enzyme"]
["A7F5B8_SCLS1","A7F5B8",1179,"PF06202",800,1178,1981,"PF06202.13 Amylo-alpha-1,6-glucosidase"]
["A7F5B8_SCLS1","A7F5B8",1179,"PF14701",110,373,800,"PF14701.5 Glycogen debranching enzyme, glucanotransferase domain"]
["A7F5B8_SCLS1","A7F5B8",1179,"PF14699",36,119,587,"PF14699.5 N-terminal domain from the human glycogen debranching enzyme"]
["A7F5B8_SCLS1","A7F5B8",1179,"PF14702",497,741,717,"PF14702.5 Central domain of human glycogen debranching enzyme"]
["A7TH79_VANPO","A7TH79",1565,"PF06202",1063,1540,1981,"PF06202.13 Amylo-alpha-1,6-glucosidase"]
["A7TH79_VANPO","A7TH79",1565,"PF14701",146,581,800,"PF14701.5 Glycogen debranching enzyme, glucanotransferase domain"]
["A7TH79_VANPO","A7TH79",1565,"PF14699",56,144,587,"PF14699.5 N-terminal domain from the human glycogen debranching enzyme"]
["A7TH79_VANPO","A7TH79",1565,"PF14702",751,993,717,"PF14702.5 Central domain of human glycogen debranching enzyme"]
["A8BPE3_GIAIC","A8BPE3",1731,"PF06202",1182,1567,1981,"PF06202.13 Amylo-alpha-1,6-glucosidase"]
["A8BPE3_GIAIC","A8BPE3",1731,"PF06202",1609,1722,1981,"PF06202.13 Amylo-alpha-1,6-glucosidase"]
["A8BPE3_GIAIC","A8BPE3",1731,"PF14701",119,284,800,"PF14701.5 Glycogen debranching enzyme, glucanotransferase domain"]
["A8BPE3_GIAIC","A8BPE3",1731,"PF14701",293,687,800,"PF14701.5 Glycogen debranching enzyme, glucanotransferase domain"]
["A8BPE3_GIAIC","A8BPE3",1731,"PF14702",826,1056,717,"PF14702.5 Central domain of human glycogen debranching enzyme"]
["A8N9L1_COPC7","A8N9L1",1598,"PF06202",1112,1588,1981,"PF06202.13 Amylo-alpha-1,6-glucosidase"]
["A8N9L1_COPC7","A8N9L1",1598,"PF14701",204,640,800,"PF14701.5 Glycogen debranching enzyme, glucanotransferase domain"]
["A8N9L1_COPC7","A8N9L1",1598,"PF14699",91,178,587,"PF14699.5 N-terminal domain from the human glycogen debranching enzyme"]
["A8N9L1_COPC7","A8N9L1",1598,"PF14702",797,1040,717,"PF14702.5 Central domain of human glycogen debranching enzyme"]
["A8XCF0_CAEBR","A8XCF0",1534,"PF06202",1048,1524,1981,"PF06202.13 Amylo-alpha-1,6-glucosidase"]
["A8XCF0_CAEBR","A8XCF0",1534,"PF14701",123,188,800,"PF14701.5 Glycogen debranching enzyme, glucanotransferase domain"]
["A8XCF0_CAEBR","A8XCF0",1534,"PF14701",184,518,800,"PF14701.5 Glycogen debranching enzyme, glucanotransferase domain"]
["A8XCF0_CAEBR","A8XCF0",1534,"PF14699",32,121,587,"PF14699.5 N-terminal domain from the human glycogen debranching enzyme"]
["A8XCF0_CAEBR","A8XCF0",1534,"PF14702",730,981,717,"PF14702.5 Central domain of human glycogen debranching enzyme"]
["A9V544_MONBE","A9V544",1489,"PF06202",992,1458,1981,"PF06202.13 Amylo-alpha-1,6-glucosidase"]
["A9V544_MONBE","A9V544",1489,"PF14701",144,582,800,"PF14701.5 Glycogen debranching enzyme, glucanotransferase domain"]
["A9V544_MONBE","A9V544",1489,"PF14699",38,142,587,"PF14699.5 N-terminal domain from the human glycogen debranching enzyme"]
["A9V544_MONBE","A9V544",1489,"PF14702",673,923,717,"PF14702.5 Central domain of human glycogen debranching enzyme"]
["B0DI75_LACBS","B0DI75",1594,"PF06202",1109,1585,1981,"PF06202.13 Amylo-alpha-1,6-glucosidase"]
["B0DI75_LACBS","B0DI75",1594,"PF14701",207,639,800,"PF14701.5 Glycogen debranching enzyme, glucanotransferase domain"]
["B0DI75_LACBS","B0DI75",1594,"PF14699",94,181,587,"PF14699.5 N-terminal domain from the human glycogen debranching enzyme"]
["B0DI75_LACBS","B0DI75",1594,"PF14702",796,1037,717,"PF14702.5 Central domain of human glycogen debranching enzyme"]
["B0DME9_LACBS","B0DME9",115,"PF14702",1,28,717,"PF14702.5 Central domain of human glycogen debranching enzyme"]
["B0DZ84_LACBS","B0DZ84",115,"PF14702",1,28,717,"PF14702.5 Central domain of human glycogen debranching enzyme"]
["B0X1H0_CULQU","B0X1H0",784,"PF14701",120,559,800,"PF14701.5 Glycogen debranching enzyme, glucanotransferase domain"]
["B0X1H0_CULQU","B0X1H0",784,"PF14699",14,114,587,"PF14699.5 N-terminal domain from the human glycogen debranching enzyme"]
["B0X1H0_CULQU","B0X1H0",784,"PF14702",697,784,717,"PF14702.5 Central domain of human glycogen debranching enzyme"]
["B0XLP5_CULQU","B0XLP5",672,"PF06202",192,660,1981,"PF06202.13 Amylo-alpha-1,6-glucosidase"]
["B0XLP5_CULQU","B0XLP5",672,"PF14702",1,125,717,"PF14702.5 Central domain of human glycogen debranching enzyme"]
["B2AB57_PODAN","B2AB57",1571,"PF06202",1074,1551,1981,"PF06202.13 Amylo-alpha-1,6-glucosidase"]
["B2AB57_PODAN","B2AB57",1571,"PF14701",145,588,800,"PF14701.5 Glycogen debranching enzyme, glucanotransferase domain"]
["B2AB57_PODAN","B2AB57",1571,"PF14699",41,143,587,"PF14699.5 N-terminal domain from the human glycogen debranching enzyme"]
["B2AB57_PODAN","B2AB57",1571,"PF14702",760,1004,717,"PF14702.5 Central domain of human glycogen debranching enzyme"]
["B2VZS2_PYRTR","B2VZS2",1567,"PF06202",1070,1543,1981,"PF06202.13 Amylo-alpha-1,6-glucosidase"]
["B2VZS2_PYRTR","B2VZS2",1567,"PF14701",146,592,800,"PF14701.5 Glycogen debranching enzyme, glucanotransferase domain"]
["B2VZS2_PYRTR","B2VZS2",1567,"PF14699",48,144,587,"PF14699.5 N-terminal domain from the human glycogen debranching enzyme"]
["B2VZS2_PYRTR","B2VZS2",1567,"PF14702",753,997,717,"PF14702.5 Central domain of human glycogen debranching enzyme"]
["B3MBX1_DROAN","B3MBX1",1641,"PF06202",1159,1628,1981,"PF06202.13 Amylo-alpha-1,6-glucosidase"]
["B3MBX1_DROAN","B3MBX1",1641,"PF14701",242,684,800,"PF14701.5 Glycogen debranching enzyme, glucanotransferase domain"]
["B3MBX1_DROAN","B3MBX1",1641,"PF14699",133,236,587,"PF14699.5 N-terminal domain from the human glycogen debranching enzyme"]
["B3MBX1_DROAN","B3MBX1",1641,"PF14702",822,1092,717,"PF14702.5 Central domain of human glycogen debranching enzyme"]
["B4GA88_DROPE","B4GA88",1667,"PF06202",1185,1654,1981,"PF06202.13 Amylo-alpha-1,6-glucosidase"]
["B4GA88_DROPE","B4GA88",1667,"PF14701",268,710,800,"PF14701.5 Glycogen debranching enzyme, glucanotransferase domain"]
["B4GA88_DROPE","B4GA88",1667,"PF14699",159,262,587,"PF14699.5 N-terminal domain from the human glycogen debranching enzyme"]
["B4GA88_DROPE","B4GA88",1667,"PF14702",848,1118,717,"PF14702.5 Central domain of human glycogen debranching enzyme"]
["B4I7P0_DROSE","B4I7P0",1114,"PF06202",632,1101,1981,"PF06202.13 Amylo-alpha-1,6-glucosidase"]
["B4I7P0_DROSE","B4I7P0",1114,"PF14701",2,157,800,"PF14701.5 Glycogen debranching enzyme, glucanotransferase domain"]
["B4I7P0_DROSE","B4I7P0",1114,"PF14702",295,565,717,"PF14702.5 Central domain of human glycogen debranching enzyme"]
["B4J7H5_DROGR","B4J7H5",1538,"PF06202",1057,1526,1981,"PF06202.13 Amylo-alpha-1,6-glucosidase"]
["B4J7H5_DROGR","B4J7H5",1538,"PF14701",140,582,800,"PF14701.5 Glycogen debranching enzyme, glucanotransferase domain"]
["B4J7H5_DROGR","B4J7H5",1538,"PF14699",31,134,587,"PF14699.5 N-terminal domain from the human glycogen debranching enzyme"]
["B4J7H5_DROGR","B4J7H5",1538,"PF14702",720,990,717,"PF14702.5 Central domain of human glycogen debranching enzyme"]
["B4KSI9_DROMO","B4KSI9",1670,"PF06202",1189,1658,1981,"PF06202.13 Amylo-alpha-1,6-glucosidase"]
["B4KSI9_DROMO","B4KSI9",1670,"PF14701",272,714,800,"PF14701.5 Glycogen debranching enzyme, glucanotransferase domain"]
["B4KSI9_DROMO","B4KSI9",1670,"PF14699",163,266,587,"PF14699.5 N-terminal domain from the human glycogen debranching enzyme"]
["B4KSI9_DROMO","B4KSI9",1670,"PF14702",852,1122,717,"PF14702.5 Central domain of human glycogen debranching enzyme"]
["B4LMF7_DROVI","B4LMF7",1687,"PF06202",1206,1675,1981,"PF06202.13 Amylo-alpha-1,6-glucosidase"]
["B4LMF7_DROVI","B4LMF7",1687,"PF14701",289,731,800,"PF14701.5 Glycogen debranching enzyme, glucanotransferase domain"]
["B4LMF7_DROVI","B4LMF7",1687,"PF14699",180,283,587,"PF14699.5 N-terminal domain from the human glycogen debranching enzyme"]
["B4LMF7_DROVI","B4LMF7",1687,"PF14702",869,1139,717,"PF14702.5 Central domain of human glycogen debranching enzyme"]
["B4MPI2_DROWI","B4MPI2",1535,"PF06202",1054,1522,1981,"PF06202.13 Amylo-alpha-1,6-glucosidase"]
["B4MPI2_DROWI","B4MPI2",1535,"PF14701",140,582,800,"PF14701.5 Glycogen debranching enzyme, glucanotransferase domain"]
["B4MPI2_DROWI","B4MPI2",1535,"PF14699",31,134,587,"PF14699.5 N-terminal domain from the human glycogen debranching enzyme"]
["B4MPI2_DROWI","B4MPI2",1535,"PF14702",720,987,717,"PF14702.5 Central domain of human glycogen debranching enzyme"]
["B4QG18_DROSI","B4QG18",1283,"PF06202",801,1270,1981,"PF06202.13 Amylo-alpha-1,6-glucosidase"]
["B4QG18_DROSI","B4QG18",1283,"PF14701",247,338,800,"PF14701.5 Glycogen debranching enzyme, glucanotransferase domain"]
["B4QG18_DROSI","B4QG18",1283,"PF14699",138,241,587,"PF14699.5 N-terminal domain from the human glycogen debranching enzyme"]
["B4QG18_DROSI","B4QG18",1283,"PF14702",464,734,717,"PF14702.5 Central domain of human glycogen debranching enzyme"]
["B6ABH3_CRYMR","B6ABH3",1859,"PF16561",864,972,2886,"PF16561.4 Glycogen recognition site of AMP-activated protein kinase"]
["B6ABH3_CRYMR","B6ABH3",1859,"PF06202",1353,1848,1981,"PF06202.13 Amylo-alpha-1,6-glucosidase"]
["B6ABH3_CRYMR","B6ABH3",1859,"PF14701",210,647,800,"PF14701.5 Glycogen debranching enzyme, glucanotransferase domain"]
["B6ABH3_CRYMR","B6ABH3",1859,"PF14702",987,1245,717,"PF14702.5 Central domain of human glycogen debranching enzyme"]
["B6HTR6_PENRW","B6HTR6",1534,"PF06202",1053,1525,1981,"PF06202.13 Amylo-alpha-1,6-glucosidase"]
["B6HTR6_PENRW","B6HTR6",1534,"PF14701",135,573,800,"PF14701.5 Glycogen debranching enzyme, glucanotransferase domain"]
["B6HTR6_PENRW","B6HTR6",1534,"PF14699",37,133,587,"PF14699.5 N-terminal domain from the human glycogen debranching enzyme"]
["B6HTR6_PENRW","B6HTR6",1534,"PF14702",737,980,717,"PF14702.5 Central domain of human glycogen debranching enzyme"]
["B6QE94_TALMQ","B6QE94",1523,"PF06202",1040,1512,1981,"PF06202.13 Amylo-alpha-1,6-glucosidase"]
["B6QE94_TALMQ","B6QE94",1523,"PF14701",135,566,800,"PF14701.5 Glycogen debranching enzyme, glucanotransferase domain"]
["B6QE94_TALMQ","B6QE94",1523,"PF14699",37,133,587,"PF14699.5 N-terminal domain from the human glycogen debranching enzyme"]
["B6QE94_TALMQ","B6QE94",1523,"PF14702",723,967,717,"PF14702.5 Central domain of human glycogen debranching enzyme"]
["B7QG62_IXOSC","B7QG62",1123,"PF06202",657,1115,1981,"PF06202.13 Amylo-alpha-1,6-glucosidase"]
["B7QG62_IXOSC","B7QG62",1123,"PF14701",1,354,800,"PF14701.5 Glycogen debranching enzyme, glucanotransferase domain"]
["B7QG62_IXOSC","B7QG62",1123,"PF14702",523,609,717,"PF14702.5 Central domain of human glycogen debranching enzyme"]
["B8MB42_TALSN","B8MB42",1524,"PF06202",1039,1512,1981,"PF06202.13 Amylo-alpha-1,6-glucosidase"]
["B8MB42_TALSN","B8MB42",1524,"PF14701",135,565,800,"PF14701.5 Glycogen debranching enzyme, glucanotransferase domain"]
["B8MB42_TALSN","B8MB42",1524,"PF14699",37,133,587,"PF14699.5 N-terminal domain from the human glycogen debranching enzyme"]
["B8MB42_TALSN","B8MB42",1524,"PF14702",722,966,717,"PF14702.5 Central domain of human glycogen debranching enzyme"]
["B8MYJ6_ASPFN","B8MYJ6",1537,"PF06202",1052,1524,1981,"PF06202.13 Amylo-alpha-1,6-glucosidase"]
["B8MYJ6_ASPFN","B8MYJ6",1537,"PF14701",135,573,800,"PF14701.5 Glycogen debranching enzyme, glucanotransferase domain"]
["B8MYJ6_ASPFN","B8MYJ6",1537,"PF14699",37,133,587,"PF14699.5 N-terminal domain from the human glycogen debranching enzyme"]
["B8MYJ6_ASPFN","B8MYJ6",1537,"PF14702",736,979,717,"PF14702.5 Central domain of human glycogen debranching enzyme"]
["C0NQD3_AJECG","C0NQD3",1572,"PF06202",1077,1563,1981,"PF06202.13 Amylo-alpha-1,6-glucosidase"]
["C0NQD3_AJECG","C0NQD3",1572,"PF14701",141,584,800,"PF14701.5 Glycogen debranching enzyme, glucanotransferase domain"]
["C0NQD3_AJECG","C0NQD3",1572,"PF14699",38,139,587,"PF14699.5 N-terminal domain from the human glycogen debranching enzyme"]
["C0NQD3_AJECG","C0NQD3",1572,"PF14702",761,1005,717,"PF14702.5 Central domain of human glycogen debranching enzyme"]
["C1GL12_PARBD","C1GL12",1593,"PF06202",1090,1575,1981,"PF06202.13 Amylo-alpha-1,6-glucosidase"]
["C1GL12_PARBD","C1GL12",1593,"PF14701",154,597,800,"PF14701.5 Glycogen debranching enzyme, glucanotransferase domain"]
["C1GL12_PARBD","C1GL12",1593,"PF14699",46,152,587,"PF14699.5 N-terminal domain from the human glycogen debranching enzyme"]
["C1GL12_PARBD","C1GL12",1593,"PF14702",776,1018,717,"PF14702.5 Central domain of human glycogen debranching enzyme"]
["C3YID9_BRAFL","C3YID9",1932,"PF06202",1428,1914,1981,"PF06202.13 Amylo-alpha-1,6-glucosidase"]
["C3YID9_BRAFL","C3YID9",1932,"PF14701",232,668,800,"PF14701.5 Glycogen debranching enzyme, glucanotransferase domain"]
["C3YID9_BRAFL","C3YID9",1932,"PF14699",140,228,587,"PF14699.5 N-terminal domain from the human glycogen debranching enzyme"]
["C3YID9_BRAFL","C3YID9",1932,"PF14702",814,940,717,"PF14702.5 Central domain of human glycogen debranching enzyme"]
["C3YID9_BRAFL","C3YID9",1932,"PF14702",1088,1361,717,"PF14702.5 Central domain of human glycogen debranching enzyme"]
["C4JU91_UNCRE","C4JU91",1458,"PF06202",1022,1457,1981,"PF06202.13 Amylo-alpha-1,6-glucosidase"]
["C4JU91_UNCRE","C4JU91",1458,"PF14701",108,551,800,"PF14701.5 Glycogen debranching enzyme, glucanotransferase domain"]
["C4JU91_UNCRE","C4JU91",1458,"PF14699",37,87,587,"PF14699.5 N-terminal domain from the human glycogen debranching enzyme"]
["C4JU91_UNCRE","C4JU91",1458,"PF14702",706,949,717,"PF14702.5 Central domain of human glycogen debranching enzyme"]
["C4LXB9_ENTHI","C4LXB9",1428,"PF06202",937,1420,1981,"PF06202.13 Amylo-alpha-1,6-glucosidase"]
["C4LXB9_ENTHI","C4LXB9",1428,"PF14701",109,528,800,"PF14701.5 Glycogen debranching enzyme, glucanotransferase domain"]
["C4LXB9_ENTHI","C4LXB9",1428,"PF14702",670,899,717,"PF14702.5 Central domain of human glycogen debranching enzyme"]
["C4R1U8_KOMPG","C4R1U8",1525,"PF06202",1038,1515,1981,"PF06202.13 Amylo-alpha-1,6-glucosidase"]
["C4R1U8_KOMPG","C4R1U8",1525,"PF14701",135,559,800,"PF14701.5 Glycogen debranching enzyme, glucanotransferase domain"]
["C4R1U8_KOMPG","C4R1U8",1525,"PF14699",44,133,587,"PF14699.5 N-terminal domain from the human glycogen debranching enzyme"]
["C4R1U8_KOMPG","C4R1U8",1525,"PF14702",721,964,717,"PF14702.5 Central domain of human glycogen debranching enzyme"]
["C4Y8I7_CLAL4","C4Y8I7",1228,"PF06202",1031,1220,1981,"PF06202.13 Amylo-alpha-1,6-glucosidase"]
["C4Y8I7_CLAL4","C4Y8I7",1228,"PF14701",137,561,800,"PF14701.5 Glycogen debranching enzyme, glucanotransferase domain"]
["C4Y8I7_CLAL4","C4Y8I7",1228,"PF14699",47,135,587,"PF14699.5 N-terminal domain from the human glycogen debranching enzyme"]
["C4Y8I7_CLAL4","C4Y8I7",1228,"PF14702",720,960,717,"PF14702.5 Central domain of human glycogen debranching enzyme"]
["C5DB95_LACTC","C5DB95",1512,"PF06202",1027,1504,1981,"PF06202.13 Amylo-alpha-1,6-glucosidase"]
["C5DB95_LACTC","C5DB95",1512,"PF14701",136,556,800,"PF14701.5 Glycogen debranching enzyme, glucanotransferase domain"]
["C5DB95_LACTC","C5DB95",1512,"PF14699",46,134,587,"PF14699.5 N-terminal domain from the human glycogen debranching enzyme"]
["C5DB95_LACTC","C5DB95",1512,"PF14702",717,957,717,"PF14702.5 Central domain of human glycogen debranching enzyme"]
["C5DUS3_ZYGRC","C5DUS3",1524,"PF06202",1036,1513,1981,"PF06202.13 Amylo-alpha-1,6-glucosidase"]
["C5DUS3_ZYGRC","C5DUS3",1524,"PF14701",138,558,800,"PF14701.5 Glycogen debranching enzyme, glucanotransferase domain"]
["C5DUS3_ZYGRC","C5DUS3",1524,"PF14699",48,136,587,"PF14699.5 N-terminal domain from the human glycogen debranching enzyme"]
["C5DUS3_ZYGRC","C5DUS3",1524,"PF14702",725,966,717,"PF14702.5 Central domain of human glycogen debranching enzyme"]
["C5FS32_ARTOC","C5FS32",1525,"PF06202",1040,1512,1981,"PF06202.13 Amylo-alpha-1,6-glucosidase"]
["C5FS32_ARTOC","C5FS32",1525,"PF14701",140,572,800,"PF14701.5 Glycogen debranching enzyme, glucanotransferase domain"]
["C5FS32_ARTOC","C5FS32",1525,"PF14699",40,138,587,"PF14699.5 N-terminal domain from the human glycogen debranching enzyme"]
["C5FS32_ARTOC","C5FS32",1525,"PF14702",727,967,717,"PF14702.5 Central domain of human glycogen debranching enzyme"]
["C5GTI6_AJEDR","C5GTI6",1578,"PF06202",1073,1560,1981,"PF06202.13 Amylo-alpha-1,6-glucosidase"]
["C5GTI6_AJEDR","C5GTI6",1578,"PF14701",141,584,800,"PF14701.5 Glycogen debranching enzyme, glucanotransferase domain"]
["C5GTI6_AJEDR","C5GTI6",1578,"PF14699",38,139,587,"PF14699.5 N-terminal domain from the human glycogen debranching enzyme"]
["C5GTI6_AJEDR","C5GTI6",1578,"PF14702",757,1001,717,"PF14702.5 Central domain of human glycogen debranching enzyme"]
["C5MCK0_CANTT","C5MCK0",1522,"PF06202",1039,1509,1981,"PF06202.13 Amylo-alpha-1,6-glucosidase"]
["C5MCK0_CANTT","C5MCK0",1522,"PF14701",142,567,800,"PF14701.5 Glycogen debranching enzyme, glucanotransferase domain"]
["C5MCK0_CANTT","C5MCK0",1522,"PF14699",52,140,587,"PF14699.5 N-terminal domain from the human glycogen debranching enzyme"]
["C5MCK0_CANTT","C5MCK0",1522,"PF14702",726,968,717,"PF14702.5 Central domain of human glycogen debranching enzyme"]
["C6HS62_AJECH","C6HS62",1457,"PF06202",1088,1444,1981,"PF06202.13 Amylo-alpha-1,6-glucosidase"]
["C6HS62_AJECH","C6HS62",1457,"PF14701",152,595,800,"PF14701.5 Glycogen debranching enzyme, glucanotransferase domain"]
["C6HS62_AJECH","C6HS62",1457,"PF14699",38,150,587,"PF14699.5 N-terminal domain from the human glycogen debranching enzyme"]
["C6HS62_AJECH","C6HS62",1457,"PF14702",772,1016,717,"PF14702.5 Central domain of human glycogen debranching enzyme"]
["C7Z6K9_NECH7","C7Z6K9",1554,"PF06202",1072,1544,1981,"PF06202.13 Amylo-alpha-1,6-glucosidase"]
["C7Z6K9_NECH7","C7Z6K9",1554,"PF14701",144,580,800,"PF14701.5 Glycogen debranching enzyme, glucanotransferase domain"]
["C7Z6K9_NECH7","C7Z6K9",1554,"PF14699",42,142,587,"PF14699.5 N-terminal domain from the human glycogen debranching enzyme"]
["C7Z6K9_NECH7","C7Z6K9",1554,"PF14702",755,999,717,"PF14702.5 Central domain of human glycogen debranching enzyme"]
["C8VTT8_EMENI","C8VTT8",1537,"PF06202",1055,1528,1981,"PF06202.13 Amylo-alpha-1,6-glucosidase"]
["C8VTT8_EMENI","C8VTT8",1537,"PF14701",134,575,800,"PF14701.5 Glycogen debranching enzyme, glucanotransferase domain"]
["C8VTT8_EMENI","C8VTT8",1537,"PF14699",36,132,587,"PF14699.5 N-terminal domain from the human glycogen debranching enzyme"]
["C8VTT8_EMENI","C8VTT8",1537,"PF14702",739,983,717,"PF14702.5 Central domain of human glycogen debranching enzyme"]
["C9SJ23_VERA1","C9SJ23",733,"PF06202",234,710,1981,"PF06202.13 Amylo-alpha-1,6-glucosidase"]
["C9SJ23_VERA1","C9SJ23",733,"PF14702",1,165,717,"PF14702.5 Central domain of human glycogen debranching enzyme"]
["D3AZS3_POLPA","D3AZS3",1473,"PF06202",1085,1431,1981,"PF06202.13 Amylo-alpha-1,6-glucosidase"]
["D3AZS3_POLPA","D3AZS3",1473,"PF06202",1425,1464,1981,"PF06202.13 Amylo-alpha-1,6-glucosidase"]
["D3AZS3_POLPA","D3AZS3",1473,"PF14701",180,617,800,"PF14701.5 Glycogen debranching enzyme, glucanotransferase domain"]
["D3AZS3_POLPA","D3AZS3",1473,"PF14699",85,178,587,"PF14699.5 N-terminal domain from the human glycogen debranching enzyme"]
["D3AZS3_POLPA","D3AZS3",1473,"PF14702",768,1017,717,"PF14702.5 Central domain of human glycogen debranching enzyme"]
["D4AEH9_RAT","D4AEH9",1532,"PF06202",1044,1527,1981,"PF06202.13 Amylo-alpha-1,6-glucosidase"]
["D4AEH9_RAT","D4AEH9",1532,"PF14701",120,551,800,"PF14701.5 Glycogen debranching enzyme, glucanotransferase domain"]
["D4AEH9_RAT","D4AEH9",1532,"PF14699",31,116,587,"PF14699.5 N-terminal domain from the human glycogen debranching enzyme"]
["D4AEH9_RAT","D4AEH9",1532,"PF14702",697,974,717,"PF14702.5 Central domain of human glycogen debranching enzyme"]
["D4ASG4_ARTBC","D4ASG4",1506,"PF06202",1039,1503,1981,"PF06202.13 Amylo-alpha-1,6-glucosidase"]
["D4ASG4_ARTBC","D4ASG4",1506,"PF14701",139,571,800,"PF14701.5 Glycogen debranching enzyme, glucanotransferase domain"]
["D4ASG4_ARTBC","D4ASG4",1506,"PF14699",39,137,587,"PF14699.5 N-terminal domain from the human glycogen debranching enzyme"]
["D4ASG4_ARTBC","D4ASG4",1506,"PF14702",726,966,717,"PF14702.5 Central domain of human glycogen debranching enzyme"]
["D5G4I5_TUBMM","D5G4I5",1473,"PF06202",998,1463,1981,"PF06202.13 Amylo-alpha-1,6-glucosidase"]
["D5G4I5_TUBMM","D5G4I5",1473,"PF14701",135,402,800,"PF14701.5 Glycogen debranching enzyme, glucanotransferase domain"]
["D5G4I5_TUBMM","D5G4I5",1473,"PF14701",388,544,800,"PF14701.5 Glycogen debranching enzyme, glucanotransferase domain"]
["D5G4I5_TUBMM","D5G4I5",1473,"PF14699",35,133,587,"PF14699.5 N-terminal domain from the human glycogen debranching enzyme"]
["D5G4I5_TUBMM","D5G4I5",1473,"PF14702",684,926,717,"PF14702.5 Central domain of human glycogen debranching enzyme"]
["D8LWI1_BLAHO","D8LWI1",1088,"PF06202",627,1082,1981,"PF06202.13 Amylo-alpha-1,6-glucosidase"]
["D8LWI1_BLAHO","D8LWI1",1088,"PF14701",15,93,800,"PF14701.5 Glycogen debranching enzyme, glucanotransferase domain"]
["D8LWI1_BLAHO","D8LWI1",1088,"PF14702",263,501,717,"PF14702.5 Central domain of human glycogen debranching enzyme"]
["D8LWI1_BLAHO","D8LWI1",1088,"PF14702",513,569,717,"PF14702.5 Central domain of human glycogen debranching enzyme"]
["D8Q378_SCHCM","D8Q378",1596,"PF06202",1109,1585,1981,"PF06202.13 Amylo-alpha-1,6-glucosidase"]
["D8Q378_SCHCM","D8Q378",1596,"PF14701",208,640,800,"PF14701.5 Glycogen debranching enzyme, glucanotransferase domain"]
["D8Q378_SCHCM","D8Q378",1596,"PF14699",94,182,587,"PF14699.5 N-terminal domain from the human glycogen debranching enzyme"]
["D8Q378_SCHCM","D8Q378",1596,"PF14702",797,1037,717,"PF14702.5 Central domain of human glycogen debranching enzyme"]
["E0VNL2_PEDHC","E0VNL2",1543,"PF06202",1052,1528,1981,"PF06202.13 Amylo-alpha-1,6-glucosidase"]
["E0VNL2_PEDHC","E0VNL2",1543,"PF14701",152,581,800,"PF14701.5 Glycogen debranching enzyme, glucanotransferase domain"]
["E0VNL2_PEDHC","E0VNL2",1543,"PF14699",56,149,587,"PF14699.5 N-terminal domain from the human glycogen debranching enzyme"]
["E0VNL2_PEDHC","E0VNL2",1543,"PF14702",726,985,717,"PF14702.5 Central domain of human glycogen debranching enzyme"]
["E1G3C1_LOALO","E1G3C1",1147,"PF06202",1000,1138,1981,"PF06202.13 Amylo-alpha-1,6-glucosidase"]
["E1G3C1_LOALO","E1G3C1",1147,"PF14701",121,554,800,"PF14701.5 Glycogen debranching enzyme, glucanotransferase domain"]
["E1G3C1_LOALO","E1G3C1",1147,"PF14702",691,948,717,"PF14702.5 Central domain of human glycogen debranching enzyme"]
["E1JGQ5_DROME","E1JGQ5",1563,"PF06202",1081,1550,1981,"PF06202.13 Amylo-alpha-1,6-glucosidase"]
["E1JGQ5_DROME","E1JGQ5",1563,"PF14701",164,606,800,"PF14701.5 Glycogen debranching enzyme, glucanotransferase domain"]
["E1JGQ5_DROME","E1JGQ5",1563,"PF14699",34,158,587,"PF14699.5 N-terminal domain from the human glycogen debranching enzyme"]
["E1JGQ5_DROME","E1JGQ5",1563,"PF14702",744,1014,717,"PF14702.5 Central domain of human glycogen debranching enzyme"]
["E2A7S3_CAMFO","E2A7S3",1498,"PF06202",1001,1477,1981,"PF06202.13 Amylo-alpha-1,6-glucosidase"]
["E2A7S3_CAMFO","E2A7S3",1498,"PF14701",163,454,800,"PF14701.5 Glycogen debranching enzyme, glucanotransferase domain"]
["E2A7S3_CAMFO","E2A7S3",1498,"PF14701",446,551,800,"PF14701.5 Glycogen debranching enzyme, glucanotransferase domain"]
["E2A7S3_CAMFO","E2A7S3",1498,"PF14699",78,159,587,"PF14699.5 N-terminal domain from the human glycogen debranching enzyme"]
["E2A7S3_CAMFO","E2A7S3",1498,"PF14702",698,860,717,"PF14702.5 Central domain of human glycogen debranching enzyme"]
["E2A7S3_CAMFO","E2A7S3",1498,"PF14702",857,925,717,"PF14702.5 Central domain of human glycogen debranching enzyme"]
["E2BPT9_HARSA","E2BPT9",2005,"PF06202",1053,1539,1981,"PF06202.13 Amylo-alpha-1,6-glucosidase"]
["E2BPT9_HARSA","E2BPT9",2005,"PF14701",130,564,800,"PF14701.5 Glycogen debranching enzyme, glucanotransferase domain"]
["E2BPT9_HARSA","E2BPT9",2005,"PF14699",38,127,587,"PF14699.5 N-terminal domain from the human glycogen debranching enzyme"]
["E2BPT9_HARSA","E2BPT9",2005,"PF14702",711,986,717,"PF14702.5 Central domain of human glycogen debranching enzyme"]
["E2L5Q4_MONPE","E2L5Q4",138,"PF14702",1,73,717,"PF14702.5 Central domain of human glycogen debranching enzyme"]
["E3KWY4_PUCGT","E3KWY4",1608,"PF06202",1122,1598,1981,"PF06202.13 Amylo-alpha-1,6-glucosidase"]
["E3KWY4_PUCGT","E3KWY4",1608,"PF14701",204,640,800,"PF14701.5 Glycogen debranching enzyme, glucanotransferase domain"]
["E3KWY4_PUCGT","E3KWY4",1608,"PF14699",84,174,587,"PF14699.5 N-terminal domain from the human glycogen debranching enzyme"]
["E3KWY4_PUCGT","E3KWY4",1608,"PF14702",797,1050,717,"PF14702.5 Central domain of human glycogen debranching enzyme"]
["E3MHZ4_CAERE","E3MHZ4",1472,"PF06202",1003,1462,1981,"PF06202.13 Amylo-alpha-1,6-glucosidase"]
["E3MHZ4_CAERE","E3MHZ4",1472,"PF14701",116,548,800,"PF14701.5 Glycogen debranching enzyme, glucanotransferase domain"]
["E3MHZ4_CAERE","E3MHZ4",1472,"PF14699",33,114,587,"PF14699.5 N-terminal domain from the human glycogen debranching enzyme"]
["E3MHZ4_CAERE","E3MHZ4",1472,"PF14702",687,936,717,"PF14702.5 Central domain of human glycogen debranching enzyme"]
["E3QZQ7_COLGM","E3QZQ7",1573,"PF06202",1076,1551,1981,"PF06202.13 Amylo-alpha-1,6-glucosidase"]
["E3QZQ7_COLGM","E3QZQ7",1573,"PF14701",143,586,800,"PF14701.5 Glycogen debranching enzyme, glucanotransferase domain"]
["E3QZQ7_COLGM","E3QZQ7",1573,"PF14699",41,141,587,"PF14699.5 N-terminal domain from the human glycogen debranching enzyme"]
["E3QZQ7_COLGM","E3QZQ7",1573,"PF14702",762,1006,717,"PF14702.5 Central domain of human glycogen debranching enzyme"]
["E3RH37_PYRTT","E3RH37",1569,"PF06202",1070,1543,1981,"PF06202.13 Amylo-alpha-1,6-glucosidase"]
["E3RH37_PYRTT","E3RH37",1569,"PF14701",146,592,800,"PF14701.5 Glycogen debranching enzyme, glucanotransferase domain"]
["E3RH37_PYRTT","E3RH37",1569,"PF14699",48,144,587,"PF14699.5 N-terminal domain from the human glycogen debranching enzyme"]
["E3RH37_PYRTT","E3RH37",1569,"PF14702",753,997,717,"PF14702.5 Central domain of human glycogen debranching enzyme"]
["E4UNH6_ARTGP","E4UNH6",1523,"PF06202",1039,1511,1981,"PF06202.13 Amylo-alpha-1,6-glucosidase"]
["E4UNH6_ARTGP","E4UNH6",1523,"PF14701",139,571,800,"PF14701.5 Glycogen debranching enzyme, glucanotransferase domain"]
["E4UNH6_ARTGP","E4UNH6",1523,"PF14699",39,137,587,"PF14699.5 N-terminal domain from the human glycogen debranching enzyme"]
["E4UNH6_ARTGP","E4UNH6",1523,"PF14702",726,966,717,"PF14702.5 Central domain of human glycogen debranching enzyme"]
["E4X3A2_OIKDI","E4X3A2",1399,"PF06202",952,1391,1981,"PF06202.13 Amylo-alpha-1,6-glucosidase"]
["E4X3A2_OIKDI","E4X3A2",1399,"PF14701",104,518,800,"PF14701.5 Glycogen debranching enzyme, glucanotransferase domain"]
["E4X3A2_OIKDI","E4X3A2",1399,"PF14702",649,892,717,"PF14702.5 Central domain of human glycogen debranching enzyme"]
["E4ZG29_LEPMJ","E4ZG29",1561,"PF06202",1072,1545,1981,"PF06202.13 Amylo-alpha-1,6-glucosidase"]
["E4ZG29_LEPMJ","E4ZG29",1561,"PF14701",142,588,800,"PF14701.5 Glycogen debranching enzyme, glucanotransferase domain"]
["E4ZG29_LEPMJ","E4ZG29",1561,"PF14699",44,140,587,"PF14699.5 N-terminal domain from the human glycogen debranching enzyme"]
["E4ZG29_LEPMJ","E4ZG29",1561,"PF14702",755,999,717,"PF14702.5 Central domain of human glycogen debranching enzyme"]
["E5S846_TRISP","E5S846",1638,"PF06202",1129,1601,1981,"PF06202.13 Amylo-alpha-1,6-glucosidase"]
["E5S846_TRISP","E5S846",1638,"PF14701",164,589,800,"PF14701.5 Glycogen debranching enzyme, glucanotransferase domain"]
["E5S846_TRISP","E5S846",1638,"PF14699",68,160,587,"PF14699.5 N-terminal domain from the human glycogen debranching enzyme"]
["E5S846_TRISP","E5S846",1638,"PF14702",740,1049,717,"PF14702.5 Central domain of human glycogen debranching enzyme"]
["E6ZMW0_SPORE","E6ZMW0",1571,"PF06202",1091,1564,1981,"PF06202.13 Amylo-alpha-1,6-glucosidase"]
["E6ZMW0_SPORE","E6ZMW0",1571,"PF14701",180,620,800,"PF14701.5 Glycogen debranching enzyme, glucanotransferase domain"]
["E6ZMW0_SPORE","E6ZMW0",1571,"PF14699",51,153,587,"PF14699.5 N-terminal domain from the human glycogen debranching enzyme"]
["E6ZMW0_SPORE","E6ZMW0",1571,"PF14702",777,1019,717,"PF14702.5 Central domain of human glycogen debranching enzyme"]
["E7KJ04_YEASA","E7KJ04",1536,"PF06202",1045,1523,1981,"PF06202.13 Amylo-alpha-1,6-glucosidase"]
["E7KJ04_YEASA","E7KJ04",1536,"PF14701",136,560,800,"PF14701.5 Glycogen debranching enzyme, glucanotransferase domain"]
["E7KJ04_YEASA","E7KJ04",1536,"PF14699",46,134,587,"PF14699.5 N-terminal domain from the human glycogen debranching enzyme"]
["E7KJ04_YEASA","E7KJ04",1536,"PF14702",732,975,717,"PF14702.5 Central domain of human glycogen debranching enzyme"]
["E7M1B8_YEASV","E7M1B8",1538,"PF06202",1045,1523,1981,"PF06202.13 Amylo-alpha-1,6-glucosidase"]
["E7M1B8_YEASV","E7M1B8",1538,"PF14701",136,560,800,"PF14701.5 Glycogen debranching enzyme, glucanotransferase domain"]
["E7M1B8_YEASV","E7M1B8",1538,"PF14699",46,134,587,"PF14699.5 N-terminal domain from the human glycogen debranching enzyme"]
["E7M1B8_YEASV","E7M1B8",1538,"PF14702",732,975,717,"PF14702.5 Central domain of human glycogen debranching enzyme"]
["E7QAP2_YEASB","E7QAP2",1407,"PF06202",916,1394,1981,"PF06202.13 Amylo-alpha-1,6-glucosidase"]
["E7QAP2_YEASB","E7QAP2",1407,"PF14701",7,431,800,"PF14701.5 Glycogen debranching enzyme, glucanotransferase domain"]
["E7QAP2_YEASB","E7QAP2",1407,"PF14702",603,846,717,"PF14702.5 Central domain of human glycogen debranching enzyme"]
["E9DJT7_COCPS","E9DJT7",1472,"PF06202",982,1454,1981,"PF06202.13 Amylo-alpha-1,6-glucosidase"]
["E9DJT7_COCPS","E9DJT7",1472,"PF14701",68,511,800,"PF14701.5 Glycogen debranching enzyme, glucanotransferase domain"]
["E9DJT7_COCPS","E9DJT7",1472,"PF14699",2,66,587,"PF14699.5 N-terminal domain from the human glycogen debranching enzyme"]
["E9DJT7_COCPS","E9DJT7",1472,"PF14702",666,909,717,"PF14702.5 Central domain of human glycogen debranching enzyme"]
["E9E262_METAQ","E9E262",1556,"PF06202",1071,1543,1981,"PF06202.13 Amylo-alpha-1,6-glucosidase"]
["E9E262_METAQ","E9E262",1556,"PF14701",144,588,800,"PF14701.5 Glycogen debranching enzyme, glucanotransferase domain"]
["E9E262_METAQ","E9E262",1556,"PF14699",41,142,587,"PF14699.5 N-terminal domain from the human glycogen debranching enzyme"]
["E9E262_METAQ","E9E262",1556,"PF14702",754,998,717,"PF14702.5 Central domain of human glycogen debranching enzyme"]
["E9F3Z7_METRA","E9F3Z7",1555,"PF06202",1071,1543,1981,"PF06202.13 Amylo-alpha-1,6-glucosidase"]
["E9F3Z7_METRA","E9F3Z7",1555,"PF14701",144,588,800,"PF14701.5 Glycogen debranching enzyme, glucanotransferase domain"]
["E9F3Z7_METRA","E9F3Z7",1555,"PF14699",41,142,587,"PF14699.5 N-terminal domain from the human glycogen debranching enzyme"]
["E9F3Z7_METRA","E9F3Z7",1555,"PF14702",754,998,717,"PF14702.5 Central domain of human glycogen debranching enzyme"]
["E9IFN1_SOLIN","E9IFN1",688,"PF06202",185,667,1981,"PF06202.13 Amylo-alpha-1,6-glucosidase"]
["E9IFN1_SOLIN","E9IFN1",688,"PF14702",3,114,717,"PF14702.5 Central domain of human glycogen debranching enzyme"]
["F0UTC9_AJEC8","F0UTC9",1583,"PF06202",1088,1574,1981,"PF06202.13 Amylo-alpha-1,6-glucosidase"]
["F0UTC9_AJEC8","F0UTC9",1583,"PF14701",152,595,800,"PF14701.5 Glycogen debranching enzyme, glucanotransferase domain"]
["F0UTC9_AJEC8","F0UTC9",1583,"PF14699",38,150,587,"PF14699.5 N-terminal domain from the human glycogen debranching enzyme"]
["F0UTC9_AJEC8","F0UTC9",1583,"PF14702",772,1016,717,"PF14702.5 Central domain of human glycogen debranching enzyme"]
["F0VLQ0_NEOCL","F0VLQ0",1849,"PF16561",837,934,2886,"PF16561.4 Glycogen recognition site of AMP-activated protein kinase"]
["F0VLQ0_NEOCL","F0VLQ0",1849,"PF06202",1345,1822,1981,"PF06202.13 Amylo-alpha-1,6-glucosidase"]
["F0VLQ0_NEOCL","F0VLQ0",1849,"PF14701",150,601,800,"PF14701.5 Glycogen debranching enzyme, glucanotransferase domain"]
["F0VLQ0_NEOCL","F0VLQ0",1849,"PF14702",945,1213,717,"PF14702.5 Central domain of human glycogen debranching enzyme"]
["F0XQV3_GROCL","F0XQV3",1563,"PF06202",1067,1543,1981,"PF06202.13 Amylo-alpha-1,6-glucosidase"]
["F0XQV3_GROCL","F0XQV3",1563,"PF14701",139,581,800,"PF14701.5 Glycogen debranching enzyme, glucanotransferase domain"]
["F0XQV3_GROCL","F0XQV3",1563,"PF14699",37,137,587,"PF14699.5 N-terminal domain from the human glycogen debranching enzyme"]
["F0XQV3_GROCL","F0XQV3",1563,"PF14702",753,996,717,"PF14702.5 Central domain of human glycogen debranching enzyme"]
["F0ZCG6_DICPU","F0ZCG6",1567,"PF06202",1086,1557,1981,"PF06202.13 Amylo-alpha-1,6-glucosidase"]
["F0ZCG6_DICPU","F0ZCG6",1567,"PF14701",176,620,800,"PF14701.5 Glycogen debranching enzyme, glucanotransferase domain"]
["F0ZCG6_DICPU","F0ZCG6",1567,"PF14699",81,174,587,"PF14699.5 N-terminal domain from the human glycogen debranching enzyme"]
["F0ZCG6_DICPU","F0ZCG6",1567,"PF14702",768,1019,717,"PF14702.5 Central domain of human glycogen debranching enzyme"]
["F1MHT1_BOVIN","F1MHT1",1532,"PF06202",1042,1527,1981,"PF06202.13 Amylo-alpha-1,6-glucosidase"]
["F1MHT1_BOVIN","F1MHT1",1532,"PF14701",120,551,800,"PF14701.5 Glycogen debranching enzyme, glucanotransferase domain"]
["F1MHT1_BOVIN","F1MHT1",1532,"PF14699",31,116,587,"PF14699.5 N-terminal domain from the human glycogen debranching enzyme"]
["F1MHT1_BOVIN","F1MHT1",1532,"PF14702",697,974,717,"PF14702.5 Central domain of human glycogen debranching enzyme"]
["F1NX83_CHICK","F1NX83",1530,"PF06202",1041,1525,1981,"PF06202.13 Amylo-alpha-1,6-glucosidase"]
["F1NX83_CHICK","F1NX83",1530,"PF14701",120,550,800,"PF14701.5 Glycogen debranching enzyme, glucanotransferase domain"]
["F1NX83_CHICK","F1NX83",1530,"PF14699",31,116,587,"PF14699.5 N-terminal domain from the human glycogen debranching enzyme"]
["F1NX83_CHICK","F1NX83",1530,"PF14702",695,972,717,"PF14702.5 Central domain of human glycogen debranching enzyme"]
["F1PBL3_CANLF","F1PBL3",1533,"PF06202",1043,1528,1981,"PF06202.13 Amylo-alpha-1,6-glucosidase"]
["F1PBL3_CANLF","F1PBL3",1533,"PF14701",120,552,800,"PF14701.5 Glycogen debranching enzyme, glucanotransferase domain"]
["F1PBL3_CANLF","F1PBL3",1533,"PF14699",31,116,587,"PF14699.5 N-terminal domain from the human glycogen debranching enzyme"]
["F1PBL3_CANLF","F1PBL3",1533,"PF14702",698,975,717,"PF14702.5 Central domain of human glycogen debranching enzyme"]
["F1S557_PIG","F1S557",1318,"PF06202",1042,1317,1981,"PF06202.13 Amylo-alpha-1,6-glucosidase"]
["F1S557_PIG","F1S557",1318,"PF14701",120,551,800,"PF14701.5 Glycogen debranching enzyme, glucanotransferase domain"]
["F1S557_PIG","F1S557",1318,"PF14699",31,116,587,"PF14699.5 N-terminal domain from the human glycogen debranching enzyme"]
["F1S557_PIG","F1S557",1318,"PF14702",697,974,717,"PF14702.5 Central domain of human glycogen debranching enzyme"]
["F2PHR1_TRIEC","F2PHR1",1115,"PF06202",631,1103,1981,"PF06202.13 Amylo-alpha-1,6-glucosidase"]
["F2PHR1_TRIEC","F2PHR1",1115,"PF14701",60,434,800,"PF14701.5 Glycogen debranching enzyme, glucanotransferase domain"]
["F2PHR1_TRIEC","F2PHR1",1115,"PF14702",394,558,717,"PF14702.5 Central domain of human glycogen debranching enzyme"]
["F2SVW0_TRIRC","F2SVW0",1494,"PF06202",1010,1482,1981,"PF06202.13 Amylo-alpha-1,6-glucosidase"]
["F2SVW0_TRIRC","F2SVW0",1494,"PF14701",110,542,800,"PF14701.5 Glycogen debranching enzyme, glucanotransferase domain"]
["F2SVW0_TRIRC","F2SVW0",1494,"PF14699",39,108,587,"PF14699.5 N-terminal domain from the human glycogen debranching enzyme"]
["F2SVW0_TRIRC","F2SVW0",1494,"PF14702",697,937,717,"PF14702.5 Central domain of human glycogen debranching enzyme"]
["F2UQQ0_SALR5","F2UQQ0",1194,"PF06202",920,1027,1981,"PF06202.13 Amylo-alpha-1,6-glucosidase"]
["F2UQQ0_SALR5","F2UQQ0",1194,"PF06202",1019,1180,1981,"PF06202.13 Amylo-alpha-1,6-glucosidase"]
["F2UQQ0_SALR5","F2UQQ0",1194,"PF14701",6,443,800,"PF14701.5 Glycogen debranching enzyme, glucanotransferase domain"]
["F2UQQ0_SALR5","F2UQQ0",1194,"PF14702",590,853,717,"PF14702.5 Central domain of human glycogen debranching enzyme"]
["F4PBL6_BATDJ","F4PBL6",1471,"PF06202",943,1461,1981,"PF06202.13 Amylo-alpha-1,6-glucosidase"]
["F4PBL6_BATDJ","F4PBL6",1471,"PF14701",3,450,800,"PF14701.5 Glycogen debranching enzyme, glucanotransferase domain"]
["F4PBL6_BATDJ","F4PBL6",1471,"PF14702",610,856,717,"PF14702.5 Central domain of human glycogen debranching enzyme"]
["F4PRV5_DICFS","F4PRV5",1535,"PF06202",1041,1521,1981,"PF06202.13 Amylo-alpha-1,6-glucosidase"]
["F4PRV5_DICFS","F4PRV5",1535,"PF14701",211,557,800,"PF14701.5 Glycogen debranching enzyme, glucanotransferase domain"]
["F4PRV5_DICFS","F4PRV5",1535,"PF14702",709,960,717,"PF14702.5 Central domain of human glycogen debranching enzyme"]
["F4RSD6_MELLP","F4RSD6",1649,"PF06202",1162,1635,1981,"PF06202.13 Amylo-alpha-1,6-glucosidase"]
["F4RSD6_MELLP","F4RSD6",1649,"PF14701",241,683,800,"PF14701.5 Glycogen debranching enzyme, glucanotransferase domain"]
["F4RSD6_MELLP","F4RSD6",1649,"PF14699",117,208,587,"PF14699.5 N-terminal domain from the human glycogen debranching enzyme"]
["F4RSD6_MELLP","F4RSD6",1649,"PF14702",837,1090,717,"PF14702.5 Central domain of human glycogen debranching enzyme"]
["F5HMX0_ANOGA","F5HMX0",1532,"PF06202",1051,1520,1981,"PF06202.13 Amylo-alpha-1,6-glucosidase"]
["F5HMX0_ANOGA","F5HMX0",1532,"PF14701",139,578,800,"PF14701.5 Glycogen debranching enzyme, glucanotransferase domain"]
["F5HMX0_ANOGA","F5HMX0",1532,"PF14699",31,133,587,"PF14699.5 N-terminal domain from the human glycogen debranching enzyme"]
["F5HMX0_ANOGA","F5HMX0",1532,"PF14702",716,984,717,"PF14702.5 Central domain of human glycogen debranching enzyme"]
["F6TE92_HORSE","F6TE92",1535,"PF06202",1045,1530,1981,"PF06202.13 Amylo-alpha-1,6-glucosidase"]
["F6TE92_HORSE","F6TE92",1535,"PF14701",121,553,800,"PF14701.5 Glycogen debranching enzyme, glucanotransferase domain"]
["F6TE92_HORSE","F6TE92",1535,"PF14699",32,117,587,"PF14699.5 N-terminal domain from the human glycogen debranching enzyme"]
["F6TE92_HORSE","F6TE92",1535,"PF14702",699,977,717,"PF14702.5 Central domain of human glycogen debranching enzyme"]
["F6UM75_CIOIN","F6UM75",1514,"PF06202",1032,1506,1981,"PF06202.13 Amylo-alpha-1,6-glucosidase"]
["F6UM75_CIOIN","F6UM75",1514,"PF14701",128,557,800,"PF14701.5 Glycogen debranching enzyme, glucanotransferase domain"]
["F6UM75_CIOIN","F6UM75",1514,"PF14699",38,124,587,"PF14699.5 N-terminal domain from the human glycogen debranching enzyme"]
["F6UM75_CIOIN","F6UM75",1514,"PF14702",702,964,717,"PF14702.5 Central domain of human glycogen debranching enzyme"]
["F6XXE6_MOUSE","F6XXE6",830,"PF06202",379,830,1981,"PF06202.13 Amylo-alpha-1,6-glucosidase"]
["F6XXE6_MOUSE","F6XXE6",830,"PF14702",33,310,717,"PF14702.5 Central domain of human glycogen debranching enzyme"]
["F6YVZ9_ORNAN","F6YVZ9",1109,"PF06202",617,1104,1981,"PF06202.13 Amylo-alpha-1,6-glucosidase"]
["F6YVZ9_ORNAN","F6YVZ9",1109,"PF14701",1,126,800,"PF14701.5 Glycogen debranching enzyme, glucanotransferase domain"]
["F6YVZ9_ORNAN","F6YVZ9",1109,"PF14702",272,549,717,"PF14702.5 Central domain of human glycogen debranching enzyme"]
["F7CSZ6_MOUSE","F7CSZ6",198,"PF14702",119,198,717,"PF14702.5 Central domain of human glycogen debranching enzyme"]
["F7D8W4_XENTR","F7D8W4",1532,"PF06202",1043,1527,1981,"PF06202.13 Amylo-alpha-1,6-glucosidase"]
["F7D8W4_XENTR","F7D8W4",1532,"PF14701",120,551,800,"PF14701.5 Glycogen debranching enzyme, glucanotransferase domain"]
["F7D8W4_XENTR","F7D8W4",1532,"PF14699",31,116,587,"PF14699.5 N-terminal domain from the human glycogen debranching enzyme"]
["F7D8W4_XENTR","F7D8W4",1532,"PF14702",697,974,717,"PF14702.5 Central domain of human glycogen debranching enzyme"]
["F7EAR4_MACMU","F7EAR4",1533,"PF06202",1043,1528,1981,"PF06202.13 Amylo-alpha-1,6-glucosidase"]
["F7EAR4_MACMU","F7EAR4",1533,"PF14701",120,551,800,"PF14701.5 Glycogen debranching enzyme, glucanotransferase domain"]
["F7EAR4_MACMU","F7EAR4",1533,"PF14699",31,116,587,"PF14699.5 N-terminal domain from the human glycogen debranching enzyme"]
["F7EAR4_MACMU","F7EAR4",1533,"PF14702",697,975,717,"PF14702.5 Central domain of human glycogen debranching enzyme"]
["F7EAR8_MACMU","F7EAR8",1532,"PF06202",1042,1527,1981,"PF06202.13 Amylo-alpha-1,6-glucosidase"]
["F7EAR8_MACMU","F7EAR8",1532,"PF14701",120,551,800,"PF14701.5 Glycogen debranching enzyme, glucanotransferase domain"]
["F7EAR8_MACMU","F7EAR8",1532,"PF14699",31,116,587,"PF14699.5 N-terminal domain from the human glycogen debranching enzyme"]
["F7EAR8_MACMU","F7EAR8",1532,"PF14702",697,974,717,"PF14702.5 Central domain of human glycogen debranching enzyme"]
["F7GJD2_MONDO","F7GJD2",1533,"PF06202",1043,1528,1981,"PF06202.13 Amylo-alpha-1,6-glucosidase"]
["F7GJD2_MONDO","F7GJD2",1533,"PF14701",120,552,800,"PF14701.5 Glycogen debranching enzyme, glucanotransferase domain"]
["F7GJD2_MONDO","F7GJD2",1533,"PF14699",31,116,587,"PF14699.5 N-terminal domain from the human glycogen debranching enzyme"]
["F7GJD2_MONDO","F7GJD2",1533,"PF14702",698,975,717,"PF14702.5 Central domain of human glycogen debranching enzyme"]
["F7VQT1_SORMK","F7VQT1",1566,"PF06202",1070,1546,1981,"PF06202.13 Amylo-alpha-1,6-glucosidase"]
["F7VQT1_SORMK","F7VQT1",1566,"PF14701",145,588,800,"PF14701.5 Glycogen debranching enzyme, glucanotransferase domain"]
["F7VQT1_SORMK","F7VQT1",1566,"PF14699",41,143,587,"PF14699.5 N-terminal domain from the human glycogen debranching enzyme"]
["F7VQT1_SORMK","F7VQT1",1566,"PF14702",755,999,717,"PF14702.5 Central domain of human glycogen debranching enzyme"]
["F8Q4P4_SERL3","F8Q4P4",1564,"PF06202",1077,1553,1981,"PF06202.13 Amylo-alpha-1,6-glucosidase"]
["F8Q4P4_SERL3","F8Q4P4",1564,"PF14701",177,607,800,"PF14701.5 Glycogen debranching enzyme, glucanotransferase domain"]
["F8Q4P4_SERL3","F8Q4P4",1564,"PF14699",62,150,587,"PF14699.5 N-terminal domain from the human glycogen debranching enzyme"]
["F8Q4P4_SERL3","F8Q4P4",1564,"PF14702",764,1005,717,"PF14702.5 Central domain of human glycogen debranching enzyme"]
["F8VPN4_MOUSE","F8VPN4",1532,"PF06202",1044,1527,1981,"PF06202.13 Amylo-alpha-1,6-glucosidase"]
["F8VPN4_MOUSE","F8VPN4",1532,"PF14701",120,551,800,"PF14701.5 Glycogen debranching enzyme, glucanotransferase domain"]
["F8VPN4_MOUSE","F8VPN4",1532,"PF14699",31,116,587,"PF14699.5 N-terminal domain from the human glycogen debranching enzyme"]
["F8VPN4_MOUSE","F8VPN4",1532,"PF14702",697,974,717,"PF14702.5 Central domain of human glycogen debranching enzyme"]
["F9FVA4_FUSOF","F9FVA4",1556,"PF06202",1072,1544,1981,"PF06202.13 Amylo-alpha-1,6-glucosidase"]
["F9FVA4_FUSOF","F9FVA4",1556,"PF14701",144,580,800,"PF14701.5 Glycogen debranching enzyme, glucanotransferase domain"]
["F9FVA4_FUSOF","F9FVA4",1556,"PF14699",42,142,587,"PF14699.5 N-terminal domain from the human glycogen debranching enzyme"]
["F9FVA4_FUSOF","F9FVA4",1556,"PF14702",755,999,717,"PF14702.5 Central domain of human glycogen debranching enzyme"]
["F9XGA6_ZYMTI","F9XGA6",1549,"PF06202",1064,1536,1981,"PF06202.13 Amylo-alpha-1,6-glucosidase"]
["F9XGA6_ZYMTI","F9XGA6",1549,"PF14701",141,579,800,"PF14701.5 Glycogen debranching enzyme, glucanotransferase domain"]
["F9XGA6_ZYMTI","F9XGA6",1549,"PF14699",43,139,587,"PF14699.5 N-terminal domain from the human glycogen debranching enzyme"]
["F9XGA6_ZYMTI","F9XGA6",1549,"PF14702",746,989,717,"PF14702.5 Central domain of human glycogen debranching enzyme"]
["G0N6Z0_CAEBE","G0N6Z0",1090,"PF06202",854,1080,1981,"PF06202.13 Amylo-alpha-1,6-glucosidase"]
["G0N6Z0_CAEBE","G0N6Z0",1090,"PF14701",109,541,800,"PF14701.5 Glycogen debranching enzyme, glucanotransferase domain"]
["G0N6Z0_CAEBE","G0N6Z0",1090,"PF14699",33,107,587,"PF14699.5 N-terminal domain from the human glycogen debranching enzyme"]
["G0N6Z0_CAEBE","G0N6Z0",1090,"PF14702",679,866,717,"PF14702.5 Central domain of human glycogen debranching enzyme"]
["G0PCL2_CAEBE","G0PCL2",1464,"PF06202",995,1454,1981,"PF06202.13 Amylo-alpha-1,6-glucosidase"]
["G0PCL2_CAEBE","G0PCL2",1464,"PF14701",109,541,800,"PF14701.5 Glycogen debranching enzyme, glucanotransferase domain"]
["G0PCL2_CAEBE","G0PCL2",1464,"PF14699",33,107,587,"PF14699.5 N-terminal domain from the human glycogen debranching enzyme"]
["G0PCL2_CAEBE","G0PCL2",1464,"PF14702",679,928,717,"PF14702.5 Central domain of human glycogen debranching enzyme"]
["G0QV62_ICHMG","G0QV62",753,"PF06202",307,743,1981,"PF06202.13 Amylo-alpha-1,6-glucosidase"]
["G0QV62_ICHMG","G0QV62",753,"PF14702",170,311,717,"PF14702.5 Central domain of human glycogen debranching enzyme"]
["G0QZ29_ICHMG","G0QZ29",1612,"PF06202",1143,1601,1981,"PF06202.13 Amylo-alpha-1,6-glucosidase"]
["G0QZ29_ICHMG","G0QZ29",1612,"PF14701",151,575,800,"PF14701.5 Glycogen debranching enzyme, glucanotransferase domain"]
["G0QZ29_ICHMG","G0QZ29",1612,"PF14702",827,1074,717,"PF14702.5 Central domain of human glycogen debranching enzyme"]
["G0RBU1_HYPJQ","G0RBU1",1557,"PF06202",1071,1543,1981,"PF06202.13 Amylo-alpha-1,6-glucosidase"]
["G0RBU1_HYPJQ","G0RBU1",1557,"PF14701",144,588,800,"PF14701.5 Glycogen debranching enzyme, glucanotransferase domain"]
["G0RBU1_HYPJQ","G0RBU1",1557,"PF14699",41,142,587,"PF14699.5 N-terminal domain from the human glycogen debranching enzyme"]
["G0RBU1_HYPJQ","G0RBU1",1557,"PF14702",754,998,717,"PF14702.5 Central domain of human glycogen debranching enzyme"]
["G0SC60_CHATD","G0SC60",1567,"PF06202",1063,1543,1981,"PF06202.13 Amylo-alpha-1,6-glucosidase"]
["G0SC60_CHATD","G0SC60",1567,"PF14701",139,582,800,"PF14701.5 Glycogen debranching enzyme, glucanotransferase domain"]
["G0SC60_CHATD","G0SC60",1567,"PF14699",36,137,587,"PF14699.5 N-terminal domain from the human glycogen debranching enzyme"]
["G0SC60_CHATD","G0SC60",1567,"PF14702",748,992,717,"PF14702.5 Central domain of human glycogen debranching enzyme"]
["G0V9D2_NAUCC","G0V9D2",1521,"PF06202",1034,1511,1981,"PF06202.13 Amylo-alpha-1,6-glucosidase"]
["G0V9D2_NAUCC","G0V9D2",1521,"PF14701",138,557,800,"PF14701.5 Glycogen debranching enzyme, glucanotransferase domain"]
["G0V9D2_NAUCC","G0V9D2",1521,"PF14699",48,136,587,"PF14699.5 N-terminal domain from the human glycogen debranching enzyme"]
["G0V9D2_NAUCC","G0V9D2",1521,"PF14702",724,964,717,"PF14702.5 Central domain of human glycogen debranching enzyme"]
["G0WHD0_NAUDC","G0WHD0",1523,"PF06202",1036,1513,1981,"PF06202.13 Amylo-alpha-1,6-glucosidase"]
["G0WHD0_NAUDC","G0WHD0",1523,"PF14701",138,559,800,"PF14701.5 Glycogen debranching enzyme, glucanotransferase domain"]
["G0WHD0_NAUDC","G0WHD0",1523,"PF14699",48,136,587,"PF14699.5 N-terminal domain from the human glycogen debranching enzyme"]
["G0WHD0_NAUDC","G0WHD0",1523,"PF14702",726,966,717,"PF14702.5 Central domain of human glycogen debranching enzyme"]
["G1KCM2_ANOCA","G1KCM2",1531,"PF06202",1042,1526,1981,"PF06202.13 Amylo-alpha-1,6-glucosidase"]
["G1KCM2_ANOCA","G1KCM2",1531,"PF14701",120,550,800,"PF14701.5 Glycogen debranching enzyme, glucanotransferase domain"]
["G1KCM2_ANOCA","G1KCM2",1531,"PF14699",31,116,587,"PF14699.5 N-terminal domain from the human glycogen debranching enzyme"]
["G1KCM2_ANOCA","G1KCM2",1531,"PF14702",696,973,717,"PF14702.5 Central domain of human glycogen debranching enzyme"]
["G1LR84_AILME","G1LR84",1533,"PF06202",1043,1528,1981,"PF06202.13 Amylo-alpha-1,6-glucosidase"]
["G1LR84_AILME","G1LR84",1533,"PF14701",120,552,800,"PF14701.5 Glycogen debranching enzyme, glucanotransferase domain"]
["G1LR84_AILME","G1LR84",1533,"PF14699",31,116,587,"PF14699.5 N-terminal domain from the human glycogen debranching enzyme"]
["G1LR84_AILME","G1LR84",1533,"PF14702",698,975,717,"PF14702.5 Central domain of human glycogen debranching enzyme"]
["G1N5J6_MELGA","G1N5J6",1536,"PF06202",1046,1531,1981,"PF06202.13 Amylo-alpha-1,6-glucosidase"]
["G1N5J6_MELGA","G1N5J6",1536,"PF14701",122,555,800,"PF14701.5 Glycogen debranching enzyme, glucanotransferase domain"]
["G1N5J6_MELGA","G1N5J6",1536,"PF14699",33,118,587,"PF14699.5 N-terminal domain from the human glycogen debranching enzyme"]
["G1N5J6_MELGA","G1N5J6",1536,"PF14702",700,977,717,"PF14702.5 Central domain of human glycogen debranching enzyme"]
["G1PTA9_MYOLU","G1PTA9",1533,"PF06202",1044,1528,1981,"PF06202.13 Amylo-alpha-1,6-glucosidase"]
["G1PTA9_MYOLU","G1PTA9",1533,"PF14701",120,552,800,"PF14701.5 Glycogen debranching enzyme, glucanotransferase domain"]
["G1PTA9_MYOLU","G1PTA9",1533,"PF14699",31,116,587,"PF14699.5 N-terminal domain from the human glycogen debranching enzyme"]
["G1PTA9_MYOLU","G1PTA9",1533,"PF14702",698,975,717,"PF14702.5 Central domain of human glycogen debranching enzyme"]
["G1RLT1_NOMLE","G1RLT1",1532,"PF06202",1042,1527,1981,"PF06202.13 Amylo-alpha-1,6-glucosidase"]
["G1RLT1_NOMLE","G1RLT1",1532,"PF14701",120,551,800,"PF14701.5 Glycogen debranching enzyme, glucanotransferase domain"]
["G1RLT1_NOMLE","G1RLT1",1532,"PF14699",31,116,587,"PF14699.5 N-terminal domain from the human glycogen debranching enzyme"]
["G1RLT1_NOMLE","G1RLT1",1532,"PF14702",697,974,717,"PF14702.5 Central domain of human glycogen debranching enzyme"]
["G1TS42_RABIT","G1TS42",1533,"PF06202",1043,1528,1981,"PF06202.13 Amylo-alpha-1,6-glucosidase"]
["G1TS42_RABIT","G1TS42",1533,"PF14701",121,552,800,"PF14701.5 Glycogen debranching enzyme, glucanotransferase domain"]
["G1TS42_RABIT","G1TS42",1533,"PF14699",32,117,587,"PF14699.5 N-terminal domain from the human glycogen debranching enzyme"]
["G1TS42_RABIT","G1TS42",1533,"PF14702",698,975,717,"PF14702.5 Central domain of human glycogen debranching enzyme"]
["G1X7A7_ARTOA","G1X7A7",1520,"PF06202",1035,1507,1981,"PF06202.13 Amylo-alpha-1,6-glucosidase"]
["G1X7A7_ARTOA","G1X7A7",1520,"PF14701",138,575,800,"PF14701.5 Glycogen debranching enzyme, glucanotransferase domain"]
["G1X7A7_ARTOA","G1X7A7",1520,"PF14699",35,136,587,"PF14699.5 N-terminal domain from the human glycogen debranching enzyme"]
["G1X7A7_ARTOA","G1X7A7",1520,"PF14702",720,963,717,"PF14702.5 Central domain of human glycogen debranching enzyme"]
["G2Q5G4_MYCTT","G2Q5G4",1573,"PF06202",1066,1544,1981,"PF06202.13 Amylo-alpha-1,6-glucosidase"]
["G2Q5G4_MYCTT","G2Q5G4",1573,"PF14701",139,582,800,"PF14701.5 Glycogen debranching enzyme, glucanotransferase domain"]
["G2Q5G4_MYCTT","G2Q5G4",1573,"PF14699",36,137,587,"PF14699.5 N-terminal domain from the human glycogen debranching enzyme"]
["G2Q5G4_MYCTT","G2Q5G4",1573,"PF14702",752,996,717,"PF14702.5 Central domain of human glycogen debranching enzyme"]
["G2QYC2_THITE","G2QYC2",1574,"PF06202",1066,1554,1981,"PF06202.13 Amylo-alpha-1,6-glucosidase"]
["G2QYC2_THITE","G2QYC2",1574,"PF14701",139,582,800,"PF14701.5 Glycogen debranching enzyme, glucanotransferase domain"]
["G2QYC2_THITE","G2QYC2",1574,"PF14699",36,137,587,"PF14699.5 N-terminal domain from the human glycogen debranching enzyme"]
["G2QYC2_THITE","G2QYC2",1574,"PF14702",752,996,717,"PF14702.5 Central domain of human glycogen debranching enzyme"]
["G2XJI1_VERDV","G2XJI1",1566,"PF06202",1067,1543,1981,"PF06202.13 Amylo-alpha-1,6-glucosidase"]
["G2XJI1_VERDV","G2XJI1",1566,"PF14701",138,581,800,"PF14701.5 Glycogen debranching enzyme, glucanotransferase domain"]
["G2XJI1_VERDV","G2XJI1",1566,"PF14699",36,136,587,"PF14699.5 N-terminal domain from the human glycogen debranching enzyme"]
["G2XJI1_VERDV","G2XJI1",1566,"PF14702",754,998,717,"PF14702.5 Central domain of human glycogen debranching enzyme"]
["G2XQH5_BOTF4","G2XQH5",1287,"PF06202",1062,1263,1981,"PF06202.13 Amylo-alpha-1,6-glucosidase"]
["G2XQH5_BOTF4","G2XQH5",1287,"PF14701",134,580,800,"PF14701.5 Glycogen debranching enzyme, glucanotransferase domain"]
["G2XQH5_BOTF4","G2XQH5",1287,"PF14699",36,132,587,"PF14699.5 N-terminal domain from the human glycogen debranching enzyme"]
["G2XQH5_BOTF4","G2XQH5",1287,"PF14702",745,989,717,"PF14702.5 Central domain of human glycogen debranching enzyme"]
["G3AER9_SPAPN","G3AER9",1530,"PF06202",1037,1513,1981,"PF06202.13 Amylo-alpha-1,6-glucosidase"]
["G3AER9_SPAPN","G3AER9",1530,"PF14701",141,566,800,"PF14701.5 Glycogen debranching enzyme, glucanotransferase domain"]
["G3AER9_SPAPN","G3AER9",1530,"PF14699",51,139,587,"PF14699.5 N-terminal domain from the human glycogen debranching enzyme"]
["G3AER9_SPAPN","G3AER9",1530,"PF14702",725,965,717,"PF14702.5 Central domain of human glycogen debranching enzyme"]
["G3B7R1_CANTC","G3B7R1",1511,"PF06202",1029,1495,1981,"PF06202.13 Amylo-alpha-1,6-glucosidase"]
["G3B7R1_CANTC","G3B7R1",1511,"PF14701",140,566,800,"PF14701.5 Glycogen debranching enzyme, glucanotransferase domain"]
["G3B7R1_CANTC","G3B7R1",1511,"PF14699",51,138,587,"PF14699.5 N-terminal domain from the human glycogen debranching enzyme"]
["G3B7R1_CANTC","G3B7R1",1511,"PF14702",718,958,717,"PF14702.5 Central domain of human glycogen debranching enzyme"]
["G3JB92_CORMM","G3JB92",1545,"PF06202",1060,1533,1981,"PF06202.13 Amylo-alpha-1,6-glucosidase"]
["G3JB92_CORMM","G3JB92",1545,"PF14701",141,584,800,"PF14701.5 Glycogen debranching enzyme, glucanotransferase domain"]
["G3JB92_CORMM","G3JB92",1545,"PF14699",41,139,587,"PF14699.5 N-terminal domain from the human glycogen debranching enzyme"]
["G3JB92_CORMM","G3JB92",1545,"PF14702",744,988,717,"PF14702.5 Central domain of human glycogen debranching enzyme"]
["G3PNW0_GASAC","G3PNW0",1559,"PF06202",1069,1554,1981,"PF06202.13 Amylo-alpha-1,6-glucosidase"]
["G3PNW0_GASAC","G3PNW0",1559,"PF14701",161,578,800,"PF14701.5 Glycogen debranching enzyme, glucanotransferase domain"]
["G3PNW0_GASAC","G3PNW0",1559,"PF14699",55,138,587,"PF14699.5 N-terminal domain from the human glycogen debranching enzyme"]
["G3PNW0_GASAC","G3PNW0",1559,"PF14702",724,1001,717,"PF14702.5 Central domain of human glycogen debranching enzyme"]
["G3SJU0_GORGO","G3SJU0",1363,"PF06202",873,1358,1981,"PF06202.13 Amylo-alpha-1,6-glucosidase"]
["G3SJU0_GORGO","G3SJU0",1363,"PF14701",121,370,800,"PF14701.5 Glycogen debranching enzyme, glucanotransferase domain"]
["G3SJU0_GORGO","G3SJU0",1363,"PF14701",356,485,800,"PF14701.5 Glycogen debranching enzyme, glucanotransferase domain"]
["G3SJU0_GORGO","G3SJU0",1363,"PF14699",32,117,587,"PF14699.5 N-terminal domain from the human glycogen debranching enzyme"]
["G3SJU0_GORGO","G3SJU0",1363,"PF14702",549,805,717,"PF14702.5 Central domain of human glycogen debranching enzyme"]
["G3SM26_LOXAF","G3SM26",1554,"PF06202",1064,1549,1981,"PF06202.13 Amylo-alpha-1,6-glucosidase"]
["G3SM26_LOXAF","G3SM26",1554,"PF14701",142,573,800,"PF14701.5 Glycogen debranching enzyme, glucanotransferase domain"]
["G3SM26_LOXAF","G3SM26",1554,"PF14699",53,138,587,"PF14699.5 N-terminal domain from the human glycogen debranching enzyme"]
["G3SM26_LOXAF","G3SM26",1554,"PF14702",719,996,717,"PF14702.5 Central domain of human glycogen debranching enzyme"]
["G3UCH9_LOXAF","G3UCH9",1531,"PF06202",1041,1526,1981,"PF06202.13 Amylo-alpha-1,6-glucosidase"]
["G3UCH9_LOXAF","G3UCH9",1531,"PF14701",119,550,800,"PF14701.5 Glycogen debranching enzyme, glucanotransferase domain"]
["G3UCH9_LOXAF","G3UCH9",1531,"PF14699",30,115,587,"PF14699.5 N-terminal domain from the human glycogen debranching enzyme"]
["G3UCH9_LOXAF","G3UCH9",1531,"PF14702",696,973,717,"PF14702.5 Central domain of human glycogen debranching enzyme"]
["G3WP17_SARHA","G3WP17",937,"PF06202",797,936,1981,"PF06202.13 Amylo-alpha-1,6-glucosidase"]
["G3WP17_SARHA","G3WP17",937,"PF14701",1,336,800,"PF14701.5 Glycogen debranching enzyme, glucanotransferase domain"]
["G3WP17_SARHA","G3WP17",937,"PF14702",482,745,717,"PF14702.5 Central domain of human glycogen debranching enzyme"]
["G3WP18_SARHA","G3WP18",1182,"PF06202",1009,1182,1981,"PF06202.13 Amylo-alpha-1,6-glucosidase"]
["G3WP18_SARHA","G3WP18",1182,"PF14701",1,354,800,"PF14701.5 Glycogen debranching enzyme, glucanotransferase domain"]
["G3WP18_SARHA","G3WP18",1182,"PF14702",555,832,717,"PF14702.5 Central domain of human glycogen debranching enzyme"]
["G3XSN7_ASPNA","G3XSN7",1539,"PF06202",1056,1528,1981,"PF06202.13 Amylo-alpha-1,6-glucosidase"]
["G3XSN7_ASPNA","G3XSN7",1539,"PF14701",135,576,800,"PF14701.5 Glycogen debranching enzyme, glucanotransferase domain"]
["G3XSN7_ASPNA","G3XSN7",1539,"PF14699",37,133,587,"PF14699.5 N-terminal domain from the human glycogen debranching enzyme"]
["G3XSN7_ASPNA","G3XSN7",1539,"PF14702",740,983,717,"PF14702.5 Central domain of human glycogen debranching enzyme"]
["G4NES1_MAGO7","G4NES1",1588,"PF06202",1074,1563,1981,"PF06202.13 Amylo-alpha-1,6-glucosidase"]
["G4NES1_MAGO7","G4NES1",1588,"PF14701",144,585,800,"PF14701.5 Glycogen debranching enzyme, glucanotransferase domain"]
["G4NES1_MAGO7","G4NES1",1588,"PF14699",41,142,587,"PF14699.5 N-terminal domain from the human glycogen debranching enzyme"]
["G4NES1_MAGO7","G4NES1",1588,"PF14702",760,1004,717,"PF14702.5 Central domain of human glycogen debranching enzyme"]
["G4U2U9_SERID","G4U2U9",1604,"PF06202",1118,1591,1981,"PF06202.13 Amylo-alpha-1,6-glucosidase"]
["G4U2U9_SERID","G4U2U9",1604,"PF14701",216,651,800,"PF14701.5 Glycogen debranching enzyme, glucanotransferase domain"]
["G4U2U9_SERID","G4U2U9",1604,"PF14699",103,190,587,"PF14699.5 N-terminal domain from the human glycogen debranching enzyme"]
["G4U2U9_SERID","G4U2U9",1604,"PF14702",805,1046,717,"PF14702.5 Central domain of human glycogen debranching enzyme"]
["G4U8D0_NEUT9","G4U8D0",1566,"PF06202",1072,1546,1981,"PF06202.13 Amylo-alpha-1,6-glucosidase"]
["G4U8D0_NEUT9","G4U8D0",1566,"PF14701",145,588,800,"PF14701.5 Glycogen debranching enzyme, glucanotransferase domain"]
["G4U8D0_NEUT9","G4U8D0",1566,"PF14699",41,143,587,"PF14699.5 N-terminal domain from the human glycogen debranching enzyme"]
["G4U8D0_NEUT9","G4U8D0",1566,"PF14702",755,999,717,"PF14702.5 Central domain of human glycogen debranching enzyme"]
["G4VPZ3_SCHMA","G4VPZ3",978,"PF06202",471,967,1981,"PF06202.13 Amylo-alpha-1,6-glucosidase"]
["G4VPZ3_SCHMA","G4VPZ3",978,"PF14702",115,387,717,"PF14702.5 Central domain of human glycogen debranching enzyme"]
["G5C720_HETGA","G5C720",1523,"PF06202",1053,1518,1981,"PF06202.13 Amylo-alpha-1,6-glucosidase"]
["G5C720_HETGA","G5C720",1523,"PF14701",98,529,800,"PF14701.5 Glycogen debranching enzyme, glucanotransferase domain"]
["G5C720_HETGA","G5C720",1523,"PF14699",9,94,587,"PF14699.5 N-terminal domain from the human glycogen debranching enzyme"]
["G5C720_HETGA","G5C720",1523,"PF14702",675,933,717,"PF14702.5 Central domain of human glycogen debranching enzyme"]
["G5C720_HETGA","G5C720",1523,"PF14702",967,1006,717,"PF14702.5 Central domain of human glycogen debranching enzyme"]
["G6D6T7_DANPL","G6D6T7",1659,"PF06202",1175,1642,1981,"PF06202.13 Amylo-alpha-1,6-glucosidase"]
["G6D6T7_DANPL","G6D6T7",1659,"PF14701",180,382,800,"PF14701.5 Glycogen debranching enzyme, glucanotransferase domain"]
["G6D6T7_DANPL","G6D6T7",1659,"PF14701",372,552,800,"PF14701.5 Glycogen debranching enzyme, glucanotransferase domain"]
["G6D6T7_DANPL","G6D6T7",1659,"PF14701",552,692,800,"PF14701.5 Glycogen debranching enzyme, glucanotransferase domain"]
["G6D6T7_DANPL","G6D6T7",1659,"PF14699",73,178,587,"PF14699.5 N-terminal domain from the human glycogen debranching enzyme"]
["G6D6T7_DANPL","G6D6T7",1659,"PF14702",834,1103,717,"PF14702.5 Central domain of human glycogen debranching enzyme"]
["G7DTR3_MIXOS","G7DTR3",1594,"PF06202",1110,1586,1981,"PF06202.13 Amylo-alpha-1,6-glucosidase"]
["G7DTR3_MIXOS","G7DTR3",1594,"PF14701",184,645,800,"PF14701.5 Glycogen debranching enzyme, glucanotransferase domain"]
["G7DTR3_MIXOS","G7DTR3",1594,"PF14699",50,157,587,"PF14699.5 N-terminal domain from the human glycogen debranching enzyme"]
["G7DTR3_MIXOS","G7DTR3",1594,"PF14702",798,1038,717,"PF14702.5 Central domain of human glycogen debranching enzyme"]
["G7NV22_MACFA","G7NV22",1533,"PF06202",1043,1528,1981,"PF06202.13 Amylo-alpha-1,6-glucosidase"]
["G7NV22_MACFA","G7NV22",1533,"PF14701",120,551,800,"PF14701.5 Glycogen debranching enzyme, glucanotransferase domain"]
["G7NV22_MACFA","G7NV22",1533,"PF14699",31,116,587,"PF14699.5 N-terminal domain from the human glycogen debranching enzyme"]
["G7NV22_MACFA","G7NV22",1533,"PF14702",697,975,717,"PF14702.5 Central domain of human glycogen debranching enzyme"]
["G7X9C7_ASPKW","G7X9C7",1536,"PF06202",1056,1522,1981,"PF06202.13 Amylo-alpha-1,6-glucosidase"]
["G7X9C7_ASPKW","G7X9C7",1536,"PF14701",135,576,800,"PF14701.5 Glycogen debranching enzyme, glucanotransferase domain"]
["G7X9C7_ASPKW","G7X9C7",1536,"PF14699",37,133,587,"PF14699.5 N-terminal domain from the human glycogen debranching enzyme"]
["G7X9C7_ASPKW","G7X9C7",1536,"PF14702",740,983,717,"PF14702.5 Central domain of human glycogen debranching enzyme"]
["G7YQV3_CLOSI","G7YQV3",1499,"PF06202",977,1488,1981,"PF06202.13 Amylo-alpha-1,6-glucosidase"]
["G7YQV3_CLOSI","G7YQV3",1499,"PF14701",1,352,800,"PF14701.5 Glycogen debranching enzyme, glucanotransferase domain"]
["G7YQV3_CLOSI","G7YQV3",1499,"PF14701",380,440,800,"PF14701.5 Glycogen debranching enzyme, glucanotransferase domain"]
["G7YQV3_CLOSI","G7YQV3",1499,"PF14702",580,878,717,"PF14702.5 Central domain of human glycogen debranching enzyme"]
["G8BH52_CANPC","G8BH52",1519,"PF06202",1032,1507,1981,"PF06202.13 Amylo-alpha-1,6-glucosidase"]
["G8BH52_CANPC","G8BH52",1519,"PF14701",136,562,800,"PF14701.5 Glycogen debranching enzyme, glucanotransferase domain"]
["G8BH52_CANPC","G8BH52",1519,"PF14699",46,134,587,"PF14699.5 N-terminal domain from the human glycogen debranching enzyme"]
["G8BH52_CANPC","G8BH52",1519,"PF14702",721,961,717,"PF14702.5 Central domain of human glycogen debranching enzyme"]
["G8BY52_TETPH","G8BY52",1563,"PF06202",1063,1540,1981,"PF06202.13 Amylo-alpha-1,6-glucosidase"]
["G8BY52_TETPH","G8BY52",1563,"PF14701",144,577,800,"PF14701.5 Glycogen debranching enzyme, glucanotransferase domain"]
["G8BY52_TETPH","G8BY52",1563,"PF14699",54,142,587,"PF14699.5 N-terminal domain from the human glycogen debranching enzyme"]
["G8BY52_TETPH","G8BY52",1563,"PF14702",752,993,717,"PF14702.5 Central domain of human glycogen debranching enzyme"]
["G8JQE8_ERECY","G8JQE8",1524,"PF06202",1036,1512,1981,"PF06202.13 Amylo-alpha-1,6-glucosidase"]
["G8JQE8_ERECY","G8JQE8",1524,"PF14701",135,555,800,"PF14701.5 Glycogen debranching enzyme, glucanotransferase domain"]
["G8JQE8_ERECY","G8JQE8",1524,"PF14699",45,133,587,"PF14699.5 N-terminal domain from the human glycogen debranching enzyme"]
["G8JQE8_ERECY","G8JQE8",1524,"PF14702",724,966,717,"PF14702.5 Central domain of human glycogen debranching enzyme"]
["G8YCT6_PICSO","G8YCT6",1513,"PF06202",1027,1503,1981,"PF06202.13 Amylo-alpha-1,6-glucosidase"]
["G8YCT6_PICSO","G8YCT6",1513,"PF14701",130,557,800,"PF14701.5 Glycogen debranching enzyme, glucanotransferase domain"]
["G8YCT6_PICSO","G8YCT6",1513,"PF14699",41,128,587,"PF14699.5 N-terminal domain from the human glycogen debranching enzyme"]
["G8YCT6_PICSO","G8YCT6",1513,"PF14702",715,955,717,"PF14702.5 Central domain of human glycogen debranching enzyme"]
["G8YF87_PICSO","G8YF87",1513,"PF06202",1027,1503,1981,"PF06202.13 Amylo-alpha-1,6-glucosidase"]
["G8YF87_PICSO","G8YF87",1513,"PF14701",130,557,800,"PF14701.5 Glycogen debranching enzyme, glucanotransferase domain"]
["G8YF87_PICSO","G8YF87",1513,"PF14699",41,128,587,"PF14699.5 N-terminal domain from the human glycogen debranching enzyme"]
["G8YF87_PICSO","G8YF87",1513,"PF14702",715,955,717,"PF14702.5 Central domain of human glycogen debranching enzyme"]
["G8ZZ45_TORDC","G8ZZ45",1526,"PF06202",1034,1511,1981,"PF06202.13 Amylo-alpha-1,6-glucosidase"]
["G8ZZ45_TORDC","G8ZZ45",1526,"PF14701",136,558,800,"PF14701.5 Glycogen debranching enzyme, glucanotransferase domain"]
["G8ZZ45_TORDC","G8ZZ45",1526,"PF14699",46,134,587,"PF14699.5 N-terminal domain from the human glycogen debranching enzyme"]
["G8ZZ45_TORDC","G8ZZ45",1526,"PF14702",723,964,717,"PF14702.5 Central domain of human glycogen debranching enzyme"]
["G9N5P0_HYPVG","G9N5P0",1557,"PF06202",1068,1543,1981,"PF06202.13 Amylo-alpha-1,6-glucosidase"]
["G9N5P0_HYPVG","G9N5P0",1557,"PF14701",144,588,800,"PF14701.5 Glycogen debranching enzyme, glucanotransferase domain"]
["G9N5P0_HYPVG","G9N5P0",1557,"PF14699",41,142,587,"PF14699.5 N-terminal domain from the human glycogen debranching enzyme"]
["G9N5P0_HYPVG","G9N5P0",1557,"PF14702",754,998,717,"PF14702.5 Central domain of human glycogen debranching enzyme"]
["G9NGJ9_HYPAI","G9NGJ9",1557,"PF06202",1068,1543,1981,"PF06202.13 Amylo-alpha-1,6-glucosidase"]
["G9NGJ9_HYPAI","G9NGJ9",1557,"PF14701",144,588,800,"PF14701.5 Glycogen debranching enzyme, glucanotransferase domain"]
["G9NGJ9_HYPAI","G9NGJ9",1557,"PF14699",41,142,587,"PF14699.5 N-terminal domain from the human glycogen debranching enzyme"]
["G9NGJ9_HYPAI","G9NGJ9",1557,"PF14702",754,998,717,"PF14702.5 Central domain of human glycogen debranching enzyme"]
["GDE_CANLF","Q2PQH8",1533,"PF06202",1043,1528,1981,"PF06202.13 Amylo-alpha-1,6-glucosidase"]
["GDE_CANLF","Q2PQH8",1533,"PF14701",120,552,800,"PF14701.5 Glycogen debranching enzyme, glucanotransferase domain"]
["GDE_CANLF","Q2PQH8",1533,"PF14699",31,116,587,"PF14699.5 N-terminal domain from the human glycogen debranching enzyme"]
["GDE_CANLF","Q2PQH8",1533,"PF14702",698,975,717,"PF14702.5 Central domain of human glycogen debranching enzyme"]
["GDE_HORSE","A8BQB4",1533,"PF06202",1043,1528,1981,"PF06202.13 Amylo-alpha-1,6-glucosidase"]
["GDE_HORSE","A8BQB4",1533,"PF14701",120,552,800,"PF14701.5 Glycogen debranching enzyme, glucanotransferase domain"]
["GDE_HORSE","A8BQB4",1533,"PF14699",31,116,587,"PF14699.5 N-terminal domain from the human glycogen debranching enzyme"]
["GDE_HORSE","A8BQB4",1533,"PF14702",698,975,717,"PF14702.5 Central domain of human glycogen debranching enzyme"]
["GDE_HUMAN","P35573",1532,"PF06202",1042,1527,1981,"PF06202.13 Amylo-alpha-1,6-glucosidase"]
["GDE_HUMAN","P35573",1532,"PF14701",120,551,800,"PF14701.5 Glycogen debranching enzyme, glucanotransferase domain"]
["GDE_HUMAN","P35573",1532,"PF14699",31,116,587,"PF14699.5 N-terminal domain from the human glycogen debranching enzyme"]
["GDE_HUMAN","P35573",1532,"PF14702",697,974,717,"PF14702.5 Central domain of human glycogen debranching enzyme"]
["GDE_RABIT","P35574",1555,"PF06202",1065,1550,1981,"PF06202.13 Amylo-alpha-1,6-glucosidase"]
["GDE_RABIT","P35574",1555,"PF14701",143,574,800,"PF14701.5 Glycogen debranching enzyme, glucanotransferase domain"]
["GDE_RABIT","P35574",1555,"PF14699",54,139,587,"PF14699.5 N-terminal domain from the human glycogen debranching enzyme"]
["GDE_RABIT","P35574",1555,"PF14702",720,997,717,"PF14702.5 Central domain of human glycogen debranching enzyme"]
["GDE_YEAST","Q06625",1536,"PF06202",1045,1523,1981,"PF06202.13 Amylo-alpha-1,6-glucosidase"]
["GDE_YEAST","Q06625",1536,"PF14701",136,560,800,"PF14701.5 Glycogen debranching enzyme, glucanotransferase domain"]
["GDE_YEAST","Q06625",1536,"PF14699",46,134,587,"PF14699.5 N-terminal domain from the human glycogen debranching enzyme"]
["GDE_YEAST","Q06625",1536,"PF14702",732,975,717,"PF14702.5 Central domain of human glycogen debranching enzyme"]
["H0EHK2_GLAL7","H0EHK2",1557,"PF06202",1065,1542,1981,"PF06202.13 Amylo-alpha-1,6-glucosidase"]
["H0EHK2_GLAL7","H0EHK2",1557,"PF14701",139,585,800,"PF14701.5 Glycogen debranching enzyme, glucanotransferase domain"]
["H0EHK2_GLAL7","H0EHK2",1557,"PF14699",41,137,587,"PF14699.5 N-terminal domain from the human glycogen debranching enzyme"]
["H0EHK2_GLAL7","H0EHK2",1557,"PF14702",751,995,717,"PF14702.5 Central domain of human glycogen debranching enzyme"]
["H0VJR7_CAVPO","H0VJR7",1531,"PF06202",1045,1526,1981,"PF06202.13 Amylo-alpha-1,6-glucosidase"]
["H0VJR7_CAVPO","H0VJR7",1531,"PF14701",121,553,800,"PF14701.5 Glycogen debranching enzyme, glucanotransferase domain"]
["H0VJR7_CAVPO","H0VJR7",1531,"PF14699",32,117,587,"PF14699.5 N-terminal domain from the human glycogen debranching enzyme"]
["H0VJR7_CAVPO","H0VJR7",1531,"PF14702",699,976,717,"PF14702.5 Central domain of human glycogen debranching enzyme"]
["H0WSE9_OTOGA","H0WSE9",1554,"PF06202",1064,1549,1981,"PF06202.13 Amylo-alpha-1,6-glucosidase"]
["H0WSE9_OTOGA","H0WSE9",1554,"PF14701",142,573,800,"PF14701.5 Glycogen debranching enzyme, glucanotransferase domain"]
["H0WSE9_OTOGA","H0WSE9",1554,"PF14699",53,138,587,"PF14699.5 N-terminal domain from the human glycogen debranching enzyme"]
["H0WSE9_OTOGA","H0WSE9",1554,"PF14702",719,996,717,"PF14702.5 Central domain of human glycogen debranching enzyme"]
["H0XMV7_OTOGA","H0XMV7",1532,"PF06202",1042,1527,1981,"PF06202.13 Amylo-alpha-1,6-glucosidase"]
["H0XMV7_OTOGA","H0XMV7",1532,"PF14701",120,551,800,"PF14701.5 Glycogen debranching enzyme, glucanotransferase domain"]
["H0XMV7_OTOGA","H0XMV7",1532,"PF14699",31,116,587,"PF14699.5 N-terminal domain from the human glycogen debranching enzyme"]
["H0XMV7_OTOGA","H0XMV7",1532,"PF14702",697,974,717,"PF14702.5 Central domain of human glycogen debranching enzyme"]
["H0Z4Q4_TAEGU","H0Z4Q4",1530,"PF06202",1050,1525,1981,"PF06202.13 Amylo-alpha-1,6-glucosidase"]
["H0Z4Q4_TAEGU","H0Z4Q4",1530,"PF14701",120,550,800,"PF14701.5 Glycogen debranching enzyme, glucanotransferase domain"]
["H0Z4Q4_TAEGU","H0Z4Q4",1530,"PF14699",31,116,587,"PF14699.5 N-terminal domain from the human glycogen debranching enzyme"]
["H0Z4Q4_TAEGU","H0Z4Q4",1530,"PF14702",695,972,717,"PF14702.5 Central domain of human glycogen debranching enzyme"]
["H1UVW2_COLHI","H1UVW2",1571,"PF06202",1074,1549,1981,"PF06202.13 Amylo-alpha-1,6-glucosidase"]
["H1UVW2_COLHI","H1UVW2",1571,"PF14701",141,584,800,"PF14701.5 Glycogen debranching enzyme, glucanotransferase domain"]
["H1UVW2_COLHI","H1UVW2",1571,"PF14699",36,139,587,"PF14699.5 N-terminal domain from the human glycogen debranching enzyme"]
["H1UVW2_COLHI","H1UVW2",1571,"PF14702",760,1004,717,"PF14702.5 Central domain of human glycogen debranching enzyme"]
["H2APN0_KAZAF","H2APN0",1529,"PF06202",1040,1517,1981,"PF06202.13 Amylo-alpha-1,6-glucosidase"]
["H2APN0_KAZAF","H2APN0",1529,"PF14701",138,560,800,"PF14701.5 Glycogen debranching enzyme, glucanotransferase domain"]
["H2APN0_KAZAF","H2APN0",1529,"PF14699",48,136,587,"PF14699.5 N-terminal domain from the human glycogen debranching enzyme"]
["H2APN0_KAZAF","H2APN0",1529,"PF14702",727,970,717,"PF14702.5 Central domain of human glycogen debranching enzyme"]
["H2LLD2_ORYLA","H2LLD2",1559,"PF06202",1069,1554,1981,"PF06202.13 Amylo-alpha-1,6-glucosidase"]
["H2LLD2_ORYLA","H2LLD2",1559,"PF14701",146,578,800,"PF14701.5 Glycogen debranching enzyme, glucanotransferase domain"]
["H2LLD2_ORYLA","H2LLD2",1559,"PF14699",56,142,587,"PF14699.5 N-terminal domain from the human glycogen debranching enzyme"]
["H2LLD2_ORYLA","H2LLD2",1559,"PF14702",724,1001,717,"PF14702.5 Central domain of human glycogen debranching enzyme"]
["H2N6N7_PONAB","H2N6N7",1299,"PF06202",874,1294,1981,"PF06202.13 Amylo-alpha-1,6-glucosidase"]
["H2N6N7_PONAB","H2N6N7",1299,"PF14701",120,551,800,"PF14701.5 Glycogen debranching enzyme, glucanotransferase domain"]
["H2N6N7_PONAB","H2N6N7",1299,"PF14699",31,116,587,"PF14699.5 N-terminal domain from the human glycogen debranching enzyme"]
["H2N6N7_PONAB","H2N6N7",1299,"PF14702",697,890,717,"PF14702.5 Central domain of human glycogen debranching enzyme"]
["H2PZG8_PANTR","H2PZG8",1532,"PF06202",1042,1527,1981,"PF06202.13 Amylo-alpha-1,6-glucosidase"]
["H2PZG8_PANTR","H2PZG8",1532,"PF14701",120,551,800,"PF14701.5 Glycogen debranching enzyme, glucanotransferase domain"]
["H2PZG8_PANTR","H2PZG8",1532,"PF14699",31,116,587,"PF14699.5 N-terminal domain from the human glycogen debranching enzyme"]
["H2PZG8_PANTR","H2PZG8",1532,"PF14702",697,974,717,"PF14702.5 Central domain of human glycogen debranching enzyme"]
["H2U5M9_TAKRU","H2U5M9",1532,"PF06202",1042,1527,1981,"PF06202.13 Amylo-alpha-1,6-glucosidase"]
["H2U5M9_TAKRU","H2U5M9",1532,"PF14701",119,551,800,"PF14701.5 Glycogen debranching enzyme, glucanotransferase domain"]
["H2U5M9_TAKRU","H2U5M9",1532,"PF14699",29,115,587,"PF14699.5 N-terminal domain from the human glycogen debranching enzyme"]
["H2U5M9_TAKRU","H2U5M9",1532,"PF14702",697,974,717,"PF14702.5 Central domain of human glycogen debranching enzyme"]
["H2U5N0_TAKRU","H2U5N0",1532,"PF06202",1042,1527,1981,"PF06202.13 Amylo-alpha-1,6-glucosidase"]
["H2U5N0_TAKRU","H2U5N0",1532,"PF14701",119,551,800,"PF14701.5 Glycogen debranching enzyme, glucanotransferase domain"]
["H2U5N0_TAKRU","H2U5N0",1532,"PF14699",29,115,587,"PF14699.5 N-terminal domain from the human glycogen debranching enzyme"]
["H2U5N0_TAKRU","H2U5N0",1532,"PF14702",697,974,717,"PF14702.5 Central domain of human glycogen debranching enzyme"]
["H2W410_CAEJA","H2W410",830,"PF06202",361,820,1981,"PF06202.13 Amylo-alpha-1,6-glucosidase"]
["H2W410_CAEJA","H2W410",830,"PF14702",46,294,717,"PF14702.5 Central domain of human glycogen debranching enzyme"]
["H2ZLQ6_CIOSA","H2ZLQ6",1410,"PF06202",948,1405,1981,"PF06202.13 Amylo-alpha-1,6-glucosidase"]
["H2ZLQ6_CIOSA","H2ZLQ6",1410,"PF14701",80,504,800,"PF14701.5 Glycogen debranching enzyme, glucanotransferase domain"]
["H2ZLQ6_CIOSA","H2ZLQ6",1410,"PF14699",1,76,587,"PF14699.5 N-terminal domain from the human glycogen debranching enzyme"]
["H2ZLQ6_CIOSA","H2ZLQ6",1410,"PF14702",649,734,717,"PF14702.5 Central domain of human glycogen debranching enzyme"]
["H2ZLQ6_CIOSA","H2ZLQ6",1410,"PF14702",715,881,717,"PF14702.5 Central domain of human glycogen debranching enzyme"]
["H3AL55_LATCH","H3AL55",1533,"PF06202",1043,1528,1981,"PF06202.13 Amylo-alpha-1,6-glucosidase"]
["H3AL55_LATCH","H3AL55",1533,"PF14701",120,552,800,"PF14701.5 Glycogen debranching enzyme, glucanotransferase domain"]
["H3AL55_LATCH","H3AL55",1533,"PF14699",31,117,587,"PF14699.5 N-terminal domain from the human glycogen debranching enzyme"]
["H3AL55_LATCH","H3AL55",1533,"PF14702",698,975,717,"PF14702.5 Central domain of human glycogen debranching enzyme"]
["H3AL56_LATCH","H3AL56",1533,"PF06202",1043,1528,1981,"PF06202.13 Amylo-alpha-1,6-glucosidase"]
["H3AL56_LATCH","H3AL56",1533,"PF14701",120,552,800,"PF14701.5 Glycogen debranching enzyme, glucanotransferase domain"]
["H3AL56_LATCH","H3AL56",1533,"PF14699",31,117,587,"PF14699.5 N-terminal domain from the human glycogen debranching enzyme"]
["H3AL56_LATCH","H3AL56",1533,"PF14702",698,975,717,"PF14702.5 Central domain of human glycogen debranching enzyme"]
["H3DLB9_TETNG","H3DLB9",1534,"PF06202",1043,1529,1981,"PF06202.13 Amylo-alpha-1,6-glucosidase"]
["H3DLB9_TETNG","H3DLB9",1534,"PF14701",119,551,800,"PF14701.5 Glycogen debranching enzyme, glucanotransferase domain"]
["H3DLB9_TETNG","H3DLB9",1534,"PF14699",29,115,587,"PF14699.5 N-terminal domain from the human glycogen debranching enzyme"]
["H3DLB9_TETNG","H3DLB9",1534,"PF14702",697,975,717,"PF14702.5 Central domain of human glycogen debranching enzyme"]
["H3FFD1_PRIPA","H3FFD1",685,"PF06202",180,644,1981,"PF06202.13 Amylo-alpha-1,6-glucosidase"]
["H3FFD1_PRIPA","H3FFD1",685,"PF14702",7,113,717,"PF14702.5 Central domain of human glycogen debranching enzyme"]
["H3FFD2_PRIPA","H3FFD2",860,"PF14701",107,555,800,"PF14701.5 Glycogen debranching enzyme, glucanotransferase domain"]
["H3FFD2_PRIPA","H3FFD2",860,"PF14702",709,859,717,"PF14702.5 Central domain of human glycogen debranching enzyme"]
["H6BL98_EXODN","H6BL98",1556,"PF06202",1064,1536,1981,"PF06202.13 Amylo-alpha-1,6-glucosidase"]
["H6BL98_EXODN","H6BL98",1556,"PF14701",140,582,800,"PF14701.5 Glycogen debranching enzyme, glucanotransferase domain"]
["H6BL98_EXODN","H6BL98",1556,"PF14699",42,138,587,"PF14699.5 N-terminal domain from the human glycogen debranching enzyme"]
["H6BL98_EXODN","H6BL98",1556,"PF14702",747,991,717,"PF14702.5 Central domain of human glycogen debranching enzyme"]
["H9JMY5_BOMMO","H9JMY5",1138,"PF14701",213,670,800,"PF14701.5 Glycogen debranching enzyme, glucanotransferase domain"]
["H9JMY5_BOMMO","H9JMY5",1138,"PF14699",100,208,587,"PF14699.5 N-terminal domain from the human glycogen debranching enzyme"]
["H9JMY5_BOMMO","H9JMY5",1138,"PF14702",815,1022,717,"PF14702.5 Central domain of human glycogen debranching enzyme"]
["I1C152_RHIO9","I1C152",1499,"PF06202",1029,1490,1981,"PF06202.13 Amylo-alpha-1,6-glucosidase"]
["I1C152_RHIO9","I1C152",1499,"PF14701",123,568,800,"PF14701.5 Glycogen debranching enzyme, glucanotransferase domain"]
["I1C152_RHIO9","I1C152",1499,"PF14699",32,116,587,"PF14699.5 N-terminal domain from the human glycogen debranching enzyme"]
["I1C152_RHIO9","I1C152",1499,"PF14702",721,958,717,"PF14702.5 Central domain of human glycogen debranching enzyme"]
["I1FDE0_AMPQE","I1FDE0",1425,"PF06202",991,1414,1981,"PF06202.13 Amylo-alpha-1,6-glucosidase"]
["I1FDE0_AMPQE","I1FDE0",1425,"PF14701",120,255,800,"PF14701.5 Glycogen debranching enzyme, glucanotransferase domain"]
["I1FDE0_AMPQE","I1FDE0",1425,"PF14701",248,520,800,"PF14701.5 Glycogen debranching enzyme, glucanotransferase domain"]
["I1FDE0_AMPQE","I1FDE0",1425,"PF14699",30,121,587,"PF14699.5 N-terminal domain from the human glycogen debranching enzyme"]
["I1FDE0_AMPQE","I1FDE0",1425,"PF14702",673,709,717,"PF14702.5 Central domain of human glycogen debranching enzyme"]
["I1FDE0_AMPQE","I1FDE0",1425,"PF14702",705,898,717,"PF14702.5 Central domain of human glycogen debranching enzyme"]
["I1RZ78_GIBZE","I1RZ78",1553,"PF06202",1069,1541,1981,"PF06202.13 Amylo-alpha-1,6-glucosidase"]
["I1RZ78_GIBZE","I1RZ78",1553,"PF14701",144,577,800,"PF14701.5 Glycogen debranching enzyme, glucanotransferase domain"]
["I1RZ78_GIBZE","I1RZ78",1553,"PF14699",42,142,587,"PF14699.5 N-terminal domain from the human glycogen debranching enzyme"]
["I1RZ78_GIBZE","I1RZ78",1553,"PF14702",752,996,717,"PF14702.5 Central domain of human glycogen debranching enzyme"]
["I2FPU0_USTH4","I2FPU0",1571,"PF06202",1091,1564,1981,"PF06202.13 Amylo-alpha-1,6-glucosidase"]
["I2FPU0_USTH4","I2FPU0",1571,"PF14701",180,620,800,"PF14701.5 Glycogen debranching enzyme, glucanotransferase domain"]
["I2FPU0_USTH4","I2FPU0",1571,"PF14699",51,153,587,"PF14699.5 N-terminal domain from the human glycogen debranching enzyme"]
["I2FPU0_USTH4","I2FPU0",1571,"PF14702",777,1019,717,"PF14702.5 Central domain of human glycogen debranching enzyme"]
["I2H9G0_TETBL","I2H9G0",1533,"PF06202",1046,1523,1981,"PF06202.13 Amylo-alpha-1,6-glucosidase"]
["I2H9G0_TETBL","I2H9G0",1533,"PF14701",139,569,800,"PF14701.5 Glycogen debranching enzyme, glucanotransferase domain"]
["I2H9G0_TETBL","I2H9G0",1533,"PF14699",49,137,587,"PF14699.5 N-terminal domain from the human glycogen debranching enzyme"]
["I2H9G0_TETBL","I2H9G0",1533,"PF14702",736,976,717,"PF14702.5 Central domain of human glycogen debranching enzyme"]
["I2K053_DEKBR","I2K053",867,"PF06202",363,855,1981,"PF06202.13 Amylo-alpha-1,6-glucosidase"]
["I2K053_DEKBR","I2K053",867,"PF14702",27,283,717,"PF14702.5 Central domain of human glycogen debranching enzyme"]
["I3IZN6_ORENI","I3IZN6",1518,"PF06202",1040,1513,1981,"PF06202.13 Amylo-alpha-1,6-glucosidase"]
["I3IZN6_ORENI","I3IZN6",1518,"PF14701",118,550,800,"PF14701.5 Glycogen debranching enzyme, glucanotransferase domain"]
["I3IZN6_ORENI","I3IZN6",1518,"PF14699",29,114,587,"PF14699.5 N-terminal domain from the human glycogen debranching enzyme"]
["I3IZN6_ORENI","I3IZN6",1518,"PF14702",696,972,717,"PF14702.5 Central domain of human glycogen debranching enzyme"]
["J3P6J6_GAGT3","J3P6J6",1577,"PF06202",1076,1560,1981,"PF06202.13 Amylo-alpha-1,6-glucosidase"]
["J3P6J6_GAGT3","J3P6J6",1577,"PF14701",143,586,800,"PF14701.5 Glycogen debranching enzyme, glucanotransferase domain"]
["J3P6J6_GAGT3","J3P6J6",1577,"PF14699",41,141,587,"PF14699.5 N-terminal domain from the human glycogen debranching enzyme"]
["J3P6J6_GAGT3","J3P6J6",1577,"PF14702",759,1003,717,"PF14702.5 Central domain of human glycogen debranching enzyme"]
["J4GPF6_9APHY","J4GPF6",1611,"PF06202",1118,1595,1981,"PF06202.13 Amylo-alpha-1,6-glucosidase"]
["J4GPF6_9APHY","J4GPF6",1611,"PF14701",215,648,800,"PF14701.5 Glycogen debranching enzyme, glucanotransferase domain"]
["J4GPF6_9APHY","J4GPF6",1611,"PF14699",103,191,587,"PF14699.5 N-terminal domain from the human glycogen debranching enzyme"]
["J4GPF6_9APHY","J4GPF6",1611,"PF14702",805,1046,717,"PF14702.5 Central domain of human glycogen debranching enzyme"]
["J4KPW8_BEAB2","J4KPW8",1545,"PF06202",1060,1533,1981,"PF06202.13 Amylo-alpha-1,6-glucosidase"]
["J4KPW8_BEAB2","J4KPW8",1545,"PF14701",141,584,800,"PF14701.5 Glycogen debranching enzyme, glucanotransferase domain"]
["J4KPW8_BEAB2","J4KPW8",1545,"PF14699",41,139,587,"PF14699.5 N-terminal domain from the human glycogen debranching enzyme"]
["J4KPW8_BEAB2","J4KPW8",1545,"PF14702",744,988,717,"PF14702.5 Central domain of human glycogen debranching enzyme"]
["J7R876_KAZNA","J7R876",1538,"PF06202",1044,1521,1981,"PF06202.13 Amylo-alpha-1,6-glucosidase"]
["J7R876_KAZNA","J7R876",1538,"PF14701",138,564,800,"PF14701.5 Glycogen debranching enzyme, glucanotransferase domain"]
["J7R876_KAZNA","J7R876",1538,"PF14699",48,136,587,"PF14699.5 N-terminal domain from the human glycogen debranching enzyme"]
["J7R876_KAZNA","J7R876",1538,"PF14702",731,974,717,"PF14702.5 Central domain of human glycogen debranching enzyme"]
["J9E4Y2_WUCBA","J9E4Y2",284,"PF14701",1,71,800,"PF14701.5 Glycogen debranching enzyme, glucanotransferase domain"]
["J9E4Y2_WUCBA","J9E4Y2",284,"PF14702",208,283,717,"PF14702.5 Central domain of human glycogen debranching enzyme"]
["J9EHP7_WUCBA","J9EHP7",251,"PF06202",109,246,1981,"PF06202.13 Amylo-alpha-1,6-glucosidase"]
["J9EHP7_WUCBA","J9EHP7",251,"PF14702",3,41,717,"PF14702.5 Central domain of human glycogen debranching enzyme"]
["J9ICV4_9SPIT","J9ICV4",1776,"PF16561",834,922,2886,"PF16561.4 Glycogen recognition site of AMP-activated protein kinase"]
["J9ICV4_9SPIT","J9ICV4",1776,"PF06202",1288,1763,1981,"PF06202.13 Amylo-alpha-1,6-glucosidase"]
["J9ICV4_9SPIT","J9ICV4",1776,"PF14701",192,629,800,"PF14701.5 Glycogen debranching enzyme, glucanotransferase domain"]
["J9ICV4_9SPIT","J9ICV4",1776,"PF14702",951,1219,717,"PF14702.5 Central domain of human glycogen debranching enzyme"]
["J9J9U9_9SPIT","J9J9U9",1018,"PF16561",768,834,2886,"PF16561.4 Glycogen recognition site of AMP-activated protein kinase"]
["J9J9U9_9SPIT","J9J9U9",1018,"PF14701",163,601,800,"PF14701.5 Glycogen debranching enzyme, glucanotransferase domain"]
["J9J9U9_9SPIT","J9J9U9",1018,"PF14702",846,1017,717,"PF14702.5 Central domain of human glycogen debranching enzyme"]
["J9JL61_ACYPI","J9JL61",1520,"PF06202",1028,1509,1981,"PF06202.13 Amylo-alpha-1,6-glucosidase"]
["J9JL61_ACYPI","J9JL61",1520,"PF14701",138,569,800,"PF14701.5 Glycogen debranching enzyme, glucanotransferase domain"]
["J9JL61_ACYPI","J9JL61",1520,"PF14699",47,136,587,"PF14699.5 N-terminal domain from the human glycogen debranching enzyme"]
["J9JL61_ACYPI","J9JL61",1520,"PF14702",708,957,717,"PF14702.5 Central domain of human glycogen debranching enzyme"]
["K0KJM8_WICCF","K0KJM8",1501,"PF06202",1014,1489,1981,"PF06202.13 Amylo-alpha-1,6-glucosidase"]
["K0KJM8_WICCF","K0KJM8",1501,"PF14701",130,552,800,"PF14701.5 Glycogen debranching enzyme, glucanotransferase domain"]
["K0KJM8_WICCF","K0KJM8",1501,"PF14699",40,128,587,"PF14699.5 N-terminal domain from the human glycogen debranching enzyme"]
["K0KJM8_WICCF","K0KJM8",1501,"PF14702",705,943,717,"PF14702.5 Central domain of human glycogen debranching enzyme"]
["K1PW08_CRAGI","K1PW08",1137,"PF06202",1055,1136,1981,"PF06202.13 Amylo-alpha-1,6-glucosidase"]
["K1PW08_CRAGI","K1PW08",1137,"PF14701",138,570,800,"PF14701.5 Glycogen debranching enzyme, glucanotransferase domain"]
["K1PW08_CRAGI","K1PW08",1137,"PF14699",30,122,587,"PF14699.5 N-terminal domain from the human glycogen debranching enzyme"]
["K1PW08_CRAGI","K1PW08",1137,"PF14702",715,988,717,"PF14702.5 Central domain of human glycogen debranching enzyme"]
["K1VYD8_TRIAC","K1VYD8",1639,"PF06202",1095,1584,1981,"PF06202.13 Amylo-alpha-1,6-glucosidase"]
["K1VYD8_TRIAC","K1VYD8",1639,"PF14701",206,625,800,"PF14701.5 Glycogen debranching enzyme, glucanotransferase domain"]
["K1VYD8_TRIAC","K1VYD8",1639,"PF14699",92,179,587,"PF14699.5 N-terminal domain from the human glycogen debranching enzyme"]
["K1VYD8_TRIAC","K1VYD8",1639,"PF14702",781,1023,717,"PF14702.5 Central domain of human glycogen debranching enzyme"]
["K1WXM4_MARBU","K1WXM4",1550,"PF06202",1060,1534,1981,"PF06202.13 Amylo-alpha-1,6-glucosidase"]
["K1WXM4_MARBU","K1WXM4",1550,"PF14701",134,578,800,"PF14701.5 Glycogen debranching enzyme, glucanotransferase domain"]
["K1WXM4_MARBU","K1WXM4",1550,"PF14699",36,132,587,"PF14699.5 N-terminal domain from the human glycogen debranching enzyme"]
["K1WXM4_MARBU","K1WXM4",1550,"PF14702",743,987,717,"PF14702.5 Central domain of human glycogen debranching enzyme"]
["K2RJH2_MACPH","K2RJH2",1545,"PF06202",1058,1529,1981,"PF06202.13 Amylo-alpha-1,6-glucosidase"]
["K2RJH2_MACPH","K2RJH2",1545,"PF14701",133,579,800,"PF14701.5 Glycogen debranching enzyme, glucanotransferase domain"]
["K2RJH2_MACPH","K2RJH2",1545,"PF14699",35,131,587,"PF14699.5 N-terminal domain from the human glycogen debranching enzyme"]
["K2RJH2_MACPH","K2RJH2",1545,"PF14702",741,985,717,"PF14702.5 Central domain of human glycogen debranching enzyme"]
["K3VP26_FUSPC","K3VP26",1553,"PF06202",1069,1541,1981,"PF06202.13 Amylo-alpha-1,6-glucosidase"]
["K3VP26_FUSPC","K3VP26",1553,"PF14701",144,577,800,"PF14701.5 Glycogen debranching enzyme, glucanotransferase domain"]
["K3VP26_FUSPC","K3VP26",1553,"PF14699",42,142,587,"PF14699.5 N-terminal domain from the human glycogen debranching enzyme"]
["K3VP26_FUSPC","K3VP26",1553,"PF14702",752,996,717,"PF14702.5 Central domain of human glycogen debranching enzyme"]
["K5WID5_PHACS","K5WID5",1611,"PF06202",1125,1601,1981,"PF06202.13 Amylo-alpha-1,6-glucosidase"]
["K5WID5_PHACS","K5WID5",1611,"PF14701",219,655,800,"PF14701.5 Glycogen debranching enzyme, glucanotransferase domain"]
["K5WID5_PHACS","K5WID5",1611,"PF14699",108,195,587,"PF14699.5 N-terminal domain from the human glycogen debranching enzyme"]
["K5WID5_PHACS","K5WID5",1611,"PF14702",812,1053,717,"PF14702.5 Central domain of human glycogen debranching enzyme"]
["K5XER8_AGABU","K5XER8",1544,"PF06202",1087,1536,1981,"PF06202.13 Amylo-alpha-1,6-glucosidase"]
["K5XER8_AGABU","K5XER8",1544,"PF14701",186,617,800,"PF14701.5 Glycogen debranching enzyme, glucanotransferase domain"]
["K5XER8_AGABU","K5XER8",1544,"PF14699",73,160,587,"PF14699.5 N-terminal domain from the human glycogen debranching enzyme"]
["K5XER8_AGABU","K5XER8",1544,"PF14702",774,1015,717,"PF14702.5 Central domain of human glycogen debranching enzyme"]
["K7G8P8_PELSI","K7G8P8",1531,"PF06202",1043,1526,1981,"PF06202.13 Amylo-alpha-1,6-glucosidase"]
["K7G8P8_PELSI","K7G8P8",1531,"PF14701",120,550,800,"PF14701.5 Glycogen debranching enzyme, glucanotransferase domain"]
["K7G8P8_PELSI","K7G8P8",1531,"PF14699",31,116,587,"PF14699.5 N-terminal domain from the human glycogen debranching enzyme"]
["K7G8P8_PELSI","K7G8P8",1531,"PF14702",696,973,717,"PF14702.5 Central domain of human glycogen debranching enzyme"]
["K7J9S2_NASVI","K7J9S2",1667,"PF06202",1168,1645,1981,"PF06202.13 Amylo-alpha-1,6-glucosidase"]
["K7J9S2_NASVI","K7J9S2",1667,"PF14701",244,680,800,"PF14701.5 Glycogen debranching enzyme, glucanotransferase domain"]
["K7J9S2_NASVI","K7J9S2",1667,"PF14699",158,240,587,"PF14699.5 N-terminal domain from the human glycogen debranching enzyme"]
["K7J9S2_NASVI","K7J9S2",1667,"PF14702",828,1092,717,"PF14702.5 Central domain of human glycogen debranching enzyme"]
["K9GPV4_PEND2","K9GPV4",1534,"PF06202",1053,1525,1981,"PF06202.13 Amylo-alpha-1,6-glucosidase"]
["K9GPV4_PEND2","K9GPV4",1534,"PF14701",135,573,800,"PF14701.5 Glycogen debranching enzyme, glucanotransferase domain"]
["K9GPV4_PEND2","K9GPV4",1534,"PF14699",37,133,587,"PF14699.5 N-terminal domain from the human glycogen debranching enzyme"]
["K9GPV4_PEND2","K9GPV4",1534,"PF14702",737,980,717,"PF14702.5 Central domain of human glycogen debranching enzyme"]
["L0PG12_PNEJ8","L0PG12",1786,"PF02167",66,284,2133,"PF02167.14 Cytochrome C1 family"]
["L0PG12_PNEJ8","L0PG12",1786,"PF06202",1329,1774,1981,"PF06202.13 Amylo-alpha-1,6-glucosidase"]
["L0PG12_PNEJ8","L0PG12",1786,"PF14701",433,870,800,"PF14701.5 Glycogen debranching enzyme, glucanotransferase domain"]
["L0PG12_PNEJ8","L0PG12",1786,"PF14699",334,431,587,"PF14699.5 N-terminal domain from the human glycogen debranching enzyme"]
["L0PG12_PNEJ8","L0PG12",1786,"PF14702",1022,1258,717,"PF14702.5 Central domain of human glycogen debranching enzyme"]
["L2G928_COLGN","L2G928",1566,"PF06202",1070,1544,1981,"PF06202.13 Amylo-alpha-1,6-glucosidase"]
["L2G928_COLGN","L2G928",1566,"PF14701",138,580,800,"PF14701.5 Glycogen debranching enzyme, glucanotransferase domain"]
["L2G928_COLGN","L2G928",1566,"PF14699",36,136,587,"PF14699.5 N-terminal domain from the human glycogen debranching enzyme"]
["L2G928_COLGN","L2G928",1566,"PF14702",755,999,717,"PF14702.5 Central domain of human glycogen debranching enzyme"]
["L5K396_PTEAL","L5K396",1390,"PF06202",915,1387,1981,"PF06202.13 Amylo-alpha-1,6-glucosidase"]
["L5K396_PTEAL","L5K396",1390,"PF14701",120,233,800,"PF14701.5 Glycogen debranching enzyme, glucanotransferase domain"]
["L5K396_PTEAL","L5K396",1390,"PF14701",235,386,800,"PF14701.5 Glycogen debranching enzyme, glucanotransferase domain"]
["L5K396_PTEAL","L5K396",1390,"PF14699",31,116,587,"PF14699.5 N-terminal domain from the human glycogen debranching enzyme"]
["L5K396_PTEAL","L5K396",1390,"PF14702",491,725,717,"PF14702.5 Central domain of human glycogen debranching enzyme"]
["L5K396_PTEAL","L5K396",1390,"PF14702",800,847,717,"PF14702.5 Central domain of human glycogen debranching enzyme"]
["L5LXG2_MYODS","L5LXG2",1536,"PF06202",1068,1531,1981,"PF06202.13 Amylo-alpha-1,6-glucosidase"]
["L5LXG2_MYODS","L5LXG2",1536,"PF14701",117,592,800,"PF14701.5 Glycogen debranching enzyme, glucanotransferase domain"]
["L5LXG2_MYODS","L5LXG2",1536,"PF14699",31,113,587,"PF14699.5 N-terminal domain from the human glycogen debranching enzyme"]
["L5LXG2_MYODS","L5LXG2",1536,"PF14702",735,984,717,"PF14702.5 Central domain of human glycogen debranching enzyme"]
["L8FUI4_PSED2","L8FUI4",1153,"PF06202",660,1137,1981,"PF06202.13 Amylo-alpha-1,6-glucosidase"]
["L8FUI4_PSED2","L8FUI4",1153,"PF14701",12,188,800,"PF14701.5 Glycogen debranching enzyme, glucanotransferase domain"]
["L8FUI4_PSED2","L8FUI4",1153,"PF14702",346,590,717,"PF14702.5 Central domain of human glycogen debranching enzyme"]
["L8X4Q1_THACA","L8X4Q1",1629,"PF06202",1144,1618,1981,"PF06202.13 Amylo-alpha-1,6-glucosidase"]
["L8X4Q1_THACA","L8X4Q1",1629,"PF14701",268,706,800,"PF14701.5 Glycogen debranching enzyme, glucanotransferase domain"]
["L8X4Q1_THACA","L8X4Q1",1629,"PF14699",156,242,587,"PF14699.5 N-terminal domain from the human glycogen debranching enzyme"]
["L8X4Q1_THACA","L8X4Q1",1629,"PF14702",861,1015,717,"PF14702.5 Central domain of human glycogen debranching enzyme"]
["L8X4Q1_THACA","L8X4Q1",1629,"PF14702",1008,1072,717,"PF14702.5 Central domain of human glycogen debranching enzyme"]
["L8Y2P5_TUPCH","L8Y2P5",1039,"PF06202",576,704,1981,"PF06202.13 Amylo-alpha-1,6-glucosidase"]
["L8Y2P5_TUPCH","L8Y2P5",1039,"PF07690",700,845,214283,"PF07690.15 Major Facilitator Superfamily"]
["L8Y2P5_TUPCH","L8Y2P5",1039,"PF14699",31,121,587,"PF14699.5 N-terminal domain from the human glycogen debranching enzyme"]
["L8Y2P5_TUPCH","L8Y2P5",1039,"PF14702",217,483,717,"PF14702.5 Central domain of human glycogen debranching enzyme"]
["M1W1F8_CLAP2","M1W1F8",1559,"PF06202",1071,1544,1981,"PF06202.13 Amylo-alpha-1,6-glucosidase"]
["M1W1F8_CLAP2","M1W1F8",1559,"PF14701",144,588,800,"PF14701.5 Glycogen debranching enzyme, glucanotransferase domain"]
["M1W1F8_CLAP2","M1W1F8",1559,"PF14699",41,142,587,"PF14699.5 N-terminal domain from the human glycogen debranching enzyme"]
["M1W1F8_CLAP2","M1W1F8",1559,"PF14702",754,998,717,"PF14702.5 Central domain of human glycogen debranching enzyme"]
["M2M3S2_BAUCO","M2M3S2",1559,"PF06202",1065,1537,1981,"PF06202.13 Amylo-alpha-1,6-glucosidase"]
["M2M3S2_BAUCO","M2M3S2",1559,"PF14701",141,579,800,"PF14701.5 Glycogen debranching enzyme, glucanotransferase domain"]
["M2M3S2_BAUCO","M2M3S2",1559,"PF14699",43,139,587,"PF14699.5 N-terminal domain from the human glycogen debranching enzyme"]
["M2M3S2_BAUCO","M2M3S2",1559,"PF14702",749,992,717,"PF14702.5 Central domain of human glycogen debranching enzyme"]
["M2RJS3_CERS8","M2RJS3",1516,"PF06202",1029,1505,1981,"PF06202.13 Amylo-alpha-1,6-glucosidase"]
["M2RJS3_CERS8","M2RJS3",1516,"PF14701",124,559,800,"PF14701.5 Glycogen debranching enzyme, glucanotransferase domain"]
["M2RJS3_CERS8","M2RJS3",1516,"PF14699",12,100,587,"PF14699.5 N-terminal domain from the human glycogen debranching enzyme"]
["M2RJS3_CERS8","M2RJS3",1516,"PF14702",716,957,717,"PF14702.5 Central domain of human glycogen debranching enzyme"]
["M2S4D3_COCSN","M2S4D3",1559,"PF06202",1069,1541,1981,"PF06202.13 Amylo-alpha-1,6-glucosidase"]
["M2S4D3_COCSN","M2S4D3",1559,"PF14701",145,591,800,"PF14701.5 Glycogen debranching enzyme, glucanotransferase domain"]
["M2S4D3_COCSN","M2S4D3",1559,"PF14699",47,143,587,"PF14699.5 N-terminal domain from the human glycogen debranching enzyme"]
["M2S4D3_COCSN","M2S4D3",1559,"PF14702",752,996,717,"PF14702.5 Central domain of human glycogen debranching enzyme"]
["M2TWV8_COCH5","M2TWV8",1559,"PF06202",1069,1541,1981,"PF06202.13 Amylo-alpha-1,6-glucosidase"]
["M2TWV8_COCH5","M2TWV8",1559,"PF14701",145,591,800,"PF14701.5 Glycogen debranching enzyme, glucanotransferase domain"]
["M2TWV8_COCH5","M2TWV8",1559,"PF14699",47,143,587,"PF14699.5 N-terminal domain from the human glycogen debranching enzyme"]
["M2TWV8_COCH5","M2TWV8",1559,"PF14702",752,996,717,"PF14702.5 Central domain of human glycogen debranching enzyme"]
["M2YK58_DOTSN","M2YK58",1553,"PF06202",1067,1539,1981,"PF06202.13 Amylo-alpha-1,6-glucosidase"]
["M2YK58_DOTSN","M2YK58",1553,"PF14701",141,579,800,"PF14701.5 Glycogen debranching enzyme, glucanotransferase domain"]
["M2YK58_DOTSN","M2YK58",1553,"PF14699",43,139,587,"PF14699.5 N-terminal domain from the human glycogen debranching enzyme"]
["M2YK58_DOTSN","M2YK58",1553,"PF14702",749,992,717,"PF14702.5 Central domain of human glycogen debranching enzyme"]
["M3A760_PSEFD","M3A760",1554,"PF06202",1068,1540,1981,"PF06202.13 Amylo-alpha-1,6-glucosidase"]
["M3A760_PSEFD","M3A760",1554,"PF14701",141,579,800,"PF14701.5 Glycogen debranching enzyme, glucanotransferase domain"]
["M3A760_PSEFD","M3A760",1554,"PF14699",43,139,587,"PF14699.5 N-terminal domain from the human glycogen debranching enzyme"]
["M3A760_PSEFD","M3A760",1554,"PF14702",750,993,717,"PF14702.5 Central domain of human glycogen debranching enzyme"]
["M3BU19_SPHMS","M3BU19",1552,"PF06202",1067,1539,1981,"PF06202.13 Amylo-alpha-1,6-glucosidase"]
["M3BU19_SPHMS","M3BU19",1552,"PF14701",141,579,800,"PF14701.5 Glycogen debranching enzyme, glucanotransferase domain"]
["M3BU19_SPHMS","M3BU19",1552,"PF14699",43,139,587,"PF14699.5 N-terminal domain from the human glycogen debranching enzyme"]
["M3BU19_SPHMS","M3BU19",1552,"PF14702",749,992,717,"PF14702.5 Central domain of human glycogen debranching enzyme"]
["M3JST8_CANMX","M3JST8",1530,"PF06202",1042,1518,1981,"PF06202.13 Amylo-alpha-1,6-glucosidase"]
["M3JST8_CANMX","M3JST8",1530,"PF14701",143,570,800,"PF14701.5 Glycogen debranching enzyme, glucanotransferase domain"]
["M3JST8_CANMX","M3JST8",1530,"PF14699",53,141,587,"PF14699.5 N-terminal domain from the human glycogen debranching enzyme"]
["M3JST8_CANMX","M3JST8",1530,"PF14702",731,971,717,"PF14702.5 Central domain of human glycogen debranching enzyme"]
["M3X112_FELCA","M3X112",1532,"PF06202",1043,1527,1981,"PF06202.13 Amylo-alpha-1,6-glucosidase"]
["M3X112_FELCA","M3X112",1532,"PF14701",120,552,800,"PF14701.5 Glycogen debranching enzyme, glucanotransferase domain"]
["M3X112_FELCA","M3X112",1532,"PF14699",31,116,587,"PF14699.5 N-terminal domain from the human glycogen debranching enzyme"]
["M3X112_FELCA","M3X112",1532,"PF14702",698,975,717,"PF14702.5 Central domain of human glycogen debranching enzyme"]
["M3YLH2_MUSPF","M3YLH2",1533,"PF06202",1043,1528,1981,"PF06202.13 Amylo-alpha-1,6-glucosidase"]
["M3YLH2_MUSPF","M3YLH2",1533,"PF14701",120,552,800,"PF14701.5 Glycogen debranching enzyme, glucanotransferase domain"]
["M3YLH2_MUSPF","M3YLH2",1533,"PF14699",31,116,587,"PF14699.5 N-terminal domain from the human glycogen debranching enzyme"]
["M3YLH2_MUSPF","M3YLH2",1533,"PF14702",698,975,717,"PF14702.5 Central domain of human glycogen debranching enzyme"]
["M3ZFB7_XIPMA","M3ZFB7",1529,"PF06202",1039,1524,1981,"PF06202.13 Amylo-alpha-1,6-glucosidase"]
["M3ZFB7_XIPMA","M3ZFB7",1529,"PF14701",115,548,800,"PF14701.5 Glycogen debranching enzyme, glucanotransferase domain"]
["M3ZFB7_XIPMA","M3ZFB7",1529,"PF14699",29,114,587,"PF14699.5 N-terminal domain from the human glycogen debranching enzyme"]
["M3ZFB7_XIPMA","M3ZFB7",1529,"PF14702",694,971,717,"PF14702.5 Central domain of human glycogen debranching enzyme"]
["M5BPU2_THACB","M5BPU2",2104,"PF06202",1113,1551,1981,"PF06202.13 Amylo-alpha-1,6-glucosidase"]
["M5BPU2_THACB","M5BPU2",2104,"PF14701",216,644,800,"PF14701.5 Glycogen debranching enzyme, glucanotransferase domain"]
["M5BPU2_THACB","M5BPU2",2104,"PF14699",104,190,587,"PF14699.5 N-terminal domain from the human glycogen debranching enzyme"]
["M5BPU2_THACB","M5BPU2",2104,"PF14702",802,1041,717,"PF14702.5 Central domain of human glycogen debranching enzyme"]
["M5FZW2_DACPD","M5FZW2",1596,"PF06202",1107,1583,1981,"PF06202.13 Amylo-alpha-1,6-glucosidase"]
["M5FZW2_DACPD","M5FZW2",1596,"PF14701",202,636,800,"PF14701.5 Glycogen debranching enzyme, glucanotransferase domain"]
["M5FZW2_DACPD","M5FZW2",1596,"PF14699",83,174,587,"PF14699.5 N-terminal domain from the human glycogen debranching enzyme"]
["M5FZW2_DACPD","M5FZW2",1596,"PF14702",793,1035,717,"PF14702.5 Central domain of human glycogen debranching enzyme"]
["M7B7S1_CHEMY","M7B7S1",1748,"PF06202",833,1270,1981,"PF06202.13 Amylo-alpha-1,6-glucosidase"]
["M7B7S1_CHEMY","M7B7S1",1748,"PF02014",1278,1402,1011,"PF02014.15 Reeler domain"]
["M7B7S1_CHEMY","M7B7S1",1748,"PF14701",127,460,800,"PF14701.5 Glycogen debranching enzyme, glucanotransferase domain"]
["M7B7S1_CHEMY","M7B7S1",1748,"PF14702",565,786,717,"PF14702.5 Central domain of human glycogen debranching enzyme"]
["M7PC58_PNEMU","M7PC58",1516,"PF06202",1031,1505,1981,"PF06202.13 Amylo-alpha-1,6-glucosidase"]
["M7PC58_PNEMU","M7PC58",1516,"PF14701",133,570,800,"PF14701.5 Glycogen debranching enzyme, glucanotransferase domain"]
["M7PC58_PNEMU","M7PC58",1516,"PF14699",35,131,587,"PF14699.5 N-terminal domain from the human glycogen debranching enzyme"]
["M7PC58_PNEMU","M7PC58",1516,"PF14702",722,960,717,"PF14702.5 Central domain of human glycogen debranching enzyme"]
["M7SMT2_EUTLA","M7SMT2",1551,"PF06202",1069,1540,1981,"PF06202.13 Amylo-alpha-1,6-glucosidase"]
["M7SMT2_EUTLA","M7SMT2",1551,"PF14701",143,581,800,"PF14701.5 Glycogen debranching enzyme, glucanotransferase domain"]
["M7SMT2_EUTLA","M7SMT2",1551,"PF14699",41,141,587,"PF14699.5 N-terminal domain from the human glycogen debranching enzyme"]
["M7SMT2_EUTLA","M7SMT2",1551,"PF14702",752,996,717,"PF14702.5 Central domain of human glycogen debranching enzyme"]
["M7TLI0_BOTF1","M7TLI0",1551,"PF06202",1062,1536,1981,"PF06202.13 Amylo-alpha-1,6-glucosidase"]
["M7TLI0_BOTF1","M7TLI0",1551,"PF14701",134,580,800,"PF14701.5 Glycogen debranching enzyme, glucanotransferase domain"]
["M7TLI0_BOTF1","M7TLI0",1551,"PF14699",36,132,587,"PF14699.5 N-terminal domain from the human glycogen debranching enzyme"]
["M7TLI0_BOTF1","M7TLI0",1551,"PF14702",745,989,717,"PF14702.5 Central domain of human glycogen debranching enzyme"]
["M7XLS6_RHOT1","M7XLS6",1597,"PF06202",1105,1581,1981,"PF06202.13 Amylo-alpha-1,6-glucosidase"]
["M7XLS6_RHOT1","M7XLS6",1597,"PF14701",194,638,800,"PF14701.5 Glycogen debranching enzyme, glucanotransferase domain"]
["M7XLS6_RHOT1","M7XLS6",1597,"PF14699",78,165,587,"PF14699.5 N-terminal domain from the human glycogen debranching enzyme"]
["M7XLS6_RHOT1","M7XLS6",1597,"PF14702",790,1033,717,"PF14702.5 Central domain of human glycogen debranching enzyme"]
["M9MG38_PSEA3","M9MG38",1581,"PF06202",1101,1574,1981,"PF06202.13 Amylo-alpha-1,6-glucosidase"]
["M9MG38_PSEA3","M9MG38",1581,"PF14701",190,630,800,"PF14701.5 Glycogen debranching enzyme, glucanotransferase domain"]
["M9MG38_PSEA3","M9MG38",1581,"PF14699",61,163,587,"PF14699.5 N-terminal domain from the human glycogen debranching enzyme"]
["M9MG38_PSEA3","M9MG38",1581,"PF14702",787,1029,717,"PF14702.5 Central domain of human glycogen debranching enzyme"]
["N1J6R0_BLUG1","N1J6R0",1558,"PF06202",1059,1541,1981,"PF06202.13 Amylo-alpha-1,6-glucosidase"]
["N1J6R0_BLUG1","N1J6R0",1558,"PF14701",139,585,800,"PF14701.5 Glycogen debranching enzyme, glucanotransferase domain"]
["N1J6R0_BLUG1","N1J6R0",1558,"PF14699",41,137,587,"PF14699.5 N-terminal domain from the human glycogen debranching enzyme"]
["N1J6R0_BLUG1","N1J6R0",1558,"PF14702",746,990,717,"PF14702.5 Central domain of human glycogen debranching enzyme"]
["N1RE77_FUSC4","N1RE77",1556,"PF06202",1072,1544,1981,"PF06202.13 Amylo-alpha-1,6-glucosidase"]
["N1RE77_FUSC4","N1RE77",1556,"PF14701",144,580,800,"PF14701.5 Glycogen debranching enzyme, glucanotransferase domain"]
["N1RE77_FUSC4","N1RE77",1556,"PF14699",42,142,587,"PF14699.5 N-terminal domain from the human glycogen debranching enzyme"]
["N1RE77_FUSC4","N1RE77",1556,"PF14702",755,999,717,"PF14702.5 Central domain of human glycogen debranching enzyme"]
["N4UG34_FUSC1","N4UG34",1556,"PF06202",1072,1544,1981,"PF06202.13 Amylo-alpha-1,6-glucosidase"]
["N4UG34_FUSC1","N4UG34",1556,"PF14701",144,580,800,"PF14701.5 Glycogen debranching enzyme, glucanotransferase domain"]
["N4UG34_FUSC1","N4UG34",1556,"PF14699",42,142,587,"PF14699.5 N-terminal domain from the human glycogen debranching enzyme"]
["N4UG34_FUSC1","N4UG34",1556,"PF14702",755,999,717,"PF14702.5 Central domain of human glycogen debranching enzyme"]
["N4VNG1_COLOR","N4VNG1",1571,"PF06202",1075,1549,1981,"PF06202.13 Amylo-alpha-1,6-glucosidase"]
["N4VNG1_COLOR","N4VNG1",1571,"PF14701",143,585,800,"PF14701.5 Glycogen debranching enzyme, glucanotransferase domain"]
["N4VNG1_COLOR","N4VNG1",1571,"PF14699",41,141,587,"PF14699.5 N-terminal domain from the human glycogen debranching enzyme"]
["N4VNG1_COLOR","N4VNG1",1571,"PF14702",760,1004,717,"PF14702.5 Central domain of human glycogen debranching enzyme"]
["O62334_CAEEL","O62334",1467,"PF06202",998,1457,1981,"PF06202.13 Amylo-alpha-1,6-glucosidase"]
["O62334_CAEEL","O62334",1467,"PF14701",107,542,800,"PF14701.5 Glycogen debranching enzyme, glucanotransferase domain"]
["O62334_CAEEL","O62334",1467,"PF14699",31,105,587,"PF14699.5 N-terminal domain from the human glycogen debranching enzyme"]
["O62334_CAEEL","O62334",1467,"PF14702",682,931,717,"PF14702.5 Central domain of human glycogen debranching enzyme"]
["Q0CN55_ASPTN","Q0CN55",1544,"PF06202",1055,1527,1981,"PF06202.13 Amylo-alpha-1,6-glucosidase"]
["Q0CN55_ASPTN","Q0CN55",1544,"PF14701",135,575,800,"PF14701.5 Glycogen debranching enzyme, glucanotransferase domain"]
["Q0CN55_ASPTN","Q0CN55",1544,"PF14699",37,133,587,"PF14699.5 N-terminal domain from the human glycogen debranching enzyme"]
["Q0CN55_ASPTN","Q0CN55",1544,"PF14702",739,982,717,"PF14702.5 Central domain of human glycogen debranching enzyme"]
["Q0UXB3_PHANO","Q0UXB3",1563,"PF06202",1077,1550,1981,"PF06202.13 Amylo-alpha-1,6-glucosidase"]
["Q0UXB3_PHANO","Q0UXB3",1563,"PF14701",156,602,800,"PF14701.5 Glycogen debranching enzyme, glucanotransferase domain"]
["Q0UXB3_PHANO","Q0UXB3",1563,"PF14699",58,154,587,"PF14699.5 N-terminal domain from the human glycogen debranching enzyme"]
["Q0UXB3_PHANO","Q0UXB3",1563,"PF14702",760,1004,717,"PF14702.5 Central domain of human glycogen debranching enzyme"]
["Q16UP5_AEDAE","Q16UP5",1550,"PF06202",1068,1538,1981,"PF06202.13 Amylo-alpha-1,6-glucosidase"]
["Q16UP5_AEDAE","Q16UP5",1550,"PF14701",157,595,800,"PF14701.5 Glycogen debranching enzyme, glucanotransferase domain"]
["Q16UP5_AEDAE","Q16UP5",1550,"PF14699",53,151,587,"PF14699.5 N-terminal domain from the human glycogen debranching enzyme"]
["Q16UP5_AEDAE","Q16UP5",1550,"PF14702",733,1001,717,"PF14702.5 Central domain of human glycogen debranching enzyme"]
["Q291U7_DROPS","Q291U7",1564,"PF06202",1082,1551,1981,"PF06202.13 Amylo-alpha-1,6-glucosidase"]
["Q291U7_DROPS","Q291U7",1564,"PF14701",165,607,800,"PF14701.5 Glycogen debranching enzyme, glucanotransferase domain"]
["Q291U7_DROPS","Q291U7",1564,"PF14699",56,159,587,"PF14699.5 N-terminal domain from the human glycogen debranching enzyme"]
["Q291U7_DROPS","Q291U7",1564,"PF14702",745,1015,717,"PF14702.5 Central domain of human glycogen debranching enzyme"]
["Q2HF43_CHAGB","Q2HF43",1563,"PF06202",1067,1543,1981,"PF06202.13 Amylo-alpha-1,6-glucosidase"]
["Q2HF43_CHAGB","Q2HF43",1563,"PF14701",139,582,800,"PF14701.5 Glycogen debranching enzyme, glucanotransferase domain"]
["Q2HF43_CHAGB","Q2HF43",1563,"PF14699",36,137,587,"PF14699.5 N-terminal domain from the human glycogen debranching enzyme"]
["Q2HF43_CHAGB","Q2HF43",1563,"PF14702",752,996,717,"PF14702.5 Central domain of human glycogen debranching enzyme"]
["Q2URC4_ASPOR","Q2URC4",1537,"PF06202",1052,1524,1981,"PF06202.13 Amylo-alpha-1,6-glucosidase"]
["Q2URC4_ASPOR","Q2URC4",1537,"PF14701",135,573,800,"PF14701.5 Glycogen debranching enzyme, glucanotransferase domain"]
["Q2URC4_ASPOR","Q2URC4",1537,"PF14699",37,133,587,"PF14699.5 N-terminal domain from the human glycogen debranching enzyme"]
["Q2URC4_ASPOR","Q2URC4",1537,"PF14702",736,979,717,"PF14702.5 Central domain of human glycogen debranching enzyme"]
["Q4WKK6_ASPFU","Q4WKK6",1612,"PF06202",1056,1519,1981,"PF06202.13 Amylo-alpha-1,6-glucosidase"]
["Q4WKK6_ASPFU","Q4WKK6",1612,"PF14701",135,576,800,"PF14701.5 Glycogen debranching enzyme, glucanotransferase domain"]
["Q4WKK6_ASPFU","Q4WKK6",1612,"PF14699",37,133,587,"PF14699.5 N-terminal domain from the human glycogen debranching enzyme"]
["Q4WKK6_ASPFU","Q4WKK6",1612,"PF14702",740,983,717,"PF14702.5 Central domain of human glycogen debranching enzyme"]
["Q54K94_DICDI","Q54K94",1608,"PF06202",1119,1598,1981,"PF06202.13 Amylo-alpha-1,6-glucosidase"]
["Q54K94_DICDI","Q54K94",1608,"PF14701",181,631,800,"PF14701.5 Glycogen debranching enzyme, glucanotransferase domain"]
["Q54K94_DICDI","Q54K94",1608,"PF14702",790,1049,717,"PF14702.5 Central domain of human glycogen debranching enzyme"]
["Q59MN2_CANAL","Q59MN2",1527,"PF06202",1039,1515,1981,"PF06202.13 Amylo-alpha-1,6-glucosidase"]
["Q59MN2_CANAL","Q59MN2",1527,"PF14701",138,564,800,"PF14701.5 Glycogen debranching enzyme, glucanotransferase domain"]
["Q59MN2_CANAL","Q59MN2",1527,"PF14699",48,136,587,"PF14699.5 N-terminal domain from the human glycogen debranching enzyme"]
["Q59MN2_CANAL","Q59MN2",1527,"PF14702",723,966,717,"PF14702.5 Central domain of human glycogen debranching enzyme"]
["Q5CXJ2_CRYPI","Q5CXJ2",1891,"PF16561",940,1006,2886,"PF16561.4 Glycogen recognition site of AMP-activated protein kinase"]
["Q5CXJ2_CRYPI","Q5CXJ2",1891,"PF06202",1388,1882,1981,"PF06202.13 Amylo-alpha-1,6-glucosidase"]
["Q5CXJ2_CRYPI","Q5CXJ2",1891,"PF14701",221,673,800,"PF14701.5 Glycogen debranching enzyme, glucanotransferase domain"]
["Q5CXJ2_CRYPI","Q5CXJ2",1891,"PF14702",1021,1281,717,"PF14702.5 Central domain of human glycogen debranching enzyme"]
["Q5KA48_CRYNJ","Q5KA48",1593,"PF06202",1106,1582,1981,"PF06202.13 Amylo-alpha-1,6-glucosidase"]
["Q5KA48_CRYNJ","Q5KA48",1593,"PF14701",198,634,800,"PF14701.5 Glycogen debranching enzyme, glucanotransferase domain"]
["Q5KA48_CRYNJ","Q5KA48",1593,"PF14699",80,168,587,"PF14699.5 N-terminal domain from the human glycogen debranching enzyme"]
["Q5KA48_CRYNJ","Q5KA48",1593,"PF14702",795,1034,717,"PF14702.5 Central domain of human glycogen debranching enzyme"]
["Q6BUY8_DEBHA","Q6BUY8",1521,"PF06202",1034,1509,1981,"PF06202.13 Amylo-alpha-1,6-glucosidase"]
["Q6BUY8_DEBHA","Q6BUY8",1521,"PF14701",137,565,800,"PF14701.5 Glycogen debranching enzyme, glucanotransferase domain"]
["Q6BUY8_DEBHA","Q6BUY8",1521,"PF14699",47,135,587,"PF14699.5 N-terminal domain from the human glycogen debranching enzyme"]
["Q6BUY8_DEBHA","Q6BUY8",1521,"PF14702",723,963,717,"PF14702.5 Central domain of human glycogen debranching enzyme"]
["Q6CGI3_YARLI","Q6CGI3",1494,"PF06202",1010,1483,1981,"PF06202.13 Amylo-alpha-1,6-glucosidase"]
["Q6CGI3_YARLI","Q6CGI3",1494,"PF14701",133,554,800,"PF14701.5 Glycogen debranching enzyme, glucanotransferase domain"]
["Q6CGI3_YARLI","Q6CGI3",1494,"PF14699",34,131,587,"PF14699.5 N-terminal domain from the human glycogen debranching enzyme"]
["Q6CGI3_YARLI","Q6CGI3",1494,"PF14702",705,939,717,"PF14702.5 Central domain of human glycogen debranching enzyme"]
["Q6FSK0_CANGA","Q6FSK0",1528,"PF06202",1037,1517,1981,"PF06202.13 Amylo-alpha-1,6-glucosidase"]
["Q6FSK0_CANGA","Q6FSK0",1528,"PF14701",139,560,800,"PF14701.5 Glycogen debranching enzyme, glucanotransferase domain"]
["Q6FSK0_CANGA","Q6FSK0",1528,"PF14699",49,137,587,"PF14699.5 N-terminal domain from the human glycogen debranching enzyme"]
["Q6FSK0_CANGA","Q6FSK0",1528,"PF14702",727,967,717,"PF14702.5 Central domain of human glycogen debranching enzyme"]
["Q758N1_ASHGO","Q758N1",1518,"PF06202",1048,1513,1981,"PF06202.13 Amylo-alpha-1,6-glucosidase"]
["Q758N1_ASHGO","Q758N1",1518,"PF14701",158,577,800,"PF14701.5 Glycogen debranching enzyme, glucanotransferase domain"]
["Q758N1_ASHGO","Q758N1",1518,"PF14699",68,156,587,"PF14699.5 N-terminal domain from the human glycogen debranching enzyme"]
["Q758N1_ASHGO","Q758N1",1518,"PF14702",736,978,717,"PF14702.5 Central domain of human glycogen debranching enzyme"]
["Q7KVP4_DROME","Q7KVP4",1542,"PF06202",1060,1529,1981,"PF06202.13 Amylo-alpha-1,6-glucosidase"]
["Q7KVP4_DROME","Q7KVP4",1542,"PF14701",143,585,800,"PF14701.5 Glycogen debranching enzyme, glucanotransferase domain"]
["Q7KVP4_DROME","Q7KVP4",1542,"PF14699",34,137,587,"PF14699.5 N-terminal domain from the human glycogen debranching enzyme"]
["Q7KVP4_DROME","Q7KVP4",1542,"PF14702",723,993,717,"PF14702.5 Central domain of human glycogen debranching enzyme"]
["Q7PX40_ANOGA","Q7PX40",1557,"PF06202",1076,1545,1981,"PF06202.13 Amylo-alpha-1,6-glucosidase"]
["Q7PX40_ANOGA","Q7PX40",1557,"PF14701",164,603,800,"PF14701.5 Glycogen debranching enzyme, glucanotransferase domain"]
["Q7PX40_ANOGA","Q7PX40",1557,"PF14699",56,158,587,"PF14699.5 N-terminal domain from the human glycogen debranching enzyme"]
["Q7PX40_ANOGA","Q7PX40",1557,"PF14702",741,1009,717,"PF14702.5 Central domain of human glycogen debranching enzyme"]
["Q7SED5_NEUCR","Q7SED5",1566,"PF06202",1072,1546,1981,"PF06202.13 Amylo-alpha-1,6-glucosidase"]
["Q7SED5_NEUCR","Q7SED5",1566,"PF14701",145,588,800,"PF14701.5 Glycogen debranching enzyme, glucanotransferase domain"]
["Q7SED5_NEUCR","Q7SED5",1566,"PF14699",41,143,587,"PF14699.5 N-terminal domain from the human glycogen debranching enzyme"]
["Q7SED5_NEUCR","Q7SED5",1566,"PF14702",755,999,717,"PF14702.5 Central domain of human glycogen debranching enzyme"]
["Q86BS7_DROME","Q86BS7",1546,"PF06202",1064,1533,1981,"PF06202.13 Amylo-alpha-1,6-glucosidase"]
["Q86BS7_DROME","Q86BS7",1546,"PF14701",147,589,800,"PF14701.5 Glycogen debranching enzyme, glucanotransferase domain"]
["Q86BS7_DROME","Q86BS7",1546,"PF14699",38,141,587,"PF14699.5 N-terminal domain from the human glycogen debranching enzyme"]
["Q86BS7_DROME","Q86BS7",1546,"PF14702",727,997,717,"PF14702.5 Central domain of human glycogen debranching enzyme"]
["Q9W2H8_DROME","Q9W2H8",1629,"PF06202",1147,1616,1981,"PF06202.13 Amylo-alpha-1,6-glucosidase"]
["Q9W2H8_DROME","Q9W2H8",1629,"PF14701",230,672,800,"PF14701.5 Glycogen debranching enzyme, glucanotransferase domain"]
["Q9W2H8_DROME","Q9W2H8",1629,"PF14699",121,224,587,"PF14699.5 N-terminal domain from the human glycogen debranching enzyme"]
["Q9W2H8_DROME","Q9W2H8",1629,"PF14702",810,1080,717,"PF14702.5 Central domain of human glycogen debranching enzyme"]
["R0I5E7_SETT2","R0I5E7",1564,"PF06202",1069,1542,1981,"PF06202.13 Amylo-alpha-1,6-glucosidase"]
["R0I5E7_SETT2","R0I5E7",1564,"PF14701",145,591,800,"PF14701.5 Glycogen debranching enzyme, glucanotransferase domain"]
["R0I5E7_SETT2","R0I5E7",1564,"PF14699",47,143,587,"PF14699.5 N-terminal domain from the human glycogen debranching enzyme"]
["R0I5E7_SETT2","R0I5E7",1564,"PF14702",752,996,717,"PF14702.5 Central domain of human glycogen debranching enzyme"]
["R1ENZ2_BOTPV","R1ENZ2",1546,"PF06202",1058,1530,1981,"PF06202.13 Amylo-alpha-1,6-glucosidase"]
["R1ENZ2_BOTPV","R1ENZ2",1546,"PF14701",133,579,800,"PF14701.5 Glycogen debranching enzyme, glucanotransferase domain"]
["R1ENZ2_BOTPV","R1ENZ2",1546,"PF14699",35,131,587,"PF14699.5 N-terminal domain from the human glycogen debranching enzyme"]
["R1ENZ2_BOTPV","R1ENZ2",1546,"PF14702",741,985,717,"PF14702.5 Central domain of human glycogen debranching enzyme"]
["R4X711_TAPDE","R4X711",1511,"PF06202",1029,1501,1981,"PF06202.13 Amylo-alpha-1,6-glucosidase"]
["R4X711_TAPDE","R4X711",1511,"PF14701",137,574,800,"PF14701.5 Glycogen debranching enzyme, glucanotransferase domain"]
["R4X711_TAPDE","R4X711",1511,"PF14699",37,135,587,"PF14699.5 N-terminal domain from the human glycogen debranching enzyme"]
["R4X711_TAPDE","R4X711",1511,"PF14702",716,955,717,"PF14702.5 Central domain of human glycogen debranching enzyme"]
["R7YY15_CONA1","R7YY15",1554,"PF06202",1068,1540,1981,"PF06202.13 Amylo-alpha-1,6-glucosidase"]
["R7YY15_CONA1","R7YY15",1554,"PF14701",140,586,800,"PF14701.5 Glycogen debranching enzyme, glucanotransferase domain"]
["R7YY15_CONA1","R7YY15",1554,"PF14699",42,138,587,"PF14699.5 N-terminal domain from the human glycogen debranching enzyme"]
["R7YY15_CONA1","R7YY15",1554,"PF14702",753,995,717,"PF14702.5 Central domain of human glycogen debranching enzyme"]
["R8BET4_TOGMI","R8BET4",1561,"PF06202",1068,1546,1981,"PF06202.13 Amylo-alpha-1,6-glucosidase"]
["R8BET4_TOGMI","R8BET4",1561,"PF14701",143,586,800,"PF14701.5 Glycogen debranching enzyme, glucanotransferase domain"]
["R8BET4_TOGMI","R8BET4",1561,"PF14699",41,141,587,"PF14699.5 N-terminal domain from the human glycogen debranching enzyme"]
["R8BET4_TOGMI","R8BET4",1561,"PF14702",755,999,717,"PF14702.5 Central domain of human glycogen debranching enzyme"]
["R9PE26_PSEHS","R9PE26",1568,"PF06202",1088,1561,1981,"PF06202.13 Amylo-alpha-1,6-glucosidase"]
["R9PE26_PSEHS","R9PE26",1568,"PF14701",180,617,800,"PF14701.5 Glycogen debranching enzyme, glucanotransferase domain"]
["R9PE26_PSEHS","R9PE26",1568,"PF14699",51,153,587,"PF14699.5 N-terminal domain from the human glycogen debranching enzyme"]
["R9PE26_PSEHS","R9PE26",1568,"PF14702",774,1016,717,"PF14702.5 Central domain of human glycogen debranching enzyme"]
["S0DU02_GIBF5","S0DU02",1556,"PF06202",1072,1544,1981,"PF06202.13 Amylo-alpha-1,6-glucosidase"]
["S0DU02_GIBF5","S0DU02",1556,"PF14701",144,580,800,"PF14701.5 Glycogen debranching enzyme, glucanotransferase domain"]
["S0DU02_GIBF5","S0DU02",1556,"PF14699",42,142,587,"PF14699.5 N-terminal domain from the human glycogen debranching enzyme"]
["S0DU02_GIBF5","S0DU02",1556,"PF14702",755,999,717,"PF14702.5 Central domain of human glycogen debranching enzyme"]
["S2JV67_MUCC1","S2JV67",1522,"PF06202",1047,1510,1981,"PF06202.13 Amylo-alpha-1,6-glucosidase"]
["S2JV67_MUCC1","S2JV67",1522,"PF14701",144,589,800,"PF14701.5 Glycogen debranching enzyme, glucanotransferase domain"]
["S2JV67_MUCC1","S2JV67",1522,"PF14699",46,135,587,"PF14699.5 N-terminal domain from the human glycogen debranching enzyme"]
["S2JV67_MUCC1","S2JV67",1522,"PF14702",741,976,717,"PF14702.5 Central domain of human glycogen debranching enzyme"]
["S3BXP7_OPHP1","S3BXP7",1569,"PF06202",1074,1548,1981,"PF06202.13 Amylo-alpha-1,6-glucosidase"]
["S3BXP7_OPHP1","S3BXP7",1569,"PF14701",148,588,800,"PF14701.5 Glycogen debranching enzyme, glucanotransferase domain"]
["S3BXP7_OPHP1","S3BXP7",1569,"PF14699",46,146,587,"PF14699.5 N-terminal domain from the human glycogen debranching enzyme"]
["S3BXP7_OPHP1","S3BXP7",1569,"PF14702",749,995,717,"PF14702.5 Central domain of human glycogen debranching enzyme"]
["S3CNJ0_GLAL2","S3CNJ0",1557,"PF06202",1065,1542,1981,"PF06202.13 Amylo-alpha-1,6-glucosidase"]
["S3CNJ0_GLAL2","S3CNJ0",1557,"PF14701",139,585,800,"PF14701.5 Glycogen debranching enzyme, glucanotransferase domain"]
["S3CNJ0_GLAL2","S3CNJ0",1557,"PF14699",41,137,587,"PF14699.5 N-terminal domain from the human glycogen debranching enzyme"]
["S3CNJ0_GLAL2","S3CNJ0",1557,"PF14702",751,995,717,"PF14702.5 Central domain of human glycogen debranching enzyme"]
["S6F5Y1_ZYGB2","S6F5Y1",1524,"PF06202",1036,1513,1981,"PF06202.13 Amylo-alpha-1,6-glucosidase"]
["S6F5Y1_ZYGB2","S6F5Y1",1524,"PF14701",138,559,800,"PF14701.5 Glycogen debranching enzyme, glucanotransferase domain"]
["S6F5Y1_ZYGB2","S6F5Y1",1524,"PF14699",48,136,587,"PF14699.5 N-terminal domain from the human glycogen debranching enzyme"]
["S6F5Y1_ZYGB2","S6F5Y1",1524,"PF14702",726,966,717,"PF14702.5 Central domain of human glycogen debranching enzyme"]
["S7Q397_MYOBR","S7Q397",1512,"PF06202",1044,1507,1981,"PF06202.13 Amylo-alpha-1,6-glucosidase"]
["S7Q397_MYOBR","S7Q397",1512,"PF14701",120,552,800,"PF14701.5 Glycogen debranching enzyme, glucanotransferase domain"]
["S7Q397_MYOBR","S7Q397",1512,"PF14699",31,116,587,"PF14699.5 N-terminal domain from the human glycogen debranching enzyme"]
["S7Q397_MYOBR","S7Q397",1512,"PF14702",698,975,717,"PF14702.5 Central domain of human glycogen debranching enzyme"]
["S7RTJ5_GLOTA","S7RTJ5",1609,"PF06202",1124,1600,1981,"PF06202.13 Amylo-alpha-1,6-glucosidase"]
["S7RTJ5_GLOTA","S7RTJ5",1609,"PF14701",217,654,800,"PF14701.5 Glycogen debranching enzyme, glucanotransferase domain"]
["S7RTJ5_GLOTA","S7RTJ5",1609,"PF14699",102,190,587,"PF14699.5 N-terminal domain from the human glycogen debranching enzyme"]
["S7RTJ5_GLOTA","S7RTJ5",1609,"PF14702",811,1052,717,"PF14702.5 Central domain of human glycogen debranching enzyme"]
["S7ZFX6_PENO1","S7ZFX6",1531,"PF06202",1048,1522,1981,"PF06202.13 Amylo-alpha-1,6-glucosidase"]
["S7ZFX6_PENO1","S7ZFX6",1531,"PF14701",135,570,800,"PF14701.5 Glycogen debranching enzyme, glucanotransferase domain"]
["S7ZFX6_PENO1","S7ZFX6",1531,"PF14699",37,133,587,"PF14699.5 N-terminal domain from the human glycogen debranching enzyme"]
["S7ZFX6_PENO1","S7ZFX6",1531,"PF14702",734,977,717,"PF14702.5 Central domain of human glycogen debranching enzyme"]
["S8AGT1_DACHA","S8AGT1",1520,"PF06202",1035,1507,1981,"PF06202.13 Amylo-alpha-1,6-glucosidase"]
["S8AGT1_DACHA","S8AGT1",1520,"PF14701",138,575,800,"PF14701.5 Glycogen debranching enzyme, glucanotransferase domain"]
["S8AGT1_DACHA","S8AGT1",1520,"PF14699",35,136,587,"PF14699.5 N-terminal domain from the human glycogen debranching enzyme"]
["S8AGT1_DACHA","S8AGT1",1520,"PF14702",720,963,717,"PF14702.5 Central domain of human glycogen debranching enzyme"]
["S8FR05_FOMPI","S8FR05",1523,"PF06202",1031,1507,1981,"PF06202.13 Amylo-alpha-1,6-glucosidase"]
["S8FR05_FOMPI","S8FR05",1523,"PF14701",123,561,800,"PF14701.5 Glycogen debranching enzyme, glucanotransferase domain"]
["S8FR05_FOMPI","S8FR05",1523,"PF14699",12,100,587,"PF14699.5 N-terminal domain from the human glycogen debranching enzyme"]
["S8FR05_FOMPI","S8FR05",1523,"PF14702",718,959,717,"PF14702.5 Central domain of human glycogen debranching enzyme"]
["S9WDR6_CAMFR","S9WDR6",786,"PF06202",665,786,1981,"PF06202.13 Amylo-alpha-1,6-glucosidase"]
["S9WDR6_CAMFR","S9WDR6",786,"PF14701",106,143,800,"PF14701.5 Glycogen debranching enzyme, glucanotransferase domain"]
["S9WDR6_CAMFR","S9WDR6",786,"PF14701",141,304,800,"PF14701.5 Glycogen debranching enzyme, glucanotransferase domain"]
["S9WDR6_CAMFR","S9WDR6",786,"PF14699",17,102,587,"PF14699.5 N-terminal domain from the human glycogen debranching enzyme"]
["S9WDR6_CAMFR","S9WDR6",786,"PF14702",370,638,717,"PF14702.5 Central domain of human glycogen debranching enzyme"]
["T0K3Z4_COLGC","T0K3Z4",1565,"PF06202",1069,1543,1981,"PF06202.13 Amylo-alpha-1,6-glucosidase"]
["T0K3Z4_COLGC","T0K3Z4",1565,"PF14701",137,579,800,"PF14701.5 Glycogen debranching enzyme, glucanotransferase domain"]
["T0K3Z4_COLGC","T0K3Z4",1565,"PF14699",35,135,587,"PF14699.5 N-terminal domain from the human glycogen debranching enzyme"]
["T0K3Z4_COLGC","T0K3Z4",1565,"PF14702",754,998,717,"PF14702.5 Central domain of human glycogen debranching enzyme"]
["T1EEV2_HELRO","T1EEV2",1530,"PF06202",1033,1519,1981,"PF06202.13 Amylo-alpha-1,6-glucosidase"]
["T1EEV2_HELRO","T1EEV2",1530,"PF14701",124,551,800,"PF14701.5 Glycogen debranching enzyme, glucanotransferase domain"]
["T1EEV2_HELRO","T1EEV2",1530,"PF14699",31,120,587,"PF14699.5 N-terminal domain from the human glycogen debranching enzyme"]
["T1EEV2_HELRO","T1EEV2",1530,"PF14702",697,966,717,"PF14702.5 Central domain of human glycogen debranching enzyme"]
["T1GKN8_MEGSC","T1GKN8",536,"PF14701",1,129,800,"PF14701.5 Glycogen debranching enzyme, glucanotransferase domain"]
["T1GKN8_MEGSC","T1GKN8",536,"PF14702",267,535,717,"PF14702.5 Central domain of human glycogen debranching enzyme"]
["T1HQC3_RHOPR","T1HQC3",1474,"PF06202",1000,1473,1981,"PF06202.13 Amylo-alpha-1,6-glucosidase"]
["T1HQC3_RHOPR","T1HQC3",1474,"PF14701",102,535,800,"PF14701.5 Glycogen debranching enzyme, glucanotransferase domain"]
["T1HQC3_RHOPR","T1HQC3",1474,"PF14699",22,100,587,"PF14699.5 N-terminal domain from the human glycogen debranching enzyme"]
["T1HQC3_RHOPR","T1HQC3",1474,"PF14702",681,931,717,"PF14702.5 Central domain of human glycogen debranching enzyme"]
["T1J746_STRMM","T1J746",1569,"PF06202",1073,1544,1981,"PF06202.13 Amylo-alpha-1,6-glucosidase"]
["T1J746_STRMM","T1J746",1569,"PF14701",140,573,800,"PF14701.5 Glycogen debranching enzyme, glucanotransferase domain"]
["T1J746_STRMM","T1J746",1569,"PF14699",46,136,587,"PF14699.5 N-terminal domain from the human glycogen debranching enzyme"]
["T1J746_STRMM","T1J746",1569,"PF14702",718,988,717,"PF14702.5 Central domain of human glycogen debranching enzyme"]
["T1JUG0_TETUR","T1JUG0",1532,"PF06202",1068,1524,1981,"PF06202.13 Amylo-alpha-1,6-glucosidase"]
["T1JUG0_TETUR","T1JUG0",1532,"PF14701",150,592,800,"PF14701.5 Glycogen debranching enzyme, glucanotransferase domain"]
["T1JUG0_TETUR","T1JUG0",1532,"PF14699",65,145,587,"PF14699.5 N-terminal domain from the human glycogen debranching enzyme"]
["T1JUG0_TETUR","T1JUG0",1532,"PF14702",735,987,717,"PF14702.5 Central domain of human glycogen debranching enzyme"]
["T1JUL4_TETUR","T1JUL4",1307,"PF06202",148,296,1981,"PF06202.13 Amylo-alpha-1,6-glucosidase"]
["T1JUL4_TETUR","T1JUL4",1307,"PF06202",291,345,1981,"PF06202.13 Amylo-alpha-1,6-glucosidase"]
["T1JUL4_TETUR","T1JUL4",1307,"PF06202",860,1218,1981,"PF06202.13 Amylo-alpha-1,6-glucosidase"]
["T1JUL4_TETUR","T1JUL4",1307,"PF14701",1,152,800,"PF14701.5 Glycogen debranching enzyme, glucanotransferase domain"]
["T1JUL4_TETUR","T1JUL4",1307,"PF14701",356,435,800,"PF14701.5 Glycogen debranching enzyme, glucanotransferase domain"]
["T1JUL4_TETUR","T1JUL4",1307,"PF14702",578,791,717,"PF14702.5 Central domain of human glycogen debranching enzyme"]
["T5AFY6_OPHSC","T5AFY6",1594,"PF06202",1075,1547,1981,"PF06202.13 Amylo-alpha-1,6-glucosidase"]
["T5AFY6_OPHSC","T5AFY6",1594,"PF14701",144,588,800,"PF14701.5 Glycogen debranching enzyme, glucanotransferase domain"]
["T5AFY6_OPHSC","T5AFY6",1594,"PF14699",41,142,587,"PF14699.5 N-terminal domain from the human glycogen debranching enzyme"]
["T5AFY6_OPHSC","T5AFY6",1594,"PF14702",758,1002,717,"PF14702.5 Central domain of human glycogen debranching enzyme"]
["U1HM11_ENDPU","U1HM11",1546,"PF06202",1062,1534,1981,"PF06202.13 Amylo-alpha-1,6-glucosidase"]
["U1HM11_ENDPU","U1HM11",1546,"PF14701",135,578,800,"PF14701.5 Glycogen debranching enzyme, glucanotransferase domain"]
["U1HM11_ENDPU","U1HM11",1546,"PF14699",37,133,587,"PF14699.5 N-terminal domain from the human glycogen debranching enzyme"]
["U1HM11_ENDPU","U1HM11",1546,"PF14702",745,989,717,"PF14702.5 Central domain of human glycogen debranching enzyme"]
["U1MI54_ASCSU","U1MI54",1477,"PF06202",1004,1468,1981,"PF06202.13 Amylo-alpha-1,6-glucosidase"]
["U1MI54_ASCSU","U1MI54",1477,"PF14701",111,543,800,"PF14701.5 Glycogen debranching enzyme, glucanotransferase domain"]
["U1MI54_ASCSU","U1MI54",1477,"PF14702",680,937,717,"PF14702.5 Central domain of human glycogen debranching enzyme"]
["U3J1L9_ANAPL","U3J1L9",1312,"PF06202",824,1307,1981,"PF06202.13 Amylo-alpha-1,6-glucosidase"]
["U3J1L9_ANAPL","U3J1L9",1312,"PF14701",1,332,800,"PF14701.5 Glycogen debranching enzyme, glucanotransferase domain"]
["U3J1L9_ANAPL","U3J1L9",1312,"PF14702",477,754,717,"PF14702.5 Central domain of human glycogen debranching enzyme"]
["U3JI98_FICAL","U3JI98",1530,"PF06202",1050,1525,1981,"PF06202.13 Amylo-alpha-1,6-glucosidase"]
["U3JI98_FICAL","U3JI98",1530,"PF14701",120,550,800,"PF14701.5 Glycogen debranching enzyme, glucanotransferase domain"]
["U3JI98_FICAL","U3JI98",1530,"PF14699",31,116,587,"PF14699.5 N-terminal domain from the human glycogen debranching enzyme"]
["U3JI98_FICAL","U3JI98",1530,"PF14702",695,972,717,"PF14702.5 Central domain of human glycogen debranching enzyme"]
["U4KYJ0_PYROM","U4KYJ0",1525,"PF06202",1042,1514,1981,"PF06202.13 Amylo-alpha-1,6-glucosidase"]
["U4KYJ0_PYROM","U4KYJ0",1525,"PF14701",139,576,800,"PF14701.5 Glycogen debranching enzyme, glucanotransferase domain"]
["U4KYJ0_PYROM","U4KYJ0",1525,"PF14699",40,137,587,"PF14699.5 N-terminal domain from the human glycogen debranching enzyme"]
["U4KYJ0_PYROM","U4KYJ0",1525,"PF14702",728,970,717,"PF14702.5 Central domain of human glycogen debranching enzyme"]
["U4UE49_DENPD","U4UE49",1718,"PF06202",1243,1702,1981,"PF06202.13 Amylo-alpha-1,6-glucosidase"]
["U4UE49_DENPD","U4UE49",1718,"PF14701",310,746,800,"PF14701.5 Glycogen debranching enzyme, glucanotransferase domain"]
["U4UE49_DENPD","U4UE49",1718,"PF14699",210,307,587,"PF14699.5 N-terminal domain from the human glycogen debranching enzyme"]
["U4UE49_DENPD","U4UE49",1718,"PF14702",893,1151,717,"PF14702.5 Central domain of human glycogen debranching enzyme"]
["U5H663_USTV1","U5H663",1565,"PF06202",1083,1557,1981,"PF06202.13 Amylo-alpha-1,6-glucosidase"]
["U5H663_USTV1","U5H663",1565,"PF14701",176,616,800,"PF14701.5 Glycogen debranching enzyme, glucanotransferase domain"]
["U5H663_USTV1","U5H663",1565,"PF14699",64,150,587,"PF14699.5 N-terminal domain from the human glycogen debranching enzyme"]
["U5H663_USTV1","U5H663",1565,"PF14702",768,1011,717,"PF14702.5 Central domain of human glycogen debranching enzyme"]
["U6GUU5_EIMAC","U6GUU5",1171,"PF06202",1117,1171,1981,"PF06202.13 Amylo-alpha-1,6-glucosidase"]
["U6GUU5_EIMAC","U6GUU5",1171,"PF14701",163,301,800,"PF14701.5 Glycogen debranching enzyme, glucanotransferase domain"]
["U6GUU5_EIMAC","U6GUU5",1171,"PF14701",298,375,800,"PF14701.5 Glycogen debranching enzyme, glucanotransferase domain"]
["U6GUU5_EIMAC","U6GUU5",1171,"PF14701",384,578,800,"PF14701.5 Glycogen debranching enzyme, glucanotransferase domain"]
["U6GUU5_EIMAC","U6GUU5",1171,"PF14702",814,1014,717,"PF14702.5 Central domain of human glycogen debranching enzyme"]
["U6JZI1_9EIME","U6JZI1",774,"PF14701",66,185,800,"PF14701.5 Glycogen debranching enzyme, glucanotransferase domain"]
["U6JZI1_9EIME","U6JZI1",774,"PF14701",180,359,800,"PF14701.5 Glycogen debranching enzyme, glucanotransferase domain"]
["U6JZI1_9EIME","U6JZI1",774,"PF14702",539,616,717,"PF14702.5 Central domain of human glycogen debranching enzyme"]
["U6L804_EIMTE","U6L804",571,"PF16561",102,195,2886,"PF16561.4 Glycogen recognition site of AMP-activated protein kinase"]
["U6L804_EIMTE","U6L804",571,"PF14702",202,457,717,"PF14702.5 Central domain of human glycogen debranching enzyme"]
["U6LN22_9EIME","U6LN22",1381,"PF06202",1265,1379,1981,"PF06202.13 Amylo-alpha-1,6-glucosidase"]
["U6LN22_9EIME","U6LN22",1381,"PF14701",164,630,800,"PF14701.5 Glycogen debranching enzyme, glucanotransferase domain"]
["U6LN22_9EIME","U6LN22",1381,"PF14702",845,1050,717,"PF14702.5 Central domain of human glycogen debranching enzyme"]
["U6N4S6_9EIME","U6N4S6",1183,"PF16561",600,693,2886,"PF16561.4 Glycogen recognition site of AMP-activated protein kinase"]
["U6N4S6_9EIME","U6N4S6",1183,"PF06202",994,1135,1981,"PF06202.13 Amylo-alpha-1,6-glucosidase"]
["U6N4S6_9EIME","U6N4S6",1183,"PF14701",1,277,800,"PF14701.5 Glycogen debranching enzyme, glucanotransferase domain"]
["U6N4S6_9EIME","U6N4S6",1183,"PF14701",259,390,800,"PF14701.5 Glycogen debranching enzyme, glucanotransferase domain"]
["U6N4S6_9EIME","U6N4S6",1183,"PF14702",706,906,717,"PF14702.5 Central domain of human glycogen debranching enzyme"]
["U6P8Q5_HAECO","U6P8Q5",1509,"PF06202",1022,1496,1981,"PF06202.13 Amylo-alpha-1,6-glucosidase"]
["U6P8Q5_HAECO","U6P8Q5",1509,"PF14701",129,561,800,"PF14701.5 Glycogen debranching enzyme, glucanotransferase domain"]
["U6P8Q5_HAECO","U6P8Q5",1509,"PF14699",54,127,587,"PF14699.5 N-terminal domain from the human glycogen debranching enzyme"]
["U6P8Q5_HAECO","U6P8Q5",1509,"PF14702",699,955,717,"PF14702.5 Central domain of human glycogen debranching enzyme"]
["U7PL85_SPOS1","U7PL85",1582,"PF06202",1081,1562,1981,"PF06202.13 Amylo-alpha-1,6-glucosidase"]
["U7PL85_SPOS1","U7PL85",1582,"PF14701",144,583,800,"PF14701.5 Glycogen debranching enzyme, glucanotransferase domain"]
["U7PL85_SPOS1","U7PL85",1582,"PF14699",42,142,587,"PF14699.5 N-terminal domain from the human glycogen debranching enzyme"]
["U7PL85_SPOS1","U7PL85",1582,"PF14702",768,1012,717,"PF14702.5 Central domain of human glycogen debranching enzyme"]
["U9T0T6_RHIID","U9T0T6",1613,"PF06202",1129,1600,1981,"PF06202.13 Amylo-alpha-1,6-glucosidase"]
["U9T0T6_RHIID","U9T0T6",1613,"PF14701",147,420,800,"PF14701.5 Glycogen debranching enzyme, glucanotransferase domain"]
["U9T0T6_RHIID","U9T0T6",1613,"PF14701",406,666,800,"PF14701.5 Glycogen debranching enzyme, glucanotransferase domain"]
["U9T0T6_RHIID","U9T0T6",1613,"PF14699",42,130,587,"PF14699.5 N-terminal domain from the human glycogen debranching enzyme"]
["U9T0T6_RHIID","U9T0T6",1613,"PF14702",821,1058,717,"PF14702.5 Central domain of human glycogen debranching enzyme"]
["V2YXH6_MONRO","V2YXH6",1594,"PF06202",1106,1582,1981,"PF06202.13 Amylo-alpha-1,6-glucosidase"]
["V2YXH6_MONRO","V2YXH6",1594,"PF14701",205,636,800,"PF14701.5 Glycogen debranching enzyme, glucanotransferase domain"]
["V2YXH6_MONRO","V2YXH6",1594,"PF14699",91,179,587,"PF14699.5 N-terminal domain from the human glycogen debranching enzyme"]
["V2YXH6_MONRO","V2YXH6",1594,"PF14702",793,1034,717,"PF14702.5 Central domain of human glycogen debranching enzyme"]
["V4ALP1_LOTGI","V4ALP1",1563,"PF06202",1044,1534,1981,"PF06202.13 Amylo-alpha-1,6-glucosidase"]
["V4ALP1_LOTGI","V4ALP1",1563,"PF14701",122,554,800,"PF14701.5 Glycogen debranching enzyme, glucanotransferase domain"]
["V4ALP1_LOTGI","V4ALP1",1563,"PF14699",31,118,587,"PF14699.5 N-terminal domain from the human glycogen debranching enzyme"]
["V4ALP1_LOTGI","V4ALP1",1563,"PF14702",699,974,717,"PF14702.5 Central domain of human glycogen debranching enzyme"]
["V4ZBE9_TOXGV","V4ZBE9",1880,"PF16561",866,962,2886,"PF16561.4 Glycogen recognition site of AMP-activated protein kinase"]
["V4ZBE9_TOXGV","V4ZBE9",1880,"PF06202",1375,1852,1981,"PF06202.13 Amylo-alpha-1,6-glucosidase"]
["V4ZBE9_TOXGV","V4ZBE9",1880,"PF14701",160,611,800,"PF14701.5 Glycogen debranching enzyme, glucanotransferase domain"]
["V4ZBE9_TOXGV","V4ZBE9",1880,"PF14702",976,1244,717,"PF14702.5 Central domain of human glycogen debranching enzyme"]
["V5E335_KALBG","V5E335",1570,"PF06202",1090,1563,1981,"PF06202.13 Amylo-alpha-1,6-glucosidase"]
["V5E335_KALBG","V5E335",1570,"PF14701",180,619,800,"PF14701.5 Glycogen debranching enzyme, glucanotransferase domain"]
["V5E335_KALBG","V5E335",1570,"PF14699",51,153,587,"PF14699.5 N-terminal domain from the human glycogen debranching enzyme"]
["V5E335_KALBG","V5E335",1570,"PF14702",776,1018,717,"PF14702.5 Central domain of human glycogen debranching enzyme"]
["V5FW38_BYSSN","V5FW38",1536,"PF06202",1051,1524,1981,"PF06202.13 Amylo-alpha-1,6-glucosidase"]
["V5FW38_BYSSN","V5FW38",1536,"PF14701",135,570,800,"PF14701.5 Glycogen debranching enzyme, glucanotransferase domain"]
["V5FW38_BYSSN","V5FW38",1536,"PF14699",37,133,587,"PF14699.5 N-terminal domain from the human glycogen debranching enzyme"]
["V5FW38_BYSSN","V5FW38",1536,"PF14702",734,978,717,"PF14702.5 Central domain of human glycogen debranching enzyme"]
["V6LPQ1_9EUKA","V6LPQ1",1428,"PF06202",976,1423,1981,"PF06202.13 Amylo-alpha-1,6-glucosidase"]
["V6LPQ1_9EUKA","V6LPQ1",1428,"PF14701",116,509,800,"PF14701.5 Glycogen debranching enzyme, glucanotransferase domain"]
["V6LPQ1_9EUKA","V6LPQ1",1428,"PF14702",647,869,717,"PF14702.5 Central domain of human glycogen debranching enzyme"]
["V6TUL1_GIAIN","V6TUL1",1735,"PF06202",1183,1563,1981,"PF06202.13 Amylo-alpha-1,6-glucosidase"]
["V6TUL1_GIAIN","V6TUL1",1735,"PF06202",1608,1722,1981,"PF06202.13 Amylo-alpha-1,6-glucosidase"]
["V6TUL1_GIAIN","V6TUL1",1735,"PF14701",119,282,800,"PF14701.5 Glycogen debranching enzyme, glucanotransferase domain"]
["V6TUL1_GIAIN","V6TUL1",1735,"PF14701",333,687,800,"PF14701.5 Glycogen debranching enzyme, glucanotransferase domain"]
["V6TUL1_GIAIN","V6TUL1",1735,"PF14702",826,913,717,"PF14702.5 Central domain of human glycogen debranching enzyme"]
["V6TUL1_GIAIN","V6TUL1",1735,"PF14702",909,1056,717,"PF14702.5 Central domain of human glycogen debranching enzyme"]
["V8PGB5_OPHHA","V8PGB5",1479,"PF06202",989,1474,1981,"PF06202.13 Amylo-alpha-1,6-glucosidase"]
["V8PGB5_OPHHA","V8PGB5",1479,"PF14701",120,550,800,"PF14701.5 Glycogen debranching enzyme, glucanotransferase domain"]
["V8PGB5_OPHHA","V8PGB5",1479,"PF14699",31,116,587,"PF14699.5 N-terminal domain from the human glycogen debranching enzyme"]
["V8PGB5_OPHHA","V8PGB5",1479,"PF14702",655,921,717,"PF14702.5 Central domain of human glycogen debranching enzyme"]
["W1QEP6_OGAPD","W1QEP6",1512,"PF06202",1025,1500,1981,"PF06202.13 Amylo-alpha-1,6-glucosidase"]
["W1QEP6_OGAPD","W1QEP6",1512,"PF14701",133,554,800,"PF14701.5 Glycogen debranching enzyme, glucanotransferase domain"]
["W1QEP6_OGAPD","W1QEP6",1512,"PF14699",39,131,587,"PF14699.5 N-terminal domain from the human glycogen debranching enzyme"]
["W1QEP6_OGAPD","W1QEP6",1512,"PF14702",714,954,717,"PF14702.5 Central domain of human glycogen debranching enzyme"]
["W2RR45_9EURO","W2RR45",1553,"PF06202",1064,1535,1981,"PF06202.13 Amylo-alpha-1,6-glucosidase"]
["W2RR45_9EURO","W2RR45",1553,"PF14701",140,581,800,"PF14701.5 Glycogen debranching enzyme, glucanotransferase domain"]
["W2RR45_9EURO","W2RR45",1553,"PF14699",42,138,587,"PF14699.5 N-terminal domain from the human glycogen debranching enzyme"]
["W2RR45_9EURO","W2RR45",1553,"PF14702",747,991,717,"PF14702.5 Central domain of human glycogen debranching enzyme"]
["W2THL3_NECAM","W2THL3",1286,"PF06202",803,1273,1981,"PF06202.13 Amylo-alpha-1,6-glucosidase"]
["W2THL3_NECAM","W2THL3",1286,"PF14701",7,165,800,"PF14701.5 Glycogen debranching enzyme, glucanotransferase domain"]
["W2THL3_NECAM","W2THL3",1286,"PF14701",161,321,800,"PF14701.5 Glycogen debranching enzyme, glucanotransferase domain"]
["W2THL3_NECAM","W2THL3",1286,"PF14701",319,363,800,"PF14701.5 Glycogen debranching enzyme, glucanotransferase domain"]
["W2THL3_NECAM","W2THL3",1286,"PF14702",501,736,717,"PF14702.5 Central domain of human glycogen debranching enzyme"]
["W3XM16_9PEZI","W3XM16",1547,"PF06202",1058,1535,1981,"PF06202.13 Amylo-alpha-1,6-glucosidase"]
["W3XM16_9PEZI","W3XM16",1547,"PF14701",143,576,800,"PF14701.5 Glycogen debranching enzyme, glucanotransferase domain"]
["W3XM16_9PEZI","W3XM16",1547,"PF14699",41,141,587,"PF14699.5 N-terminal domain from the human glycogen debranching enzyme"]
["W3XM16_9PEZI","W3XM16",1547,"PF14702",745,989,717,"PF14702.5 Central domain of human glycogen debranching enzyme"]
["W4K1A9_9HOMO","W4K1A9",1586,"PF06202",1098,1574,1981,"PF06202.13 Amylo-alpha-1,6-glucosidase"]
["W4K1A9_9HOMO","W4K1A9",1586,"PF14701",188,618,800,"PF14701.5 Glycogen debranching enzyme, glucanotransferase domain"]
["W4K1A9_9HOMO","W4K1A9",1586,"PF14699",73,161,587,"PF14699.5 N-terminal domain from the human glycogen debranching enzyme"]
["W4K1A9_9HOMO","W4K1A9",1586,"PF14702",783,1026,717,"PF14702.5 Central domain of human glycogen debranching enzyme"]
["W4Z8R1_STRPU","W4Z8R1",1368,"PF06202",1072,1365,1981,"PF06202.13 Amylo-alpha-1,6-glucosidase"]
["W4Z8R1_STRPU","W4Z8R1",1368,"PF14701",156,591,800,"PF14701.5 Glycogen debranching enzyme, glucanotransferase domain"]
["W4Z8R1_STRPU","W4Z8R1",1368,"PF14699",62,152,587,"PF14699.5 N-terminal domain from the human glycogen debranching enzyme"]
["W4Z8R1_STRPU","W4Z8R1",1368,"PF14702",735,1003,717,"PF14702.5 Central domain of human glycogen debranching enzyme"]
["W5J8I8_ANODA","W5J8I8",1558,"PF06202",1077,1546,1981,"PF06202.13 Amylo-alpha-1,6-glucosidase"]
["W5J8I8_ANODA","W5J8I8",1558,"PF14701",165,604,800,"PF14701.5 Glycogen debranching enzyme, glucanotransferase domain"]
["W5J8I8_ANODA","W5J8I8",1558,"PF14699",57,159,587,"PF14699.5 N-terminal domain from the human glycogen debranching enzyme"]
["W5J8I8_ANODA","W5J8I8",1558,"PF14702",742,1010,717,"PF14702.5 Central domain of human glycogen debranching enzyme"]
["W5KD30_ASTMX","W5KD30",1516,"PF06202",1047,1261,1981,"PF06202.13 Amylo-alpha-1,6-glucosidase"]
["W5KD30_ASTMX","W5KD30",1516,"PF06202",1443,1511,1981,"PF06202.13 Amylo-alpha-1,6-glucosidase"]
["W5KD30_ASTMX","W5KD30",1516,"PF14701",121,553,800,"PF14701.5 Glycogen debranching enzyme, glucanotransferase domain"]
["W5KD30_ASTMX","W5KD30",1516,"PF14699",31,117,587,"PF14699.5 N-terminal domain from the human glycogen debranching enzyme"]
["W5KD30_ASTMX","W5KD30",1516,"PF14702",699,976,717,"PF14702.5 Central domain of human glycogen debranching enzyme"]
["W5LJR7_ASTMX","W5LJR7",1407,"PF06202",915,1396,1981,"PF06202.13 Amylo-alpha-1,6-glucosidase"]
["W5LJR7_ASTMX","W5LJR7",1407,"PF14701",1,420,800,"PF14701.5 Glycogen debranching enzyme, glucanotransferase domain"]
["W5LJR7_ASTMX","W5LJR7",1407,"PF14702",566,843,717,"PF14702.5 Central domain of human glycogen debranching enzyme"]
["W5LYQ0_LEPOC","W5LYQ0",1534,"PF06202",1045,1529,1981,"PF06202.13 Amylo-alpha-1,6-glucosidase"]
["W5LYQ0_LEPOC","W5LYQ0",1534,"PF14701",121,553,800,"PF14701.5 Glycogen debranching enzyme, glucanotransferase domain"]
["W5LYQ0_LEPOC","W5LYQ0",1534,"PF14699",31,117,587,"PF14699.5 N-terminal domain from the human glycogen debranching enzyme"]
["W5LYQ0_LEPOC","W5LYQ0",1534,"PF14702",699,976,717,"PF14702.5 Central domain of human glycogen debranching enzyme"]
["W5Q8M3_SHEEP","W5Q8M3",1532,"PF06202",1042,1527,1981,"PF06202.13 Amylo-alpha-1,6-glucosidase"]
["W5Q8M3_SHEEP","W5Q8M3",1532,"PF14701",120,551,800,"PF14701.5 Glycogen debranching enzyme, glucanotransferase domain"]
["W5Q8M3_SHEEP","W5Q8M3",1532,"PF14699",31,116,587,"PF14699.5 N-terminal domain from the human glycogen debranching enzyme"]
["W5Q8M3_SHEEP","W5Q8M3",1532,"PF14702",697,974,717,"PF14702.5 Central domain of human glycogen debranching enzyme"]
["W6MVH6_9ASCO","W6MVH6",1528,"PF06202",1039,1516,1981,"PF06202.13 Amylo-alpha-1,6-glucosidase"]
["W6MVH6_9ASCO","W6MVH6",1528,"PF14701",139,563,800,"PF14701.5 Glycogen debranching enzyme, glucanotransferase domain"]
["W6MVH6_9ASCO","W6MVH6",1528,"PF14699",44,137,587,"PF14699.5 N-terminal domain from the human glycogen debranching enzyme"]
["W6MVH6_9ASCO","W6MVH6",1528,"PF14702",725,969,717,"PF14702.5 Central domain of human glycogen debranching enzyme"]
["W6PTC3_PENRF","W6PTC3",1534,"PF06202",1053,1525,1981,"PF06202.13 Amylo-alpha-1,6-glucosidase"]
["W6PTC3_PENRF","W6PTC3",1534,"PF14701",135,573,800,"PF14701.5 Glycogen debranching enzyme, glucanotransferase domain"]
["W6PTC3_PENRF","W6PTC3",1534,"PF14699",37,133,587,"PF14699.5 N-terminal domain from the human glycogen debranching enzyme"]
["W6PTC3_PENRF","W6PTC3",1534,"PF14702",737,980,717,"PF14702.5 Central domain of human glycogen debranching enzyme"]
["W6V9C7_ECHGR","W6V9C7",1225,"PF06202",615,1128,1981,"PF06202.13 Amylo-alpha-1,6-glucosidase"]
["W6V9C7_ECHGR","W6V9C7",1225,"PF14701",43,104,800,"PF14701.5 Glycogen debranching enzyme, glucanotransferase domain"]
["W6V9C7_ECHGR","W6V9C7",1225,"PF14702",244,541,717,"PF14702.5 Central domain of human glycogen debranching enzyme"]
["W6YBJ1_COCCA","W6YBJ1",1559,"PF06202",1069,1541,1981,"PF06202.13 Amylo-alpha-1,6-glucosidase"]
["W6YBJ1_COCCA","W6YBJ1",1559,"PF14701",145,591,800,"PF14701.5 Glycogen debranching enzyme, glucanotransferase domain"]
["W6YBJ1_COCCA","W6YBJ1",1559,"PF14699",47,143,587,"PF14699.5 N-terminal domain from the human glycogen debranching enzyme"]
["W6YBJ1_COCCA","W6YBJ1",1559,"PF14702",752,996,717,"PF14702.5 Central domain of human glycogen debranching enzyme"]
["W7M3J4_GIBM7","W7M3J4",1556,"PF06202",1072,1544,1981,"PF06202.13 Amylo-alpha-1,6-glucosidase"]
["W7M3J4_GIBM7","W7M3J4",1556,"PF14701",144,580,800,"PF14701.5 Glycogen debranching enzyme, glucanotransferase domain"]
["W7M3J4_GIBM7","W7M3J4",1556,"PF14699",42,142,587,"PF14699.5 N-terminal domain from the human glycogen debranching enzyme"]
["W7M3J4_GIBM7","W7M3J4",1556,"PF14702",755,999,717,"PF14702.5 Central domain of human glycogen debranching enzyme"]
["W7MLL3_GIBM7","W7MLL3",1396,"PF06202",912,1384,1981,"PF06202.13 Amylo-alpha-1,6-glucosidase"]
["W7MLL3_GIBM7","W7MLL3",1396,"PF14701",1,420,800,"PF14701.5 Glycogen debranching enzyme, glucanotransferase domain"]
["W7MLL3_GIBM7","W7MLL3",1396,"PF14702",595,839,717,"PF14702.5 Central domain of human glycogen debranching enzyme"]
["W7XI56_TETTS","W7XI56",1735,"PF16561",847,933,2886,"PF16561.4 Glycogen recognition site of AMP-activated protein kinase"]
["W7XI56_TETTS","W7XI56",1735,"PF06202",1257,1720,1981,"PF06202.13 Amylo-alpha-1,6-glucosidase"]
["W7XI56_TETTS","W7XI56",1735,"PF14701",263,689,800,"PF14701.5 Glycogen debranching enzyme, glucanotransferase domain"]
["W7XI56_TETTS","W7XI56",1735,"PF14702",940,1188,717,"PF14702.5 Central domain of human glycogen debranching enzyme"]
["W9CJT9_9HELO","W9CJT9",1551,"PF06202",1062,1536,1981,"PF06202.13 Amylo-alpha-1,6-glucosidase"]
["W9CJT9_9HELO","W9CJT9",1551,"PF14701",134,580,800,"PF14701.5 Glycogen debranching enzyme, glucanotransferase domain"]
["W9CJT9_9HELO","W9CJT9",1551,"PF14699",36,132,587,"PF14699.5 N-terminal domain from the human glycogen debranching enzyme"]
["W9CJT9_9HELO","W9CJT9",1551,"PF14702",745,989,717,"PF14702.5 Central domain of human glycogen debranching enzyme"]
["W9W037_9EURO","W9W037",1544,"PF06202",1074,1539,1981,"PF06202.13 Amylo-alpha-1,6-glucosidase"]
["W9W037_9EURO","W9W037",1544,"PF14701",140,591,800,"PF14701.5 Glycogen debranching enzyme, glucanotransferase domain"]
["W9W037_9EURO","W9W037",1544,"PF14699",42,138,587,"PF14699.5 N-terminal domain from the human glycogen debranching enzyme"]
["W9W037_9EURO","W9W037",1544,"PF14702",757,1001,717,"PF14702.5 Central domain of human glycogen debranching enzyme"]
["W9W9T5_9EURO","W9W9T5",1552,"PF06202",1065,1537,1981,"PF06202.13 Amylo-alpha-1,6-glucosidase"]
["W9W9T5_9EURO","W9W9T5",1552,"PF14701",140,582,800,"PF14701.5 Glycogen debranching enzyme, glucanotransferase domain"]
["W9W9T5_9EURO","W9W9T5",1552,"PF14699",42,138,587,"PF14699.5 N-terminal domain from the human glycogen debranching enzyme"]
["W9W9T5_9EURO","W9W9T5",1552,"PF14702",748,992,717,"PF14702.5 Central domain of human glycogen debranching enzyme"]
["W9XNU5_9EURO","W9XNU5",1556,"PF06202",1064,1536,1981,"PF06202.13 Amylo-alpha-1,6-glucosidase"]
["W9XNU5_9EURO","W9XNU5",1556,"PF14701",140,582,800,"PF14701.5 Glycogen debranching enzyme, glucanotransferase domain"]
["W9XNU5_9EURO","W9XNU5",1556,"PF14699",42,138,587,"PF14699.5 N-terminal domain from the human glycogen debranching enzyme"]
["W9XNU5_9EURO","W9XNU5",1556,"PF14702",747,991,717,"PF14702.5 Central domain of human glycogen debranching enzyme"]
["W9ZPQ4_9EURO","W9ZPQ4",1561,"PF06202",1064,1536,1981,"PF06202.13 Amylo-alpha-1,6-glucosidase"]
["W9ZPQ4_9EURO","W9ZPQ4",1561,"PF14701",140,582,800,"PF14701.5 Glycogen debranching enzyme, glucanotransferase domain"]
["W9ZPQ4_9EURO","W9ZPQ4",1561,"PF14699",42,138,587,"PF14699.5 N-terminal domain from the human glycogen debranching enzyme"]
["W9ZPQ4_9EURO","W9ZPQ4",1561,"PF14702",747,991,717,"PF14702.5 Central domain of human glycogen debranching enzyme"]
["X0CDJ6_FUSOX","X0CDJ6",1396,"PF06202",912,1384,1981,"PF06202.13 Amylo-alpha-1,6-glucosidase"]
["X0CDJ6_FUSOX","X0CDJ6",1396,"PF14701",1,420,800,"PF14701.5 Glycogen debranching enzyme, glucanotransferase domain"]
["X0CDJ6_FUSOX","X0CDJ6",1396,"PF14702",595,839,717,"PF14702.5 Central domain of human glycogen debranching enzyme"]
["X0CNT7_FUSOX","X0CNT7",1556,"PF06202",1072,1544,1981,"PF06202.13 Amylo-alpha-1,6-glucosidase"]
["X0CNT7_FUSOX","X0CNT7",1556,"PF14701",144,580,800,"PF14701.5 Glycogen debranching enzyme, glucanotransferase domain"]
["X0CNT7_FUSOX","X0CNT7",1556,"PF14699",42,142,587,"PF14699.5 N-terminal domain from the human glycogen debranching enzyme"]
["X0CNT7_FUSOX","X0CNT7",1556,"PF14702",755,999,717,"PF14702.5 Central domain of human glycogen debranching enzyme"]
["X0JV77_FUSOX","X0JV77",1396,"PF06202",912,1384,1981,"PF06202.13 Amylo-alpha-1,6-glucosidase"]
["X0JV77_FUSOX","X0JV77",1396,"PF14701",1,420,800,"PF14701.5 Glycogen debranching enzyme, glucanotransferase domain"]
["X0JV77_FUSOX","X0JV77",1396,"PF14702",595,839,717,"PF14702.5 Central domain of human glycogen debranching enzyme"]
["X0JVI1_FUSOX","X0JVI1",1556,"PF06202",1072,1544,1981,"PF06202.13 Amylo-alpha-1,6-glucosidase"]
["X0JVI1_FUSOX","X0JVI1",1556,"PF14701",144,580,800,"PF14701.5 Glycogen debranching enzyme, glucanotransferase domain"]
["X0JVI1_FUSOX","X0JVI1",1556,"PF14699",42,142,587,"PF14699.5 N-terminal domain from the human glycogen debranching enzyme"]
["X0JVI1_FUSOX","X0JVI1",1556,"PF14702",755,999,717,"PF14702.5 Central domain of human glycogen debranching enzyme"]

{"sheet":"svod","index":1,"n_rows":705,"n_cols":20,"rows_kept":705,"cut":false,"hidden":false,"merged":[]}
[]
[]
["Количество по полю Pfam_AC","Pfam_AC"]
["Sequence_AC","PF00069","PF00071","PF00153","PF00620","PF00793","PF01060","PF02014","PF02167","PF02714","PF03351","PF06202","PF07690","PF13967","PF14699","PF14701","PF14702","PF14703","PF16561","Общий итог"]
["A0A010QTU3",null,null,null,null,null,null,null,null,null,null,1,null,null,1,1,1,null,null,4]
["A0A016T824",null,null,null,null,null,null,null,null,null,null,1,null,null,null,1,1,null,null,3]
["A0A016T8T2",null,null,null,null,null,null,null,null,null,null,1,null,null,null,1,1,null,null,3]
["A0A016T905",null,null,null,null,null,null,null,null,null,null,1,null,null,null,1,1,null,null,3]
["A0A023AYK6",null,null,null,null,null,null,null,null,null,null,1,null,null,null,2,1,null,1,5]
["A0A026W7M0",null,null,null,null,null,null,null,null,null,null,1,null,null,1,1,1,null,null,4]
["A0A044QLY7",null,null,null,null,null,null,null,null,null,null,1,null,null,null,1,1,null,null,3]
["A0A058Z1Q6",null,null,null,null,null,null,null,null,null,null,3,null,null,null,3,1,null,null,7]
["A0A059JG84",null,null,null,null,null,null,null,null,null,null,1,null,null,1,1,1,null,null,4]
["A0A060SM73",null,null,null,null,null,null,null,null,null,null,1,null,null,1,1,1,null,null,4]
["A0A061HK78",null,null,null,null,null,null,null,null,null,null,1,null,null,1,1,1,null,null,4]
["A0A063C724",null,null,null,null,null,null,null,null,null,null,1,null,null,1,1,1,null,null,4]
["A0A066VMY2",null,null,null,null,null,null,null,null,null,null,1,null,null,1,1,1,null,null,4]
["A0A066VPH2",null,null,null,null,null,null,null,null,null,null,1,null,null,1,1,1,null,null,4]
["A0A066XER0",null,null,null,null,null,null,null,null,null,null,1,null,null,1,1,1,null,null,4]
["A0A067MEC5",null,null,null,null,null,null,null,null,null,null,1,null,null,1,1,1,null,null,4]
["A0A067NTR2",null,null,null,null,null,null,null,null,null,null,1,null,null,1,1,1,null,null,4]
["A0A067Q6F6",null,null,null,null,null,null,null,null,null,null,1,null,null,1,1,1,null,null,4]
["A0A067R0B7",null,null,null,null,null,null,null,null,null,null,1,null,null,1,1,2,null,null,5]
["A0A067S4G4",null,null,null,null,null,null,null,null,null,null,1,null,null,1,1,1,null,null,4]
["A0A068S7K8",null,null,null,null,null,null,null,null,null,null,1,null,null,1,1,1,null,null,4]
["A0A068S963",null,null,null,null,null,null,null,null,null,null,1,null,null,1,1,1,null,null,4]
["A0A068X5G4",null,null,null,null,null,null,null,null,null,null,1,null,null,1,1,1,null,null,4]
["A0A068Y9Z0",null,null,null,null,null,null,null,null,null,null,1,null,null,null,1,1,null,null,3]
["A0A072P3F0",null,null,null,null,null,null,null,null,null,null,1,null,null,1,1,1,null,null,4]
["A0A074SCB3",null,null,null,null,null,null,null,null,null,null,1,null,null,1,1,1,null,null,4]
["A0A074TF13",null,null,null,null,null,null,null,null,null,null,1,null,null,null,1,1,null,1,4]
["A0A074WED3",null,null,null,null,null,null,null,null,null,null,1,null,null,1,1,1,null,null,4]
["A0A074X1S4",null,null,null,null,null,null,null,null,null,null,1,null,null,1,1,1,null,null,4]
["A0A074Y8R4",null,null,null,null,null,null,null,null,null,null,1,null,null,1,1,1,null,null,4]
["A0A074YD67",null,null,null,null,null,null,null,null,null,null,1,null,null,1,1,1,null,null,4]
["A0A075A357",null,null,null,null,null,null,null,null,null,null,1,null,null,1,1,1,null,null,4]
["A0A075AYU9",null,null,null,null,null,null,null,null,null,null,2,null,null,null,1,1,null,null,4]
["A0A077YY88",null,null,null,null,null,null,null,null,null,null,1,null,null,null,1,1,null,null,3]
["A0A077Z661",null,null,null,null,null,null,null,null,null,null,2,null,null,null,1,2,null,null,5]
["A0A078A3A7",null,null,null,null,null,null,null,null,null,null,1,null,null,null,1,1,null,1,4]
["A0A078AI91",null,null,null,null,null,null,null,null,null,null,null,null,null,null,2,1,null,1,4]
["A0A081CN43",null,null,null,null,null,null,null,null,null,null,1,null,null,1,1,1,null,null,4]
["A0A084GGA7",null,null,null,null,null,null,null,null,null,null,1,null,null,1,1,1,null,null,4]
["A0A084QI67",null,null,null,null,null,null,null,null,null,null,1,null,null,1,1,1,null,null,4]
["A0A084W0C3",null,null,null,null,null,null,null,null,null,null,1,null,null,1,1,1,null,null,4]
["A0A085NDC7",null,null,null,null,null,null,null,null,null,null,1,null,null,null,1,1,null,null,3]
["A0A085NML0",null,null,null,null,null,null,null,null,null,null,1,null,null,null,1,1,null,null,3]
["A0A086THF9",null,null,null,null,null,null,null,null,null,null,1,null,null,1,1,1,null,null,4]
["A0A087QMK8",null,null,null,null,null,null,null,null,null,null,1,null,null,1,1,1,null,null,4]
["A0A087U9R3",null,null,null,null,null,null,null,null,null,null,null,null,null,null,null,1,null,null,1]
["A0A087U9R4",null,null,null,null,null,null,null,null,null,null,null,null,null,null,null,1,null,null,1]
["A0A087X458",null,null,null,null,null,null,null,null,null,null,1,null,null,1,1,1,null,null,4]
["A0A088ALS8",null,null,null,null,null,null,null,null,null,null,1,null,null,1,1,1,null,null,4]
["A0A090L6T4",null,null,null,null,null,null,null,null,null,null,1,null,null,null,1,1,null,null,3]
["A0A091D443",null,null,null,null,null,null,null,null,null,null,2,null,null,1,2,1,null,null,6]
["A0A091EIV1",null,null,null,null,null,null,null,null,null,null,1,null,null,1,1,1,null,null,4]
["A0A091G6W5",null,null,null,null,null,null,null,null,null,null,1,null,null,1,1,1,null,null,4]
["A0A091GQE9",null,null,null,null,null,null,null,null,null,null,1,null,null,1,1,1,null,null,4]
["A0A091HRX4",null,null,null,null,null,null,null,null,null,null,1,null,null,1,1,1,null,null,4]
["A0A091KHC9",null,null,null,null,null,null,null,null,null,null,1,null,null,1,1,1,null,null,4]
["A0A091KUT8",null,null,null,null,null,null,null,null,null,null,1,null,null,1,1,1,null,null,4]
["A0A091LLM9",null,null,null,null,null,null,null,null,null,null,1,null,null,1,1,1,null,null,4]
["A0A091MDQ5",null,null,null,null,null,null,null,null,null,null,1,null,null,1,1,1,null,null,4]
["A0A091NKW9",null,null,null,null,null,null,null,null,null,null,1,null,null,1,1,1,null,null,4]
["A0A091P1S7",null,null,null,null,null,null,null,null,null,null,1,null,null,1,1,1,null,null,4]
["A0A091QG56",null,null,null,null,null,null,null,null,null,null,1,null,null,1,1,1,null,null,4]
["A0A091RCN7",null,null,null,null,null,null,null,null,null,null,null,null,null,1,1,1,null,null,3]
["A0A091T2P6",null,null,null,null,null,null,null,null,null,null,1,null,null,null,null,1,null,null,2]
["A0A091TI76",null,null,null,null,null,null,null,null,null,null,1,null,null,1,1,1,null,null,4]
["A0A091TXK1",null,null,null,null,null,null,null,null,null,null,1,null,null,null,null,1,null,null,2]
["A0A091UFK0",null,null,null,null,null,null,null,null,null,null,1,null,null,1,1,1,null,null,4]
["A0A091VAU0",null,null,null,null,null,null,null,null,null,null,1,null,null,1,1,1,null,null,4]
["A0A091XK00",null,null,null,null,null,null,null,null,null,null,1,null,null,1,1,1,null,null,4]
["A0A093CNC6",null,null,null,null,null,null,null,null,null,null,1,null,null,1,1,1,null,null,4]
["A0A093CQ14",null,null,null,null,null,null,null,null,null,null,1,null,null,1,1,1,null,null,4]
["A0A093EJE1",null,null,null,null,null,null,null,null,null,null,1,null,null,1,1,1,null,null,4]
["A0A093H545",null,null,null,null,null,null,null,null,null,null,1,null,null,1,1,1,null,null,4]
["A0A093J624",null,null,null,null,null,null,null,null,null,null,1,null,null,1,1,1,null,null,4]
["A0A093LME3",null,null,null,null,null,null,null,null,null,null,1,null,null,1,1,1,null,null,4]
["A0A093PRZ8",null,null,null,null,null,null,null,null,null,null,1,null,null,1,1,1,null,null,4]
["A0A093Y8C9",null,null,null,null,null,null,null,null,null,null,1,null,null,1,1,1,null,null,4]
["A0A093Y8Z0",null,null,null,null,null,null,null,null,null,null,1,null,null,1,1,1,null,null,4]
["A0A093ZDG4",null,null,null,null,null,null,null,null,null,null,1,null,null,1,1,1,null,null,4]
["A0A094A6U6",null,null,null,null,null,null,null,null,null,null,1,null,null,1,1,1,null,null,4]
["A0A094AGV0",null,null,null,null,null,null,null,null,null,null,1,null,null,1,1,1,null,null,4]
["A0A094BZU4",null,null,null,null,null,null,null,null,null,null,1,null,null,1,1,1,null,null,4]
["A0A094CBT3",null,null,null,null,null,null,null,null,null,null,1,null,null,1,1,1,null,null,4]
["A0A094DFK1",null,null,null,null,null,null,null,null,null,null,1,null,null,1,1,1,null,null,4]
["A0A094EPV8",null,null,null,null,null,null,null,null,null,null,1,null,null,1,1,1,null,null,4]
["A0A094FZP8",null,null,null,null,null,null,null,null,null,null,1,null,null,1,1,1,null,null,4]
["A0A094GBR2",null,null,null,null,null,null,null,null,null,null,1,null,null,1,1,1,null,null,4]
["A0A094H8A7",null,null,null,null,null,null,null,null,null,null,1,null,null,1,1,1,null,null,4]
["A0A094JA99",null,null,null,null,null,null,null,null,null,null,1,null,null,1,1,1,null,null,4]
["A0A094ZFT4",null,null,null,null,null,null,null,null,null,null,1,null,null,1,1,1,null,null,4]
["A0A095DHE2",null,null,null,null,null,null,null,null,null,null,1,null,null,1,1,1,null,null,4]
["A0A096N6Q6",null,null,null,null,null,null,null,null,null,null,1,null,null,1,1,1,null,null,4]
["A0A099P130",null,null,null,null,null,null,null,null,null,null,1,null,null,1,1,1,null,null,4]
["A0A0A0AG33",null,null,null,null,null,null,null,null,null,null,1,null,null,1,1,1,null,null,4]
["A0A0A1NX13",null,null,null,null,null,null,null,null,null,null,1,null,null,null,null,1,null,null,2]
["A0A0A1P236",null,null,null,null,null,null,null,null,null,null,1,null,null,null,null,1,null,null,2]
["A0A0A1TRF2",null,null,null,null,null,null,null,null,null,null,1,null,null,1,1,1,null,null,4]
["A0A0A1U014",null,null,null,null,null,null,null,null,null,null,1,null,null,null,1,1,null,null,3]
["A0A0A1UPQ1",null,null,null,null,null,null,null,null,null,null,1,null,null,1,1,1,null,null,4]
["A0A0A2IUN1",null,null,null,null,null,null,null,null,null,null,1,null,null,1,1,1,null,null,4]
["A0A0A2LCV9",null,null,null,null,null,null,null,null,null,null,1,null,null,1,1,1,null,null,4]
["A0A0A2UZZ1",null,null,null,null,null,null,null,null,null,null,1,null,null,1,1,1,null,null,4]
["A0A0A2VHZ6",null,null,null,null,null,null,null,null,null,null,1,null,null,1,1,1,null,null,4]
["A0A0A8L004",null,null,null,null,null,null,null,null,null,null,1,null,null,1,1,1,null,null,4]
["A0A0B1P1J1",null,null,null,null,null,null,null,null,null,null,1,null,null,1,1,1,null,null,4]
["A0A0B1TUK7",null,null,null,null,null,null,null,null,null,null,1,null,null,null,null,1,null,null,2]
["A0A0B2V6Z8",null,null,null,null,null,null,null,null,null,null,1,null,null,null,1,1,null,null,3]
["A0A0B2VE34",null,null,null,null,null,null,null,null,null,null,1,null,null,null,null,1,null,null,2]
["A0A0B2WZE8",null,null,null,null,null,null,null,null,null,null,1,null,null,1,1,1,null,null,4]
["A0A0B4GUX9",null,null,null,null,null,null,null,null,null,null,1,null,null,1,1,1,null,null,4]
["A0A0B7N845",null,null,null,null,null,null,null,null,null,null,1,null,null,1,1,1,null,null,4]
["A0A0B8N525",null,null,null,null,null,null,null,null,null,null,1,null,null,1,1,1,null,null,4]
["A0A0C2GKR7",null,null,null,null,null,null,null,null,null,null,null,null,null,null,null,1,null,null,1]
["A0A0C2M3A6",null,null,null,null,null,null,null,null,null,null,null,null,null,null,null,1,null,null,1]
["A0A0C2MJT8",null,null,null,null,null,null,null,null,null,null,null,null,null,null,null,1,null,null,1]
["A0A0C2X5E2",null,null,null,null,null,null,null,null,null,null,1,null,null,1,1,1,null,null,4]
["A0A0C2YVD8",null,null,null,null,null,null,null,null,null,null,1,null,null,1,1,1,null,null,4]
["A0A0C3ACH9",null,null,null,null,null,null,null,null,null,null,null,null,null,1,1,1,null,null,3]
["A0A0C3BSZ1",null,null,null,null,null,null,null,null,null,null,1,null,null,1,1,1,null,null,4]
["A0A0C3FWV3",null,null,null,null,null,null,null,null,null,null,1,null,null,1,1,1,null,null,4]
["A0A0C3HLL3",null,null,null,null,null,null,null,null,null,null,1,null,null,1,1,1,null,null,4]
["A0A0C3L9K1",null,null,null,null,null,null,null,null,null,null,1,null,null,1,1,1,null,null,4]
["A0A0C3PQW6",null,null,null,null,null,null,null,null,null,null,1,null,null,1,1,1,null,null,4]
["A0A0C3SDX7",null,null,null,null,null,null,null,null,null,null,1,null,null,1,1,1,null,null,4]
["A0A0C4EF57",null,null,null,null,null,null,null,null,null,null,1,null,null,1,1,1,null,null,4]
["A0A0C7N3C4",null,null,null,null,null,null,null,null,null,null,1,null,null,1,1,1,null,null,4]
["A0A0C9LWN1",null,null,null,null,null,null,null,null,null,null,1,null,null,1,2,1,null,null,5]
["A0A0C9WFV0",null,null,null,null,null,null,null,null,null,null,1,null,null,1,1,1,null,null,4]
["A0A0C9X698",null,null,null,null,null,null,null,null,null,null,1,null,null,1,1,1,null,null,4]
["A0A0C9Z1J0",null,null,null,null,null,null,null,null,null,null,1,null,null,1,1,1,null,null,4]
["A0A0D0A959",null,null,null,null,null,null,null,null,null,null,1,null,null,1,1,1,null,null,4]
["A0A0D0CW47",null,null,null,null,null,null,null,null,null,null,1,null,null,1,1,1,null,null,4]
["A0A0D0ECG9",null,null,null,null,null,null,null,null,null,null,1,null,null,1,1,1,null,null,4]
["A0A0D1DW40",null,null,null,null,null,null,null,null,null,null,1,null,null,1,1,1,null,null,4]
["A0A0D1Y1X4",null,null,null,null,null,null,null,null,null,null,1,null,null,1,1,1,null,null,4]
["A0A0D1YTW6",null,null,null,null,null,null,null,null,null,null,1,null,null,1,1,1,null,null,4]
["A0A0D1ZYM2",null,null,null,null,null,null,null,null,null,null,1,null,null,1,1,1,null,null,4]
["A0A0D2A5A0",null,null,null,null,null,null,null,null,null,null,1,null,null,1,1,1,null,null,4]
["A0A0D2AR99",null,null,null,null,null,null,null,null,null,null,1,null,null,1,1,1,null,null,4]
["A0A0D2CKN8",null,null,null,null,null,null,null,null,null,null,1,null,null,1,1,1,null,null,4]
["A0A0D2DJ28",null,null,null,null,null,null,null,null,null,null,1,null,null,1,1,1,null,null,4]
["A0A0D2E8D8",null,null,null,null,null,null,null,null,null,null,1,null,null,1,1,1,null,null,4]
["A0A0D2G1H9",null,null,null,null,null,null,null,null,null,null,1,null,null,1,1,1,null,null,4]
["A0A0D2HJE3",null,null,null,null,1,null,null,null,null,null,1,null,null,1,1,1,null,null,5]
["A0A0D2I322",null,null,null,null,null,null,null,null,null,null,1,null,null,1,1,1,null,null,4]
["A0A0D2KAA1",null,null,null,null,null,null,null,null,null,null,1,null,null,1,1,1,null,null,4]
["A0A0D2NY00",null,null,null,null,null,null,null,null,null,null,1,null,null,1,1,1,null,null,4]
["A0A0D2X4G8",null,null,null,null,null,null,null,null,null,null,1,null,null,1,2,2,null,null,6]
["A0A0D2XWJ8",null,null,null,null,null,null,null,null,null,null,1,null,null,1,1,1,null,null,4]
["A0A0D7AM24",null,null,null,null,null,null,null,null,null,null,1,null,null,1,1,1,null,null,4]
["A0A0D7BL27",null,null,null,null,null,null,null,null,null,null,1,null,null,1,1,1,null,null,4]
["A0A0D8Y173",null,null,null,null,null,null,null,null,null,null,2,null,null,null,1,1,null,null,4]
["A0A0D9N9Z1",null,null,null,null,null,null,null,null,null,null,1,null,null,1,1,1,null,null,4]
["A0A0D9S6N5",null,null,null,null,null,null,null,null,null,null,1,null,null,1,1,1,null,null,4]
["A0A0E1RUZ2",null,null,null,null,null,null,null,null,null,null,1,null,null,1,1,1,null,null,4]
["A0A0E9NAY6",null,null,null,null,null,null,null,null,null,null,1,null,null,1,1,1,null,null,4]
["A0A0F0I5P1",null,null,null,null,null,null,null,null,null,null,1,null,null,1,1,1,null,null,4]
["A0A0F4GBS7",null,null,null,null,null,null,null,null,null,null,1,null,null,1,1,1,null,null,4]
["A0A0F4YRT6",null,null,null,null,null,null,null,null,null,null,1,null,null,1,1,1,null,null,4]
["A0A0F4ZGE2",null,null,null,null,null,null,null,null,null,null,1,null,null,1,1,1,null,null,4]
["A0A0F7TMN7",null,null,null,null,null,null,null,null,null,null,1,null,null,1,1,1,null,null,4]
["A0A0F8A3N1",null,null,null,null,null,null,null,null,null,null,1,null,null,1,1,1,null,null,4]
["A0A0F8B4S6",null,null,null,null,null,null,null,null,null,null,1,null,null,1,1,2,null,null,5]
["A0A0F8UGN8",null,null,null,null,null,null,null,null,null,null,1,null,null,1,1,1,null,null,4]
["A0A0F9X9B6",null,null,null,null,null,null,null,null,null,null,1,null,null,1,1,1,null,null,4]
["A0A0G2E4D9",null,null,null,null,null,null,null,null,null,null,1,null,null,1,1,1,null,null,4]
["A0A0G2F9N9",null,null,null,null,null,null,null,null,null,null,1,null,null,1,1,1,null,null,4]
["A0A0G2FU03",null,null,null,null,1,null,null,null,null,null,1,null,null,1,1,1,null,null,5]
["A0A0G2I3T6",null,null,null,null,null,null,null,null,null,null,1,null,null,1,1,1,null,null,4]
["A0A0G2JGI9",null,null,null,null,null,null,null,null,null,null,1,null,null,1,1,1,null,null,4]
["A0A0G4G102",null,null,null,null,null,null,null,null,null,null,1,null,null,null,1,1,null,1,4]
["A0A0G4KZD0",null,null,null,null,null,null,null,null,null,null,1,null,null,null,null,1,null,null,2]
["A0A0G4LQK9",null,null,null,null,null,null,null,null,null,null,1,null,null,1,1,1,null,null,4]
["A0A0G4MAL6",null,null,null,null,null,null,null,null,null,null,1,null,null,1,1,1,null,null,4]
["A0A0G4NW80",null,null,null,null,null,null,null,null,null,null,1,null,null,1,1,1,null,null,4]
["A0A0H1B6U3",null,null,null,null,null,null,null,null,null,null,1,null,null,1,1,1,null,null,4]
["A0A0H2RII2",null,null,null,null,null,null,null,null,null,null,1,null,null,1,1,1,null,null,4]
["A0A0H5C1A1",null,null,null,null,null,null,null,null,null,null,1,null,null,null,null,1,null,null,2]
["A0A0J0XP15",null,null,null,null,null,null,null,null,null,null,1,null,null,1,1,1,null,null,4]
["A0A0J7BGE2",null,null,null,null,null,null,null,null,null,null,1,null,null,1,1,1,null,null,4]
["A0A0J7NAZ8",null,null,null,null,null,null,null,null,null,null,1,null,null,null,null,1,null,null,2]
["A0A0J8TWI9",null,null,null,null,null,null,null,null,null,null,1,null,null,1,1,1,null,null,4]
["A0A0J9V7A0",null,null,null,null,null,null,null,null,null,null,1,null,null,null,1,1,null,null,3]
["A0A0K0E803",null,null,null,null,null,null,null,null,null,null,1,null,null,null,1,1,null,null,3]
["A0A0K0FGL4",null,null,null,null,null,null,null,null,null,null,1,null,null,null,1,1,null,null,3]
["A0A0K6GIF6",null,null,null,null,null,null,null,null,null,null,1,null,null,1,1,1,null,null,4]
["A0A0K8LPV6",null,null,null,null,null,null,null,null,1,null,1,null,1,1,1,1,1,null,7]
["A0A0L0BUP1",null,null,null,null,null,null,null,null,null,null,1,null,null,1,1,1,null,null,4]
["A0A0L0D597",null,null,null,null,null,null,null,null,null,null,1,null,null,null,1,1,null,null,3]
["A0A0L0FY95",null,null,null,null,null,null,null,null,null,null,1,null,null,null,null,1,null,null,2]
["A0A0L0HGW7",null,null,null,null,null,null,null,null,null,null,1,null,null,1,1,1,null,null,4]
["A0A0L0N7E7",null,null,null,null,null,null,null,null,null,null,1,null,null,1,1,1,null,null,4]
["A0A0L0P4J2",null,null,null,null,null,null,null,null,null,null,1,null,null,1,1,1,null,null,4]
["A0A0L0TEU8",null,null,null,null,null,null,null,null,null,null,1,null,null,1,1,1,null,null,4]
["A0A0L0TF30",null,null,null,null,null,null,null,null,null,null,1,null,null,1,2,1,null,null,5]
["A0A0L0VQ97",null,null,null,null,null,null,null,null,null,null,1,null,null,1,1,1,null,null,4]
["A0A0L1HSN2",null,null,null,1,null,null,null,null,null,null,1,null,null,1,1,1,null,null,5]
["A0A0L1J5G2",null,null,null,null,null,null,null,null,2,null,1,null,1,1,1,1,1,null,8]
["A0A0L6UGP3",null,null,null,null,null,null,null,null,null,null,1,null,null,1,1,1,null,null,4]
["A0A0L6WZ71",null,null,3,null,null,null,null,null,null,null,1,null,null,1,1,1,null,null,7]
["A0A0L7QQA0",null,null,null,null,null,null,null,null,null,null,1,null,null,1,1,1,null,null,4]
["A0A0L8G6V0",null,null,null,null,null,null,null,null,null,null,1,null,null,null,1,1,null,null,3]
["A0A0L9T245",null,null,null,null,null,null,null,null,null,null,1,null,null,1,1,1,null,null,4]
["A0A0M8N0M3",null,null,null,null,null,null,null,null,null,null,1,null,null,1,1,1,null,null,4]
["A0A0M9A074",null,null,null,null,null,null,null,null,null,null,1,null,null,1,2,1,null,null,5]
["A0A0M9EXZ4",null,null,null,null,null,null,null,null,null,null,1,null,null,1,1,1,null,null,4]
["A0A0M9WGZ0",null,null,null,null,null,null,null,null,null,null,1,null,null,1,1,1,null,null,4]
["A0A0N0NS63",null,null,null,null,null,null,null,null,null,null,1,null,null,1,1,1,null,null,4]
["A0A0N4T439",null,null,null,null,null,null,null,null,null,null,1,null,null,null,null,1,null,null,2]
["A0A0N4UM20",null,null,null,null,null,null,null,null,null,null,1,null,null,null,1,1,null,null,3]
["A0A0N4VFZ0",null,null,null,null,null,null,null,null,null,null,1,null,null,null,1,1,null,null,3]
["A0A0N4VVA2",null,null,null,null,null,null,null,null,null,null,1,null,null,null,null,1,null,null,2]
["A0A0N4VY25",null,null,null,null,null,null,null,null,null,null,null,null,null,null,null,1,null,null,1]
["A0A0N4ZYY6",null,null,null,null,null,null,null,null,null,null,1,null,null,1,1,1,null,null,4]
["A0A0N5AQW6",null,null,null,null,null,null,null,null,null,null,1,null,null,null,1,1,null,null,3]
["A0A0N5CB21",null,null,null,null,null,null,null,null,null,null,1,null,null,null,1,1,null,null,3]
["A0A0N5CNJ6",null,null,null,null,null,null,null,null,null,null,1,null,null,1,2,1,null,null,5]
["A0A0N5DQX3",null,null,null,null,null,null,null,null,null,null,1,null,null,null,1,1,null,null,3]
["A0A0N5E2Y0",null,null,null,null,null,null,null,null,null,null,1,null,null,null,1,1,null,null,3]
["A0A0P1BQ20",null,null,null,null,null,null,null,null,null,null,1,null,null,1,1,1,null,null,4]
["A0A0P7BVC3",null,null,null,null,null,null,null,null,null,null,1,null,null,1,1,1,null,null,4]
["A0A0P7USB6",null,null,null,null,null,null,null,null,null,null,1,null,null,1,1,1,null,null,4]
["A0A0P8XMZ1",null,null,null,null,null,null,null,null,null,null,1,null,null,1,1,1,null,null,4]
["A0A0P9AD98",null,null,null,null,null,null,null,null,null,null,1,null,null,1,1,1,null,null,4]
["A0A0Q3LTJ5",null,null,null,null,null,null,null,null,null,null,1,null,null,1,1,1,null,null,4]
["A0A0Q9W6A7",null,null,null,null,null,null,null,null,null,null,1,null,null,1,1,1,null,null,4]
["A0A0Q9WH87",null,null,null,null,null,null,null,null,null,null,1,null,null,1,1,1,null,null,4]
["A0A0Q9X8G5",null,null,null,null,null,null,null,null,null,null,1,null,null,1,1,1,null,null,4]
["A0A0Q9X9A0",null,null,null,null,null,null,null,null,null,null,1,null,null,1,1,1,null,null,4]
["A0A0Q9XL69",null,null,null,null,null,null,null,null,null,null,1,null,null,1,1,1,null,null,4]
["A0A0R3NSL8",null,null,null,null,null,null,null,null,null,null,1,null,null,1,1,1,null,null,4]
["A0A0R3PR76",null,null,null,null,null,null,null,null,null,null,1,null,null,1,1,1,null,null,4]
["A0A0R3QD39",null,null,null,null,null,null,null,null,null,null,null,null,null,null,null,1,null,null,1]
["A0A0R3RCE9",null,null,null,null,null,null,null,null,null,null,1,null,null,null,null,1,null,null,2]
["A0A0R3RER8",null,null,null,null,null,null,null,null,null,null,1,null,null,null,1,1,null,null,3]
["A0A0R3S651",null,null,null,null,null,null,null,null,null,null,1,null,null,null,null,1,null,null,2]
["A0A0R3SBE9",null,null,null,null,null,null,null,null,null,null,null,null,null,null,null,1,null,null,1]
["A0A0R3TSV0",null,null,null,null,null,null,null,null,null,null,1,null,null,1,1,1,null,null,4]
["A0A0R3U9I3",null,null,null,null,null,null,null,null,null,null,null,null,null,1,1,1,null,null,3]
["A0A0R3UQS6",null,null,null,null,null,null,null,null,null,null,1,null,null,null,null,1,null,null,2]
["A0A0R3XAA9",null,null,null,null,null,null,null,null,null,null,null,null,null,null,1,1,null,null,2]
["A0A0R3XCR1",null,null,null,null,null,null,null,null,null,null,null,null,null,null,null,1,null,null,1]
["A0A0R4IA63",null,null,null,null,null,null,null,null,null,null,null,null,null,null,null,1,null,null,1]
["A0A0R4IF54",null,null,null,null,null,null,null,null,null,null,1,null,null,1,1,1,null,null,4]
["A0A0R4IH04",null,null,null,null,null,null,null,null,null,null,1,null,null,null,null,1,null,null,2]
["A0A0R4IU33",null,null,null,null,null,null,null,null,null,null,1,null,null,1,1,1,null,null,4]
["A0A0R4IV67",null,null,null,null,null,null,null,null,null,null,1,null,null,1,1,1,null,null,4]
["A0A0R4IZH8",null,null,null,null,null,null,null,null,null,null,1,null,null,1,1,1,null,null,4]
["A0A0S7E419",null,null,null,null,null,null,null,null,null,null,1,null,null,1,1,1,null,null,4]
["A0A0T6B546",null,null,null,null,null,null,null,null,null,null,null,null,null,1,1,1,null,null,3]
["A0A0U1M6K4",null,null,null,null,null,null,null,null,null,null,1,null,null,1,1,1,null,null,4]
["A0A0U5G358",null,null,null,null,null,null,null,null,null,null,1,null,null,1,1,1,null,null,4]
["A0A0V0QAH6",null,null,null,null,null,null,null,null,null,null,1,null,null,null,1,1,null,1,4]
["A0A0V0R3M8",null,1,null,null,null,null,null,null,null,null,1,null,null,null,1,1,null,1,5]
["A0A0V0SG53",null,null,null,null,null,1,null,null,null,null,1,null,null,1,1,1,null,null,5]
["A0A0V0TWA6",null,null,null,null,null,null,null,null,null,null,1,null,null,1,1,1,null,null,4]
["A0A0V0TWF8",null,null,null,null,null,null,null,null,null,null,1,null,null,1,1,1,null,null,4]
["A0A0V0TWQ3",null,null,null,null,null,null,null,null,null,null,null,null,null,1,1,1,null,null,3]
["A0A0V0VQX3",null,null,null,null,null,null,null,null,null,null,null,null,null,1,1,1,null,null,3]
["A0A0V0VQX8",null,null,null,null,null,null,null,null,null,null,1,null,null,1,1,1,null,null,4]
["A0A0V0VQY2",null,null,null,null,null,null,null,null,null,null,null,null,null,null,1,1,null,null,2]
["A0A0V0VQY7",null,null,null,null,null,null,null,null,null,null,1,null,null,1,1,1,null,null,4]
["A0A0V0X128",null,null,null,null,null,1,null,null,null,null,1,null,null,1,1,1,null,null,5]
["A0A0V0X1D4",null,null,null,null,null,1,null,null,null,null,1,null,null,1,1,1,null,null,5]
["A0A0V0X1F2",null,null,null,null,null,null,null,null,null,null,1,null,null,1,1,1,null,null,4]
["A0A0V0X1G1",null,null,null,null,null,1,null,null,null,null,1,null,null,1,1,1,null,null,5]
["A0A0V0X1J3",null,null,null,null,null,null,null,null,null,null,1,null,null,1,1,1,null,null,4]
["A0A0V0Y4S8",null,null,null,null,null,null,null,null,null,null,1,null,null,1,1,1,null,null,4]
["A0A0V0Y4W1",null,null,null,null,null,null,null,null,null,null,1,null,null,1,1,1,null,null,4]
["A0A0V1AFM7",null,null,null,null,null,null,null,null,null,null,1,null,null,1,1,1,null,null,4]
["A0A0V1AG06",null,null,null,null,null,null,null,null,null,null,1,null,null,1,1,1,null,null,4]
["A0A0V1AHE9",null,null,null,null,null,null,null,null,null,null,1,null,null,1,1,1,null,null,4]
["A0A0V1CSK8",null,null,null,null,null,null,null,null,null,null,1,null,null,1,1,1,null,null,4]
["A0A0V1CSQ0",null,null,null,null,null,null,null,null,null,null,1,null,null,1,1,1,null,null,4]
["A0A0V1CT18",null,null,null,null,null,1,null,null,null,null,1,null,null,1,1,1,null,null,5]
["A0A0V1CUE4",null,null,null,null,null,1,null,null,null,null,1,null,null,1,1,1,null,null,5]
["A0A0V1HRF5",null,null,null,null,null,null,null,null,null,null,null,null,null,1,1,1,null,null,3]
["A0A0V1L3P3",null,null,null,null,null,1,null,null,null,null,1,null,null,1,1,1,null,null,5]
["A0A0V1L3R1",null,null,null,null,null,1,null,null,null,null,1,null,null,1,1,1,null,null,5]
["A0A0V1L4L3",null,null,null,null,null,null,null,null,null,null,1,null,null,1,1,1,null,null,4]
["A0A0V1PH35",null,null,null,null,null,1,null,null,null,null,1,null,null,1,1,1,null,null,5]
["A0A0V1PHD2",null,null,null,null,null,1,null,null,null,null,1,null,null,1,1,1,null,null,5]
["A0A0W0FZI5",null,null,null,null,null,null,null,null,null,null,1,null,null,1,1,1,null,null,4]
["A0A0W4ZQK3",null,null,null,null,null,null,null,null,null,null,1,null,null,1,1,1,null,null,4]
["A0A0W4ZUI4",null,null,null,null,null,null,null,null,null,null,1,null,null,1,1,1,null,null,4]
["A0A0W7W367",null,null,null,null,null,null,null,null,null,null,1,null,null,1,1,1,null,null,4]
["A0A101MIR9",null,null,null,null,null,null,null,null,null,null,1,null,null,1,1,1,null,null,4]
["A0A109FAQ5",null,null,null,null,null,null,null,null,null,null,1,null,null,1,1,1,null,null,4]
["A0A124BUR9",null,null,null,null,null,null,null,null,1,null,1,null,1,1,1,1,1,null,7]
["A0A132A5T5",null,null,null,null,null,null,null,null,null,null,1,null,null,1,1,2,null,null,5]
["A0A135LZ37",null,null,null,null,null,null,null,null,null,null,1,null,null,1,1,1,null,null,4]
["A0A135RMG2",null,null,null,null,null,null,null,null,null,null,1,null,null,1,1,1,null,null,4]
["A0A135UQZ0",null,null,null,null,null,null,null,null,null,null,1,null,null,1,1,1,null,null,4]
["A0A136J2Y3",null,null,null,null,null,null,null,null,null,null,1,null,null,1,1,1,null,null,4]
["A0A137P5H3",null,null,null,null,null,null,null,null,null,null,1,null,null,1,1,1,null,null,4]
["A0A137QHA0",null,null,null,null,null,null,null,null,null,null,1,null,null,1,1,1,null,null,4]
["A0A139A531",null,null,null,null,null,null,null,null,null,null,1,null,null,1,1,1,null,null,4]
["A0A139GV41",null,null,null,null,null,null,null,null,null,null,1,null,null,1,1,1,null,null,4]
["A0A139IKD5",null,null,null,null,null,null,null,null,null,null,1,null,null,1,1,1,null,null,4]
["A0A139WC21",null,null,null,null,null,null,null,null,null,null,1,null,null,1,1,1,null,null,4]
["A0A150VIY2",null,null,null,null,null,null,null,null,null,null,1,null,null,1,1,1,null,null,4]
["A0A151GPN9",null,null,null,null,null,null,null,null,null,null,1,null,null,1,1,1,null,null,4]
["A0A151M4V6",null,null,null,null,null,null,1,null,null,1,1,null,null,1,1,1,null,null,6]
["A0A151M4W7",null,null,null,null,null,null,1,null,null,1,1,null,null,1,1,1,null,null,6]
["A0A151VFH8",null,null,null,null,null,null,null,null,null,null,1,null,null,1,1,1,null,null,4]
["A0A151WGY4",null,null,null,null,null,null,null,null,null,null,1,null,null,1,1,1,null,null,4]
["A0A152A9F1",null,null,null,null,null,null,null,null,null,null,1,null,null,1,1,1,null,null,4]
["A0A154PFZ0",null,null,null,null,null,null,null,null,null,null,1,null,null,1,1,1,null,null,4]
["A0A158NS37",null,null,null,null,null,null,null,null,null,null,1,null,null,1,1,1,null,null,4]
["A0A158PC84",null,null,null,null,null,null,null,null,null,null,1,null,null,1,1,1,null,null,4]
["A0A158PN69",null,null,null,null,null,null,null,null,null,null,1,null,null,null,1,1,null,null,3]
["A0A158QFZ4",null,null,null,null,null,null,null,null,null,null,4,null,null,1,1,1,null,null,7]
["A0A158QX09",null,null,null,null,null,null,null,null,null,null,1,null,null,1,1,1,null,null,4]
["A0A158R7U9",null,null,null,null,null,null,null,null,null,null,1,null,null,1,1,1,null,null,4]
["A0A162K3D0",null,null,null,null,null,null,null,null,null,null,1,null,null,1,1,1,null,null,4]
["A0A162UR45",null,null,null,null,null,null,null,null,null,null,1,null,null,null,1,1,null,null,3]
["A0A163DBX9",null,null,null,null,null,null,null,null,null,null,1,null,null,1,1,1,null,null,4]
["A0A164NPU1",null,null,null,null,null,null,null,null,null,null,1,null,null,1,2,1,null,null,5]
["A0A164VTK7",null,null,null,null,null,null,null,null,null,null,1,null,null,1,1,1,null,null,4]
["A0A165GB67",null,null,null,null,null,null,null,null,null,null,1,null,null,1,1,1,null,null,4]
["A0A165HYM6",null,null,null,null,null,null,null,null,null,null,1,null,null,1,1,1,null,null,4]
["A0A165JZD4",null,null,null,null,null,null,null,null,null,null,1,null,null,1,1,1,null,null,4]
["A0A165LZL5",null,null,null,null,null,null,null,null,null,null,1,null,null,1,1,1,null,null,4]
["A0A165U9Q9",null,null,null,null,null,null,null,null,null,null,1,null,null,1,1,1,null,null,4]
["A0A166BCP4",null,null,null,null,null,null,null,null,null,null,1,null,null,1,1,1,null,null,4]
["A0A166CDF1",null,null,null,null,null,null,null,null,null,null,1,null,null,1,1,1,null,null,4]
["A0A166FBI4",null,null,null,null,null,null,null,null,null,null,1,null,null,1,1,1,null,null,4]
["A0A166HVI1",null,null,null,null,null,null,null,null,null,null,1,null,null,1,1,1,null,null,4]
["A0A166UV10",null,null,null,null,null,null,null,null,null,null,1,null,null,1,1,1,null,null,4]
["A0A167BNH3",null,null,null,null,null,null,null,null,null,null,1,null,null,1,1,1,null,null,4]
["A0A167S918",null,null,null,null,null,null,null,null,null,null,1,null,null,1,1,1,null,null,4]
["A0A167UPF6",null,null,null,null,null,null,null,null,null,null,1,null,null,1,1,1,null,null,4]
["A0A168GI85",null,null,null,null,null,null,null,null,null,null,1,null,null,1,1,1,null,null,4]
["A0A168GXS6",null,null,null,null,null,null,null,null,null,null,1,null,null,1,1,1,null,null,4]
["A0A177BY91",null,null,null,null,null,null,null,null,null,null,1,null,null,1,1,1,null,null,4]
["A0A177DMY2",null,null,null,null,null,null,null,null,null,null,1,null,null,1,1,1,null,null,4]
["A0A177WDZ8",null,null,null,null,null,null,null,null,null,null,null,null,null,1,1,1,null,null,3]
["A0A178BB70",null,null,null,null,null,null,null,null,null,null,1,null,null,1,1,1,null,null,4]
["A0A178EBW2",null,null,null,null,null,null,null,null,null,null,1,null,null,1,1,1,null,null,4]
["A0A180H1Z8",null,null,null,null,null,null,null,null,null,null,1,null,null,1,1,1,null,null,4]
["A0A183AAW8",null,null,null,null,null,null,null,null,null,null,1,null,null,null,1,1,null,null,3]
["A0A183E542",null,null,null,null,null,null,null,null,null,null,1,null,null,null,null,1,null,null,2]
["A0A183EVV2",null,null,null,null,null,null,null,null,null,null,null,null,null,null,1,1,null,null,2]
["A0A183IQB6",null,null,null,null,null,null,null,null,null,null,1,null,null,1,1,2,null,null,5]
["A0A183L3P4",null,null,null,null,null,null,null,null,null,null,null,null,null,null,null,1,null,null,1]
["A0A183L5T7",null,null,null,null,null,null,null,null,null,null,null,null,null,null,null,1,null,null,1]
["A0A183MQF5",null,null,null,null,null,null,null,null,null,null,1,null,null,null,1,1,null,null,3]
["A0A183PB67",null,null,null,null,null,null,null,null,null,null,null,null,null,null,null,1,null,null,1]
["A0A183PBC8",null,null,null,null,null,null,null,null,null,null,1,null,null,null,null,1,null,null,2]
["A0A183PHM0",null,null,null,null,null,null,null,null,null,null,null,null,null,null,1,1,null,null,2]
["A0A183QFQ2",null,null,null,null,null,null,null,null,null,null,null,null,null,null,1,1,null,null,2]
["A0A183QFQ3",null,null,null,null,null,null,null,null,null,null,1,null,null,null,null,1,null,null,2]
["A0A183TE88",null,null,null,null,null,null,null,null,null,null,1,null,null,1,1,1,null,null,4]
["A0A183VKK7",null,null,null,null,null,null,null,null,null,null,null,null,null,null,null,1,null,null,1]
["A0A183WMJ4",null,null,null,null,null,null,null,null,null,null,null,null,null,null,null,1,null,null,1]
["A0A183WVX9",null,null,null,null,null,null,null,null,null,null,null,null,null,null,null,1,null,null,1]
["A0A194PXK2",null,null,null,null,null,null,null,null,null,null,1,null,null,1,2,1,null,null,5]
["A0A194REP1",null,null,null,null,null,null,null,null,null,null,null,null,null,1,2,2,null,null,5]
["A0A194SBG9",null,null,null,null,null,null,null,null,null,null,1,null,null,1,1,1,null,null,4]
["A0A194XSF5",null,null,null,null,null,null,null,null,null,null,1,null,null,1,1,1,null,null,4]
["A0BFM1",null,null,null,null,null,null,null,null,null,null,null,null,null,null,1,1,null,1,3]
["A0BWA0",null,null,null,null,null,null,null,null,null,null,1,null,null,null,1,1,null,1,4]
["A0EEA7",null,null,null,null,null,null,null,null,null,null,1,null,null,null,2,1,null,1,5]
["A1CS73",null,null,null,null,null,null,null,null,null,null,1,null,null,1,1,1,null,null,4]
["A1D547",null,null,null,null,null,null,null,null,null,null,1,null,null,1,1,1,null,null,4]
["A2DRU5",null,null,null,null,null,null,null,null,null,null,null,null,null,null,1,2,null,null,3]
["A2EWE5",null,null,null,null,null,null,null,null,null,null,1,null,null,null,2,1,null,null,4]
["A2F4M9",null,null,null,null,null,null,null,null,null,null,1,null,null,null,1,1,null,null,3]
["A2Q8Z7",null,null,null,null,null,null,null,null,null,null,1,null,null,1,1,1,null,null,4]
["A3GF70",null,null,null,null,null,null,null,null,null,null,1,null,null,1,1,1,null,null,4]
["A5DQ07",null,null,null,null,null,null,null,null,null,null,null,null,null,1,1,1,null,null,3]
["A5E4R5",null,null,null,null,null,null,null,null,null,null,1,null,null,1,1,1,null,null,4]
["A6R0W1",1,null,null,null,null,null,null,null,null,null,1,null,null,1,1,1,null,null,5]
["A7F5B8",null,null,null,null,null,null,null,null,null,null,1,null,null,1,1,1,null,null,4]
["A7TH79",null,null,null,null,null,null,null,null,null,null,1,null,null,1,1,1,null,null,4]
["A8BPE3",null,null,null,null,null,null,null,null,null,null,2,null,null,null,2,1,null,null,5]
["A8BQB4",null,null,null,null,null,null,null,null,null,null,1,null,null,1,1,1,null,null,4]
["A8N9L1",null,null,null,null,null,null,null,null,null,null,1,null,null,1,1,1,null,null,4]
["A8XCF0",null,null,null,null,null,null,null,null,null,null,1,null,null,1,2,1,null,null,5]
["A9V544",null,null,null,null,null,null,null,null,null,null,1,null,null,1,1,1,null,null,4]
["B0DI75",null,null,null,null,null,null,null,null,null,null,1,null,null,1,1,1,null,null,4]
["B0DME9",null,null,null,null,null,null,null,null,null,null,null,null,null,null,null,1,null,null,1]
["B0DZ84",null,null,null,null,null,null,null,null,null,null,null,null,null,null,null,1,null,null,1]
["B0X1H0",null,null,null,null,null,null,null,null,null,null,null,null,null,1,1,1,null,null,3]
["B0XLP5",null,null,null,null,null,null,null,null,null,null,1,null,null,null,null,1,null,null,2]
["B2AB57",null,null,null,null,null,null,null,null,null,null,1,null,null,1,1,1,null,null,4]
["B2VZS2",null,null,null,null,null,null,null,null,null,null,1,null,null,1,1,1,null,null,4]
["B3MBX1",null,null,null,null,null,null,null,null,null,null,1,null,null,1,1,1,null,null,4]
["B4GA88",null,null,null,null,null,null,null,null,null,null,1,null,null,1,1,1,null,null,4]
["B4I7P0",null,null,null,null,null,null,null,null,null,null,1,null,null,null,1,1,null,null,3]
["B4J7H5",null,null,null,null,null,null,null,null,null,null,1,null,null,1,1,1,null,null,4]
["B4KSI9",null,null,null,null,null,null,null,null,null,null,1,null,null,1,1,1,null,null,4]
["B4LMF7",null,null,null,null,null,null,null,null,null,null,1,null,null,1,1,1,null,null,4]
["B4MPI2",null,null,null,null,null,null,null,null,null,null,1,null,null,1,1,1,null,null,4]
["B4QG18",null,null,null,null,null,null,null,null,null,null,1,null,null,1,1,1,null,null,4]
["B6ABH3",null,null,null,null,null,null,null,null,null,null,1,null,null,null,1,1,null,1,4]
["B6HTR6",null,null,null,null,null,null,null,null,null,null,1,null,null,1,1,1,null,null,4]
["B6QE94",null,null,null,null,null,null,null,null,null,null,1,null,null,1,1,1,null,null,4]
["B7QG62",null,null,null,null,null,null,null,null,null,null,1,null,null,null,1,1,null,null,3]
["B8MB42",null,null,null,null,null,null,null,null,null,null,1,null,null,1,1,1,null,null,4]
["B8MYJ6",null,null,null,null,null,null,null,null,null,null,1,null,null,1,1,1,null,null,4]
["C0NQD3",null,null,null,null,null,null,null,null,null,null,1,null,null,1,1,1,null,null,4]
["C1GL12",null,null,null,null,null,null,null,null,null,null,1,null,null,1,1,1,null,null,4]
["C3YID9",null,null,null,null,null,null,null,null,null,null,1,null,null,1,1,2,null,null,5]
["C4JU91",null,null,null,null,null,null,null,null,null,null,1,null,null,1,1,1,null,null,4]
["C4LXB9",null,null,null,null,null,null,null,null,null,null,1,null,null,null,1,1,null,null,3]
["C4R1U8",null,null,null,null,null,null,null,null,null,null,1,null,null,1,1,1,null,null,4]
["C4Y8I7",null,null,null,null,null,null,null,null,null,null,1,null,null,1,1,1,null,null,4]
["C5DB95",null,null,null,null,null,null,null,null,null,null,1,null,null,1,1,1,null,null,4]
["C5DUS3",null,null,null,null,null,null,null,null,null,null,1,null,null,1,1,1,null,null,4]
["C5FS32",null,null,null,null,null,null,null,null,null,null,1,null,null,1,1,1,null,null,4]
["C5GTI6",null,null,null,null,null,null,null,null,null,null,1,null,null,1,1,1,null,null,4]
["C5MCK0",null,null,null,null,null,null,null,null,null,null,1,null,null,1,1,1,null,null,4]
["C6HS62",null,null,null,null,null,null,null,null,null,null,1,null,null,1,1,1,null,null,4]
["C7Z6K9",null,null,null,null,null,null,null,null,null,null,1,null,null,1,1,1,null,null,4]
["C8VTT8",null,null,null,null,null,null,null,null,null,null,1,null,null,1,1,1,null,null,4]
["C9SJ23",null,null,null,null,null,null,null,null,null,null,1,null,null,null,null,1,null,null,2]
["D3AZS3",null,null,null,null,null,null,null,null,null,null,2,null,null,1,1,1,null,null,5]
["D4AEH9",null,null,null,null,null,null,null,null,null,null,1,null,null,1,1,1,null,null,4]
["D4ASG4",null,null,null,null,null,null,null,null,null,null,1,null,null,1,1,1,null,null,4]
["D5G4I5",null,null,null,null,null,null,null,null,null,null,1,null,null,1,2,1,null,null,5]
["D8LWI1",null,null,null,null,null,null,null,null,null,null,1,null,null,null,1,2,null,null,4]
["D8Q378",null,null,null,null,null,null,null,null,null,null,1,null,null,1,1,1,null,null,4]
["E0VNL2",null,null,null,null,null,null,null,null,null,null,1,null,null,1,1,1,null,null,4]
["E1G3C1",null,null,null,null,null,null,null,null,null,null,1,null,null,null,1,1,null,null,3]
["E1JGQ5",null,null,null,null,null,null,null,null,null,null,1,null,null,1,1,1,null,null,4]
["E2A7S3",null,null,null,null,null,null,null,null,null,null,1,null,null,1,2,2,null,null,6]
["E2BPT9",null,null,null,null,null,null,null,null,null,null,1,null,null,1,1,1,null,null,4]
["E2L5Q4",null,null,null,null,null,null,null,null,null,null,null,null,null,null,null,1,null,null,1]
["E3KWY4",null,null,null,null,null,null,null,null,null,null,1,null,null,1,1,1,null,null,4]
["E3MHZ4",null,null,null,null,null,null,null,null,null,null,1,null,null,1,1,1,null,null,4]
["E3QZQ7",null,null,null,null,null,null,null,null,null,null,1,null,null,1,1,1,null,null,4]
["E3RH37",null,null,null,null,null,null,null,null,null,null,1,null,null,1,1,1,null,null,4]
["E4UNH6",null,null,null,null,null,null,null,null,null,null,1,null,null,1,1,1,null,null,4]
["E4X3A2",null,null,null,null,null,null,null,null,null,null,1,null,null,null,1,1,null,null,3]
["E4ZG29",null,null,null,null,null,null,null,null,null,null,1,null,null,1,1,1,null,null,4]
["E5S846",null,null,null,null,null,null,null,null,null,null,1,null,null,1,1,1,null,null,4]
["E6ZMW0",null,null,null,null,null,null,null,null,null,null,1,null,null,1,1,1,null,null,4]
["E7KJ04",null,null,null,null,null,null,null,null,null,null,1,null,null,1,1,1,null,null,4]
["E7M1B8",null,null,null,null,null,null,null,null,null,null,1,null,null,1,1,1,null,null,4]
["E7QAP2",null,null,null,null,null,null,null,null,null,null,1,null,null,null,1,1,null,null,3]
["E9DJT7",null,null,null,null,null,null,null,null,null,null,1,null,null,1,1,1,null,null,4]
["E9E262",null,null,null,null,null,null,null,null,null,null,1,null,null,1,1,1,null,null,4]
["E9F3Z7",null,null,null,null,null,null,null,null,null,null,1,null,null,1,1,1,null,null,4]
["E9IFN1",null,null,null,null,null,null,null,null,null,null,1,null,null,null,null,1,null,null,2]
["F0UTC9",null,null,null,null,null,null,null,null,null,null,1,null,null,1,1,1,null,null,4]
["F0VLQ0",null,null,null,null,null,null,null,null,null,null,1,null,null,null,1,1,null,1,4]
["F0XQV3",null,null,null,null,null,null,null,null,null,null,1,null,null,1,1,1,null,null,4]
["F0ZCG6",null,null,null,null,null,null,null,null,null,null,1,null,null,1,1,1,null,null,4]
["F1MHT1",null,null,null,null,null,null,null,null,null,null,1,null,null,1,1,1,null,null,4]
["F1NX83",null,null,null,null,null,null,null,null,null,null,1,null,null,1,1,1,null,null,4]
["F1PBL3",null,null,null,null,null,null,null,null,null,null,1,null,null,1,1,1,null,null,4]
["F1S557",null,null,null,null,null,null,null,null,null,null,1,null,null,1,1,1,null,null,4]
["F2PHR1",null,null,null,null,null,null,null,null,null,null,1,null,null,null,1,1,null,null,3]
["F2SVW0",null,null,null,null,null,null,null,null,null,null,1,null,null,1,1,1,null,null,4]
["F2UQQ0",null,null,null,null,null,null,null,null,null,null,2,null,null,null,1,1,null,null,4]
["F4PBL6",null,null,null,null,null,null,null,null,null,null,1,null,null,null,1,1,null,null,3]
["F4PRV5",null,null,null,null,null,null,null,null,null,null,1,null,null,null,1,1,null,null,3]
["F4RSD6",null,null,null,null,null,null,null,null,null,null,1,null,null,1,1,1,null,null,4]
["F5HMX0",null,null,null,null,null,null,null,null,null,null,1,null,null,1,1,1,null,null,4]
["F6TE92",null,null,null,null,null,null,null,null,null,null,1,null,null,1,1,1,null,null,4]
["F6UM75",null,null,null,null,null,null,null,null,null,null,1,null,null,1,1,1,null,null,4]
["F6XXE6",null,null,null,null,null,null,null,null,null,null,1,null,null,null,null,1,null,null,2]
["F6YVZ9",null,null,null,null,null,null,null,null,null,null,1,null,null,null,1,1,null,null,3]
["F7CSZ6",null,null,null,null,null,null,null,null,null,null,null,null,null,null,null,1,null,null,1]
["F7D8W4",null,null,null,null,null,null,null,null,null,null,1,null,null,1,1,1,null,null,4]
["F7EAR4",null,null,null,null,null,null,null,null,null,null,1,null,null,1,1,1,null,null,4]
["F7EAR8",null,null,null,null,null,null,null,null,null,null,1,null,null,1,1,1,null,null,4]
["F7GJD2",null,null,null,null,null,null,null,null,null,null,1,null,null,1,1,1,null,null,4]
["F7VQT1",null,null,null,null,null,null,null,null,null,null,1,null,null,1,1,1,null,null,4]
["F8Q4P4",null,null,null,null,null,null,null,null,null,null,1,null,null,1,1,1,null,null,4]
["F8VPN4",null,null,null,null,null,null,null,null,null,null,1,null,null,1,1,1,null,null,4]
["F9FVA4",null,null,null,null,null,null,null,null,null,null,1,null,null,1,1,1,null,null,4]
["F9XGA6",null,null,null,null,null,null,null,null,null,null,1,null,null,1,1,1,null,null,4]
["G0N6Z0",null,null,null,null,null,null,null,null,null,null,1,null,null,1,1,1,null,null,4]
["G0PCL2",null,null,null,null,null,null,null,null,null,null,1,null,null,1,1,1,null,null,4]
["G0QV62",null,null,null,null,null,null,null,null,null,null,1,null,null,null,null,1,null,null,2]
["G0QZ29",null,null,null,null,null,null,null,null,null,null,1,null,null,null,1,1,null,null,3]
["G0RBU1",null,null,null,null,null,null,null,null,null,null,1,null,null,1,1,1,null,null,4]
["G0SC60",null,null,null,null,null,null,null,null,null,null,1,null,null,1,1,1,null,null,4]
["G0V9D2",null,null,null,null,null,null,null,null,null,null,1,null,null,1,1,1,null,null,4]
["G0WHD0",null,null,null,null,null,null,null,null,null,null,1,null,null,1,1,1,null,null,4]
["G1KCM2",null,null,null,null,null,null,null,null,null,null,1,null,null,1,1,1,null,null,4]
["G1LR84",null,null,null,null,null,null,null,null,null,null,1,null,null,1,1,1,null,null,4]
["G1N5J6",null,null,null,null,null,null,null,null,null,null,1,null,null,1,1,1,null,null,4]
["G1PTA9",null,null,null,null,null,null,null,null,null,null,1,null,null,1,1,1,null,null,4]
["G1RLT1",null,null,null,null,null,null,null,null,null,null,1,null,null,1,1,1,null,null,4]
["G1TS42",null,null,null,null,null,null,null,null,null,null,1,null,null,1,1,1,null,null,4]
["G1X7A7",null,null,null,null,null,null,null,null,null,null,1,null,null,1,1,1,null,null,4]
["G2Q5G4",null,null,null,null,null,null,null,null,null,null,1,null,null,1,1,1,null,null,4]
["G2QYC2",null,null,null,null,null,null,null,null,null,null,1,null,null,1,1,1,null,null,4]
["G2XJI1",null,null,null,null,null,null,null,null,null,null,1,null,null,1,1,1,null,null,4]
["G2XQH5",null,null,null,null,null,null,null,null,null,null,1,null,null,1,1,1,null,null,4]
["G3AER9",null,null,null,null,null,null,null,null,null,null,1,null,null,1,1,1,null,null,4]
["G3B7R1",null,null,null,null,null,null,null,null,null,null,1,null,null,1,1,1,null,null,4]
["G3JB92",null,null,null,null,null,null,null,null,null,null,1,null,null,1,1,1,null,null,4]
["G3PNW0",null,null,null,null,null,null,null,null,null,null,1,null,null,1,1,1,null,null,4]
["G3SJU0",null,null,null,null,null,null,null,null,null,null,1,null,null,1,2,1,null,null,5]
["G3SM26",null,null,null,null,null,null,null,null,null,null,1,null,null,1,1,1,null,null,4]
["G3UCH9",null,null,null,null,null,null,null,null,null,null,1,null,null,1,1,1,null,null,4]
["G3WP17",null,null,null,null,null,null,null,null,null,null,1,null,null,null,1,1,null,null,3]
["G3WP18",null,null,null,null,null,null,null,null,null,null,1,null,null,null,1,1,null,null,3]
["G3XSN7",null,null,null,null,null,null,null,null,null,null,1,null,null,1,1,1,null,null,4]
["G4NES1",null,null,null,null,null,null,null,null,null,null,1,null,null,1,1,1,null,null,4]
["G4U2U9",null,null,null,null,null,null,null,null,null,null,1,null,null,1,1,1,null,null,4]
["G4U8D0",null,null,null,null,null,null,null,null,null,null,1,null,null,1,1,1,null,null,4]
["G4VPZ3",null,null,null,null,null,null,null,null,null,null,1,null,null,null,null,1,null,null,2]
["G5C720",null,null,null,null,null,null,null,null,null,null,1,null,null,1,1,2,null,null,5]
["G6D6T7",null,null,null,null,null,null,null,null,null,null,1,null,null,1,3,1,null,null,6]
["G7DTR3",null,null,null,null,null,null,null,null,null,null,1,null,null,1,1,1,null,null,4]
["G7NV22",null,null,null,null,null,null,null,null,null,null,1,null,null,1,1,1,null,null,4]
["G7X9C7",null,null,null,null,null,null,null,null,null,null,1,null,null,1,1,1,null,null,4]
["G7YQV3",null,null,null,null,null,null,null,null,null,null,1,null,null,null,2,1,null,null,4]
["G8BH52",null,null,null,null,null,null,null,null,null,null,1,null,null,1,1,1,null,null,4]
["G8BY52",null,null,null,null,null,null,null,null,null,null,1,null,null,1,1,1,null,null,4]
["G8JQE8",null,null,null,null,null,null,null,null,null,null,1,null,null,1,1,1,null,null,4]
["G8YCT6",null,null,null,null,null,null,null,null,null,null,1,null,null,1,1,1,null,null,4]
["G8YF87",null,null,null,null,null,null,null,null,null,null,1,null,null,1,1,1,null,null,4]
["G8ZZ45",null,null,null,null,null,null,null,null,null,null,1,null,null,1,1,1,null,null,4]
["G9N5P0",null,null,null,null,null,null,null,null,null,null,1,null,null,1,1,1,null,null,4]
["G9NGJ9",null,null,null,null,null,null,null,null,null,null,1,null,null,1,1,1,null,null,4]
["H0EHK2",null,null,null,null,null,null,null,null,null,null,1,null,null,1,1,1,null,null,4]
["H0VJR7",null,null,null,null,null,null,null,null,null,null,1,null,null,1,1,1,null,null,4]
["H0WSE9",null,null,null,null,null,null,null,null,null,null,1,null,null,1,1,1,null,null,4]
["H0XMV7",null,null,null,null,null,null,null,null,null,null,1,null,null,1,1,1,null,null,4]
["H0Z4Q4",null,null,null,null,null,null,null,null,null,null,1,null,null,1,1,1,null,null,4]
["H1UVW2",null,null,null,null,null,null,null,null,null,null,1,null,null,1,1,1,null,null,4]
["H2APN0",null,null,null,null,null,null,null,null,null,null,1,null,null,1,1,1,null,null,4]
["H2LLD2",null,null,null,null,null,null,null,null,null,null,1,null,null,1,1,1,null,null,4]
["H2N6N7",null,null,null,null,null,null,null,null,null,null,1,null,null,1,1,1,null,null,4]
["H2PZG8",null,null,null,null,null,null,null,null,null,null,1,null,null,1,1,1,null,null,4]
["H2U5M9",null,null,null,null,null,null,null,null,null,null,1,null,null,1,1,1,null,null,4]
["H2U5N0",null,null,null,null,null,null,null,null,null,null,1,null,null,1,1,1,null,null,4]
["H2W410",null,null,null,null,null,null,null,null,null,null,1,null,null,null,null,1,null,null,2]
["H2ZLQ6",null,null,null,null,null,null,null,null,null,null,1,null,null,1,1,2,null,null,5]
["H3AL55",null,null,null,null,null,null,null,null,null,null,1,null,null,1,1,1,null,null,4]
["H3AL56",null,null,null,null,null,null,null,null,null,null,1,null,null,1,1,1,null,null,4]
["H3DLB9",null,null,null,null,null,null,null,null,null,null,1,null,null,1,1,1,null,null,4]
["H3FFD1",null,null,null,null,null,null,null,null,null,null,1,null,null,null,null,1,null,null,2]
["H3FFD2",null,null,null,null,null,null,null,null,null,null,null,null,null,null,1,1,null,null,2]
["H6BL98",null,null,null,null,null,null,null,null,null,null,1,null,null,1,1,1,null,null,4]
["H9JMY5",null,null,null,null,null,null,null,null,null,null,null,null,null,1,1,1,null,null,3]
["I1C152",null,null,null,null,null,null,null,null,null,null,1,null,null,1,1,1,null,null,4]
["I1FDE0",null,null,null,null,null,null,null,null,null,null,1,null,null,1,2,2,null,null,6]
["I1RZ78",null,null,null,null,null,null,null,null,null,null,1,null,null,1,1,1,null,null,4]
["I2FPU0",null,null,null,null,null,null,null,null,null,null,1,null,null,1,1,1,null,null,4]
["I2H9G0",null,null,null,null,null,null,null,null,null,null,1,null,null,1,1,1,null,null,4]
["I2K053",null,null,null,null,null,null,null,null,null,null,1,null,null,null,null,1,null,null,2]
["I3IZN6",null,null,null,null,null,null,null,null,null,null,1,null,null,1,1,1,null,null,4]
["J3P6J6",null,null,null,null,null,null,null,null,null,null,1,null,null,1,1,1,null,null,4]
["J4GPF6",null,null,null,null,null,null,null,null,null,null,1,null,null,1,1,1,null,null,4]
["J4KPW8",null,null,null,null,null,null,null,null,null,null,1,null,null,1,1,1,null,null,4]
["J7R876",null,null,null,null,null,null,null,null,null,null,1,null,null,1,1,1,null,null,4]
["J9E4Y2",null,null,null,null,null,null,null,null,null,null,null,null,null,null,1,1,null,null,2]
["J9EHP7",null,null,null,null,null,null,null,null,null,null,1,null,null,null,null,1,null,null,2]
["J9ICV4",null,null,null,null,null,null,null,null,null,null,1,null,null,null,1,1,null,1,4]
["J9J9U9",null,null,null,null,null,null,null,null,null,null,null,null,null,null,1,1,null,1,3]
["J9JL61",null,null,null,null,null,null,null,null,null,null,1,null,null,1,1,1,null,null,4]
["K0KJM8",null,null,null,null,null,null,null,null,null,null,1,null,null,1,1,1,null,null,4]
["K1PW08",null,null,null,null,null,null,null,null,null,null,1,null,null,1,1,1,null,null,4]
["K1VYD8",null,null,null,null,null,null,null,null,null,null,1,null,null,1,1,1,null,null,4]
["K1WXM4",null,null,null,null,null,null,null,null,null,null,1,null,null,1,1,1,null,null,4]
["K2RJH2",null,null,null,null,null,null,null,null,null,null,1,null,null,1,1,1,null,null,4]
["K3VP26",null,null,null,null,null,null,null,null,null,null,1,null,null,1,1,1,null,null,4]
["K5WID5",null,null,null,null,null,null,null,null,null,null,1,null,null,1,1,1,null,null,4]
["K5XER8",null,null,null,null,null,null,null,null,null,null,1,null,null,1,1,1,null,null,4]
["K7G8P8",null,null,null,null,null,null,null,null,null,null,1,null,null,1,1,1,null,null,4]
["K7J9S2",null,null,null,null,null,null,null,null,null,null,1,null,null,1,1,1,null,null,4]
["K9GPV4",null,null,null,null,null,null,null,null,null,null,1,null,null,1,1,1,null,null,4]
["L0PG12",null,null,null,null,null,null,null,1,null,null,1,null,null,1,1,1,null,null,5]
["L2G928",null,null,null,null,null,null,null,null,null,null,1,null,null,1,1,1,null,null,4]
["L5K396",null,null,null,null,null,null,null,null,null,null,1,null,null,1,2,2,null,null,6]
["L5LXG2",null,null,null,null,null,null,null,null,null,null,1,null,null,1,1,1,null,null,4]
["L8FUI4",null,null,null,null,null,null,null,null,null,null,1,null,null,null,1,1,null,null,3]
["L8X4Q1",null,null,null,null,null,null,null,null,null,null,1,null,null,1,1,2,null,null,5]
["L8Y2P5",null,null,null,null,null,null,null,null,null,null,1,1,null,1,null,1,null,null,4]
["M1W1F8",null,null,null,null,null,null,null,null,null,null,1,null,null,1,1,1,null,null,4]
["M2M3S2",null,null,null,null,null,null,null,null,null,null,1,null,null,1,1,1,null,null,4]
["M2RJS3",null,null,null,null,null,null,null,null,null,null,1,null,null,1,1,1,null,null,4]
["M2S4D3",null,null,null,null,null,null,null,null,null,null,1,null,null,1,1,1,null,null,4]
["M2TWV8",null,null,null,null,null,null,null,null,null,null,1,null,null,1,1,1,null,null,4]
["M2YK58",null,null,null,null,null,null,null,null,null,null,1,null,null,1,1,1,null,null,4]
["M3A760",null,null,null,null,null,null,null,null,null,null,1,null,null,1,1,1,null,null,4]
["M3BU19",null,null,null,null,null,null,null,null,null,null,1,null,null,1,1,1,null,null,4]
["M3JST8",null,null,null,null,null,null,null,null,null,null,1,null,null,1,1,1,null,null,4]
["M3X112",null,null,null,null,null,null,null,null,null,null,1,null,null,1,1,1,null,null,4]
["M3YLH2",null,null,null,null,null,null,null,null,null,null,1,null,null,1,1,1,null,null,4]
["M3ZFB7",null,null,null,null,null,null,null,null,null,null,1,null,null,1,1,1,null,null,4]
["M5BPU2",null,null,null,null,null,null,null,null,null,null,1,null,null,1,1,1,null,null,4]
["M5FZW2",null,null,null,null,null,null,null,null,null,null,1,null,null,1,1,1,null,null,4]
["M7B7S1",null,null,null,null,null,null,1,null,null,null,1,null,null,null,1,1,null,null,4]
["M7PC58",null,null,null,null,null,null,null,null,null,null,1,null,null,1,1,1,null,null,4]
["M7SMT2",null,null,null,null,null,null,null,null,null,null,1,null,null,1,1,1,null,null,4]
["M7TLI0",null,null,null,null,null,null,null,null,null,null,1,null,null,1,1,1,null,null,4]
["M7XLS6",null,null,null,null,null,null,null,null,null,null,1,null,null,1,1,1,null,null,4]
["M9MG38",null,null,null,null,null,null,null,null,null,null,1,null,null,1,1,1,null,null,4]
["N1J6R0",null,null,null,null,null,null,null,null,null,null,1,null,null,1,1,1,null,null,4]
["N1RE77",null,null,null,null,null,null,null,null,null,null,1,null,null,1,1,1,null,null,4]
["N4UG34",null,null,null,null,null,null,null,null,null,null,1,null,null,1,1,1,null,null,4]
["N4VNG1",null,null,null,null,null,null,null,null,null,null,1,null,null,1,1,1,null,null,4]
["O62334",null,null,null,null,null,null,null,null,null,null,1,null,null,1,1,1,null,null,4]
["P35573",null,null,null,null,null,null,null,null,null,null,1,null,null,1,1,1,null,null,4]
["P35574",null,null,null,null,null,null,null,null,null,null,1,null,null,1,1,1,null,null,4]
["Q06625",null,null,null,null,null,null,null,null,null,null,1,null,null,1,1,1,null,null,4]
["Q0CN55",null,null,null,null,null,null,null,null,null,null,1,null,null,1,1,1,null,null,4]
["Q0UXB3",null,null,null,null,null,null,null,null,null,null,1,null,null,1,1,1,null,null,4]
["Q16UP5",null,null,null,null,null,null,null,null,null,null,1,null,null,1,1,1,null,null,4]
["Q291U7",null,null,null,null,null,null,null,null,null,null,1,null,null,1,1,1,null,null,4]
["Q2HF43",null,null,null,null,null,null,null,null,null,null,1,null,null,1,1,1,null,null,4]
["Q2PQH8",null,null,null,null,null,null,null,null,null,null,1,null,null,1,1,1,null,null,4]
["Q2URC4",null,null,null,null,null,null,null,null,null,null,1,null,null,1,1,1,null,null,4]
["Q4WKK6",null,null,null,null,null,null,null,null,null,null,1,null,null,1,1,1,null,null,4]
["Q54K94",null,null,null,null,null,null,null,null,null,null,1,null,null,null,1,1,null,null,3]
["Q59MN2",null,null,null,null,null,null,null,null,null,null,1,null,null,1,1,1,null,null,4]
["Q5CXJ2",null,null,null,null,null,null,null,null,null,null,1,null,null,null,1,1,null,1,4]
["Q5KA48",null,null,null,null,null,null,null,null,null,null,1,null,null,1,1,1,null,null,4]
["Q6BUY8",null,null,null,null,null,null,null,null,null,null,1,null,null,1,1,1,null,null,4]
["Q6CGI3",null,null,null,null,null,null,null,null,null,null,1,null,null,1,1,1,null,null,4]
["Q6FSK0",null,null,null,null,null,null,null,null,null,null,1,null,null,1,1,1,null,null,4]
["Q758N1",null,null,null,null,null,null,null,null,null,null,1,null,null,1,1,1,null,null,4]
["Q7KVP4",null,null,null,null,null,null,null,null,null,null,1,null,null,1,1,1,null,null,4]
["Q7PX40",null,null,null,null,null,null,null,null,null,null,1,null,null,1,1,1,null,null,4]
["Q7SED5",null,null,null,null,null,null,null,null,null,null,1,null,null,1,1,1,null,null,4]
["Q86BS7",null,null,null,null,null,null,null,null,null,null,1,null,null,1,1,1,null,null,4]
["Q9W2H8",null,null,null,null,null,null,null,null,null,null,1,null,null,1,1,1,null,null,4]
["R0I5E7",null,null,null,null,null,null,null,null,null,null,1,null,null,1,1,1,null,null,4]
["R1ENZ2",null,null,null,null,null,null,null,null,null,null,1,null,null,1,1,1,null,null,4]
["R4X711",null,null,null,null,null,null,null,null,null,null,1,null,null,1,1,1,null,null,4]
["R7YY15",null,null,null,null,null,null,null,null,null,null,1,null,null,1,1,1,null,null,4]
["R8BET4",null,null,null,null,null,null,null,null,null,null,1,null,null,1,1,1,null,null,4]
["R9PE26",null,null,null,null,null,null,null,null,null,null,1,null,null,1,1,1,null,null,4]
["S0DU02",null,null,null,null,null,null,null,null,null,null,1,null,null,1,1,1,null,null,4]
["S2JV67",null,null,null,null,null,null,null,null,null,null,1,null,null,1,1,1,null,null,4]
["S3BXP7",null,null,null,null,null,null,null,null,null,null,1,null,null,1,1,1,null,null,4]
["S3CNJ0",null,null,null,null,null,null,null,null,null,null,1,null,null,1,1,1,null,null,4]
["S6F5Y1",null,null,null,null,null,null,null,null,null,null,1,null,null,1,1,1,null,null,4]
["S7Q397",null,null,null,null,null,null,null,null,null,null,1,null,null,1,1,1,null,null,4]
["S7RTJ5",null,null,null,null,null,null,null,null,null,null,1,null,null,1,1,1,null,null,4]
["S7ZFX6",null,null,null,null,null,null,null,null,null,null,1,null,null,1,1,1,null,null,4]
["S8AGT1",null,null,null,null,null,null,null,null,null,null,1,null,null,1,1,1,null,null,4]
["S8FR05",null,null,null,null,null,null,null,null,null,null,1,null,null,1,1,1,null,null,4]
["S9WDR6",null,null,null,null,null,null,null,null,null,null,1,null,null,1,2,1,null,null,5]
["T0K3Z4",null,null,null,null,null,null,null,null,null,null,1,null,null,1,1,1,null,null,4]
["T1EEV2",null,null,null,null,null,null,null,null,null,null,1,null,null,1,1,1,null,null,4]
["T1GKN8",null,null,null,null,null,null,null,null,null,null,null,null,null,null,1,1,null,null,2]
["T1HQC3",null,null,null,null,null,null,null,null,null,null,1,null,null,1,1,1,null,null,4]
["T1J746",null,null,null,null,null,null,null,null,null,null,1,null,null,1,1,1,null,null,4]
["T1JUG0",null,null,null,null,null,null,null,null,null,null,1,null,null,1,1,1,null,null,4]
["T1JUL4",null,null,null,null,null,null,null,null,null,null,3,null,null,null,2,1,null,null,6]
["T5AFY6",null,null,null,null,null,null,null,null,null,null,1,null,null,1,1,1,null,null,4]
["U1HM11",null,null,null,null,null,null,null,null,null,null,1,null,null,1,1,1,null,null,4]
["U1MI54",null,null,null,null,null,null,null,null,null,null,1,null,null,null,1,1,null,null,3]
["U3J1L9",null,null,null,null,null,null,null,null,null,null,1,null,null,null,1,1,null,null,3]
["U3JI98",null,null,null,null,null,null,null,null,null,null,1,null,null,1,1,1,null,null,4]
["U4KYJ0",null,null,null,null,null,null,null,null,null,null,1,null,null,1,1,1,null,null,4]
["U4UE49",null,null,null,null,null,null,null,null,null,null,1,null,null,1,1,1,null,null,4]
["U5H663",null,null,null,null,null,null,null,null,null,null,1,null,null,1,1,1,null,null,4]
["U6GUU5",null,null,null,null,null,null,null,null,null,null,1,null,null,null,3,1,null,null,5]
["U6JZI1",null,null,null,null,null,null,null,null,null,null,null,null,null,null,2,1,null,null,3]
["U6L804",null,null,null,null,null,null,null,null,null,null,null,null,null,null,null,1,null,1,2]
["U6LN22",null,null,null,null,null,null,null,null,null,null,1,null,null,null,1,1,null,null,3]
["U6N4S6",null,null,null,null,null,null,null,null,null,null,1,null,null,null,2,1,null,1,5]
["U6P8Q5",null,null,null,null,null,null,null,null,null,null,1,null,null,1,1,1,null,null,4]
["U7PL85",null,null,null,null,null,null,null,null,null,null,1,null,null,1,1,1,null,null,4]
["U9T0T6",null,null,null,null,null,null,null,null,null,null,1,null,null,1,2,1,null,null,5]
["V2YXH6",null,null,null,null,null,null,null,null,null,null,1,null,null,1,1,1,null,null,4]
["V4ALP1",null,null,null,null,null,null,null,null,null,null,1,null,null,1,1,1,null,null,4]
["V4ZBE9",null,null,null,null,null,null,null,null,null,null,1,null,null,null,1,1,null,1,4]
["V5E335",null,null,null,null,null,null,null,null,null,null,1,null,null,1,1,1,null,null,4]
["V5FW38",null,null,null,null,null,null,null,null,null,null,1,null,null,1,1,1,null,null,4]
["V6LPQ1",null,null,null,null,null,null,null,null,null,null,1,null,null,null,1,1,null,null,3]
["V6TUL1",null,null,null,null,null,null,null,null,null,null,2,null,null,null,2,2,null,null,6]
["V8PGB5",null,null,null,null,null,null,null,null,null,null,1,null,null,1,1,1,null,null,4]
["W1QEP6",null,null,null,null,null,null,null,null,null,null,1,null,null,1,1,1,null,null,4]
["W2RR45",null,null,null,null,null,null,null,null,null,null,1,null,null,1,1,1,null,null,4]
["W2THL3",null,null,null,null,null,null,null,null,null,null,1,null,null,null,3,1,null,null,5]
["W3XM16",null,null,null,null,null,null,null,null,null,null,1,null,null,1,1,1,null,null,4]
["W4K1A9",null,null,null,null,null,null,null,null,null,null,1,null,null,1,1,1,null,null,4]
["W4Z8R1",null,null,null,null,null,null,null,null,null,null,1,null,null,1,1,1,null,null,4]
["W5J8I8",null,null,null,null,null,null,null,null,null,null,1,null,null,1,1,1,null,null,4]
["W5KD30",null,null,null,null,null,null,null,null,null,null,2,null,null,1,1,1,null,null,5]
["W5LJR7",null,null,null,null,null,null,null,null,null,null,1,null,null,null,1,1,null,null,3]
["W5LYQ0",null,null,null,null,null,null,null,null,null,null,1,null,null,1,1,1,null,null,4]
["W5Q8M3",null,null,null,null,null,null,null,null,null,null,1,null,null,1,1,1,null,null,4]
["W6MVH6",null,null,null,null,null,null,null,null,null,null,1,null,null,1,1,1,null,null,4]
["W6PTC3",null,null,null,null,null,null,null,null,null,null,1,null,null,1,1,1,null,null,4]
["W6V9C7",null,null,null,null,null,null,null,null,null,null,1,null,null,null,1,1,null,null,3]
["W6YBJ1",null,null,null,null,null,null,null,null,null,null,1,null,null,1,1,1,null,null,4]
["W7M3J4",null,null,null,null,null,null,null,null,null,null,1,null,null,1,1,1,null,null,4]
["W7MLL3",null,null,null,null,null,null,null,null,null,null,1,null,null,null,1,1,null,null,3]
["W7XI56",null,null,null,null,null,null,null,null,null,null,1,null,null,null,1,1,null,1,4]
["W9CJT9",null,null,null,null,null,null,null,null,null,null,1,null,null,1,1,1,null,null,4]
["W9W037",null,null,null,null,null,null,null,null,null,null,1,null,null,1,1,1,null,null,4]
["W9W9T5",null,null,null,null,null,null,null,null,null,null,1,null,null,1,1,1,null,null,4]
["W9XNU5",null,null,null,null,null,null,null,null,null,null,1,null,null,1,1,1,null,null,4]
["W9ZPQ4",null,null,null,null,null,null,null,null,null,null,1,null,null,1,1,1,null,null,4]
["X0CDJ6",null,null,null,null,null,null,null,null,null,null,1,null,null,null,1,1,null,null,3]
["X0CNT7",null,null,null,null,null,null,null,null,null,null,1,null,null,1,1,1,null,null,4]
["X0JV77",null,null,null,null,null,null,null,null,null,null,1,null,null,null,1,1,null,null,3]
["X0JVI1",null,null,null,null,null,null,null,null,null,null,1,null,null,1,1,1,null,null,4]
["Общий итог",1,1,3,1,2,10,3,1,4,2,670,1,3,556,684,717,3,19,2681]

{"sheet":"домены","index":2,"n_rows":701,"n_cols":7,"rows_kept":701,"cut":false,"hidden":false,"merged":[]}
["Sequence_AC","PF06202","PF14699","PF14701","PF14702","PF16561","Общий итог"]
["A0A010QTU3",1,1,1,1,null,4]
["A0A016T824",1,null,1,1,null,3]
["A0A016T8T2",1,null,1,1,null,3]
["A0A016T905",1,null,1,1,null,3]
["A0A023AYK6",1,null,2,1,1,5]
["A0A026W7M0",1,1,1,1,null,4]
["A0A044QLY7",1,null,1,1,null,3]
["A0A058Z1Q6",3,null,3,1,null,7]
["A0A059JG84",1,1,1,1,null,4]
["A0A060SM73",1,1,1,1,null,4]
["A0A061HK78",1,1,1,1,null,4]
["A0A063C724",1,1,1,1,null,4]
["A0A066VMY2",1,1,1,1,null,4]
["A0A066VPH2",1,1,1,1,null,4]
["A0A066XER0",1,1,1,1,null,4]
["A0A067MEC5",1,1,1,1,null,4]
["A0A067NTR2",1,1,1,1,null,4]
["A0A067Q6F6",1,1,1,1,null,4]
["A0A067R0B7",1,1,1,2,null,5]
["A0A067S4G4",1,1,1,1,null,4]
["A0A068S7K8",1,1,1,1,null,4]
["A0A068S963",1,1,1,1,null,4]
["A0A068X5G4",1,1,1,1,null,4]
["A0A068Y9Z0",1,null,1,1,null,3]
["A0A072P3F0",1,1,1,1,null,4]
["A0A074SCB3",1,1,1,1,null,4]
["A0A074TF13",1,null,1,1,1,4]
["A0A074WED3",1,1,1,1,null,4]
["A0A074X1S4",1,1,1,1,null,4]
["A0A074Y8R4",1,1,1,1,null,4]
["A0A074YD67",1,1,1,1,null,4]
["A0A075A357",1,1,1,1,null,4]
["A0A075AYU9",2,null,1,1,null,4]
["A0A077YY88",1,null,1,1,null,3]
["A0A077Z661",2,null,1,2,null,5]
["A0A078A3A7",1,null,1,1,1,4]
["A0A078AI91",null,null,2,1,1,4]
["A0A081CN43",1,1,1,1,null,4]
["A0A084GGA7",1,1,1,1,null,4]
["A0A084QI67",1,1,1,1,null,4]
["A0A084W0C3",1,1,1,1,null,4]
["A0A085NDC7",1,null,1,1,null,3]
["A0A085NML0",1,null,1,1,null,3]
["A0A086THF9",1,1,1,1,null,4]
["A0A087QMK8",1,1,1,1,null,4]
["A0A087U9R3",null,null,null,1,null,1]
["A0A087U9R4",null,null,null,1,null,1]
["A0A087X458",1,1,1,1,null,4]
["A0A088ALS8",1,1,1,1,null,4]
["A0A090L6T4",1,null,1,1,null,3]
["A0A091D443",2,1,2,1,null,6]
["A0A091EIV1",1,1,1,1,null,4]
["A0A091G6W5",1,1,1,1,null,4]
["A0A091GQE9",1,1,1,1,null,4]
["A0A091HRX4",1,1,1,1,null,4]
["A0A091KHC9",1,1,1,1,null,4]
["A0A091KUT8",1,1,1,1,null,4]
["A0A091LLM9",1,1,1,1,null,4]
["A0A091MDQ5",1,1,1,1,null,4]
["A0A091NKW9",1,1,1,1,null,4]
["A0A091P1S7",1,1,1,1,null,4]
["A0A091QG56",1,1,1,1,null,4]
["A0A091RCN7",null,1,1,1,null,3]
["A0A091T2P6",1,null,null,1,null,2]
["A0A091TI76",1,1,1,1,null,4]
["A0A091TXK1",1,null,null,1,null,2]
["A0A091UFK0",1,1,1,1,null,4]
["A0A091VAU0",1,1,1,1,null,4]
["A0A091XK00",1,1,1,1,null,4]
["A0A093CNC6",1,1,1,1,null,4]
["A0A093CQ14",1,1,1,1,null,4]
["A0A093EJE1",1,1,1,1,null,4]
["A0A093H545",1,1,1,1,null,4]
["A0A093J624",1,1,1,1,null,4]
["A0A093LME3",1,1,1,1,null,4]
["A0A093PRZ8",1,1,1,1,null,4]
["A0A093Y8C9",1,1,1,1,null,4]
["A0A093Y8Z0",1,1,1,1,null,4]
["A0A093ZDG4",1,1,1,1,null,4]
["A0A094A6U6",1,1,1,1,null,4]
["A0A094AGV0",1,1,1,1,null,4]
["A0A094BZU4",1,1,1,1,null,4]
["A0A094CBT3",1,1,1,1,null,4]
["A0A094DFK1",1,1,1,1,null,4]
["A0A094EPV8",1,1,1,1,null,4]
["A0A094FZP8",1,1,1,1,null,4]
["A0A094GBR2",1,1,1,1,null,4]
["A0A094H8A7",1,1,1,1,null,4]
["A0A094JA99",1,1,1,1,null,4]
["A0A094ZFT4",1,1,1,1,null,4]
["A0A095DHE2",1,1,1,1,null,4]
["A0A096N6Q6",1,1,1,1,null,4]
["A0A099P130",1,1,1,1,null,4]
["A0A0A0AG33",1,1,1,1,null,4]
["A0A0A1NX13",1,null,null,1,null,2]
["A0A0A1P236",1,null,null,1,null,2]
["A0A0A1TRF2",1,1,1,1,null,4]
["A0A0A1U014",1,null,1,1,null,3]
["A0A0A1UPQ1",1,1,1,1,null,4]
["A0A0A2IUN1",1,1,1,1,null,4]
["A0A0A2LCV9",1,1,1,1,null,4]
["A0A0A2UZZ1",1,1,1,1,null,4]
["A0A0A2VHZ6",1,1,1,1,null,4]
["A0A0A8L004",1,1,1,1,null,4]
["A0A0B1P1J1",1,1,1,1,null,4]
["A0A0B1TUK7",1,null,null,1,null,2]
["A0A0B2V6Z8",1,null,1,1,null,3]
["A0A0B2VE34",1,null,null,1,null,2]
["A0A0B2WZE8",1,1,1,1,null,4]
["A0A0B4GUX9",1,1,1,1,null,4]
["A0A0B7N845",1,1,1,1,null,4]
["A0A0B8N525",1,1,1,1,null,4]
["A0A0C2GKR7",null,null,null,1,null,1]
["A0A0C2M3A6",null,null,null,1,null,1]
["A0A0C2MJT8",null,null,null,1,null,1]
["A0A0C2X5E2",1,1,1,1,null,4]
["A0A0C2YVD8",1,1,1,1,null,4]
["A0A0C3ACH9",null,1,1,1,null,3]
["A0A0C3BSZ1",1,1,1,1,null,4]
["A0A0C3FWV3",1,1,1,1,null,4]
["A0A0C3HLL3",1,1,1,1,null,4]
["A0A0C3L9K1",1,1,1,1,null,4]
["A0A0C3PQW6",1,1,1,1,null,4]
["A0A0C3SDX7",1,1,1,1,null,4]
["A0A0C4EF57",1,1,1,1,null,4]
["A0A0C7N3C4",1,1,1,1,null,4]
["A0A0C9LWN1",1,1,2,1,null,5]
["A0A0C9WFV0",1,1,1,1,null,4]
["A0A0C9X698",1,1,1,1,null,4]
["A0A0C9Z1J0",1,1,1,1,null,4]
["A0A0D0A959",1,1,1,1,null,4]
["A0A0D0CW47",1,1,1,1,null,4]
["A0A0D0ECG9",1,1,1,1,null,4]
["A0A0D1DW40",1,1,1,1,null,4]
["A0A0D1Y1X4",1,1,1,1,null,4]
["A0A0D1YTW6",1,1,1,1,null,4]
["A0A0D1ZYM2",1,1,1,1,null,4]
["A0A0D2A5A0",1,1,1,1,null,4]
["A0A0D2AR99",1,1,1,1,null,4]
["A0A0D2CKN8",1,1,1,1,null,4]
["A0A0D2DJ28",1,1,1,1,null,4]
["A0A0D2E8D8",1,1,1,1,null,4]
["A0A0D2G1H9",1,1,1,1,null,4]
["A0A0D2HJE3",1,1,1,1,null,5]
["A0A0D2I322",1,1,1,1,null,4]
["A0A0D2KAA1",1,1,1,1,null,4]
["A0A0D2NY00",1,1,1,1,null,4]
["A0A0D2X4G8",1,1,2,2,null,6]
["A0A0D2XWJ8",1,1,1,1,null,4]
["A0A0D7AM24",1,1,1,1,null,4]
["A0A0D7BL27",1,1,1,1,null,4]
["A0A0D8Y173",2,null,1,1,null,4]
["A0A0D9N9Z1",1,1,1,1,null,4]
["A0A0D9S6N5",1,1,1,1,null,4]
["A0A0E1RUZ2",1,1,1,1,null,4]
["A0A0E9NAY6",1,1,1,1,null,4]
["A0A0F0I5P1",1,1,1,1,null,4]
["A0A0F4GBS7",1,1,1,1,null,4]
["A0A0F4YRT6",1,1,1,1,null,4]
["A0A0F4ZGE2",1,1,1,1,null,4]
["A0A0F7TMN7",1,1,1,1,null,4]
["A0A0F8A3N1",1,1,1,1,null,4]
["A0A0F8B4S6",1,1,1,2,null,5]
["A0A0F8UGN8",1,1,1,1,null,4]
["A0A0F9X9B6",1,1,1,1,null,4]
["A0A0G2E4D9",1,1,1,1,null,4]
["A0A0G2F9N9",1,1,1,1,null,4]
["A0A0G2FU03",1,1,1,1,null,5]
["A0A0G2I3T6",1,1,1,1,null,4]
["A0A0G2JGI9",1,1,1,1,null,4]
["A0A0G4G102",1,null,1,1,1,4]
["A0A0G4KZD0",1,null,null,1,null,2]
["A0A0G4LQK9",1,1,1,1,null,4]
["A0A0G4MAL6",1,1,1,1,null,4]
["A0A0G4NW80",1,1,1,1,null,4]
["A0A0H1B6U3",1,1,1,1,null,4]
["A0A0H2RII2",1,1,1,1,null,4]
["A0A0H5C1A1",1,null,null,1,null,2]
["A0A0J0XP15",1,1,1,1,null,4]
["A0A0J7BGE2",1,1,1,1,null,4]
["A0A0J7NAZ8",1,null,null,1,null,2]
["A0A0J8TWI9",1,1,1,1,null,4]
["A0A0J9V7A0",1,null,1,1,null,3]
["A0A0K0E803",1,null,1,1,null,3]
["A0A0K0FGL4",1,null,1,1,null,3]
["A0A0K6GIF6",1,1,1,1,null,4]
["A0A0K8LPV6",1,1,1,1,null,7]
["A0A0L0BUP1",1,1,1,1,null,4]
["A0A0L0D597",1,null,1,1,null,3]
["A0A0L0FY95",1,null,null,1,null,2]
["A0A0L0HGW7",1,1,1,1,null,4]
["A0A0L0N7E7",1,1,1,1,null,4]
["A0A0L0P4J2",1,1,1,1,null,4]
["A0A0L0TEU8",1,1,1,1,null,4]
["A0A0L0TF30",1,1,2,1,null,5]
["A0A0L0VQ97",1,1,1,1,null,4]
["A0A0L1HSN2",1,1,1,1,null,5]
["A0A0L1J5G2",1,1,1,1,null,8]
["A0A0L6UGP3",1,1,1,1,null,4]
["A0A0L6WZ71",1,1,1,1,null,7]
["A0A0L7QQA0",1,1,1,1,null,4]
["A0A0L8G6V0",1,null,1,1,null,3]
["A0A0L9T245",1,1,1,1,null,4]
["A0A0M8N0M3",1,1,1,1,null,4]
["A0A0M9A074",1,1,2,1,null,5]
["A0A0M9EXZ4",1,1,1,1,null,4]
["A0A0M9WGZ0",1,1,1,1,null,4]
["A0A0N0NS63",1,1,1,1,null,4]
["A0A0N4T439",1,null,null,1,null,2]
["A0A0N4UM20",1,null,1,1,null,3]
["A0A0N4VFZ0",1,null,1,1,null,3]
["A0A0N4VVA2",1,null,null,1,null,2]
["A0A0N4VY25",null,null,null,1,null,1]
["A0A0N4ZYY6",1,1,1,1,null,4]
["A0A0N5AQW6",1,null,1,1,null,3]
["A0A0N5CB21",1,null,1,1,null,3]
["A0A0N5CNJ6",1,1,2,1,null,5]
["A0A0N5DQX3",1,null,1,1,null,3]
["A0A0N5E2Y0",1,null,1,1,null,3]
["A0A0P1BQ20",1,1,1,1,null,4]
["A0A0P7BVC3",1,1,1,1,null,4]
["A0A0P7USB6",1,1,1,1,null,4]
["A0A0P8XMZ1",1,1,1,1,null,4]
["A0A0P9AD98",1,1,1,1,null,4]
["A0A0Q3LTJ5",1,1,1,1,null,4]
["A0A0Q9W6A7",1,1,1,1,null,4]
["A0A0Q9WH87",1,1,1,1,null,4]
["A0A0Q9X8G5",1,1,1,1,null,4]
["A0A0Q9X9A0",1,1,1,1,null,4]
["A0A0Q9XL69",1,1,1,1,null,4]
["A0A0R3NSL8",1,1,1,1,null,4]
["A0A0R3PR76",1,1,1,1,null,4]
["A0A0R3QD39",null,null,null,1,null,1]
["A0A0R3RCE9",1,null,null,1,null,2]
["A0A0R3RER8",1,null,1,1,null,3]
["A0A0R3S651",1,null,null,1,null,2]
["A0A0R3SBE9",null,null,null,1,null,1]
["A0A0R3TSV0",1,1,1,1,null,4]
["A0A0R3U9I3",null,1,1,1,null,3]
["A0A0R3UQS6",1,null,null,1,null,2]
["A0A0R3XAA9",null,null,1,1,null,2]
["A0A0R3XCR1",null,null,null,1,null,1]
["A0A0R4IA63",null,null,null,1,null,1]
["A0A0R4IF54",1,1,1,1,null,4]
["A0A0R4IH04",1,null,null,1,null,2]
["A0A0R4IU33",1,1,1,1,null,4]
["A0A0R4IV67",1,1,1,1,null,4]
["A0A0R4IZH8",1,1,1,1,null,4]
["A0A0S7E419",1,1,1,1,null,4]
["A0A0T6B546",null,1,1,1,null,3]
["A0A0U1M6K4",1,1,1,1,null,4]
["A0A0U5G358",1,1,1,1,null,4]
["A0A0V0QAH6",1,null,1,1,1,4]
["A0A0V0R3M8",1,null,1,1,1,5]
["A0A0V0SG53",1,1,1,1,null,5]
["A0A0V0TWA6",1,1,1,1,null,4]
["A0A0V0TWF8",1,1,1,1,null,4]
["A0A0V0TWQ3",null,1,1,1,null,3]
["A0A0V0VQX3",null,1,1,1,null,3]
["A0A0V0VQX8",1,1,1,1,null,4]
["A0A0V0VQY2",null,null,1,1,null,2]
["A0A0V0VQY7",1,1,1,1,null,4]
["A0A0V0X128",1,1,1,1,null,5]
["A0A0V0X1D4",1,1,1,1,null,5]
["A0A0V0X1F2",1,1,1,1,null,4]
["A0A0V0X1G1",1,1,1,1,null,5]
["A0A0V0X1J3",1,1,1,1,null,4]
["A0A0V0Y4S8",1,1,1,1,null,4]
["A0A0V0Y4W1",1,1,1,1,null,4]
["A0A0V1AFM7",1,1,1,1,null,4]
["A0A0V1AG06",1,1,1,1,null,4]
["A0A0V1AHE9",1,1,1,1,null,4]
["A0A0V1CSK8",1,1,1,1,null,4]
["A0A0V1CSQ0",1,1,1,1,null,4]
["A0A0V1CT18",1,1,1,1,null,5]
["A0A0V1CUE4",1,1,1,1,null,5]
["A0A0V1HRF5",null,1,1,1,null,3]
["A0A0V1L3P3",1,1,1,1,null,5]
["A0A0V1L3R1",1,1,1,1,null,5]
["A0A0V1L4L3",1,1,1,1,null,4]
["A0A0V1PH35",1,1,1,1,null,5]
["A0A0V1PHD2",1,1,1,1,null,5]
["A0A0W0FZI5",1,1,1,1,null,4]
["A0A0W4ZQK3",1,1,1,1,null,4]
["A0A0W4ZUI4",1,1,1,1,null,4]
["A0A0W7W367",1,1,1,1,null,4]
["A0A101MIR9",1,1,1,1,null,4]
["A0A109FAQ5",1,1,1,1,null,4]
["A0A124BUR9",1,1,1,1,null,7]
["A0A132A5T5",1,1,1,2,null,5]
["A0A135LZ37",1,1,1,1,null,4]
["A0A135RMG2",1,1,1,1,null,4]
["A0A135UQZ0",1,1,1,1,null,4]
["A0A136J2Y3",1,1,1,1,null,4]
["A0A137P5H3",1,1,1,1,null,4]
["A0A137QHA0",1,1,1,1,null,4]
["A0A139A531",1,1,1,1,null,4]
["A0A139GV41",1,1,1,1,null,4]
["A0A139IKD5",1,1,1,1,null,4]
["A0A139WC21",1,1,1,1,null,4]
["A0A150VIY2",1,1,1,1,null,4]
["A0A151GPN9",1,1,1,1,null,4]
["A0A151M4V6",1,1,1,1,null,6]
["A0A151M4W7",1,1,1,1,null,6]
["A0A151VFH8",1,1,1,1,null,4]
["A0A151WGY4",1,1,1,1,null,4]
["A0A152A9F1",1,1,1,1,null,4]
["A0A154PFZ0",1,1,1,1,null,4]
["A0A158NS37",1,1,1,1,null,4]
["A0A158PC84",1,1,1,1,null,4]
["A0A158PN69",1,null,1,1,null,3]
["A0A158QFZ4",4,1,1,1,null,7]
["A0A158QX09",1,1,1,1,null,4]
["A0A158R7U9",1,1,1,1,null,4]
["A0A162K3D0",1,1,1,1,null,4]
["A0A162UR45",1,null,1,1,null,3]
["A0A163DBX9",1,1,1,1,null,4]
["A0A164NPU1",1,1,2,1,null,5]
["A0A164VTK7",1,1,1,1,null,4]
["A0A165GB67",1,1,1,1,null,4]
["A0A165HYM6",1,1,1,1,null,4]
["A0A165JZD4",1,1,1,1,null,4]
["A0A165LZL5",1,1,1,1,null,4]
["A0A165U9Q9",1,1,1,1,null,4]
["A0A166BCP4",1,1,1,1,null,4]
["A0A166CDF1",1,1,1,1,null,4]
["A0A166FBI4",1,1,1,1,null,4]
["A0A166HVI1",1,1,1,1,null,4]
["A0A166UV10",1,1,1,1,null,4]
["A0A167BNH3",1,1,1,1,null,4]
["A0A167S918",1,1,1,1,null,4]
["A0A167UPF6",1,1,1,1,null,4]
["A0A168GI85",1,1,1,1,null,4]
["A0A168GXS6",1,1,1,1,null,4]
["A0A177BY91",1,1,1,1,null,4]
["A0A177DMY2",1,1,1,1,null,4]
["A0A177WDZ8",null,1,1,1,null,3]
["A0A178BB70",1,1,1,1,null,4]
["A0A178EBW2",1,1,1,1,null,4]
["A0A180H1Z8",1,1,1,1,null,4]
["A0A183AAW8",1,null,1,1,null,3]
["A0A183E542",1,null,null,1,null,2]
["A0A183EVV2",null,null,1,1,null,2]
["A0A183IQB6",1,1,1,2,null,5]
["A0A183L3P4",null,null,null,1,null,1]
["A0A183L5T7",null,null,null,1,null,1]
["A0A183MQF5",1,null,1,1,null,3]
["A0A183PB67",null,null,null,1,null,1]
["A0A183PBC8",1,null,null,1,null,2]
["A0A183PHM0",null,null,1,1,null,2]
["A0A183QFQ2",null,null,1,1,null,2]
["A0A183QFQ3",1,null,null,1,null,2]
["A0A183TE88",1,1,1,1,null,4]
["A0A183VKK7",null,null,null,1,null,1]
["A0A183WMJ4",null,null,null,1,null,1]
["A0A183WVX9",null,null,null,1,null,1]
["A0A194PXK2",1,1,2,1,null,5]
["A0A194REP1",null,1,2,2,null,5]
["A0A194SBG9",1,1,1,1,null,4]
["A0A194XSF5",1,1,1,1,null,4]
["A0BFM1",null,null,1,1,1,3]
["A0BWA0",1,null,1,1,1,4]
["A0EEA7",1,null,2,1,1,5]
["A1CS73",1,1,1,1,null,4]
["A1D547",1,1,1,1,null,4]
["A2DRU5",null,null,1,2,null,3]
["A2EWE5",1,null,2,1,null,4]
["A2F4M9",1,null,1,1,null,3]
["A2Q8Z7",1,1,1,1,null,4]
["A3GF70",1,1,1,1,null,4]
["A5DQ07",null,1,1,1,null,3]
["A5E4R5",1,1,1,1,null,4]
["A6R0W1",1,1,1,1,null,5]
["A7F5B8",1,1,1,1,null,4]
["A7TH79",1,1,1,1,null,4]
["A8BPE3",2,null,2,1,null,5]
["A8BQB4",1,1,1,1,null,4]
["A8N9L1",1,1,1,1,null,4]
["A8XCF0",1,1,2,1,null,5]
["A9V544",1,1,1,1,null,4]
["B0DI75",1,1,1,1,null,4]
["B0DME9",null,null,null,1,null,1]
["B0DZ84",null,null,null,1,null,1]
["B0X1H0",null,1,1,1,null,3]
["B0XLP5",1,null,null,1,null,2]
["B2AB57",1,1,1,1,null,4]
["B2VZS2",1,1,1,1,null,4]
["B3MBX1",1,1,1,1,null,4]
["B4GA88",1,1,1,1,null,4]
["B4I7P0",1,null,1,1,null,3]
["B4J7H5",1,1,1,1,null,4]
["B4KSI9",1,1,1,1,null,4]
["B4LMF7",1,1,1,1,null,4]
["B4MPI2",1,1,1,1,null,4]
["B4QG18",1,1,1,1,null,4]
["B6ABH3",1,null,1,1,1,4]
["B6HTR6",1,1,1,1,null,4]
["B6QE94",1,1,1,1,null,4]
["B7QG62",1,null,1,1,null,3]
["B8MB42",1,1,1,1,null,4]
["B8MYJ6",1,1,1,1,null,4]
["C0NQD3",1,1,1,1,null,4]
["C1GL12",1,1,1,1,null,4]
["C3YID9",1,1,1,2,null,5]
["C4JU91",1,1,1,1,null,4]
["C4LXB9",1,null,1,1,null,3]
["C4R1U8",1,1,1,1,null,4]
["C4Y8I7",1,1,1,1,null,4]
["C5DB95",1,1,1,1,null,4]
["C5DUS3",1,1,1,1,null,4]
["C5FS32",1,1,1,1,null,4]
["C5GTI6",1,1,1,1,null,4]
["C5MCK0",1,1,1,1,null,4]
["C6HS62",1,1,1,1,null,4]
["C7Z6K9",1,1,1,1,null,4]
["C8VTT8",1,1,1,1,null,4]
["C9SJ23",1,null,null,1,null,2]
["D3AZS3",2,1,1,1,null,5]
["D4AEH9",1,1,1,1,null,4]
["D4ASG4",1,1,1,1,null,4]
["D5G4I5",1,1,2,1,null,5]
["D8LWI1",1,null,1,2,null,4]
["D8Q378",1,1,1,1,null,4]
["E0VNL2",1,1,1,1,null,4]
["E1G3C1",1,null,1,1,null,3]
["E1JGQ5",1,1,1,1,null,4]
["E2A7S3",1,1,2,2,null,6]
["E2BPT9",1,1,1,1,null,4]
["E2L5Q4",null,null,null,1,null,1]
["E3KWY4",1,1,1,1,null,4]
["E3MHZ4",1,1,1,1,null,4]
["E3QZQ7",1,1,1,1,null,4]
["E3RH37",1,1,1,1,null,4]
["E4UNH6",1,1,1,1,null,4]
["E4X3A2",1,null,1,1,null,3]
["E4ZG29",1,1,1,1,null,4]
["E5S846",1,1,1,1,null,4]
["E6ZMW0",1,1,1,1,null,4]
["E7KJ04",1,1,1,1,null,4]
["E7M1B8",1,1,1,1,null,4]
["E7QAP2",1,null,1,1,null,3]
["E9DJT7",1,1,1,1,null,4]
["E9E262",1,1,1,1,null,4]
["E9F3Z7",1,1,1,1,null,4]
["E9IFN1",1,null,null,1,null,2]
["F0UTC9",1,1,1,1,null,4]
["F0VLQ0",1,null,1,1,1,4]
["F0XQV3",1,1,1,1,null,4]
["F0ZCG6",1,1,1,1,null,4]
["F1MHT1",1,1,1,1,null,4]
["F1NX83",1,1,1,1,null,4]
["F1PBL3",1,1,1,1,null,4]
["F1S557",1,1,1,1,null,4]
["F2PHR1",1,null,1,1,null,3]
["F2SVW0",1,1,1,1,null,4]
["F2UQQ0",2,null,1,1,null,4]
["F4PBL6",1,null,1,1,null,3]
["F4PRV5",1,null,1,1,null,3]
["F4RSD6",1,1,1,1,null,4]
["F5HMX0",1,1,1,1,null,4]
["F6TE92",1,1,1,1,null,4]
["F6UM75",1,1,1,1,null,4]
["F6XXE6",1,null,null,1,null,2]
["F6YVZ9",1,null,1,1,null,3]
["F7CSZ6",null,null,null,1,null,1]
["F7D8W4",1,1,1,1,null,4]
["F7EAR4",1,1,1,1,null,4]
["F7EAR8",1,1,1,1,null,4]
["F7GJD2",1,1,1,1,null,4]
["F7VQT1",1,1,1,1,null,4]
["F8Q4P4",1,1,1,1,null,4]
["F8VPN4",1,1,1,1,null,4]
["F9FVA4",1,1,1,1,null,4]
["F9XGA6",1,1,1,1,null,4]
["G0N6Z0",1,1,1,1,null,4]
["G0PCL2",1,1,1,1,null,4]
["G0QV62",1,null,null,1,null,2]
["G0QZ29",1,null,1,1,null,3]
["G0RBU1",1,1,1,1,null,4]
["G0SC60",1,1,1,1,null,4]
["G0V9D2",1,1,1,1,null,4]
["G0WHD0",1,1,1,1,null,4]
["G1KCM2",1,1,1,1,null,4]
["G1LR84",1,1,1,1,null,4]
["G1N5J6",1,1,1,1,null,4]
["G1PTA9",1,1,1,1,null,4]
["G1RLT1",1,1,1,1,null,4]
["G1TS42",1,1,1,1,null,4]
["G1X7A7",1,1,1,1,null,4]
["G2Q5G4",1,1,1,1,null,4]
["G2QYC2",1,1,1,1,null,4]
["G2XJI1",1,1,1,1,null,4]
["G2XQH5",1,1,1,1,null,4]
["G3AER9",1,1,1,1,null,4]
["G3B7R1",1,1,1,1,null,4]
["G3JB92",1,1,1,1,null,4]
["G3PNW0",1,1,1,1,null,4]
["G3SJU0",1,1,2,1,null,5]
["G3SM26",1,1,1,1,null,4]
["G3UCH9",1,1,1,1,null,4]
["G3WP17",1,null,1,1,null,3]
["G3WP18",1,null,1,1,null,3]
["G3XSN7",1,1,1,1,null,4]
["G4NES1",1,1,1,1,null,4]
["G4U2U9",1,1,1,1,null,4]
["G4U8D0",1,1,1,1,null,4]
["G4VPZ3",1,null,null,1,null,2]
["G5C720",1,1,1,2,null,5]
["G6D6T7",1,1,3,1,null,6]
["G7DTR3",1,1,1,1,null,4]
["G7NV22",1,1,1,1,null,4]
["G7X9C7",1,1,1,1,null,4]
["G7YQV3",1,null,2,1,null,4]
["G8BH52",1,1,1,1,null,4]
["G8BY52",1,1,1,1,null,4]
["G8JQE8",1,1,1,1,null,4]
["G8YCT6",1,1,1,1,null,4]
["G8YF87",1,1,1,1,null,4]
["G8ZZ45",1,1,1,1,null,4]
["G9N5P0",1,1,1,1,null,4]
["G9NGJ9",1,1,1,1,null,4]
["H0EHK2",1,1,1,1,null,4]
["H0VJR7",1,1,1,1,null,4]
["H0WSE9",1,1,1,1,null,4]
["H0XMV7",1,1,1,1,null,4]
["H0Z4Q4",1,1,1,1,null,4]
["H1UVW2",1,1,1,1,null,4]
["H2APN0",1,1,1,1,null,4]
["H2LLD2",1,1,1,1,null,4]
["H2N6N7",1,1,1,1,null,4]
["H2PZG8",1,1,1,1,null,4]
["H2U5M9",1,1,1,1,null,4]
["H2U5N0",1,1,1,1,null,4]
["H2W410",1,null,null,1,null,2]
["H2ZLQ6",1,1,1,2,null,5]
["H3AL55",1,1,1,1,null,4]
["H3AL56",1,1,1,1,null,4]
["H3DLB9",1,1,1,1,null,4]
["H3FFD1",1,null,null,1,null,2]
["H3FFD2",null,null,1,1,null,2]
["H6BL98",1,1,1,1,null,4]
["H9JMY5",null,1,1,1,null,3]
["I1C152",1,1,1,1,null,4]
["I1FDE0",1,1,2,2,null,6]
["I1RZ78",1,1,1,1,null,4]
["I2FPU0",1,1,1,1,null,4]
["I2H9G0",1,1,1,1,null,4]
["I2K053",1,null,null,1,null,2]
["I3IZN6",1,1,1,1,null,4]
["J3P6J6",1,1,1,1,null,4]
["J4GPF6",1,1,1,1,null,4]
["J4KPW8",1,1,1,1,null,4]
["J7R876",1,1,1,1,null,4]
["J9E4Y2",null,null,1,1,null,2]
["J9EHP7",1,null,null,1,null,2]
["J9ICV4",1,null,1,1,1,4]
["J9J9U9",null,null,1,1,1,3]
["J9JL61",1,1,1,1,null,4]
["K0KJM8",1,1,1,1,null,4]
["K1PW08",1,1,1,1,null,4]
["K1VYD8",1,1,1,1,null,4]
["K1WXM4",1,1,1,1,null,4]
["K2RJH2",1,1,1,1,null,4]
["K3VP26",1,1,1,1,null,4]
["K5WID5",1,1,1,1,null,4]
["K5XER8",1,1,1,1,null,4]
["K7G8P8",1,1,1,1,null,4]
["K7J9S2",1,1,1,1,null,4]
["K9GPV4",1,1,1,1,null,4]
["L0PG12",1,1,1,1,null,5]
["L2G928",1,1,1,1,null,4]
["L5K396",1,1,2,2,null,6]
["L5LXG2",1,1,1,1,null,4]
["L8FUI4",1,null,1,1,null,3]
["L8X4Q1",1,1,1,2,null,5]
["L8Y2P5",1,1,null,1,null,4]
["M1W1F8",1,1,1,1,null,4]
["M2M3S2",1,1,1,1,null,4]
["M2RJS3",1,1,1,1,null,4]
["M2S4D3",1,1,1,1,null,4]
["M2TWV8",1,1,1,1,null,4]
["M2YK58",1,1,1,1,null,4]
["M3A760",1,1,1,1,null,4]
["M3BU19",1,1,1,1,null,4]
["M3JST8",1,1,1,1,null,4]
["M3X112",1,1,1,1,null,4]
["M3YLH2",1,1,1,1,null,4]
["M3ZFB7",1,1,1,1,null,4]
["M5BPU2",1,1,1,1,null,4]
["M5FZW2",1,1,1,1,null,4]
["M7B7S1",1,null,1,1,null,4]
["M7PC58",1,1,1,1,null,4]
["M7SMT2",1,1,1,1,null,4]
["M7TLI0",1,1,1,1,null,4]
["M7XLS6",1,1,1,1,null,4]
["M9MG38",1,1,1,1,null,4]
["N1J6R0",1,1,1,1,null,4]
["N1RE77",1,1,1,1,null,4]
["N4UG34",1,1,1,1,null,4]
["N4VNG1",1,1,1,1,null,4]
["O62334",1,1,1,1,null,4]
["P35573",1,1,1,1,null,4]
["P35574",1,1,1,1,null,4]
["Q06625",1,1,1,1,null,4]
["Q0CN55",1,1,1,1,null,4]
["Q0UXB3",1,1,1,1,null,4]
["Q16UP5",1,1,1,1,null,4]
["Q291U7",1,1,1,1,null,4]
["Q2HF43",1,1,1,1,null,4]
["Q2PQH8",1,1,1,1,null,4]
["Q2URC4",1,1,1,1,null,4]
["Q4WKK6",1,1,1,1,null,4]
["Q54K94",1,null,1,1,null,3]
["Q59MN2",1,1,1,1,null,4]
["Q5CXJ2",1,null,1,1,1,4]
["Q5KA48",1,1,1,1,null,4]
["Q6BUY8",1,1,1,1,null,4]
["Q6CGI3",1,1,1,1,null,4]
["Q6FSK0",1,1,1,1,null,4]
["Q758N1",1,1,1,1,null,4]
["Q7KVP4",1,1,1,1,null,4]
["Q7PX40",1,1,1,1,null,4]
["Q7SED5",1,1,1,1,null,4]
["Q86BS7",1,1,1,1,null,4]
["Q9W2H8",1,1,1,1,null,4]
["R0I5E7",1,1,1,1,null,4]
["R1ENZ2",1,1,1,1,null,4]
["R4X711",1,1,1,1,null,4]
["R7YY15",1,1,1,1,null,4]
["R8BET4",1,1,1,1,null,4]
["R9PE26",1,1,1,1,null,4]
["S0DU02",1,1,1,1,null,4]
["S2JV67",1,1,1,1,null,4]
["S3BXP7",1,1,1,1,null,4]
["S3CNJ0",1,1,1,1,null,4]
["S6F5Y1",1,1,1,1,null,4]
["S7Q397",1,1,1,1,null,4]
["S7RTJ5",1,1,1,1,null,4]
["S7ZFX6",1,1,1,1,null,4]
["S8AGT1",1,1,1,1,null,4]
["S8FR05",1,1,1,1,null,4]
["S9WDR6",1,1,2,1,null,5]
["T0K3Z4",1,1,1,1,null,4]
["T1EEV2",1,1,1,1,null,4]
["T1GKN8",null,null,1,1,null,2]
["T1HQC3",1,1,1,1,null,4]
["T1J746",1,1,1,1,null,4]
["T1JUG0",1,1,1,1,null,4]
["T1JUL4",3,null,2,1,null,6]
["T5AFY6",1,1,1,1,null,4]
["U1HM11",1,1,1,1,null,4]
["U1MI54",1,null,1,1,null,3]
["U3J1L9",1,null,1,1,null,3]
["U3JI98",1,1,1,1,null,4]
["U4KYJ0",1,1,1,1,null,4]
["U4UE49",1,1,1,1,null,4]
["U5H663",1,1,1,1,null,4]
["U6GUU5",1,null,3,1,null,5]
["U6JZI1",null,null,2,1,null,3]
["U6L804",null,null,null,1,1,2]
["U6LN22",1,null,1,1,null,3]
["U6N4S6",1,null,2,1,1,5]
["U6P8Q5",1,1,1,1,null,4]
["U7PL85",1,1,1,1,null,4]
["U9T0T6",1,1,2,1,null,5]
["V2YXH6",1,1,1,1,null,4]
["V4ALP1",1,1,1,1,null,4]
["V4ZBE9",1,null,1,1,1,4]
["V5E335",1,1,1,1,null,4]
["V5FW38",1,1,1,1,null,4]
["V6LPQ1",1,null,1,1,null,3]
["V6TUL1",2,null,2,2,null,6]
["V8PGB5",1,1,1,1,null,4]
["W1QEP6",1,1,1,1,null,4]
["W2RR45",1,1,1,1,null,4]
["W2THL3",1,null,3,1,null,5]
["W3XM16",1,1,1,1,null,4]
["W4K1A9",1,1,1,1,null,4]
["W4Z8R1",1,1,1,1,null,4]
["W5J8I8",1,1,1,1,null,4]
["W5KD30",2,1,1,1,null,5]
["W5LJR7",1,null,1,1,null,3]
["W5LYQ0",1,1,1,1,null,4]
["W5Q8M3",1,1,1,1,null,4]
["W6MVH6",1,1,1,1,null,4]
["W6PTC3",1,1,1,1,null,4]
["W6V9C7",1,null,1,1,null,3]
["W6YBJ1",1,1,1,1,null,4]
["W7M3J4",1,1,1,1,null,4]
["W7MLL3",1,null,1,1,null,3]
["W7XI56",1,null,1,1,1,4]
["W9CJT9",1,1,1,1,null,4]
["W9W037",1,1,1,1,null,4]
["W9W9T5",1,1,1,1,null,4]
["W9XNU5",1,1,1,1,null,4]
["W9ZPQ4",1,1,1,1,null,4]
["X0CDJ6",1,null,1,1,null,3]
["X0CNT7",1,1,1,1,null,4]
["X0JV77",1,null,1,1,null,3]
["X0JVI1",1,1,1,1,null,4]

{"sheet":"uniprot_tax","index":3,"n_rows":701,"n_cols":6,"rows_kept":701,"cut":false,"hidden":false,"merged":[]}
["Entry","Entry name","Protein names","Gene names","Organism","Length"]
["A0A010QTU3","A0A010QTU3_9PEZI","Glycogen debranching enzyme","CFIO01_00951","Colletotrichum fioriniae PJ7",1568]
["A0A016T824","A0A016T824_9BILA","Uncharacterized protein","Acey_s0125.g1273 Y032_0125g1273","Ancylostoma ceylanicum",1191]
["A0A016T8T2","A0A016T8T2_9BILA","Uncharacterized protein","Acey_s0125.g1273 Y032_0125g1273","Ancylostoma ceylanicum",1119]
["A0A016T905","A0A016T905_9BILA","Uncharacterized protein","Acey_s0125.g1273 Y032_0125g1273","Ancylostoma ceylanicum",1215]
["A0A023AYK6","A0A023AYK6_GRENI","Putative glycogen debranching enzyme (EC 2.4.1.25) (EC 3.2.1.33)","GNI_160390","Gregarina niphandrodes (Septate eugregarine)",1800]
["A0A026W7M0","A0A026W7M0_OOCBI","Glycogen debranching enzyme","X777_09604","Ooceraea biroi (Clonal raider ant) (Cerapachys biroi)",1968]
["A0A044QLY7","A0A044QLY7_ONCVO","Uncharacterized protein",null,"Onchocerca volvulus",1497]
["A0A058Z1Q6","A0A058Z1Q6_9EUKA","Uncharacterized protein","H696_05593","Fonticula alba",2944]
["A0A059JG84","A0A059JG84_9EURO","Glycogen debranching enzyme","H109_01354","Trichophyton interdigitale MR816",1523]
["A0A060SM73","A0A060SM73_PYCCI","Glycoside Hydrolase Family 13 protein","BN946_scf185008.g61","Pycnoporus cinnabarinus (Cinnabar-red polypore) (Trametes cinnabarina)",1597]
["A0A061HK78","A0A061HK78_BLUGR","Glycogen debranching enzyme","BGT96224_4880","Blumeria graminis f. sp. tritici 96224",1558]
["A0A063C724","A0A063C724_9HYPO","Glycogen debranching enzyme","UV8b_2760","Ustilaginoidea virens",1582]
["A0A066VMY2","A0A066VMY2_9HOMO","Uncharacterized protein (Fragment)","RSAG8_06570","Rhizoctonia solani AG-8 WAC10335",1552]
["A0A066VPH2","A0A066VPH2_9BASI","Glycoside hydrolase family 133 protein","K437DRAFT_257543","Tilletiaria anomala UBC 951",1557]
["A0A066XER0","A0A066XER0_COLSU","Putative glycogen debranching enzyme","CSUB01_07772","Colletotrichum sublineola (Sorghum anthracnose fungus)",1568]
["A0A067MEC5","A0A067MEC5_9HOMO","Glycoside hydrolase family 13 protein","BOTBODRAFT_33941","Botryobasidium botryosum FD-172 SS1",1597]
["A0A067NTR2","A0A067NTR2_PLEOS","Glycoside hydrolase family 13 protein","PLEOSDRAFT_61816","Pleurotus ostreatus PC15",1591]
["A0A067Q6F6","A0A067Q6F6_9HOMO","Glycoside hydrolase family 13 protein","JAAARDRAFT_31235","Jaapia argillacea MUCL 33604",1608]
["A0A067R0B7","A0A067R0B7_ZOONE","Glycogen debranching enzyme (Fragment)","L798_10121","Zootermopsis nevadensis (Dampwood termite)",1500]
["A0A067S4G4","A0A067S4G4_GALM3","Uncharacterized protein","GALMADRAFT_81520","Galerina marginata (strain CBS 339.88)",1593]
["A0A068S7K8","A0A068S7K8_9FUNG","Glycoside hydrolase family 13 protein","LCOR_09221.1","Lichtheimia corymbifera JMRC:FSU:9682",1533]
["A0A068S963","A0A068S963_9FUNG","Glycoside hydrolase family 13 protein","LCOR_09221.1","Lichtheimia corymbifera JMRC:FSU:9682",1501]
["A0A068X5G4","A0A068X5G4_HYMMI","Glycogen debranching enzyme","HmN_000003300","Hymenolepis microstoma (Rodent tapeworm) (Rodentolepis microstoma)",1667]
["A0A068Y9Z0","A0A068Y9Z0_ECHMU","Glycogen debranching enzyme",null,"Echinococcus multilocularis (Fox tapeworm)",1565]
["A0A072P3F0","A0A072P3F0_9EURO","Uncharacterized protein","A1O9_10164","Exophiala aquamarina CBS 119918",1553]
["A0A074SCB3","A0A074SCB3_9HOMO","Putative 4-alpha-glucanotransferase/amylo-1,6-glucosidase (Glycogen-debranching enzyme)","V565_007370","Rhizoctonia solani 123E",1609]
["A0A074TF13","A0A074TF13_HAMHA","Amylo-alpha-1,6-glucosidase (EC 2.4.1.25)","HHA_226910","Hammondia hammondi (Parasitic protozoan)",1877]
["A0A074WED3","A0A074WED3_9PEZI","Uncharacterized protein","M437DRAFT_53129","Aureobasidium melanogenum CBS 110374",1541]
["A0A074X1S4","A0A074X1S4_9PEZI","Uncharacterized protein","M436DRAFT_79254","Aureobasidium namibiae CBS 147.97",1541]
["A0A074Y8R4","A0A074Y8R4_9PEZI","Glycoside hydrolase family 13 protein","AUEXF2481DRAFT_43190","Aureobasidium subglaciale EXF-2481",1541]
["A0A074YD67","A0A074YD67_AURPU","Uncharacterized protein","M438DRAFT_345030","Aureobasidium pullulans EXF-150",1541]
["A0A075A357","A0A075A357_9TREM","Uncharacterized protein","T265_15000","Opisthorchis viverrini",1693]
["A0A075AYU9","A0A075AYU9_9FUNG","Glycoside hydrolase, catalytic domain-containing protein (EC 2.4.1.25)","O9G_005282","Rozella allomycis CSF55",1618]
["A0A077YY88","A0A077YY88_TRITR","Glycogen debranching enzyme","TTRE_0000101301","Trichuris trichiura (Whipworm) (Trichocephalus trichiurus)",1583]
["A0A077Z661","A0A077Z661_TRITR","Glycogen debranching enzyme","TTRE_0000425101","Trichuris trichiura (Whipworm) (Trichocephalus trichiurus)",1538]
["A0A078A3A7","A0A078A3A7_STYLE","Glycogen debranching enzyme","Contig7149.g7657 STYLEM_5613","Stylonychia lemnae (Ciliate)",1661]
["A0A078AI91","A0A078AI91_STYLE","Glycogen debranching enzyme","Contig15764.g16801 STYLEM_10239","Stylonychia lemnae (Ciliate)",816]
["A0A081CN43","A0A081CN43_PSEA2","Glycoside hydrolase family 13 protein","PAN0_038d6322","Pseudozyma antarctica (Yeast) (Candida antarctica)",1628]
["A0A084GGA7","A0A084GGA7_9PEZI","Glycogen debranching enzyme","SAPIO_CDS0680","Scedosporium apiospermum",1566]
["A0A084QI67","A0A084QI67_STAC4","Uncharacterized protein","S40285_03182","Stachybotrys chlorohalonata (strain IBT 40285)",1563]
["A0A084W0C3","A0A084W0C3_ANOSI","AGAP001200-PA-like protein","ZHAS_00011394","Anopheles sinensis (Mosquito)",1558]
["A0A085NDC7","A0A085NDC7_9BILA","Uncharacterized protein","M514_20314","Trichuris suis (pig whipworm)",1627]
["A0A085NML0","A0A085NML0_9BILA","Uncharacterized protein (Fragment)","M514_06054","Trichuris suis (pig whipworm)",1716]
["A0A086THF9","A0A086THF9_ACRC1","Glycogen debranching enzyme-like protein","ACRE_003340","Acremonium chrysogenum (strain ATCC 11550 / CBS 779.69 / DSM 880 / JCM 23072 / IMI 49137)",1561]
["A0A087QMK8","A0A087QMK8_APTFO","Glycogen debranching enzyme (Fragment)","AS27_06075","Aptenodytes forsteri (Emperor penguin)",1504]
["A0A087U9R3","A0A087U9R3_9ARAC","Uncharacterized protein (Fragment)","X975_07212","Stegodyphus mimosarum",74]
["A0A087U9R4","A0A087U9R4_9ARAC","Glycogen debranching enzyme (Fragment)","X975_07213","Stegodyphus mimosarum",152]
["A0A087X458","A0A087X458_POEFO","Ring finger protein 2",null,"Poecilia formosa (Amazon molly) (Limia formosa)",1534]
["A0A088ALS8","A0A088ALS8_APIME","Uncharacterized protein","LOC411488","Apis mellifera (Honeybee)",1556]
["A0A090L6T4","A0A090L6T4_STRRB","Uncharacterized protein","SRAE_1000208100","Strongyloides ratti (Parasitic roundworm)",1486]
["A0A091D443","A0A091D443_FUKDA","Glycogen debranching enzyme","H920_11701","Fukomys damarensis (Damaraland mole rat) (Cryptomys damarensis)",1351]
["A0A091EIV1","A0A091EIV1_CORBR","Glycogen debranching enzyme","N302_00617","Corvus brachyrhynchos (American crow)",1517]
["A0A091G6W5","A0A091G6W5_9AVES","Glycogen debranching enzyme (Fragment)","N303_13320","Cuculus canorus (common cuckoo)",1502]
["A0A091GQE9","A0A091GQE9_BUCRH","Glycogen debranching enzyme (Fragment)","N320_08215","Buceros rhinoceros silvestris",1504]
["A0A091HRX4","A0A091HRX4_CALAN","Glycogen debranching enzyme (Fragment)","N300_00907","Calypte anna (Anna's hummingbird) (Archilochus anna)",1512]
["A0A091KHC9","A0A091KHC9_EGRGA","Glycogen debranching enzyme (Fragment)","Z169_02311","Egretta garzetta (Little egret)",1504]
["A0A091KUT8","A0A091KUT8_9GRUI","Glycogen debranching enzyme (Fragment)","N324_06203","Chlamydotis macqueenii (Macqueen's bustard)",1504]
["A0A091LLM9","A0A091LLM9_CATAU","Glycogen debranching enzyme (Fragment)","N323_10930","Cathartes aura (Turkey vulture) (Vultur aura)",1504]
["A0A091MDQ5","A0A091MDQ5_CARIC","Glycogen debranching enzyme (Fragment)","N322_05226","Cariama cristata (Red-legged seriema)",1504]
["A0A091NKW9","A0A091NKW9_APAVI","Glycogen debranching enzyme (Fragment)","N311_08611","Apaloderma vittatum (Bar-tailed trogon)",1504]
["A0A091P1S7","A0A091P1S7_HALAL","Glycogen debranching enzyme (Fragment)","N329_10863","Haliaeetus albicilla (White-tailed sea-eagle)",1504]
["A0A091QG56","A0A091QG56_MERNU","Glycogen debranching enzyme (Fragment)","N331_08060","Merops nubicus (Northern carmine bee-eater)",1504]
["A0A091RCN7","A0A091RCN7_9GRUI","Glycogen debranching enzyme (Fragment)","N332_06966","Mesitornis unicolor (brown roatelo)",910]
["A0A091T2P6","A0A091T2P6_NESNO","Glycogen debranching enzyme (Fragment)","N333_03744","Nestor notabilis (Kea)",866]
["A0A091TI76","A0A091TI76_PHALP","Glycogen debranching enzyme (Fragment)","N335_08510","Phaethon lepturus (White-tailed tropicbird)",1504]
["A0A091TXK1","A0A091TXK1_9AVES","Glycogen debranching enzyme (Fragment)","N334_11078","Pelecanus crispus (Dalmatian pelican)",954]
["A0A091UFK0","A0A091UFK0_PHORB","Glycogen debranching enzyme (Fragment)","N337_11390","Phoenicopterus ruber ruber",1504]
["A0A091VAU0","A0A091VAU0_NIPNI","Glycogen debranching enzyme (Fragment)","Y956_14057","Nipponia nippon (Crested ibis) (Ibis nippon)",1504]
["A0A091XK00","A0A091XK00_OPIHO","Glycogen debranching enzyme","N306_02923","Opisthocomus hoazin (Hoatzin) (Phasianus hoazin)",1534]
["A0A093CNC6","A0A093CNC6_TAUER","Glycogen debranching enzyme (Fragment)","N340_03069","Tauraco erythrolophus (Red-crested turaco)",1504]
["A0A093CQ14","A0A093CQ14_9AVES","Glycogen debranching enzyme (Fragment)","N339_04077","Pterocles gutturalis (yellow-throated sandgrouse)",1504]
["A0A093EJE1","A0A093EJE1_TYTAL","Glycogen debranching enzyme (Fragment)","N341_04673","Tyto alba (Barn owl)",1499]
["A0A093H545","A0A093H545_DRYPU","Glycogen debranching enzyme (Fragment)","N307_09056","Dryobates pubescens (Downy woodpecker) (Picoides pubescens)",1502]
["A0A093J624","A0A093J624_EURHL","Glycogen debranching enzyme (Fragment)","N326_08245","Eurypyga helias (Sunbittern)",1502]
["A0A093LME3","A0A093LME3_FULGA","Glycogen debranching enzyme (Fragment)","N327_08251","Fulmarus glacialis (Northern fulmar)",1504]
["A0A093PRZ8","A0A093PRZ8_9PASS","Glycogen debranching enzyme","N305_02670","Manacus vitellinus (golden-collared manakin)",1533]
["A0A093Y8C9","A0A093Y8C9_9PEZI","Uncharacterized protein","O988_02817","Pseudogymnoascus sp. VKM F-3808",1539]
["A0A093Y8Z0","A0A093Y8Z0_9PEZI","Uncharacterized protein","V490_03879","Pseudogymnoascus sp. VKM F-3557",1539]
["A0A093ZDG4","A0A093ZDG4_9PEZI","Uncharacterized protein","V492_02061","Pseudogymnoascus sp. VKM F-4246",1538]
["A0A094A6U6","A0A094A6U6_9PEZI","Uncharacterized protein","V493_04846","Pseudogymnoascus sp. VKM F-4281 (FW-2241)",1544]
["A0A094AGV0","A0A094AGV0_9PEZI","Uncharacterized protein","V491_02821","Pseudogymnoascus sp. VKM F-3775",1533]
["A0A094BZU4","A0A094BZU4_9PEZI","Uncharacterized protein","V494_01125","Pseudogymnoascus sp. VKM F-4513 (FW-928)",1538]
["A0A094CBT3","A0A094CBT3_9PEZI","Uncharacterized protein","V496_08805","Pseudogymnoascus sp. VKM F-4515 (FW-2607)",1539]
["A0A094DFK1","A0A094DFK1_9PEZI","Uncharacterized protein","V497_01475","Pseudogymnoascus sp. VKM F-4516 (FW-969)",1539]
["A0A094EPV8","A0A094EPV8_9PEZI","Uncharacterized protein","V499_00389","Pseudogymnoascus sp. VKM F-103",1538]
["A0A094FZP8","A0A094FZP8_9PEZI","Uncharacterized protein","V500_02514","Pseudogymnoascus sp. VKM F-4518 (FW-2643)",1544]
["A0A094GBR2","A0A094GBR2_9PEZI","Uncharacterized protein","V498_04383","Pseudogymnoascus sp. VKM F-4517 (FW-2822)",1539]
["A0A094H8A7","A0A094H8A7_9PEZI","Uncharacterized protein","V502_07483","Pseudogymnoascus sp. VKM F-4520 (FW-2644)",1544]
["A0A094JA99","A0A094JA99_9PEZI","Uncharacterized protein","V501_07947","Pseudogymnoascus sp. VKM F-4519 (FW-2642)",1538]
["A0A094ZFT4","A0A094ZFT4_SCHHA","Glycogen debranching enzyme (Fragment)","MS3_00794","Schistosoma haematobium (Blood fluke)",1588]
["A0A095DHE2","A0A095DHE2_CRYGR","Glycogen debranching enzyme","CNBG_5807","Cryptococcus gattii serotype B (strain R265) (Filobasidiella gattii) (Cryptococcus bacillisporus)",1593]
["A0A096N6Q6","A0A096N6Q6_PAPAN","Amylo-alpha-1, 6-glucosidase, 4-alpha-glucanotransferase","AGL","Papio anubis (Olive baboon)",1498]
["A0A099P130","A0A099P130_PICKU","Uncharacterized protein","JL09_g2179","Pichia kudriavzevii (Yeast) (Issatchenkia orientalis)",1535]
["A0A0A0AG33","A0A0A0AG33_CHAVO","Glycogen debranching enzyme","N301_03497","Charadrius vociferus (Killdeer) (Aegialitis vocifera)",1531]
["A0A0A1NX13","A0A0A1NX13_9FUNG","Putative Glycogen debranching enzyme","RMCBS344292_11299","Rhizopus microsporus",764]
["A0A0A1P236","A0A0A1P236_9FUNG","Putative Glycogen debranching enzyme","RMCBS344292_17134","Rhizopus microsporus",764]
["A0A0A1TRF2","A0A0A1TRF2_9HYPO","Putative Glycogen debranching enzyme","VHEMI09394","Torrubiella hemipterigena",1553]
["A0A0A1U014","A0A0A1U014_ENTIV","Glycogen debranching enzyme, putative (EC 3.2.1.33)","EIN_064680","Entamoeba invadens IP1",1426]
["A0A0A1UPQ1","A0A0A1UPQ1_9HYPO","Glycogen debranching enzyme","X797_010099","Metarhizium robertsii",1541]
["A0A0A2IUN1","A0A0A2IUN1_PENEN","Glycogen debranching enzyme, metazoa","PEX2_018170","Penicillium expansum (Blue mold rot fungus)",1534]
["A0A0A2LCV9","A0A0A2LCV9_PENIT","Glycogen debranching enzyme, metazoa","PITC_009990","Penicillium italicum (Blue mold)",1534]
["A0A0A2UZZ1","A0A0A2UZZ1_PARBA","Glycogen debranching enzyme","PAAG_12154","Paracoccidioides lutzii (strain ATCC MYA-826 / Pb01) (Paracoccidioides brasiliensis)",1455]
["A0A0A2VHZ6","A0A0A2VHZ6_BEABA","Glycogen debranching enzyme","BBAD15_g7513","Beauveria bassiana D1-5",1545]
["A0A0A8L004","A0A0A8L004_9SACH","WGS project CCBQ000000000 data, contig 00016","KLDO_g491","Kluyveromyces dobzhanskii CBS 2104",1522]
["A0A0B1P1J1","A0A0B1P1J1_UNCNE","Putative glycogen debranching enzyme","EV44_g1323","Uncinula necator (Grape powdery mildew)",1555]
["A0A0B1TUK7","A0A0B1TUK7_OESDE","Putative glycogen debranching enzyme","OESDEN_00883","Oesophagostomum dentatum (Nodular worm)",690]
["A0A0B2V6Z8","A0A0B2V6Z8_TOXCA","Glycogen debranching enzyme","AGL Tcan_11884","Toxocara canis (Canine roundworm)",1096]
["A0A0B2VE34","A0A0B2VE34_TOXCA","Glycogen debranching enzyme","AGL Tcan_11907","Toxocara canis (Canine roundworm)",575]
["A0A0B2WZE8","A0A0B2WZE8_9HYPO","Glycogen debranching enzyme","MAM_03416","Metarhizium album ARSEF 1941",1555]
["A0A0B4GUX9","A0A0B4GUX9_9HYPO","Glycogen debranching enzyme","MGU_06275","Metarhizium guizhouense ARSEF 977",1551]
["A0A0B7N845","A0A0B7N845_9FUNG","Uncharacterized protein","PARPA_04966.1 scaffold 15694","Parasitella parasitica",1521]
["A0A0B8N525","A0A0B8N525_9EURO","Gdb1 homolog","TCE0_047f17963","Talaromyces cellulolyticus",1524]
["A0A0C2GKR7","A0A0C2GKR7_9BILA","Uncharacterized protein","ANCDUO_07921","Ancylostoma duodenale",105]
["A0A0C2M3A6","A0A0C2M3A6_THEKT","Glycogen debranching enzyme","RF11_10480","Thelohanellus kitauei (Myxosporean)",188]
["A0A0C2MJT8","A0A0C2MJT8_THEKT","Glycogen debranching enzyme","RF11_05119","Thelohanellus kitauei (Myxosporean)",234]
["A0A0C2X5E2","A0A0C2X5E2_AMAMU","Glycoside hydrolase family 133 protein","M378DRAFT_99094","Amanita muscaria Koide BX008",1598]
["A0A0C2YVD8","A0A0C2YVD8_HEBCY","Glycoside hydrolase family 133 protein","M413DRAFT_442943","Hebeloma cylindrosporum h7",1594]
["A0A0C3ACH9","A0A0C3ACH9_9HOMO","Glycoside hydrolase family 13 protein","SCLCIDRAFT_119216","Scleroderma citrinum Foug A",939]
["A0A0C3BSZ1","A0A0C3BSZ1_9HOMO","Glycoside hydrolase family 13 protein","M408DRAFT_13962","Serendipita vermifera MAFF 305830",1595]
["A0A0C3FWV3","A0A0C3FWV3_9HOMO","Glycoside hydrolase family 13 protein","PILCRDRAFT_7468","Piloderma croceum F 1598",1583]
["A0A0C3HLL3","A0A0C3HLL3_9PEZI","Glycoside hydrolase family 13 protein","OIDMADRAFT_158893","Oidiodendron maius Zn",1551]
["A0A0C3L9K1","A0A0C3L9K1_9HOMO","Glycoside hydrolase family 13 protein","M407DRAFT_20303","Tulasnella calospora MUT 4182",1609]
["A0A0C3PQW6","A0A0C3PQW6_PISTI","Glycoside hydrolase family 13 protein","M404DRAFT_995370","Pisolithus tinctorius Marx 270",1596]
["A0A0C3SDX7","A0A0C3SDX7_PHLGI","Glycoside hydrolase family 13 protein","PHLGIDRAFT_500548","Phlebiopsis gigantea 11061_1 CR5-6",1590]
["A0A0C4EF57","A0A0C4EF57_MAGP6","Glycogen debranching enzyme","MAPG_11391","Magnaporthiopsis poae (strain ATCC 64411 / 73-15) (Kentucky bluegrass fungus) (Magnaporthe poae)",1577]
["A0A0C7N3C4","A0A0C7N3C4_9SACH","LALA0S13e00298g1_1","LALA0_S13e00298g","Lachancea lanzarotensis",1521]
["A0A0C9LWN1","A0A0C9LWN1_9FUNG","Glycoside hydrolase family 13 protein","MAM1_0225d08332","Mucor ambiguus",1500]
["A0A0C9WFV0","A0A0C9WFV0_9HOMO","Unplaced genomic scaffold scaffold_10, whole genome shotgun sequence","HYDPIDRAFT_89329","Hydnomerulius pinastri MD-312",1596]
["A0A0C9X698","A0A0C9X698_9AGAR","Unplaced genomic scaffold K443scaffold_10, whole genome shotgun sequence","K443DRAFT_672986","Laccaria amethystina LaAM-08-1",1596]
["A0A0C9Z1J0","A0A0C9Z1J0_9HOMO","Unplaced genomic scaffold scaffold_87, whole genome shotgun sequence","PISMIDRAFT_13203","Pisolithus microcarpus 441",1594]
["A0A0D0A959","A0A0D0A959_9HOMO","Unplaced genomic scaffold CY34scaffold_270, whole genome shotgun sequence","CY34DRAFT_809506","Suillus luteus UH-Slu-Lm8-n1",1601]
["A0A0D0CW47","A0A0D0CW47_9AGAR","Unplaced genomic scaffold GYMLUscaffold_27, whole genome shotgun sequence","GYMLUDRAFT_43604","Gymnopus luxurians FD-317 M1",1593]
["A0A0D0ECG9","A0A0D0ECG9_9HOMO","Unplaced genomic scaffold scaffold_40, whole genome shotgun sequence","PAXRUDRAFT_822829","Paxillus rubicundulus Ve08.2h10",1593]
["A0A0D1DW40","A0A0D1DW40_USTMA","Putative 4-alpha-glucanotransferase / amylo-1,6-glucosidase (Glycogen-debranching enzyme)","UMAG_03949","Ustilago maydis (strain 521 / FGSC 9021) (Corn smut fungus)",1568]
["A0A0D1Y1X4","A0A0D1Y1X4_9EURO","Glycogen debranching enzyme","PV10_02264","Exophiala mesophila",1552]
["A0A0D1YTW6","A0A0D1YTW6_9EURO","Glycogen debranching enzyme","PV11_10063","Exophiala sideris",1551]
["A0A0D1ZYM2","A0A0D1ZYM2_9EURO","Glycogen debranching enzyme","PV08_04962","Exophiala spinifera",1554]
["A0A0D2A5A0","A0A0D2A5A0_9PEZI","Glycogen debranching enzyme","PV09_06883","Verruconis gallopava",1562]
["A0A0D2AR99","A0A0D2AR99_9EURO","Glycogen debranching enzyme, variant","PV06_05996","Exophiala oligosperma",1537]
["A0A0D2CKN8","A0A0D2CKN8_9EURO","Glycogen debranching enzyme","PV07_06348","Cladophialophora immunda",1561]
["A0A0D2DJ28","A0A0D2DJ28_9EURO","Glycogen debranching enzyme","PV06_05996","Exophiala oligosperma",1554]
["A0A0D2E8D8","A0A0D2E8D8_9EURO","Glycogen debranching enzyme","PV05_09732","Exophiala xenobiotica",1554]
["A0A0D2G1H9","A0A0D2G1H9_9EURO","Glycogen debranching enzyme","PV04_00803","Phialophora americana",1552]
["A0A0D2HJE3","A0A0D2HJE3_9EURO","Unplaced genomic scaffold supercont1.2, whole genome shotgun sequence","Z517_03799","Fonsecaea pedrosoi CBS 271.37",1917]
["A0A0D2I322","A0A0D2I322_9EURO","Rhinocladiella mackenziei CBS 650.93 unplaced genomic scaffold supercont1.9, whole genome shotgun sequence","Z518_10317","Rhinocladiella mackenziei CBS 650.93",1534]
["A0A0D2KAA1","A0A0D2KAA1_9EURO","Uncharacterized protein","Z520_10976","Fonsecaea multimorphosa CBS 102226",1538]
["A0A0D2NY00","A0A0D2NY00_9AGAR","Glycoside hydrolase family 133 protein","HYPSUDRAFT_137693","Hypholoma sublateritium FD-334 SS-4",1591]
["A0A0D2X4G8","A0A0D2X4G8_CAPO3","Glycogen debranching enzyme","CAOG_006406","Capsaspora owczarzaki (strain ATCC 30864)",1949]
["A0A0D2XWJ8","A0A0D2XWJ8_FUSO4","Uncharacterized protein","FOXG_08364","Fusarium oxysporum f. sp. lycopersici (strain 4287 / CBS 123668 / FGSC 9935 / NRRL 34936) (Fusarium vascular wilt of tomato)",1556]
["A0A0D7AM24","A0A0D7AM24_9AGAR","Glycoside hydrolase family 13 protein","FISHEDRAFT_34733","Fistulina hepatica ATCC 64428",1585]
["A0A0D7BL27","A0A0D7BL27_9AGAR","Glycoside hydrolase family 133 protein","CYLTODRAFT_347872","Cylindrobasidium torrendii FP15055 ss-10",1575]
["A0A0D8Y173","A0A0D8Y173_DICVI","Glycogen debranching enzyme","DICVIV_04124","Dictyocaulus viviparus (Bovine lungworm)",1440]
["A0A0D9N9Z1","A0A0D9N9Z1_ASPFA","Glucanotransferase domain of glycogen debranching enzyme","P034_00644722","Aspergillus flavus (strain ATCC MYA-384 / AF70)",1518]
["A0A0D9S6N5","A0A0D9S6N5_CHLSB","Amylo-alpha-1, 6-glucosidase, 4-alpha-glucanotransferase","AGL","Chlorocebus sabaeus (Green monkey) (Cercopithecus sabaeus)",1532]
["A0A0E1RUZ2","A0A0E1RUZ2_COCIM","Glycogen debranching enzyme","CIMG_09981","Coccidioides immitis (strain RS) (Valley fever fungus)",1605]
["A0A0E9NAY6","A0A0E9NAY6_9ASCO","Uncharacterized protein","G7K_1255-t1","Saitoella complicata NRRL Y-17804",1594]
["A0A0F0I5P1","A0A0F0I5P1_ASPPU","Amylo-alpha-16-glucosidase: glycogen debranching enzyme","P875_00034041","Aspergillus parasiticus (strain ATCC 56775 / NRRL 5862 / SRRC 143 / SU-1)",1518]
["A0A0F4GBS7","A0A0F4GBS7_9PEZI","Glycogen debranching enzyme like protein","TI39_contig4154g00026","Zymoseptoria brevis",1549]
["A0A0F4YRT6","A0A0F4YRT6_TALEM","4-alpha-glucanotransferase (EC 2.4.1.25)","T310_5013","Rasamsonia emersonii CBS 393.64",1543]
["A0A0F4ZGE2","A0A0F4ZGE2_9PEZI","Uncharacterized protein","TD95_002816","Thielaviopsis punctulata",1571]
["A0A0F7TMN7","A0A0F7TMN7_9EURO","Putative Alpha amylase","PMG11_02890","Penicillium brasilianum",1531]
["A0A0F8A3N1","A0A0F8A3N1_9HYPO","Uncharacterized protein","HIM_08492","Hirsutella minnesotensis 3608",1565]
["A0A0F8B4S6","A0A0F8B4S6_CERFI","Amylo-alpha-1 6-glucosidase (EC 3.2.1.33)","GDB1 CFO_g705","Ceratocystis fimbriata f. sp. platani",1363]
["A0A0F8UGN8","A0A0F8UGN8_9EURO","Glycogen debranching enzyme","ARAM_001207","Aspergillus rambellii",1537]
["A0A0F9X9B6","A0A0F9X9B6_TRIHA","Uncharacterized protein","THAR02_06801","Trichoderma harzianum (Hypocrea lixii)",1557]
["A0A0G2E4D9","A0A0G2E4D9_9PEZI","Glycogen debranching enzyme (Putative glycogen debranching enzyme)","BK809_0002354 UCDDS831_g06197","Diplodia seriata",1545]
["A0A0G2F9N9","A0A0G2F9N9_9PEZI","Putative glycogen debranching enzyme","UCDDA912_g09165","Diaporthe ampelina",1556]
["A0A0G2FU03","A0A0G2FU03_9EURO","Putative glycogen debranching enzyme","UCRPC4_g06377","Phaeomoniella chlamydospora",1920]
["A0A0G2I3T6","A0A0G2I3T6_9EURO","Alpha amylase","EMCG_01298","Emmonsia crescens UAMH 3008",1573]
["A0A0G2JGI9","A0A0G2JGI9_MOUSE","Amylo-1,6-glucosidase, 4-alpha-glucanotransferase","Agl","Mus musculus (Mouse)",1279]
["A0A0G4G102","A0A0G4G102_VITBC","Uncharacterized protein","Vbra_16712","Vitrella brassicaformis (strain CCMP3155)",1743]
["A0A0G4KZD0","A0A0G4KZD0_9PEZI","Uncharacterized protein (Fragment)","BN1708_017354","Verticillium longisporum",162]
["A0A0G4LQK9","A0A0G4LQK9_9PEZI","Uncharacterized protein","BN1708_013912","Verticillium longisporum",1548]
["A0A0G4MAL6","A0A0G4MAL6_9PEZI","Uncharacterized protein","BN1708_005395","Verticillium longisporum",1525]
["A0A0G4NW80","A0A0G4NW80_PENCA","Amylo-alpha-1,6-glucosidase","PCAMFM013_S002g000193","Penicillium camemberti FM 013",1534]
["A0A0H1B6U3","A0A0H1B6U3_9EURO","Uncharacterized protein","EMPG_17339","Emmonsia parva UAMH 139",1579]
["A0A0H2RII2","A0A0H2RII2_9HOMO","Glycoside hydrolase family 13 protein","SCHPADRAFT_905858","Schizopora paradoxa",1619]
["A0A0H5C1A1","A0A0H5C1A1_CYBJA","Uncharacterized protein","BN1211_1250","Cyberlindnera jadinii (Torula yeast) (Pichia jadinii)",798]
["A0A0J0XP15","A0A0J0XP15_9TREE","Putative glycogen debranching enzyme","CC85DRAFT_76549","Cutaneotrichosporon oleaginosum",1602]
["A0A0J7BGE2","A0A0J7BGE2_COCIT","Glycogen debranching enzyme","CIRG_09497","Coccidioides immitis RMSCC 2394",1512]
["A0A0J7NAZ8","A0A0J7NAZ8_LASNI","Glycogen debranching enzyme","RF55_10553","Lasius niger (Black garden ant)",946]
["A0A0J8TWI9","A0A0J8TWI9_COCIT","Glycogen debranching enzyme","CISG_06445","Coccidioides immitis RMSCC 3703",1605]
["A0A0J9V7A0","A0A0J9V7A0_FUSO4","Uncharacterized protein","FOXG_08364","Fusarium oxysporum f. sp. lycopersici (strain 4287 / CBS 123668 / FGSC 9935 / NRRL 34936) (Fusarium vascular wilt of tomato)",1396]
["A0A0K0E803","A0A0K0E803_STRER","Uncharacterized protein",null,"Strongyloides stercoralis (Threadworm)",1474]
["A0A0K0FGL4","A0A0K0FGL4_9BILA","Uncharacterized protein",null,"Strongyloides venezuelensis",1476]
["A0A0K6GIF6","A0A0K6GIF6_9HOMO","4-alpha-glucanotransferase","RSOLAG22IIIB_02772","Rhizoctonia solani",1609]
["A0A0K8LPV6","A0A0K8LPV6_9EURO","Glycogen debranching enzyme","AUD_8928","Aspergillus udagawae",2382]
["A0A0L0BUP1","A0A0L0BUP1_LUCCU","Uncharacterized protein","FF38_06033","Lucilia cuprina (Green bottle fly) (Australian sheep blowfly)",1322]
["A0A0L0D597","A0A0L0D597_THETB","Uncharacterized protein","AMSG_02577","Thecamonas trahens ATCC 50062",1413]
["A0A0L0FY95","A0A0L0FY95_9EUKA","Uncharacterized protein (Fragment)","SARC_05895","Sphaeroforma arctica JP610",897]
["A0A0L0HGW7","A0A0L0HGW7_SPIPN","Glycogen debranching enzyme","SPPG_04682","Spizellomyces punctatus DAOM BR117",1741]
["A0A0L0N7E7","A0A0L0N7E7_9HYPO","Glycogen debranching enzyme","TOPH_05380","Tolypocladium ophioglossoides CBS 100239",1560]
["A0A0L0P4J2","A0A0L0P4J2_CANAR","Uncharacterized protein","QG37_02109","Candida auris (Yeast)",1514]
["A0A0L0TEU8","A0A0L0TEU8_ALLMA","Glycogen debranching enzyme","AMAG_17373","Allomyces macrogynus ATCC 38327",1651]
["A0A0L0TF30","A0A0L0TF30_ALLMA","Glycogen debranching enzyme","AMAG_17388","Allomyces macrogynus ATCC 38327",1402]
["A0A0L0VQ97","A0A0L0VQ97_9BASI","Uncharacterized protein","PSTG_05529","Puccinia striiformis f. sp. tritici PST-78",1628]
["A0A0L1HSN2","A0A0L1HSN2_9PLEO","Glycoside hydrolase family 13 protein (EC 2.4.1.25) (EC 3.2.1.33)","TW65_04063","Stemphylium lycopersici",2266]
["A0A0L1J5G2","A0A0L1J5G2_ASPNO","Uncharacterized protein","ANOM_004487","Aspergillus nomius NRRL 13137",2214]
["A0A0L6UGP3","A0A0L6UGP3_9BASI","Amylo-1,6-glucosidase","VP01_61g4","Puccinia sorghi",1642]
["A0A0L6WZ71","A0A0L6WZ71_9AGAR","Glycogen debranching enzyme","J132_04800","Termitomyces sp. J132",1871]
["A0A0L7QQA0","A0A0L7QQA0_9HYME","Glycogen debranching enzyme","WH47_05591","Habropoda laboriosa",1970]
["A0A0L8G6V0","A0A0L8G6V0_OCTBM","Uncharacterized protein","OCBIM_22039273mg","Octopus bimaculoides (California two-spotted octopus)",1407]
["A0A0L9T245","A0A0L9T245_9HYPO","Deleted."]
["A0A0M8N0M3","A0A0M8N0M3_9HYPO","Glycogen debranching enzyme","ESCO_004469","Escovopsis weberi",1557]
["A0A0M9A074","A0A0M9A074_9HYME","Glycogen debranching enzyme","WN51_00470","Melipona quadrifasciata",1877]
["A0A0M9EXZ4","A0A0M9EXZ4_FUSLA","Glycogen debranching enzyme","FLAG1_04892","Fusarium langsethiae",1553]
["A0A0M9WGZ0","A0A0M9WGZ0_9EURO","Uncharacterized protein","ACN38_g4587","Penicillium nordicum",1535]
["A0A0N0NS63","A0A0N0NS63_9EURO","Glycogen debranching enzyme","AB675_800","Phialophora attae",1538]
["A0A0N4T439","A0A0N4T439_BRUPA","Uncharacterized protein",null,"Brugia pahangi (Filarial nematode worm)",827]
["A0A0N4UM20","A0A0N4UM20_DRAME","Uncharacterized protein",null,"Dracunculus medinensis (Guinea worm)",1467]
["A0A0N4VFZ0","A0A0N4VFZ0_ENTVE","Uncharacterized protein",null,"Enterobius vermicularis (Human pinworm)",1464]
["A0A0N4VVA2","A0A0N4VVA2_HAEPC","Uncharacterized protein",null,"Haemonchus placei (Barber's pole worm)",194]
["A0A0N4VY25","A0A0N4VY25_HAEPC","Uncharacterized protein",null,"Haemonchus placei (Barber's pole worm)",210]
["A0A0N4ZYY6","A0A0N4ZYY6_PARTI","Uncharacterized protein",null,"Parastrongyloides trichosuri (Possum-specific nematode worm)",1476]
["A0A0N5AQW6","A0A0N5AQW6_9BILA","Uncharacterized protein",null,"Syphacia muris",1457]
["A0A0N5CB21","A0A0N5CB21_STREA","Uncharacterized protein",null,"Strongyloides papillosus (Intestinal threadworm)",1476]
["A0A0N5CNJ6","A0A0N5CNJ6_THECL","Uncharacterized protein",null,"Thelazia callipaeda (Oriental eyeworm) (Parasitic nematode)",1448]
["A0A0N5DQX3","A0A0N5DQX3_TRIMR","Uncharacterized protein",null,"Trichuris muris (Mouse whipworm)",1777]
["A0A0N5E2Y0","A0A0N5E2Y0_TRIMR","Uncharacterized protein",null,"Trichuris muris (Mouse whipworm)",1663]
["A0A0P1BQ20","A0A0P1BQ20_9BASI","Glycoside hydrolase family 13 protein",null,"Ceraceosorus bombacis",1601]
["A0A0P7BVC3","A0A0P7BVC3_9HYPO","Glycogen debranching enzyme","AK830_g1231","Neonectria ditissima",1553]
["A0A0P7USB6","A0A0P7USB6_9TELE","Glycogen debranching enzyme-like (Fragment)","Z043_103261","Scleropages formosus (Asian bonytongue)",1158]
["A0A0P8XMZ1","A0A0P8XMZ1_DROAN","Uncharacterized protein, isoform B (EC 2.4.1.25) (EC 3.2.1.33)","Dana\\GF12811 Dana_GF12811 GF12811","Drosophila ananassae (Fruit fly)",1546]
["A0A0P9AD98","A0A0P9AD98_DROAN","Uncharacterized protein, isoform C (EC 2.4.1.25) (EC 3.2.1.33)","Dana\\GF12811 Dana_GF12811 GF12811","Drosophila ananassae (Fruit fly)",1539]
["A0A0Q3LTJ5","A0A0Q3LTJ5_AMAAE","Glycogen debranching enzyme","AAES_164704","Amazona aestiva (Blue-fronted Amazon parrot)",1530]
["A0A0Q9W6A7","A0A0Q9W6A7_DROVI","Uncharacterized protein, isoform D (EC 2.4.1.25) (EC 3.2.1.33)","Dvir\\GJ19969 Dvir_GJ19969 GJ19969","Drosophila virilis (Fruit fly)",1572]
["A0A0Q9WH87","A0A0Q9WH87_DROVI","Uncharacterized protein, isoform B (Uncharacterized protein, isoform C) (EC 2.4.1.25) (EC 3.2.1.33) (Uncharacterized protein, isoform E)","Dvir\\GJ19969 Dvir_GJ19969 GJ19969","Drosophila virilis (Fruit fly)",1538]
["A0A0Q9X8G5","A0A0Q9X8G5_DROMO","Uncharacterized protein, isoform D (EC 2.4.1.25) (EC 3.2.1.33)","Dmoj\\GI19003 Dmoj_GI19003 GI19003","Drosophila mojavensis (Fruit fly)",1601]
["A0A0Q9X9A0","A0A0Q9X9A0_DROMO","Uncharacterized protein, isoform B (Uncharacterized protein, isoform C) (EC 2.4.1.25) (EC 3.2.1.33) (Uncharacterized protein, isoform E)","Dmoj\\GI19003 Dmoj_GI19003 GI19003","Drosophila mojavensis (Fruit fly)",1538]
["A0A0Q9XL69","A0A0Q9XL69_DROMO","Uncharacterized protein, isoform F (EC 2.4.1.25) (EC 3.2.1.33)","Dmoj\\GI19003 Dmoj_GI19003 GI19003","Drosophila mojavensis (Fruit fly)",1580]
["A0A0R3NSL8","A0A0R3NSL8_DROPS","Uncharacterized protein, isoform C (EC 2.4.1.25) (EC 3.2.1.33)","Dpse\\GA21822 Dpse_GA21822 GA21822","Drosophila pseudoobscura pseudoobscura (Fruit fly)",1583]
["A0A0R3PR76","A0A0R3PR76_ANGCS","Uncharacterized protein",null,"Angiostrongylus costaricensis (Nematode worm)",1448]
["A0A0R3QD39","A0A0R3QD39_9BILA","Uncharacterized protein",null,"Brugia timori",198]
["A0A0R3RCE9","A0A0R3RCE9_9BILA","Uncharacterized protein",null,"Brugia timori",257]
["A0A0R3RER8","A0A0R3RER8_BRUMA","Uncharacterized protein",null,"Brugia malayi (Filarial nematode worm)",1495]
["A0A0R3S651","A0A0R3S651_9BILA","Uncharacterized protein",null,"Elaeophora elaphi",844]
["A0A0R3SBE9","A0A0R3SBE9_HYMDI","Uncharacterized protein",null,"Hymenolepis diminuta (Rat tapeworm)",144]
["A0A0R3TSV0","A0A0R3TSV0_HYMNN","Uncharacterized protein",null,"Hymenolepis nana (Dwarf tapeworm) (Rodentolepis nana)",1524]
["A0A0R3U9I3","A0A0R3U9I3_9CEST","Uncharacterized protein",null,"Mesocestoides corti",942]
["A0A0R3UQS6","A0A0R3UQS6_9CEST","Uncharacterized protein",null,"Mesocestoides corti",856]
["A0A0R3XAA9","A0A0R3XAA9_HYDTA","Uncharacterized protein",null,"Hydatigena taeniaeformis (Feline tapeworm) (Taenia taeniaeformis)",493]
["A0A0R3XCR1","A0A0R3XCR1_HYDTA","Uncharacterized protein",null,"Hydatigena taeniaeformis (Feline tapeworm) (Taenia taeniaeformis)",189]
["A0A0R4IA63","A0A0R4IA63_DANRE","Amylo-alpha-1, 6-glucosidase, 4-alpha-glucanotransferase a (Fragment)","agla","Danio rerio (Zebrafish) (Brachydanio rerio)",181]
["A0A0R4IF54","A0A0R4IF54_DANRE","Amylo-alpha-1, 6-glucosidase, 4-alpha-glucanotransferase a","agla","Danio rerio (Zebrafish) (Brachydanio rerio)",1533]
["A0A0R4IH04","A0A0R4IH04_DANRE","Amylo-alpha-1, 6-glucosidase, 4-alpha-glucanotransferase b","aglb","Danio rerio (Zebrafish) (Brachydanio rerio)",996]
["A0A0R4IU33","A0A0R4IU33_DANRE","Amylo-alpha-1, 6-glucosidase, 4-alpha-glucanotransferase a","agla","Danio rerio (Zebrafish) (Brachydanio rerio)",1533]
["A0A0R4IV67","A0A0R4IV67_DANRE","Amylo-alpha-1, 6-glucosidase, 4-alpha-glucanotransferase a","agla","Danio rerio (Zebrafish) (Brachydanio rerio)",1532]
["A0A0R4IZH8","A0A0R4IZH8_DANRE","Amylo-alpha-1, 6-glucosidase, 4-alpha-glucanotransferase a","agla","Danio rerio (Zebrafish) (Brachydanio rerio)",1532]
["A0A0S7E419","A0A0S7E419_9EURO","Glycogen debranching enzyme","ALT_8892","Aspergillus lentulus",1527]
["A0A0T6B546","A0A0T6B546_9SCAR","Uncharacterized protein","AMK59_4835","Oryctes borbonicus",950]
["A0A0U1M6K4","A0A0U1M6K4_TALIS","4-alpha-glucanotransferase","GDB1 PISL3812_08236","Talaromyces islandicus (Penicillium islandicum)",1524]
["A0A0U5G358","A0A0U5G358_9EURO","Putative Amylo-alpha-1,6-glucosidase","ASPCAL07227","Aspergillus calidoustus",1537]
["A0A0V0QAH6","A0A0V0QAH6_PSEPJ","Six-hairpin glycosidase-like protein","PPERSA_03950","Pseudocohnilembus persalinus (Ciliate)",2516]
["A0A0V0R3M8","A0A0V0R3M8_PSEPJ","Six-hairpin glycosidase-like protein","PPERSA_08808","Pseudocohnilembus persalinus (Ciliate)",1959]
["A0A0V0SG53","A0A0V0SG53_9BILA","Glycogen debranching enzyme","AGL T07_3913","Trichinella nelsoni",1713]
["A0A0V0TWA6","A0A0V0TWA6_9BILA","Glycogen debranching enzyme","AGL T05_9483","Trichinella murrelli",1601]
["A0A0V0TWF8","A0A0V0TWF8_9BILA","Glycogen debranching enzyme (Fragment)","AGL T05_9483","Trichinella murrelli",1625]
["A0A0V0TWQ3","A0A0V0TWQ3_9BILA","Glycogen debranching enzyme","AGL T05_9483","Trichinella murrelli",946]
["A0A0V0VQX3","A0A0V0VQX3_9BILA","Glycogen debranching enzyme (Fragment)","T09_13454","Trichinella sp. T9",966]
["A0A0V0VQX8","A0A0V0VQX8_9BILA","Glycogen debranching enzyme (Fragment)","T09_13454","Trichinella sp. T9",1619]
["A0A0V0VQY2","A0A0V0VQY2_9BILA","Glycogen debranching enzyme (Fragment)","T09_13454","Trichinella sp. T9",671]
["A0A0V0VQY7","A0A0V0VQY7_9BILA","Glycogen debranching enzyme (Fragment)","T09_13454","Trichinella sp. T9",1595]
["A0A0V0X128","A0A0V0X128_9BILA","Glycogen debranching enzyme (Fragment)","AGL T06_8892","Trichinella sp. T6",1729]
["A0A0V0X1D4","A0A0V0X1D4_9BILA","Glycogen debranching enzyme (Fragment)","AGL T06_8892","Trichinella sp. T6",1759]
["A0A0V0X1F2","A0A0V0X1F2_9BILA","Glycogen debranching enzyme (Fragment)","AGL T06_8892","Trichinella sp. T6",1504]
["A0A0V0X1G1","A0A0V0X1G1_9BILA","Glycogen debranching enzyme (Fragment)","AGL T06_8892","Trichinella sp. T6",1724]
["A0A0V0X1J3","A0A0V0X1J3_9BILA","Glycogen debranching enzyme (Fragment)","AGL T06_8892","Trichinella sp. T6",1595]
["A0A0V0Y4S8","A0A0V0Y4S8_TRIPS","Glycogen debranching enzyme","AGL T4E_7617","Trichinella pseudospiralis (Parasitic roundworm)",1561]
["A0A0V0Y4W1","A0A0V0Y4W1_TRIPS","Glycogen debranching enzyme","AGL T4E_7617","Trichinella pseudospiralis (Parasitic roundworm)",1574]
["A0A0V1AFM7","A0A0V1AFM7_9BILA","Glycogen debranching enzyme (Fragment)","AGL T12_6569","Trichinella patagoniensis",1590]
["A0A0V1AG06","A0A0V1AG06_9BILA","Glycogen debranching enzyme (Fragment)","AGL T12_6569","Trichinella patagoniensis",1504]
["A0A0V1AHE9","A0A0V1AHE9_9BILA","Glycogen debranching enzyme (Fragment)","AGL T12_6569","Trichinella patagoniensis",1596]
["A0A0V1CSK8","A0A0V1CSK8_TRIBR","Glycogen debranching enzyme (Fragment)","AGL T03_16641","Trichinella britovi (Parasitic roundworm)",1464]
["A0A0V1CSQ0","A0A0V1CSQ0_TRIBR","Glycogen debranching enzyme (Fragment)","AGL T03_16641","Trichinella britovi (Parasitic roundworm)",1619]
["A0A0V1CT18","A0A0V1CT18_TRIBR","Glycogen debranching enzyme (Fragment)","AGL T03_16641","Trichinella britovi (Parasitic roundworm)",1742]
["A0A0V1CUE4","A0A0V1CUE4_TRIBR","Glycogen debranching enzyme (Fragment)","AGL T03_16641","Trichinella britovi (Parasitic roundworm)",1737]
["A0A0V1HRF5","A0A0V1HRF5_9BILA","Glycogen debranching enzyme (Fragment)","AGL T11_5539","Trichinella zimbabwensis",1067]
["A0A0V1L3P3","A0A0V1L3P3_9BILA","Glycogen debranching enzyme (Fragment)","ttr-3 T02_7946","Trichinella nativa",1715]
["A0A0V1L3R1","A0A0V1L3R1_9BILA","Glycogen debranching enzyme (Fragment)","ttr-3 T02_7946","Trichinella nativa",1702]
["A0A0V1L4L3","A0A0V1L4L3_9BILA","Glycogen debranching enzyme (Fragment)","ttr-3 T02_7946","Trichinella nativa",1586]
["A0A0V1PH35","A0A0V1PH35_9BILA","Glycogen debranching enzyme","AGL T08_13880","Trichinella sp. T8",1759]
["A0A0V1PHD2","A0A0V1PHD2_9BILA","Glycogen debranching enzyme","AGL T08_13880","Trichinella sp. T8",1738]
["A0A0W0FZI5","A0A0W0FZI5_9AGAR","Putative glycoside hydrolase family 13 protein","WG66_5843","Moniliophthora roreri",1593]
["A0A0W4ZQK3","A0A0W4ZQK3_PNEC8","Glycogen debranching enzyme","T552_00360","Pneumocystis carinii (strain B80) (Rat pneumocystis pneumonia agent) (Pneumocystis carinii f. sp. carinii)",1516]
["A0A0W4ZUI4","A0A0W4ZUI4_PNEJ7","Glycogen debranching enzyme","T551_00727","Pneumocystis jirovecii (strain RU7) (Human pneumocystis pneumonia agent)",1516]
["A0A0W7W367","A0A0W7W367_9HYPO","Uncharacterized protein","TGAM01_00520","Trichoderma gamsii",1557]
["A0A101MIR9","A0A101MIR9_9EURO","Uncharacterized protein","ACN42_g5928","Penicillium freii",1534]
["A0A109FAQ5","A0A109FAQ5_9BASI","Uncharacterized protein","RHOSPDRAFT_37423","Rhodotorula sp. JG-1b",1612]
["A0A124BUR9","A0A124BUR9_ASPNG","Glycogen debranching enzyme Gdb1","ABL_00375","Aspergillus niger",2359]
["A0A132A5T5","A0A132A5T5_SARSC","Glycogen debranching enzyme-like protein","QR98_0047710","Sarcoptes scabiei (Itch mite) (Acarus scabiei)",1435]
["A0A135LZ37","A0A135LZ37_PENPA","Glycogen debranching enzyme, metazoa","PGRI_073640","Penicillium patulum (Penicillium griseofulvum)",1534]
["A0A135RMG2","A0A135RMG2_9PEZI","Glycogen debranching enzyme","CSAL01_11285","Colletotrichum salicis",1568]
["A0A135UQZ0","A0A135UQZ0_9PEZI","Glycogen debranching enzyme","CNYM01_03676","Colletotrichum nymphaeae SA-01",1568]
["A0A136J2Y3","A0A136J2Y3_9PEZI","Glycoside hydrolase family 13 protein","Micbo1qcDRAFT_188771","Microdochium bolleyi",1548]
["A0A137P5H3","A0A137P5H3_CONC2","Glycoside hydrolase family 13 protein","CONCODRAFT_78958","Conidiobolus coronatus (strain ATCC 28846 / CBS 209.66 / NRRL 28638) (Delacroixia coronata)",1566]
["A0A137QHA0","A0A137QHA0_9AGAR","Glycogen debranching enzyme","AN958_09938","Leucoagaricus sp. SymC.cos",1590]
["A0A139A531","A0A139A531_GONPR","Glycoside hydrolase family 133 protein","M427DRAFT_126411","Gonapodya prolifera JEL478",1710]
["A0A139GV41","A0A139GV41_9PEZI","Uncharacterized protein","AC578_3386","Mycosphaerella eumusae",1554]
["A0A139IKD5","A0A139IKD5_9PEZI","Uncharacterized protein","AC579_4873","Pseudocercospora musae",1554]
["A0A139WC21","A0A139WC21_TRICA","Glycogen debranching enzyme-like Protein","TcasGA2_TC034247","Tribolium castaneum (Red flour beetle)",1542]
["A0A150VIY2","A0A150VIY2_9PEZI","Glycoside hydrolase family 133 protein","M433DRAFT_262","Acidomyces richmondensis BFW",1552]
["A0A151GPN9","A0A151GPN9_9HYPO","Glycogen debranching enzyme","DCS_00180","Drechmeria coniospora",1584]
["A0A151M4V6","A0A151M4V6_ALLMI","Glycogen debranching enzyme isoform A","AGL Y1Q_0007480","Alligator mississippiensis (American alligator)",2015]
["A0A151M4W7","A0A151M4W7_ALLMI","Glycogen debranching enzyme isoform B","AGL Y1Q_0007480","Alligator mississippiensis (American alligator)",1980]
["A0A151VFH8","A0A151VFH8_HYPMA","Glycogen debranching enzyme","GDB1 Hypma_11910","Hypsizygus marmoreus (White beech mushroom) (Agaricus marmoreus)",1592]
["A0A151WGY4","A0A151WGY4_9HYME","Glycogen debranching enzyme (Fragment)","ALC60_13830","Trachymyrmex zeteki",1763]
["A0A152A9F1","A0A152A9F1_9MYCE","Glycogen debranching enzyme","DLAC_00317","Tieghemostelium lacteum",1552]
["A0A154PFZ0","A0A154PFZ0_9HYME","Glycogen debranching enzyme","WN55_02231","Dufourea novaeangliae",1969]
["A0A158NS37","A0A158NS37_ATTCE","Uncharacterized protein",105623566,"Atta cephalotes (Leafcutter ant)",1589]
["A0A158PC84","A0A158PC84_ANGCA","Uncharacterized protein",null,"Angiostrongylus cantonensis (Rat lungworm)",1124]
["A0A158PN69","A0A158PN69_ANISI","Glycogen debranching enzyme (inferred by orthology to a human protein)",null,"Anisakis simplex (Herring worm)",1488]
["A0A158QFZ4","A0A158QFZ4_HYMDI","Uncharacterized protein",null,"Hymenolepis diminuta (Rat tapeworm)",1731]
["A0A158QX09","A0A158QX09_NIPBR","Glycogen debranching enzyme (inferred by orthology to a human protein)",null,"Nippostrongylus brasiliensis (Rat hookworm)",1463]
["A0A158R7U9","A0A158R7U9_TAEAS","Uncharacterized protein",null,"Taenia asiatica (Asian tapeworm)",1737]
["A0A162K3D0","A0A162K3D0_9HYPO","Glycogen debranching enzyme","BBO_00609","Cordyceps brongniartii RCEF 3172",1545]
["A0A162UR45","A0A162UR45_PHYB8","Glycoside hydrolase family 133 protein","PHYBLDRAFT_36305","Phycomyces blakesleeanus (strain ATCC 8743b / DSM 1359 / FGSC 10004 / NBRC 33097 / NRRL 1555)",1363]
["A0A163DBX9","A0A163DBX9_DIDRA","4-alpha-glucanotransferase","ST47_g5816","Didymella rabiei (Chickpea ascochyta blight fungus) (Mycosphaerella rabiei)",1553]
["A0A164NPU1","A0A164NPU1_9CRUS","Glycogen debranching enzyme","APZ42_030616","Daphnia magna",1612]
["A0A164VTK7","A0A164VTK7_9HOMO","Glycoside hydrolase family 13 protein","SISNIDRAFT_453376","Sistotremastrum niveocremeum HHB9708",1609]
["A0A165GB67","A0A165GB67_9APHY","Glycoside hydrolase family 133 protein","LAESUDRAFT_645291","Laetiporus sulphureus 93-53",1522]
["A0A165HYM6","A0A165HYM6_9BASI","Glycoside hydrolase family 133 protein","CALCODRAFT_449573","Calocera cornea HHB12733",1613]
["A0A165JZD4","A0A165JZD4_9PEZI","Glycoside hydrolase family 133 protein","L228DRAFT_217044","Xylona heveae TC161",1551]
["A0A165LZL5","A0A165LZL5_9APHY","Glycoside hydrolase family 133 protein","DAEQUDRAFT_697842","Daedalea quercina L-15889",1605]
["A0A165U9Q9","A0A165U9Q9_9HOMO","Glycoside hydrolase family 133 protein","NEOLEDRAFT_1109936","Neolentinus lepideus HHB14362 ss-1",1609]
["A0A166BCP4","A0A166BCP4_EXIGL","Glycoside hydrolase family 13 protein","EXIGLDRAFT_745827","Exidia glandulosa HHB12029",1613]
["A0A166CDF1","A0A166CDF1_9HOMO","Glycoside hydrolase family 133 protein","PENSPDRAFT_689248","Peniophora sp. CONT",1597]
["A0A166FBI4","A0A166FBI4_9HOMO","Glycoside hydrolase family 133 protein","FIBSPDRAFT_831668","Fibularhizoctonia sp. CBS 109695",1582]
["A0A166HVI1","A0A166HVI1_9HOMO","Glycoside hydrolase family 13 protein","SISSUDRAFT_1040558","Sistotremastrum suecicum HHB10207 ss-3",1609]
["A0A166UV10","A0A166UV10_9PEZI","Glycogen debranching enzyme","CT0861_06102","Colletotrichum tofieldiae",1573]
["A0A167BNH3","A0A167BNH3_9PEZI","Glycogen debranching enzyme (Fragment)","CI238_07907","Colletotrichum incanum",1620]
["A0A167S918","A0A167S918_9BASI","Glycoside hydrolase family 133 protein","CALVIDRAFT_492259","Calocera viscosa TUFC12733",1615]
["A0A167UPF6","A0A167UPF6_9PEZI","Glycogen debranching enzyme","SPI_04630","Sporothrix insectorum RCEF 264",1568]
["A0A168GI85","A0A168GI85_MUCCL","Glycoside hydrolase family 133 protein","MUCCIDRAFT_151060","Mucor circinelloides f. lusitanicus CBS 277.49",1446]
["A0A168GXS6","A0A168GXS6_CORDF","Glycogen debranching enzyme","LEL_06737","Cordyceps confragosa RCEF 1005",1545]
["A0A177BY91","A0A177BY91_9PLEO","Uncharacterized protein","CC84DRAFT_1155043","Paraphaeosphaeria sporulosa",1552]
["A0A177DMY2","A0A177DMY2_ALTAL","Glycogen debranching enzyme","CC77DRAFT_867889","Alternaria alternata (Alternaria rot fungus) (Torula alternata)",1561]
["A0A177WDZ8","A0A177WDZ8_BATDE","Glycogen debranching enzyme","BDEG_21762","Batrachochytrium dendrobatidis JEL423",1177]
["A0A178BB70","A0A178BB70_9PLEO","Glycogen debranching enzyme","IQ06DRAFT_331025","Stagonospora sp. SRC1lsM3a",1554]
["A0A178EBW2","A0A178EBW2_9PLEO","Glycogen debranching enzyme","IQ07DRAFT_352737","Pyrenochaeta sp. DS3sAY3a",1563]
["A0A180H1Z8","A0A180H1Z8_PUCT1","Uncharacterized protein","PTTG_25646","Puccinia triticina (isolate 1-1 / race 1 (BBBD)) (Brown leaf rust fungus)",1616]
["A0A183AAW8","A0A183AAW8_9TREM","Uncharacterized protein",null,"Echinostoma caproni",1572]
["A0A183E542","A0A183E542_9BILA","Uncharacterized protein",null,"Gongylonema pulchrum",258]
["A0A183EVV2","A0A183EVV2_9BILA","Uncharacterized protein",null,"Gongylonema pulchrum",223]
["A0A183IQB6","A0A183IQB6_9BILA","Uncharacterized protein",null,"Soboliphyme baturini",1215]
["A0A183L3P4","A0A183L3P4_9TREM","Uncharacterized protein",null,"Schistosoma curassoni",130]
["A0A183L5T7","A0A183L5T7_9TREM","Uncharacterized protein",null,"Schistosoma curassoni",255]
["A0A183MQF5","A0A183MQF5_9TREM","Uncharacterized protein",null,"Schistosoma margrebowiei",1246]
["A0A183PB67","A0A183PB67_9TREM","Uncharacterized protein",null,"Schistosoma mattheei",255]
["A0A183PBC8","A0A183PBC8_9TREM","Uncharacterized protein",null,"Schistosoma mattheei",348]
["A0A183PHM0","A0A183PHM0_9TREM","Uncharacterized protein",null,"Schistosoma mattheei",468]
["A0A183QFQ2","A0A183QFQ2_9TREM","Uncharacterized protein",null,"Schistosoma rodhaini",441]
["A0A183QFQ3","A0A183QFQ3_9TREM","Uncharacterized protein",null,"Schistosoma rodhaini",569]
["A0A183TE88","A0A183TE88_SCHSO","Uncharacterized protein",null,"Schistocephalus solidus (Tapeworm)",1557]
["A0A183VKK7","A0A183VKK7_TRIRE","Uncharacterized protein",null,"Trichobilharzia regenti (Nasal bird schistosome)",99]
["A0A183WMJ4","A0A183WMJ4_TRIRE","Uncharacterized protein",null,"Trichobilharzia regenti (Nasal bird schistosome)",142]
["A0A183WVX9","A0A183WVX9_TRIRE","Uncharacterized protein",null,"Trichobilharzia regenti (Nasal bird schistosome)",213]
["A0A194PXK2","A0A194PXK2_PAPXU","Glycogen debranching enzyme","RR46_11192","Papilio xuthus (Asian swallowtail butterfly)",1697]
["A0A194REP1","A0A194REP1_PAPMA","Glycogen debranching enzyme","RR48_09975","Papilio machaon (Old World swallowtail butterfly)",1298]
["A0A194SBG9","A0A194SBG9_RHOGW","Glycoside hydrolase family 13 protein","RHOBADRAFT_32520","Rhodotorula graminis (strain WP1)",1620]
["A0A194XSF5","A0A194XSF5_9HELO","Putative glycogen debranching enzyme","LY89DRAFT_607404","Phialocephala scopiformis",1566]
["A0BFM1","A0BFM1_PARTE","Uncharacterized protein","GSPATT00028373001","Paramecium tetraurelia",1057]
["A0BWA0","A0BWA0_PARTE","Uncharacterized protein","GSPATT00032669001","Paramecium tetraurelia",1528]
["A0EEA7","A0EEA7_PARTE","Uncharacterized protein","GSPATT00025969001","Paramecium tetraurelia",1236]
["A1CS73","A1CS73_ASPCL","Amylo-alpha-1,6-glucosidase, putative","ACLA_032290","Aspergillus clavatus (strain ATCC 1007 / CBS 513.65 / DSM 816 / NCTC 3887 / NRRL 1)",1542]
["A1D547","A1D547_NEOFI","Amylo-alpha-1,6-glucosidase, putative","NFIA_022510","Neosartorya fischeri (strain ATCC 1020 / DSM 3700 / CBS 544.65 / FGSC A1164 / JCM 1740 / NRRL 181 / WB 181) (Aspergillus fischerianus)",1537]
["A2DRU5","A2DRU5_TRIVA","Uncharacterized protein","TVAG_150430","Trichomonas vaginalis",1149]
["A2EWE5","A2EWE5_TRIVA","Amylo-alpha-1,6-glucosidase family protein","TVAG_143490","Trichomonas vaginalis",1413]
["A2F4M9","A2F4M9_TRIVA","Amylo-alpha-1,6-glucosidase family protein","TVAG_330630","Trichomonas vaginalis",1469]
["A2Q8Z7","A2Q8Z7_ASPNC","Aspergillus niger contig An01c0210, genomic contig (EC 2.4.1.25) (EC 3.2.1.33)","An01g06120","Aspergillus niger (strain CBS 513.88 / FGSC A1513)",1539]
["A3GF70","A3GF70_PICST","Glycogen debranching enzyme (EC 2.4.1.25)","GDB1 PICST_74319","Scheffersomyces stipitis (strain ATCC 58785 / CBS 6054 / NBRC 10063 / NRRL Y-11545) (Yeast) (Pichia stipitis)",1526]
["A5DQ07","A5DQ07_PICGU","Uncharacterized protein","PGUG_05358","Meyerozyma guilliermondii (strain ATCC 6260 / CBS 566 / DSM 6381 / JCM 1539 / NBRC 10279 / NRRL Y-324) (Yeast) (Candida guilliermondii)",942]
["A5E4R5","A5E4R5_LODEL","Glycogen debranching enzyme","LELG_04604","Lodderomyces elongisporus (strain ATCC 11503 / CBS 2605 / JCM 1781 / NBRC 1676 / NRRL YB-4239) (Yeast) (Saccharomyces elongisporus)",1524]
["A6R0W1","A6R0W1_AJECN","Uncharacterized protein","HCAG_03268","Ajellomyces capsulatus (strain NAm1 / WU24) (Darling's disease fungus) (Histoplasma capsulatum)",1800]
["A7F5B8","A7F5B8_SCLS1","Uncharacterized protein","SS1G_12795","Sclerotinia sclerotiorum (strain ATCC 18683 / 1980 / Ss-1) (White mold) (Whetzelinia sclerotiorum)",1179]
["A7TH79","A7TH79_VANPO","Uncharacterized protein","Kpol_1013p31","Vanderwaltozyma polyspora (strain ATCC 22028 / DSM 70294) (Kluyveromyces polysporus)",1565]
["A8BPE3","A8BPE3_GIAIC","4-alpha-glucanotransferase, amylo-alpha-1,6-glucosidase (EC 2.4.1.25) (EC 3.2.1.33)","GL50803_10885","Giardia intestinalis (strain ATCC 50803 / WB clone C6) (Giardia lamblia)",1731]
["A8BQB4","GDE_HORSE","Glycogen debranching enzyme (Glycogen debrancher) [Includes: 4-alpha-glucanotransferase (EC 2.4.1.25) (Oligo-1,4-1,4-glucantransferase); Amylo-alpha-1,6-glucosidase (Amylo-1,6-glucosidase) (EC 3.2.1.33) (Dextrin 6-alpha-D-glucosidase)]","AGL","Equus caballus (Horse)",1533]
["A8N9L1","A8N9L1_COPC7","Glycogen debranching enzyme","CC1G_12049","Coprinopsis cinerea (strain Okayama-7 / 130 / ATCC MYA-4618 / FGSC 9003) (Inky cap fungus) (Hormographiella aspergillata)",1598]
["A8XCF0","A8XCF0_CAEBR","Protein CBR-AGL-1","agl-1 Cbr-agl-1 CBG11104 CBG_11104","Caenorhabditis briggsae",1534]
["A9V544","A9V544_MONBE","Predicted protein",27381,"Monosiga brevicollis (Choanoflagellate)",1489]
["B0DI75","B0DI75_LACBS","Glycoside hydrolase family 13 protein","LACBIDRAFT_302750","Laccaria bicolor (strain S238N-H82 / ATCC MYA-4686) (Bicoloured deceiver) (Laccaria laccata var. bicolor)",1594]
["B0DME9","B0DME9_LACBS","Predicted protein","LACBIDRAFT_304819","Laccaria bicolor (strain S238N-H82 / ATCC MYA-4686) (Bicoloured deceiver) (Laccaria laccata var. bicolor)",115]
["B0DZ84","B0DZ84_LACBS","Predicted protein","LACBIDRAFT_314785","Laccaria bicolor (strain S238N-H82 / ATCC MYA-4686) (Bicoloured deceiver) (Laccaria laccata var. bicolor)",115]
["B0X1H0","B0X1H0_CULQU","Glycogen debranching enzyme","6046268 CpipJ_CPIJ013040","Culex quinquefasciatus (Southern house mosquito) (Culex pungens)",784]
["B0XLP5","B0XLP5_CULQU","Glycogen debranching enzyme","6054693 CpipJ_CPIJ020026","Culex quinquefasciatus (Southern house mosquito) (Culex pungens)",672]
["B2AB57","B2AB57_PODAN","Podospora anserina S mat+ genomic DNA chromosome 1, supercontig 1 (Putative Glycoside Hydrolase Family 13)","PODANS_1_6200","Podospora anserina (strain S / ATCC MYA-4624 / DSM 980 / FGSC 10383) (Pleurage anserina)",1571]
["B2VZS2","B2VZS2_PYRTR","Glycogen debranching enzyme","PTRG_02912","Pyrenophora tritici-repentis (strain Pt-1C-BFP) (Wheat tan spot fungus) (Drechslera tritici-repentis)",1567]
["B3MBX1","B3MBX1_DROAN","Uncharacterized protein, isoform A (EC 2.4.1.25) (EC 3.2.1.33)","Dana\\GF12811 Dana_GF12811 GF12811","Drosophila ananassae (Fruit fly)",1641]
["B4GA88","B4GA88_DROPE","GL11337","Dper\\GL11337 Dper_GL11337 GL11337","Drosophila persimilis (Fruit fly)",1667]
["B4I7P0","B4I7P0_DROSE","GM15830","Dsec\\GM15830 Dsec_GM15830 GM15830","Drosophila sechellia (Fruit fly)",1114]
["B4J7H5","B4J7H5_DROGR","GH20640","Dgri\\GH20640 Dgri_GH20640 GH20640","Drosophila grimshawi (Fruit fly) (Idiomyia grimshawi)",1538]
["B4KSI9","B4KSI9_DROMO","Uncharacterized protein, isoform A (EC 2.4.1.25) (EC 3.2.1.33)","Dmoj\\GI19003 Dmoj_GI19003 GI19003","Drosophila mojavensis (Fruit fly)",1670]
["B4LMF7","B4LMF7_DROVI","Uncharacterized protein, isoform A (EC 2.4.1.25) (EC 3.2.1.33)","Dvir\\GJ19969 Dvir_GJ19969 GJ19969","Drosophila virilis (Fruit fly)",1687]
["B4MPI2","B4MPI2_DROWI","GK21597","Dwil\\GK21597 Dwil_GK21597 GK21597","Drosophila willistoni (Fruit fly)",1535]
["B4QG18","B4QG18_DROSI","GD11587","Dsim\\GD11587 Dsim_GD11587 GD11587","Drosophila simulans (Fruit fly)",1283]
["B6ABH3","B6ABH3_CRYMR","Glycogen debranching protein, putative (EC 3.2.1.33)","CMU_027340","Cryptosporidium muris (strain RN66)",1859]
["B6HTR6","B6HTR6_PENRW","Pc22g22120 protein","Pc22g22120 PCH_Pc22g22120","Penicillium rubens (strain ATCC 28089 / DSM 1075 / NRRL 1951 / Wisconsin 54-1255) (Penicillium chrysogenum)",1534]
["B6QE94","B6QE94_TALMQ","Glycogen debranching enzyme Gdb1, putative","PMAA_089110","Talaromyces marneffei (strain ATCC 18224 / CBS 334.59 / QM 7333) (Penicillium marneffei)",1523]
["B7QG62","B7QG62_IXOSC","Glycogen debranching enzyme, putative (EC 3.2.1.33)","8040772 IscW_ISCW022516","Ixodes scapularis (Black-legged tick) (Deer tick)",1123]
["B8MB42","B8MB42_TALSN","Glycogen debranching enzyme Gdb1, putative (EC 3.2.1.33)","TSTA_124640","Talaromyces stipitatus (strain ATCC 10500 / CBS 375.48 / QM 6759 / NRRL 1006) (Penicillium stipitatum)",1524]
["B8MYJ6","B8MYJ6_ASPFN","Glycogen debranching enzyme Gdb1, putative","AFLA_081340","Aspergillus flavus (strain ATCC 200026 / FGSC A1120 / NRRL 3357 / JCM 12722 / SRRC 167)",1537]
["C0NQD3","C0NQD3_AJECG","Glycogen debranching enzyme","HCBG_05721","Ajellomyces capsulatus (strain G186AR / H82 / ATCC MYA-2454 / RMSCC 2432) (Darling's disease fungus) (Histoplasma capsulatum)",1572]
["C1GL12","C1GL12_PARBD","Glycogen debranching enzyme","PADG_08019","Paracoccidioides brasiliensis (strain Pb18)",1593]
["C3YID9","C3YID9_BRAFL","Uncharacterized protein","BRAFLDRAFT_70494","Branchiostoma floridae (Florida lancelet) (Amphioxus)",1932]
["C4JU91","C4JU91_UNCRE","Uncharacterized protein","UREG_06030","Uncinocarpus reesii (strain UAMH 1704)",1458]
["C4LXB9","C4LXB9_ENTHI","Glycogen debranching enzyme, putative","EHI_098360","Entamoeba histolytica",1428]
["C4R1U8","C4R1U8_KOMPG","Glycogen debranching enzyme containing glucanotranferase and alpha-1,6-amyloglucosidase activities","PAS_chr2-2_0437","Komagataella phaffii (strain GS115 / ATCC 20864) (Yeast) (Pichia pastoris)",1525]
["C4Y8I7","C4Y8I7_CLAL4","Uncharacterized protein (Fragment)","CLUG_04515","Clavispora lusitaniae (strain ATCC 42720) (Yeast) (Candida lusitaniae)",1228]
["C5DB95","C5DB95_LACTC","KLTH0A00726p","KLTH0A00726g","Lachancea thermotolerans (strain ATCC 56472 / CBS 6340 / NRRL Y-8284) (Yeast) (Kluyveromyces thermotolerans)",1512]
["C5DUS3","C5DUS3_ZYGRC","ZYRO0D00946p","ZYRO0D00946g","Zygosaccharomyces rouxii (strain ATCC 2623 / CBS 732 / NBRC 1130 / NCYC 568 / NRRL Y-229) (Candida mogii)",1524]
["C5FS32","C5FS32_ARTOC","Glycogen debranching enzyme","MCYG_05504","Arthroderma otae (strain ATCC MYA-4605 / CBS 113480) (Microsporum canis)",1525]
["C5GTI6","C5GTI6_AJEDR","Alpha amylase","BDCG_07728","Ajellomyces dermatitidis (strain ER-3 / ATCC MYA-2586) (Blastomyces dermatitidis)",1578]
["C5MCK0","C5MCK0_CANTT","Glycogen debranching enzyme","CTRG_03951","Candida tropicalis (strain ATCC MYA-3404 / T1) (Yeast)",1522]
["C6HS62","C6HS62_AJECH","Glycogen debranching enzyme","HCDG_09043","Ajellomyces capsulatus (strain H143) (Darling's disease fungus) (Histoplasma capsulatum)",1457]
["C7Z6K9","C7Z6K9_NECH7","Glycoside hydrolase family 13","NECHADRAFT_99118","Nectria haematococca (strain 77-13-4 / ATCC MYA-4622 / FGSC 9596 / MPVI) (Fusarium solani subsp. pisi)",1554]
["C8VTT8","C8VTT8_EMENI","Glycogen debranching enzyme Gdb1, putative (AFU_orthologue AFUA_1G02140)","ANIA_10060","Emericella nidulans (strain FGSC A4 / ATCC 38163 / CBS 112.46 / NRRL 194 / M139) (Aspergillus nidulans)",1537]
["C9SJ23","C9SJ23_VERA1","Glycogen debranching enzyme","VDBG_05055","Verticillium alfalfae (strain VaMs.102 / ATCC MYA-4576 / FGSC 10136) (Verticillium wilt of alfalfa) (Verticillium albo-atrum)",733]
["D3AZS3","D3AZS3_POLPP","Glycogen debranching enzyme","agl PPL_01536","Polysphondylium pallidum (strain ATCC 26659 / Pp 5 / PN500) (Heterostelium pallidum)",1473]
["D4AEH9","D4AEH9_RAT","Amylo-1, 6-glucosidase, 4-alpha-glucanotransferase (Glycogen debranching enzyme, glycogen storage disease type III) (Predicted), isoform CRA_a (Amylo-alpha-1, 6-glucosidase, 4-alpha-glucanotransferase)","Agl Agl_predicted rCG_28583","Rattus norvegicus (Rat)",1532]
["D4ASG4","D4ASG4_ARTBC","Uncharacterized protein","ARB_07179","Arthroderma benhamiae (strain ATCC MYA-4681 / CBS 112371) (Trichophyton mentagrophytes)",1506]
["D5G4I5","D5G4I5_TUBMM","Uncharacterized protein","GSTUM_00004119001","Tuber melanosporum (strain Mel28) (Perigord black truffle)",1473]
["D8LWI1","D8LWI1_BLAHO","Uncharacterized protein","GSBLH_T00000542001","Blastocystis hominis",1088]
["D8Q378","D8Q378_SCHCM","Glycoside hydrolase family 13 protein","SCHCODRAFT_67134","Schizophyllum commune (strain H4-8 / FGSC 9210) (Split gill fungus)",1596]
["E0VNL2","E0VNL2_PEDHC","Uncharacterized protein","8231789 Phum_PHUM336820","Pediculus humanus subsp. corporis (Body louse)",1543]
["E1G3C1","E1G3C1_LOALO","Deleted."]
["E1JGQ5","E1JGQ5_DROME","CG9485, isoform D (EC 2.4.1.25) (EC 3.2.1.33)","CG9485 Dmel_CG9485","Drosophila melanogaster (Fruit fly)",1563]
["E2A7S3","E2A7S3_CAMFO","Glycogen debranching enzyme","EAG_01249","Camponotus floridanus (Florida carpenter ant)",1498]
["E2BPT9","E2BPT9_HARSA","Glycogen debranching enzyme","EAI_09264","Harpegnathos saltator (Jerdon's jumping ant)",2005]
["E2L5Q4","E2L5Q4_MONPE","Uncharacterized protein (Fragment)","MPER_01110","Moniliophthora perniciosa (strain FA553 / isolate CP02) (Witches'-broom disease fungus) (Marasmius perniciosus)",138]
["E3KWY4","E3KWY4_PUCGT","Amylo-1,6-glucosidase","PGTG_14216","Puccinia graminis f. sp. tritici (strain CRL 75-36-700-3 / race SCCL) (Black stem rust fungus)",1608]
["E3MHZ4","E3MHZ4_CAERE","CRE-AGL-1 protein","Cre-agl-1 CRE_24907","Caenorhabditis remanei (Caenorhabditis vulgaris)",1472]
["E3QZQ7","E3QZQ7_COLGM","Glycogen debranching enzymye","GLRG_11490","Colletotrichum graminicola (strain M1.001 / M2 / FGSC 10212) (Maize anthracnose fungus) (Glomerella graminicola)",1573]
["E3RH37","E3RH37_PYRTT","Uncharacterized protein","PTT_07191","Pyrenophora teres f. teres (strain 0-1) (Barley net blotch fungus) (Drechslera teres f. teres)",1569]
["E4UNH6","E4UNH6_ARTGP","Glycogen debranching enzyme","MGYG_02596","Arthroderma gypseum (strain ATCC MYA-4604 / CBS 118893) (Microsporum gypseum)",1523]
["E4X3A2","E4X3A2_OIKDI","Uncharacterized protein","GSOID_T00017742001","Oikopleura dioica (Tunicate)",1399]
["E4ZG29","E4ZG29_LEPMJ","Similar to glycogen debranching enzyme","LEMA_P063750.1","Leptosphaeria maculans (strain JN3 / isolate v23.1.3 / race Av1-4-5-6-7-8) (Blackleg fungus) (Phoma lingam)",1561]
["E5S846","E5S846_TRISP","Glycogen debranching enzyme","Tsp_07883","Trichinella spiralis (Trichina worm)",1638]
["E6ZMW0","E6ZMW0_SPORE","Probable 4-alpha-glucanotransferase / amylo-1,6-glucosidase (Glycogen-debranching enzyme)","sr14854","Sporisorium reilianum (strain SRZ2) (Maize head smut fungus)",1571]
["E7KJ04","E7KJ04_YEASA","Gdb1p","AWRI796_5135","Saccharomyces cerevisiae (strain AWRI796) (Baker's yeast)",1536]
["E7M1B8","E7M1B8_YEASV","Gdb1p","VIN13_5105","Saccharomyces cerevisiae (strain VIN 13) (Baker's yeast)",1538]
["E7QAP2","E7QAP2_YEASB","Gdb1p","FOSTERSB_5048","Saccharomyces cerevisiae (strain FostersB) (Baker's yeast)",1407]
["E9DJT7","E9DJT7_COCPS","Glycogen debranching enzyme","CPSG_10086","Coccidioides posadasii (strain RMSCC 757 / Silveira) (Valley fever fungus)",1472]
["E9E262","E9E262_METAQ","Glycogen debranching enzyme","MAC_03960","Metarhizium acridum (strain CQMa 102)",1556]
["E9F3Z7","E9F3Z7_METRA","Glycoside hydrolase family 13","MAA_06996","Metarhizium robertsii (strain ARSEF 23 / ATCC MYA-3075) (Metarhizium anisopliae (strain ARSEF 23))",1555]
["E9IFN1","E9IFN1_SOLIN","Uncharacterized protein (Fragment)","SINV_08425","Solenopsis invicta (Red imported fire ant) (Solenopsis wagneri)",688]
["F0UTC9","F0UTC9_AJEC8","Glycogen debranching enzyme","HCEG_08371","Ajellomyces capsulatus (strain H88) (Darling's disease fungus) (Histoplasma capsulatum)",1583]
["F0VLQ0","F0VLQ0_NEOCL","Glycogen debranching enzyme, putative (Putative glycogen debranching enzyme)","BN1204_046100 NCLIV_046100","Neospora caninum (strain Liverpool)",1849]
["F0XQV3","F0XQV3_GROCL","Glycogen debranching enzyme","CMQ_335","Grosmannia clavigera (strain kw1407 / UAMH 11150) (Blue stain fungus) (Graphiocladiella clavigera)",1563]
["F0ZCG6","F0ZCG6_DICPU","Uncharacterized protein","DICPUDRAFT_45888","Dictyostelium purpureum (Slime mold)",1567]
["F1MHT1","F1MHT1_BOVIN","Amylo-alpha-1, 6-glucosidase, 4-alpha-glucanotransferase","AGL","Bos taurus (Bovine)",1532]
["F1NX83","F1NX83_CHICK","Amylo-alpha-1, 6-glucosidase, 4-alpha-glucanotransferase","AGL","Gallus gallus (Chicken)",1530]
["F1PBL3","F1PBL3_CANLF","Glycogen debranching enzyme","AGL","Canis lupus familiaris (Dog) (Canis familiaris)",1533]
["F1S557","F1S557_PIG","Amylo-alpha-1, 6-glucosidase, 4-alpha-glucanotransferase","AGL","Sus scrofa (Pig)",1501]
["F2PHR1","F2PHR1_TRIEC","Glycogen debranching enzyme","TEQG_00524","Trichophyton equinum (strain ATCC MYA-4606 / CBS 127.97) (Horse ringworm fungus)",1115]
["F2SVW0","F2SVW0_TRIRC","Glycogen debranching enzyme","TERG_06681","Trichophyton rubrum (strain ATCC MYA-4607 / CBS 118892) (Athlete's foot fungus)",1494]
["F2UQQ0","F2UQQ0_SALR5","Uncharacterized protein","PTSG_10237","Salpingoeca rosetta (strain ATCC 50818 / BSB-021)",1194]
["F4PBL6","F4PBL6_BATDJ","Uncharacterized protein (Fragment)","BATDEDRAFT_14033","Batrachochytrium dendrobatidis (strain JAM81 / FGSC 10211) (Frog chytrid fungus)",1471]
["F4PRV5","F4PRV5_CAVFA","Glycogen debranching enzyme","agl DFA_01273","Cavenderia fasciculata (strain SH3) (Slime mold) (Dictyostelium fasciculatum)",1535]
["F4RSD6","F4RSD6_MELLP","Family 13 glycoside hydrolase","MELLADRAFT_117001","Melampsora larici-populina (strain 98AG31 / pathotype 3-4-7) (Poplar leaf rust fungus)",1649]
["F5HMX0","F5HMX0_ANOGA","AGAP001200-PB (Glycogen debranching enzyme)","1281968 AgaP_AGAP001200","Anopheles gambiae (African malaria mosquito)",1532]
["F6TE92","F6TE92_HORSE","Glycogen debranching enzyme","AGL","Equus caballus (Horse)",1535]
["F6UM75","F6UM75_CIOIN","Uncharacterized protein","LOC100181714","Ciona intestinalis (Transparent sea squirt) (Ascidia intestinalis)",1514]
["F6XXE6","F6XXE6_MOUSE","Amylo-1,6-glucosidase, 4-alpha-glucanotransferase (Fragment)","Agl","Mus musculus (Mouse)",830]
["F6YVZ9","F6YVZ9_ORNAN","Uncharacterized protein","AGL","Ornithorhynchus anatinus (Duckbill platypus)",1109]
["F7CSZ6","F7CSZ6_MOUSE","Amylo-1,6-glucosidase, 4-alpha-glucanotransferase (Fragment)","Agl","Mus musculus (Mouse)",198]
["F7D8W4","F7D8W4_XENTR","Amylo-alpha-1, 6-glucosidase, 4-alpha-glucanotransferase","agl","Xenopus tropicalis (Western clawed frog) (Silurana tropicalis)",1532]
["F7EAR4","F7EAR4_MACMU","Amylo-alpha-1, 6-glucosidase, 4-alpha-glucanotransferase","AGL","Macaca mulatta (Rhesus macaque)",1518]
["F7EAR8","F7EAR8_MACMU","Amylo-alpha-1, 6-glucosidase, 4-alpha-glucanotransferase","AGL","Macaca mulatta (Rhesus macaque)",1532]
["F7GJD2","F7GJD2_MONDO","Amylo-alpha-1, 6-glucosidase, 4-alpha-glucanotransferase","AGL","Monodelphis domestica (Gray short-tailed opossum)",1533]
["F7VQT1","F7VQT1_SORMK","WGS project CABT00000000 data, contig 2.4","SMAC_01428","Sordaria macrospora (strain ATCC MYA-333 / DSM 997 / K(L3346) / K-hell)",1566]
["F8Q4P4","F8Q4P4_SERL3","Glycoside hydrolase family 13 protein","SERLA73DRAFT_111122","Serpula lacrymans var. lacrymans (strain S7.3) (Dry rot fungus)",1564]
["F8VPN4","F8VPN4_MOUSE","Amylo-1,6-glucosidase, 4-alpha-glucanotransferase","Agl","Mus musculus (Mouse)",1532]
["F9FVA4","F9FVA4_FUSOF","Uncharacterized protein","FOXB_10335","Fusarium oxysporum (strain Fo5176) (Fusarium vascular wilt)",1556]
["F9XGA6","F9XGA6_ZYMTI","Uncharacterized protein","MYCGRDRAFT_74222","Zymoseptoria tritici (strain CBS 115943 / IPO323) (Speckled leaf blotch fungus) (Septoria tritici)",1549]
["G0N6Z0","G0N6Z0_CAEBE","Uncharacterized protein","CAEBREN_28219","Caenorhabditis brenneri (Nematode worm)",1090]
["G0PCL2","G0PCL2_CAEBE","CBN-AGL-1 protein","Cbn-agl-1 CAEBREN_21817","Caenorhabditis brenneri (Nematode worm)",1464]
["G0QV62","G0QV62_ICHMG","Uncharacterized protein","IMG5_121490","Ichthyophthirius multifiliis (strain G5) (White spot disease agent) (Ich)",753]
["G0QZ29","G0QZ29_ICHMG","Uncharacterized protein","IMG5_154030","Ichthyophthirius multifiliis (strain G5) (White spot disease agent) (Ich)",1612]
["G0RBU1","G0RBU1_HYPJQ","Glycoside hydrolase family 13","TRIREDRAFT_57128","Hypocrea jecorina (strain QM6a) (Trichoderma reesei)",1557]
["G0SC60","G0SC60_CHATD","Glycogen debranching enzyme-like protein","CTHT_0056040","Chaetomium thermophilum (strain DSM 1495 / CBS 144.50 / IMI 039719)",1567]
["G0V9D2","G0V9D2_NAUCC","Uncharacterized protein","NCAS0A15250 NCAS_0A15250","Naumovozyma castellii (strain ATCC 76901 / CBS 4309 / NBRC 1992 / NRRL Y-12630) (Yeast) (Saccharomyces castellii)",1521]
["G0WHD0","G0WHD0_NAUDC","Uncharacterized protein","NDAI0J00180 NDAI_0J00180","Naumovozyma dairenensis (strain ATCC 10597 / BCRC 20456 / CBS 421 / NBRC 0211 / NRRL Y-12639) (Saccharomyces dairenensis)",1523]
["G1KCM2","G1KCM2_ANOCA","Amylo-alpha-1, 6-glucosidase, 4-alpha-glucanotransferase","AGL","Anolis carolinensis (Green anole) (American chameleon)",1531]
["G1LR84","G1LR84_AILME","Amylo-alpha-1, 6-glucosidase, 4-alpha-glucanotransferase","AGL","Ailuropoda melanoleuca (Giant panda)",1533]
["G1N5J6","G1N5J6_MELGA","Amylo-alpha-1, 6-glucosidase, 4-alpha-glucanotransferase","AGL","Meleagris gallopavo (Wild turkey)",1536]
["G1PTA9","G1PTA9_MYOLU","Amylo-alpha-1, 6-glucosidase, 4-alpha-glucanotransferase","AGL","Myotis lucifugus (Little brown bat)",1533]
["G1RLT1","G1RLT1_NOMLE","Amylo-alpha-1, 6-glucosidase, 4-alpha-glucanotransferase","AGL","Nomascus leucogenys (Northern white-cheeked gibbon) (Hylobates leucogenys)",1532]
["G1TS42","G1TS42_RABIT","Glycogen debranching enzyme","AGL","Oryctolagus cuniculus (Rabbit)",1533]
["G1X7A7","G1X7A7_ARTOA","Uncharacterized protein","AOL_s00054g751","Arthrobotrys oligospora (strain ATCC 24927 / CBS 115.81 / DSM 1491) (Nematode-trapping fungus) (Didymozoophaga oligospora)",1520]
["G2Q5G4","G2Q5G4_MYCTT","Glycoside hydrolase family 13 protein","MYCTH_2295601","Myceliophthora thermophila (strain ATCC 42464 / BCRC 31852 / DSM 1799) (Sporotrichum thermophile)",1573]
["G2QYC2","G2QYC2_THITE","Glycoside hydrolase family 13 protein","THITE_2114181","Thielavia terrestris (strain ATCC 38088 / NRRL 8126) (Acremonium alabamense)",1574]
["G2XJI1","G2XJI1_VERDV","Glycogen debranching enzyme","VDAG_10382","Verticillium dahliae (strain VdLs.17 / ATCC MYA-4575 / FGSC 10137) (Verticillium wilt)",1566]
["G2XQH5","G2XQH5_BOTF4","Glycoside hydrolase family 13 protein","BofuT4_P069200.1","Botryotinia fuckeliana (strain T4) (Noble rot fungus) (Botrytis cinerea)",1287]
["G3AER9","G3AER9_SPAPN","Uncharacterized protein","SPAPADRAFT_132625","Spathaspora passalidarum (strain NRRL Y-27907 / 11-Y1)",1530]
["G3B7R1","G3B7R1_CANTC","Glycogen debranching enzyme","CANTEDRAFT_109322","Candida tenuis (strain ATCC 10573 / BCRC 21748 / CBS 615 / JCM 9827 / NBRC 10315 / NRRL Y-1498 / VKM Y-70) (Yeast)",1511]
["G3JB92","G3JB92_CORMM","Glycogen debranching enzyme","CCM_03522","Cordyceps militaris (strain CM01) (Caterpillar fungus)",1545]
["G3PNW0","G3PNW0_GASAC","Amylo-alpha-1, 6-glucosidase, 4-alpha-glucanotransferase a",null,"Gasterosteus aculeatus (Three-spined stickleback)",1559]
["G3SJU0","G3SJU0_GORGO","Amylo-alpha-1, 6-glucosidase, 4-alpha-glucanotransferase","AGL","Gorilla gorilla gorilla (Western lowland gorilla)",1516]
["G3SM26","G3SM26_LOXAF","Amylo-alpha-1, 6-glucosidase, 4-alpha-glucanotransferase","AGL","Loxodonta africana (African elephant)",1554]
["G3UCH9","G3UCH9_LOXAF","Amylo-alpha-1, 6-glucosidase, 4-alpha-glucanotransferase","AGL","Loxodonta africana (African elephant)",1531]
["G3WP17","G3WP17_SARHA","Uncharacterized protein (Fragment)",null,"Sarcophilus harrisii (Tasmanian devil) (Sarcophilus laniarius)",937]
["G3WP18","G3WP18_SARHA","Uncharacterized protein (Fragment)",null,"Sarcophilus harrisii (Tasmanian devil) (Sarcophilus laniarius)",1182]
["G3XSN7","G3XSN7_ASPNA","Amylo-alpha-1,6-glucosidase (EC 3.2.1.33)","ASPNIDRAFT_46621","Aspergillus niger (strain ATCC 1015 / CBS 113.46 / FGSC A1144 / LSHB Ac4 / NCTC 3858a / NRRL 328 / USDA 3528.7)",1539]
["G4NES1","G4NES1_MAGO7","Glycogen debranching enzymye","MGG_00063","Magnaporthe oryzae (strain 70-15 / ATCC MYA-4617 / FGSC 8958) (Rice blast fungus) (Pyricularia oryzae)",1588]
["G4U2U9","G4U2U9_SERID","Probable 4-alpha-glucanotransferase / amylo-1,6-glucosidase (Glycogen-debranching enzyme)","PIIN_00538","Serendipita indica (strain DSM 11827) (Root endophyte fungus) (Piriformospora indica)",1604]
["G4U8D0","G4U8D0_NEUT9","Glycogen debranching enzyme","NEUTE2DRAFT_98935","Neurospora tetrasperma (strain FGSC 2509 / P0656)",1566]
["G4VPZ3","G4VPZ3_SCHMA","Uncharacterized protein","Smp_007640","Schistosoma mansoni (Blood fluke)",978]
["G5C720","G5C720_HETGA","Glycogen debranching enzyme","GW7_08051","Heterocephalus glaber (Naked mole rat)",1523]
["G6D6T7","G6D6T7_DANPL","Deleted."]
["G7DTR3","G7DTR3_MIXOS","Uncharacterized protein","Mo00620 E5Q_00620","Mixia osmundae (strain CBS 9802 / IAM 14324 / JCM 22182 / KY 12970)",1594]
["G7NV22","G7NV22_MACFA","Uncharacterized protein","EGM_00868","Macaca fascicularis (Crab-eating macaque) (Cynomolgus monkey)",1533]
["G7X9C7","G7X9C7_ASPKW","Glycogen debranching enzyme Gdb1","AKAW_01659","Aspergillus kawachii (strain NBRC 4308) (White koji mold) (Aspergillus awamori var. kawachi)",1536]
["G7YQV3","G7YQV3_CLOSI","Glycogen debranching enzyme (Fragment)","CLF_107611","Clonorchis sinensis (Chinese liver fluke)",1499]
["G8BH52","G8BH52_CANPC","Uncharacterized protein","CPAR2_500020","Candida parapsilosis (strain CDC 317 / ATCC MYA-4646) (Yeast) (Monilia parapsilosis)",1519]
["G8BY52","G8BY52_TETPH","Uncharacterized protein","TPHA0I03290 TPHA_0I03290","Tetrapisispora phaffii (strain ATCC 24235 / CBS 4417 / NBRC 1672 / NRRL Y-8282 / UCD 70-5) (Yeast) (Fabospora phaffii)",1563]
["G8JQE8","G8JQE8_ERECY","Uncharacterized protein","Ecym_2815","Eremothecium cymbalariae (strain CBS 270.75 / DBVPG 7215 / KCTC 17166 / NRRL Y-17582) (Yeast)",1524]
["G8YCT6","G8YCT6_PICSO","Piso0_002512 protein","Piso0_002512 GNLVRS01_PISO0J13605g","Pichia sorbitophila (strain ATCC MYA-4447 / BCRC 22081 / CBS 7064 / NBRC 10061 / NRRL Y-12695) (Hybrid yeast)",1513]
["G8YF87","G8YF87_PICSO","Piso0_002512 protein","Piso0_002512 GNLVRS01_PISO0I11778g","Pichia sorbitophila (strain ATCC MYA-4447 / BCRC 22081 / CBS 7064 / NBRC 10061 / NRRL Y-12695) (Hybrid yeast)",1513]
["G8ZZ45","G8ZZ45_TORDC","Uncharacterized protein","TDEL0H00300 TDEL_0H00300","Torulaspora delbrueckii (strain ATCC 10662 / CBS 1146 / NBRC 0425 / NCYC 2629 / NRRL Y-866) (Yeast) (Candida colliculosa)",1526]
["G9N5P0","G9N5P0_HYPVG","Glycoside hydrolase family 13 protein","TRIVIDRAFT_76499","Hypocrea virens (strain Gv29-8 / FGSC 10586) (Gliocladium virens) (Trichoderma virens)",1557]
["G9NGJ9","G9NGJ9_HYPAI","Glycoside hydrolase family 13 protein","TRIATDRAFT_154302","Hypocrea atroviridis (strain ATCC 20476 / IMI 206040) (Trichoderma atroviride)",1557]
["H0EHK2","H0EHK2_GLAL7","Putative Glycogen debranching enzyme","M7I_1984","Glarea lozoyensis (strain ATCC 74030 / MF5533)",1557]
["H0VJR7","H0VJR7_CAVPO","Amylo-alpha-1, 6-glucosidase, 4-alpha-glucanotransferase","AGL","Cavia porcellus (Guinea pig)",1532]
["H0WSE9","H0WSE9_OTOGA","Amylo-alpha-1, 6-glucosidase, 4-alpha-glucanotransferase","AGL","Otolemur garnettii (Small-eared galago) (Garnett's greater bushbaby)",1554]
["H0XMV7","H0XMV7_OTOGA","Amylo-alpha-1, 6-glucosidase, 4-alpha-glucanotransferase","AGL","Otolemur garnettii (Small-eared galago) (Garnett's greater bushbaby)",1532]
["H0Z4Q4","H0Z4Q4_TAEGU","Amylo-alpha-1, 6-glucosidase, 4-alpha-glucanotransferase","AGL","Taeniopygia guttata (Zebra finch) (Poephila guttata)",1530]
["H1UVW2","H1UVW2_COLHI","Glycogen debranching enzymye","CH063_04560","Colletotrichum higginsianum (strain IMI 349063) (Crucifer anthracnose fungus)",1571]
["H2APN0","H2APN0_KAZAF","Uncharacterized protein","KAFR0B00300 KAFR_0B00300","Kazachstania africana (strain ATCC 22294 / BCRC 22015 / CBS 2517 / CECT 1963 / NBRC 1671 / NRRL Y-8276) (Yeast) (Kluyveromyces africanus)",1529]
["H2LLD2","H2LLD2_ORYLA","Amylo-alpha-1, 6-glucosidase, 4-alpha-glucanotransferase a","agl","Oryzias latipes (Japanese rice fish) (Japanese killifish)",1559]
["H2N6N7","H2N6N7_PONAB","Amylo-alpha-1, 6-glucosidase, 4-alpha-glucanotransferase","AGL","Pongo abelii (Sumatran orangutan) (Pongo pygmaeus abelii)",1299]
["H2PZG8","H2PZG8_PANTR","AGL isoform 1 (AGL isoform 2) (AGL isoform 3) (AGL isoform 4) (Amylo-alpha-1, 6-glucosidase, 4-alpha-glucanotransferase)","AGL CK820_G0020762","Pan troglodytes (Chimpanzee)",1532]
["H2U5M9","H2U5M9_TAKRU","Amylo-alpha-1, 6-glucosidase, 4-alpha-glucanotransferase a","agl","Takifugu rubripes (Japanese pufferfish) (Fugu rubripes)",1532]
["H2U5N0","H2U5N0_TAKRU","Amylo-alpha-1, 6-glucosidase, 4-alpha-glucanotransferase a","agl","Takifugu rubripes (Japanese pufferfish) (Fugu rubripes)",1532]
["H2W410","H2W410_CAEJA","Deleted."]
["H2ZLQ6","H2ZLQ6_CIOSA","Uncharacterized protein",null,"Ciona savignyi (Pacific transparent sea squirt)",1410]
["H3AL55","H3AL55_LATCH","Amylo-alpha-1, 6-glucosidase, 4-alpha-glucanotransferase","AGL","Latimeria chalumnae (West Indian ocean coelacanth)",1533]
["H3AL56","H3AL56_LATCH","Amylo-alpha-1, 6-glucosidase, 4-alpha-glucanotransferase","AGL","Latimeria chalumnae (West Indian ocean coelacanth)",1533]
["H3DLB9","H3DLB9_TETNG","Amylo-alpha-1, 6-glucosidase, 4-alpha-glucanotransferase a",null,"Tetraodon nigroviridis (Spotted green pufferfish) (Chelonodon nigroviridis)",1534]
["H3FFD1","H3FFD1_PRIPA","Uncharacterized protein","WBGene00110516","Pristionchus pacificus (Parasitic nematode)",685]
["H3FFD2","H3FFD2_PRIPA","Uncharacterized protein","WBGene00110517","Pristionchus pacificus (Parasitic nematode)",860]
["H6BL98","H6BL98_EXODN","Uncharacterized protein","HMPREF1120_00070","Exophiala dermatitidis (strain ATCC 34100 / CBS 525.76 / NIH/UT8656) (Black yeast) (Wangiella dermatitidis)",1556]
["H9JMY5","H9JMY5_BOMMO","Uncharacterized protein",null,"Bombyx mori (Silk moth)",1138]
["I1C152","I1C152_RHIO9","Glycogen debranching enzyme","RO3G_06887","Rhizopus delemar (strain RA 99-880 / ATCC MYA-4621 / FGSC 9543 / NRRL 43880) (Mucormycosis agent) (Rhizopus arrhizus var. delemar)",1499]
["I1FDE0","I1FDE0_AMPQE","Deleted."]
["I1RZ78","I1RZ78_GIBZE","Uncharacterized protein","FG09704.1 FGRAMPH1_01T26479","Gibberella zeae (strain PH-1 / ATCC MYA-4620 / FGSC 9075 / NRRL 31084) (Wheat head blight fungus) (Fusarium graminearum)",1553]
["I2FPU0","I2FPU0_USTH4","Probable 4-alpha-glucanotransferase / amylo-1,6-glucosidase (Glycogen-debranching enzyme)","UHOR_05985","Ustilago hordei (strain Uh4875-4) (Barley covered smut fungus)",1571]
["I2H9G0","I2H9G0_TETBL","Uncharacterized protein","TBLA0J00110 TBLA_0J00110","Tetrapisispora blattae (strain ATCC 34711 / CBS 6284 / DSM 70876 / NBRC 10599 / NRRL Y-10934 / UCD 77-7) (Yeast) (Kluyveromyces blattae)",1533]
["I2K053","I2K053_DEKBR","Glycogen debranching enzyme","AWRI1499_1475","Brettanomyces bruxellensis AWRI1499",867]
["I3IZN6","I3IZN6_ORENI","Amylo-alpha-1, 6-glucosidase, 4-alpha-glucanotransferase a","agl","Oreochromis niloticus (Nile tilapia) (Tilapia nilotica)",1518]
["J3P6J6","J3P6J6_GAGT3","Glycogen debranching enzyme","GGTG_09137","Gaeumannomyces graminis var. tritici (strain R3-111a-1) (Wheat and barley take-all root rot fungus)",1577]
["J4GPF6","J4GPF6_9APHY","Uncharacterized protein","FIBRA_04549","Fibroporia radiculosa",1611]
["J4KPW8","J4KPW8_BEAB2","Glycoside hydrolase family 13","BBA_03075","Beauveria bassiana (strain ARSEF 2860) (White muscardine disease fungus) (Tritirachium shiotae)",1545]
["J7R876","J7R876_KAZNA","Uncharacterized protein","KNAG0F03960 KNAG_0F03960","Kazachstania naganishii (strain ATCC MYA-139 / BCRC 22969 / CBS 8797 / CCRC 22969 / KCTC 17520 / NBRC 10181 / NCYC 3082) (Yeast) (Saccharomyces naganishii)",1538]
["J9E4Y2","J9E4Y2_WUCBA","Uncharacterized protein","WUBG_11891","Wuchereria bancrofti",284]
["J9EHP7","J9EHP7_WUCBA","Uncharacterized protein (Fragment)","WUBG_14172","Wuchereria bancrofti",251]
["J9ICV4","J9ICV4_9SPIT","Glycogen debranching protein, putative","OXYTRI_02229","Oxytricha trifallax",1776]
["J9J9U9","J9J9U9_9SPIT","Glycogen debranching enzyme Gdb1, putative","OXYTRI_18875","Oxytricha trifallax",1018]
["J9JL61","J9JL61_ACYPI","Uncharacterized protein","LOC100159564","Acyrthosiphon pisum (Pea aphid)",1520]
["K0KJM8","K0KJM8_WICCF","Glycogen debranching enzyme (EC 3.2.1.33)","GDB1 BN7_5052","Wickerhamomyces ciferrii (strain F-60-10 / ATCC 14091 / CBS 111 / JCM 3599 / NBRC 0793 / NRRL Y-1031) (Yeast) (Pichia ciferrii)",1501]
["K1PW08","K1PW08_CRAGI","Glycogen debranching enzyme","CGI_10005875","Crassostrea gigas (Pacific oyster) (Crassostrea angulata)",1137]
["K1VYD8","K1VYD8_TRIAC","Glycogen debranching enzyme","A1Q2_01124","Trichosporon asahii var. asahii (strain CBS 8904) (Yeast)",1639]
["K1WXM4","K1WXM4_MARBU","Glycogen debranching enzyme","MBM_04879","Marssonina brunnea f. sp. multigermtubi (strain MB_m1) (Marssonina leaf spot fungus)",1550]
["K2RJH2","K2RJH2_MACPH","Uncharacterized protein","MPH_08078","Macrophomina phaseolina (strain MS6) (Charcoal rot fungus)",1545]
["K3VP26","K3VP26_FUSPC","Uncharacterized protein","FPSE_04308","Fusarium pseudograminearum (strain CS3096) (Wheat and barley crown-rot fungus)",1553]
["K5WID5","K5WID5_PHACS","Glycoside hydrolase family 13 protein","PHACADRAFT_213770","Phanerochaete carnosa (strain HHB-10118-sp) (White-rot fungus) (Peniophora carnosa)",1611]
["K5XER8","K5XER8_AGABU","Uncharacterized protein","AGABI1DRAFT_118950","Agaricus bisporus var. burnettii (strain JB137-S8 / ATCC MYA-4627 / FGSC 10392) (White button mushroom)",1544]
["K7G8P8","K7G8P8_PELSI","Amylo-alpha-1, 6-glucosidase, 4-alpha-glucanotransferase","AGL","Pelodiscus sinensis (Chinese softshell turtle) (Trionyx sinensis)",1531]
["K7J9S2","K7J9S2_NASVI","Uncharacterized protein",null,"Nasonia vitripennis (Parasitic wasp)",1667]
["K9GPV4","K9GPV4_PEND2","Glycogen debranching enzyme Gdb1, putative","PDIG_28670","Penicillium digitatum (strain PHI26 / CECT 20796) (Green mold)",1534]
["L0PG12","L0PG12_PNEJ8","Uncharacterized protein","PNEJI1_000567","Pneumocystis jirovecii (strain SE8) (Human pneumocystis pneumonia agent)",1786]
["L2G928","L2G928_COLGN","Glycogen debranching enzyme","CGGC5_5087","Colletotrichum gloeosporioides (strain Nara gc5) (Anthracnose fungus) (Glomerella cingulata)",1566]
["L5K396","L5K396_PTEAL","Glycogen debranching enzyme","PAL_GLEAN10017302","Pteropus alecto (Black flying fox)",1390]
["L5LXG2","L5LXG2_MYODS","Glycogen debranching enzyme","MDA_GLEAN10024666","Myotis davidii (David's myotis)",1536]
["L8FUI4","L8FUI4_PSED2","Uncharacterized protein","GMDG_06148","Pseudogymnoascus destructans (strain ATCC MYA-4855 / 20631-21) (Bat white-nose syndrome fungus) (Geomyces destructans)",1153]
["L8X4Q1","L8X4Q1_THACA","Glycogen debranching enzyme","AG1IA_02352","Thanatephorus cucumeris (strain AG1-IA) (Rice sheath blight fungus) (Rhizoctonia solani)",1629]
["L8Y2P5","L8Y2P5_TUPCH","Glycogen debranching enzyme","TREES_T100007013","Tupaia chinensis (Chinese tree shrew)",1039]
["M1W1F8","M1W1F8_CLAP2","Probable 4-alpha-glucanotransferase / amylo-1,6-glucosidase (Glycogen-debranching enzyme)","CPUR_00229","Claviceps purpurea (strain 20.1) (Ergot fungus) (Sphacelia segetum)",1559]
["M2M3S2","M2M3S2_BAUCO","Glycoside hydrolase family 13 protein","BAUCODRAFT_318661","Baudoinia compniacensis (strain UAMH 10762) (Angels' share fungus)",1559]
["M2RJS3","M2RJS3_CERS8","Glycoside hydrolase family 13 protein","CERSUDRAFT_104322","Ceriporiopsis subvermispora (strain B) (White-rot fungus) (Gelatoporia subvermispora)",1516]
["M2S4D3","M2S4D3_COCSN","Glycoside hydrolase family 13 protein","COCSADRAFT_227145","Cochliobolus sativus (strain ND90Pr / ATCC 201652) (Common root rot and spot blotch fungus) (Bipolaris sorokiniana)",1559]
["M2TWV8","M2TWV8_COCH5","Glycoside hydrolase family 13 protein","COCHEDRAFT_1176700","Cochliobolus heterostrophus (strain C5 / ATCC 48332 / race O) (Southern corn leaf blight fungus) (Bipolaris maydis)",1559]
["M2YK58","M2YK58_DOTSN","Glycoside hydrolase family 13 protein","DOTSEDRAFT_75111","Dothistroma septosporum (strain NZE10 / CBS 128990) (Red band needle blight fungus) (Mycosphaerella pini)",1553]
["M3A760","M3A760_PSEFD","Glycoside hydrolase family 13 protein","MYCFIDRAFT_56808","Pseudocercospora fijiensis (strain CIRAD86) (Black leaf streak disease fungus) (Mycosphaerella fijiensis)",1554]
["M3BU19","M3BU19_SPHMS","Glycoside hydrolase family 13 protein","SEPMUDRAFT_151180","Sphaerulina musiva (strain SO2202) (Poplar stem canker fungus) (Septoria musiva)",1552]
["M3JST8","M3JST8_CANMX","Glycogen debranching enzyme","G210_3911","Candida maltosa (strain Xu316) (Yeast)",1530]
["M3X112","M3X112_FELCA","Amylo-alpha-1, 6-glucosidase, 4-alpha-glucanotransferase","AGL","Felis catus (Cat) (Felis silvestris catus)",1533]
["M3YLH2","M3YLH2_MUSPF","Amylo-alpha-1, 6-glucosidase, 4-alpha-glucanotransferase","AGL","Mustela putorius furo (European domestic ferret) (Mustela furo)",1533]
["M3ZFB7","M3ZFB7_XIPMA","Uncharacterized protein",null,"Xiphophorus maculatus (Southern platyfish) (Platypoecilus maculatus)",1529]
["M5BPU2","M5BPU2_THACB","4-alpha-glucanotransferase (EC 3.2.1.33)","BN14_02435","Thanatephorus cucumeris (strain AG1-IB / isolate 7/3/14) (Lettuce bottom rot fungus) (Rhizoctonia solani)",2104]
["M5FZW2","M5FZW2_DACPD","Glycoside hydrolase family 13 protein","DACRYDRAFT_77190","Dacryopinax primogenitus (strain DJM 731) (Brown rot fungus)",1596]
["M7B7S1","M7B7S1_CHEMY","Glycogen debranching enzyme","UY3_09664","Chelonia mydas (Green sea-turtle) (Chelonia agassizi)",1748]
["M7PC58","M7PC58_PNEMU","Glycogen debranching enzyme","PNEG_00495","Pneumocystis murina (strain B123) (Mouse pneumocystis pneumonia agent) (Pneumocystis carinii f. sp. muris)",1516]
["M7SMT2","M7SMT2_EUTLA","Putative glycogen debranching enzyme protein","UCREL1_7294","Eutypa lata (strain UCR-EL1) (Grapevine dieback disease fungus) (Eutypa armeniacae)",1551]
["M7TLI0","M7TLI0_BOTF1","Putative glycogen debranching enzyme protein","BcDW1_9138","Botryotinia fuckeliana (strain BcDW1) (Noble rot fungus) (Botrytis cinerea)",1551]
["M7XLS6","M7XLS6_RHOT1","Glycogen debranching enzyme, glycoside hydrolase family 13 protein","RHTO_05039","Rhodosporidium toruloides (strain NP11) (Yeast) (Rhodotorula gracilis)",1597]
["M9MG38","M9MG38_PSEA3","Alpha amylase","PANT_13d00042","Pseudozyma antarctica (strain T-34) (Yeast) (Candida antarctica)",1581]
["N1J6R0","N1J6R0_BLUG1","Glycogen debranching enzyme","BGHDH14_bghG000684000002001","Blumeria graminis f. sp. hordei (strain DH14) (Barley powdery mildew) (Oidium monilioides f. sp. hordei)",1558]
["N1RE77","N1RE77_FUSC4","Glycogen debranching enzyme","FOC4_g10011726","Fusarium oxysporum f. sp. cubense (strain race 4) (Panama disease fungus)",1556]
["N4UG34","N4UG34_FUSC1","Glycogen debranching enzyme","FOC1_g10010148","Fusarium oxysporum f. sp. cubense (strain race 1) (Panama disease fungus)",1556]
["N4VNG1","N4VNG1_COLOR","Glycogen debranching enzyme","Cob_03604","Colletotrichum orbiculare (strain 104-T / ATCC 96160 / CBS 514.97 / LARS 414 / MAFF 240422) (Cucumber anthracnose fungus) (Colletotrichum lagenarium)",1571]
["O62334","O62334_CAEEL","AGL (Amylo-1,6-GLucosidase, 4-alpha-glucanotransferase) glycogen debranching enzyme","agl-1 CELE_R06A4.8 R06A4.8","Caenorhabditis elegans",1467]
["P35573","GDE_HUMAN","Glycogen debranching enzyme (Glycogen debrancher) [Includes: 4-alpha-glucanotransferase (EC 2.4.1.25) (Oligo-1,4-1,4-glucantransferase); Amylo-alpha-1,6-glucosidase (Amylo-1,6-glucosidase) (EC 3.2.1.33) (Dextrin 6-alpha-D-glucosidase)]","AGL GDE","Homo sapiens (Human)",1532]
["P35574","GDE_RABIT","Glycogen debranching enzyme (Glycogen debrancher) [Includes: 4-alpha-glucanotransferase (EC 2.4.1.25) (Oligo-1,4-1,4-glucantransferase); Amylo-alpha-1,6-glucosidase (Amylo-1,6-glucosidase) (EC 3.2.1.33) (Dextrin 6-alpha-D-glucosidase)]","AGL","Oryctolagus cuniculus (Rabbit)",1555]
["Q06625","GDE_YEAST","Glycogen debranching enzyme (Glycogen debrancher) [Includes: 4-alpha-glucanotransferase (EC 2.4.1.25) (Oligo-1,4-1,4-glucantransferase); Amylo-alpha-1,6-glucosidase (Amylo-1,6-glucosidase) (EC 3.2.1.33) (Dextrin 6-alpha-D-glucosidase)]","GDB1 YPR184W","Saccharomyces cerevisiae (strain ATCC 204508 / S288c) (Baker's yeast)",1536]
["Q0CN55","Q0CN55_ASPTN","Glycogen debranching enzyme","ATEG_04879","Aspergillus terreus (strain NIH 2624 / FGSC A1156)",1544]
["Q0UXB3","Q0UXB3_PHANO","Uncharacterized protein","SNOG_03601","Phaeosphaeria nodorum (strain SN15 / ATCC MYA-4574 / FGSC 10173) (Glume blotch fungus) (Parastagonospora nodorum)",1563]
["Q16UP5","Q16UP5_AEDAE","AAEL009838-PA (Glycogen debranching enzyme)","AAEL009838","Aedes aegypti (Yellowfever mosquito) (Culex aegypti)",1550]
["Q291U7","Q291U7_DROPS","Uncharacterized protein, isoform B (EC 2.4.1.25) (EC 3.2.1.33)","Dpse\\GA21822 Dpse_GA21822 GA21822","Drosophila pseudoobscura pseudoobscura (Fruit fly)",1564]
["Q2HF43","Q2HF43_CHAGB","Uncharacterized protein","CHGG_01161","Chaetomium globosum (strain ATCC 6205 / CBS 148.51 / DSM 1962 / NBRC 6347 / NRRL 1970) (Soil fungus)",1563]
["Q2PQH8","GDE_CANLF","Glycogen debranching enzyme (Glycogen debrancher) [Includes: 4-alpha-glucanotransferase (EC 2.4.1.25) (Oligo-1,4-1,4-glucantransferase); Amylo-alpha-1,6-glucosidase (Amylo-1,6-glucosidase) (EC 3.2.1.33) (Dextrin 6-alpha-D-glucosidase)]","AGL","Canis lupus familiaris (Dog) (Canis familiaris)",1533]
["Q2URC4","Q2URC4_ASPOR","Uncharacterized protein","AO090005000884","Aspergillus oryzae (strain ATCC 42149 / RIB 40) (Yellow koji mold)",1537]
["Q4WKK6","Q4WKK6_ASPFU","Glycogen debranching enzyme Gdb1, putative","AFUA_1G02140","Neosartorya fumigata (strain ATCC MYA-4609 / Af293 / CBS 101355 / FGSC A1100) (Aspergillus fumigatus)",1612]
["Q54K94","Q54K94_DICDI","Uncharacterized protein","DDB0219237","Dictyostelium discoideum (Slime mold)",1608]
["Q59MN2","Q59MN2_CANAL","Bifunctional 4-alpha-glucanotransferase/amylo-alpha-1,6-glucosidase","GDB1 orf19.744 CAALFM_C405140CA","Candida albicans (strain SC5314 / ATCC MYA-2876) (Yeast)",1527]
["Q5CXJ2","Q5CXJ2_CRYPI","Gdb1p glycogen debranching enzyme","cgd6_880","Cryptosporidium parvum (strain Iowa II)",1891]
["Q5KA48","Q5KA48_CRYNJ","Glycogen debranching enzyme, putative","CNJ03090","Cryptococcus neoformans var. neoformans serotype D (strain JEC21 / ATCC MYA-565) (Filobasidiella neoformans)",1593]
["Q6BUY8","Q6BUY8_DEBHA","DEHA2C06864p","DEHA2C06864g","Debaryomyces hansenii (strain ATCC 36239 / CBS 767 / JCM 1990 / NBRC 0083 / IGC 2968) (Yeast) (Torulaspora hansenii)",1521]
["Q6CGI3","Q6CGI3_YARLI","YALI0A19074p","YALI0_A19074g","Yarrowia lipolytica (strain CLIB 122 / E 150) (Yeast) (Candida lipolytica)",1494]
["Q6FSK0","Q6FSK0_CANGA","Uncharacterized protein","GDB1 CAGL0G09977g","Candida glabrata (strain ATCC 2001 / CBS 138 / JCM 3761 / NBRC 0622 / NRRL Y-65) (Yeast) (Torulopsis glabrata)",1528]
["Q758N1","Q758N1_ASHGO","AEL276Cp","AGOS_AEL276C","Ashbya gossypii (strain ATCC 10895 / CBS 109.51 / FGSC 9923 / NRRL Y-1056) (Yeast) (Eremothecium gossypii)",1518]
["Q7KVP4","Q7KVP4_DROME","CG9485, isoform A (EC 2.4.1.25) (EC 3.2.1.33) (CG9485, isoform E) (CG9485, isoform F)","CG9485 Dmel_CG9485","Drosophila melanogaster (Fruit fly)",1542]
["Q7PX40","Q7PX40_ANOGA","AGAP001200-PA (Glycogen debranching enzyme)","1281968 AgaP_AGAP001200","Anopheles gambiae (African malaria mosquito)",1557]
["Q7SED5","Q7SED5_NEUCR","Glycogen debranching enzyme","NCU00743","Neurospora crassa (strain ATCC 24698 / 74-OR23-1A / CBS 708.71 / DSM 1257 / FGSC 987)",1566]
["Q86BS7","Q86BS7_DROME","CG9485, isoform C (EC 2.4.1.25) (EC 3.2.1.33)","CG9485 Dmel_CG9485","Drosophila melanogaster (Fruit fly)",1546]
["Q9W2H8","Q9W2H8_DROME","CG9485, isoform B (EC 2.4.1.25) (EC 3.2.1.33)","CG9485 Dmel_CG9485","Drosophila melanogaster (Fruit fly)",1629]
["R0I5E7","R0I5E7_SETT2","Glycoside hydrolase family 13 protein","SETTUDRAFT_143957","Setosphaeria turcica (strain 28A) (Northern leaf blight fungus) (Exserohilum turcicum)",1564]
["R1ENZ2","R1ENZ2_BOTPV","Putative glycogen debranching enzyme protein","UCRNP2_3942","Botryosphaeria parva (strain UCR-NP2) (Grapevine canker fungus) (Neofusicoccum parvum)",1546]
["R4X711","R4X711_TAPDE","Glycogen debranching enzyme","TAPDE_000460","Taphrina deformans (strain PYCC 5710 / ATCC 11124 / CBS 356.35 / IMI 108563 / JCM 9778 / NBRC 8474) (Peach leaf curl fungus) (Lalaria deformans)",1511]
["R7YY15","R7YY15_CONA1","Amylo-1,6-glucosidase","W97_05915","Coniosporium apollinis (strain CBS 100218) (Rock-inhabiting black yeast)",1554]
["R8BET4","R8BET4_TOGMI","Putative glycogen debranching enzyme protein","UCRPA7_6677","Togninia minima (strain UCR-PA7) (Esca disease fungus) (Phaeoacremonium aleophilum)",1561]
["R9PE26","R9PE26_PSEHS","Likely glycogen debranching enzyme","PHSY_007227","Pseudozyma hubeiensis (strain SY62) (Yeast)",1568]
["S0DU02","S0DU02_GIBF5","Probable 4-alpha-glucanotransferase / amylo-1,6-glucosidase (Glycogen-debranching enzyme)","FFUJ_04800","Gibberella fujikuroi (strain CBS 195.34 / IMI 58289 / NRRL A-6831) (Bakanae and foot rot disease fungus) (Fusarium fujikuroi)",1556]
["S2JV67","S2JV67_MUCC1","Uncharacterized protein","HMPREF1544_06474","Mucor circinelloides f. circinelloides (strain 1006PhL) (Mucormycosis agent) (Calyptromyces circinelloides)",1522]
["S3BXP7","S3BXP7_OPHP1","Glycogen debranching enzyme","F503_04716","Ophiostoma piceae (strain UAMH 11346) (Sap stain fungus)",1569]
["S3CNJ0","S3CNJ0_GLAL2","Six-hairpin glycosidase","GLAREA_04863","Glarea lozoyensis (strain ATCC 20868 / MF5171)",1557]
["S6F5Y1","S6F5Y1_ZYGB2","ZYBA0S06-06986g1_1","BN860_06986g","Zygosaccharomyces bailii (strain CLIB 213 / ATCC 58445 / CBS 680 / CCRC 21525 / NBRC 1098 / NCYC 1416 / NRRL Y-2227)",1524]
["S7Q397","S7Q397_MYOBR","Glycogen debranching enzyme","D623_10018728","Myotis brandtii (Brandt's bat)",1512]
["S7RTJ5","S7RTJ5_GLOTA","Glycoside hydrolase family 13 protein","GLOTRDRAFT_138185","Gloeophyllum trabeum (strain ATCC 11539 / FP-39264 / Madison 617) (Brown rot fungus)",1609]
["S7ZFX6","S7ZFX6_PENO1","Putative glycogen debranching enzyme","PDE_04535","Penicillium oxalicum (strain 114-2 / CGMCC 5302) (Penicillium decumbens)",1531]
["S8AGT1","S8AGT1_DACHA","Uncharacterized protein","H072_3786","Dactylellina haptotyla (strain CBS 200.50) (Nematode-trapping fungus) (Monacrosporium haptotylum)",1520]
["S8FR05","S8FR05_FOMPI","Uncharacterized protein","FOMPIDRAFT_128035","Fomitopsis pinicola (strain FP-58527) (Brown rot fungus)",1523]
["S9WDR6","S9WDR6_CAMFR","Uncharacterized protein","CB1_001428099","Camelus ferus (Wild bactrian camel) (Camelus bactrianus ferus)",786]
["T0K3Z4","T0K3Z4_COLGC","Glycogen debranching enzyme","CGLO_14462","Colletotrichum gloeosporioides (strain Cg-14) (Anthracnose fungus) (Glomerella cingulata)",1565]
["T1EEV2","T1EEV2_HELRO","Uncharacterized protein","20195104 HELRODRAFT_109597","Helobdella robusta (Californian leech)",1530]
["T1GKN8","T1GKN8_MEGSC","Uncharacterized protein",null,"Megaselia scalaris (Humpbacked fly) (Phora scalaris)",536]
["T1HQC3","T1HQC3_RHOPR","Uncharacterized protein (Fragment) (Fragment)",null,"Rhodnius prolixus (Triatomid bug)",1474]
["T1J746","T1J746_STRMM","Uncharacterized protein",null,"Strigamia maritima (European centipede) (Geophilus maritimus)",1569]
["T1JUG0","T1JUG0_TETUR","Uncharacterized protein",null,"Tetranychus urticae (Two-spotted spider mite)",1532]
["T1JUL4","T1JUL4_TETUR","Uncharacterized protein",null,"Tetranychus urticae (Two-spotted spider mite)",1307]
["T5AFY6","T5AFY6_OPHSC","Glycogen debranching enzyme","OCS_03645","Ophiocordyceps sinensis (strain Co18 / CGMCC 3.14243) (Yarsagumba caterpillar fungus) (Hirsutella sinensis)",1594]
["U1HM11","U1HM11_ENDPU","Uncharacterized protein","EPUS_03479","Endocarpon pusillum (strain Z07020 / HMAS-L-300199) (Lichen-forming fungus)",1546]
["U1MI54","U1MI54_ASCSU","Deleted."]
["U3J1L9","U3J1L9_ANAPL","Amylo-alpha-1, 6-glucosidase, 4-alpha-glucanotransferase","AGL","Anas platyrhynchos (Mallard) (Anas boschas)",1312]
["U3JI98","U3JI98_FICAL","Amylo-alpha-1, 6-glucosidase, 4-alpha-glucanotransferase","AGL","Ficedula albicollis (Collared flycatcher) (Muscicapa albicollis)",1530]
["U4KYJ0","U4KYJ0_PYROM","Similar to Glycogen debranching enzyme acc. no. Q06625","PCON_06222","Pyronema omphalodes (strain CBS 100304) (Pyronema confluens)",1525]
["U4UE49","U4UE49_DENPD","Uncharacterized protein","D910_06228","Dendroctonus ponderosae (Mountain pine beetle)",1718]
["U5H663","U5H663_USTV1","Amylo-1,6-glucosidase","MVLG_02767","Microbotryum lychnidis-dioicae (strain p1A1 Lamole / MvSl-1064) (Anther smut fungus)",1565]
["U6GUU5","U6GUU5_EIMAC","Glycogen debranching enzyme, putative","EAH_00046680","Eimeria acervulina (Coccidian parasite)",1171]
["U6JZI1","U6JZI1_9EIME","Glycogen debranching enzyme, putative","EMH_0045110","Eimeria mitis",774]
["U6L804","U6L804_EIMTE","Glycogen debranching enzyme, putative (Fragment)","ETH_00034230","Eimeria tenella (Coccidian parasite)",571]
["U6LN22","U6LN22_9EIME","Glycogen debranching enzyme, putative","EBH_0024670","Eimeria brunetti",1381]
["U6N4S6","U6N4S6_9EIME","Glycogen debranching enzyme, putative","ENH_00060760","Eimeria necatrix",1183]
["U6P8Q5","U6P8Q5_HAECO","Amylo-alpha-1 domain containing protein","HCOI_01326900","Haemonchus contortus (Barber pole worm)",1509]
["U7PL85","U7PL85_SPOS1","Glycogen debranching enzyme","HMPREF1624_07771","Sporothrix schenckii (strain ATCC 58251 / de Perez 2211183) (Rose-picker's disease fungus)",1582]
["U9T0T6","U9T0T6_RHIID","Uncharacterized protein","GLOINDRAFT_256840","Rhizophagus irregularis (strain DAOM 181602 / DAOM 197198 / MUCL 43194) (Arbuscular mycorrhizal fungus) (Glomus intraradices)",1613]
["V2YXH6","V2YXH6_MONRO","Glycogen debranching enzyme","Moror_6922","Moniliophthora roreri (strain MCA 2997) (Cocoa frosty pod rot fungus) (Crinipellis roreri)",1594]
["V4ALP1","V4ALP1_LOTGI","Uncharacterized protein","LOTGIDRAFT_215487","Lottia gigantea (Giant owl limpet)",1563]
["V4ZBE9","V4ZBE9_TOXGV","Amylo-alpha-1,6-glucosidase (EC 2.4.1.25)","TGVEG_226910","Toxoplasma gondii (strain ATCC 50861 / VEG)",1880]
["V5E335","V5E335_KALBG","Alpha amylase","PSEUBRA_SCAF9g01298","Kalmanozyma brasiliensis (strain GHG001) (Yeast) (Pseudozyma brasiliensis)",1570]
["V5FW38","V5FW38_BYSSN","Glycogen debranching enzyme Gdb1, putative","PVAR5_2545","Byssochlamys spectabilis (strain No. 5 / NBRC 109023) (Paecilomyces variotii)",1536]
["V6LPQ1","V6LPQ1_9EUKA","Glycogen debranching enzyme","SS50377_13803","Spironucleus salmonicida",1428]
["V6TUL1","V6TUL1_GIAIN","4-alpha-glucanotransferase / Amylo-alpha-1,6-glucosidase","GSB_10885","Giardia intestinalis (Giardia lamblia)",1735]
["V8PGB5","V8PGB5_OPHHA","Glycogen debranching enzyme (Fragment)","AGL L345_00554","Ophiophagus hannah (King cobra) (Naja hannah)",1479]
["W1QEP6","W1QEP6_OGAPD","Glycogen debranching enzyme (EC 2.4.1.25)","HPODL_05177","Ogataea parapolymorpha (strain ATCC 26012 / BCRC 20466 / JCM 22074 / NRRL Y-7560 / DL-1) (Yeast) (Hansenula polymorpha)",1512]
["W2RR45","W2RR45_9EURO","Glycogen debranching enzyme","HMPREF1541_06954","Cyphellophora europaea CBS 101466",1553]
["W2THL3","W2THL3_NECAM","Glycogen debranching enzyme","NECAME_08416","Necator americanus (Human hookworm)",1286]
["W3XM16","W3XM16_PESFW","Uncharacterized protein","PFICI_00843","Pestalotiopsis fici (strain W106-1 / CGMCC3.15140)",1547]
["W4K1A9","W4K1A9_9HOMO","Glycoside hydrolase family 13 protein","HETIRDRAFT_156063","Heterobasidion irregulare TC 32-1",1586]
["W4Z8R1","W4Z8R1_STRPU","Uncharacterized protein",null,"Strongylocentrotus purpuratus (Purple sea urchin)",1368]
["W5J8I8","W5J8I8_ANODA","Glycogen debranching enzyme","AND_009239","Anopheles darlingi (Mosquito)",1558]
["W5KD30","W5KD30_ASTMX","Amylo-alpha-1, 6-glucosidase, 4-alpha-glucanotransferase","AGL (1 of many)","Astyanax mexicanus (Blind cave fish) (Astyanax fasciatus mexicanus)",1516]
["W5LJR7","W5LJR7_ASTMX","Amylo-alpha-1, 6-glucosidase, 4-alpha-glucanotransferase b",null,"Astyanax mexicanus (Blind cave fish) (Astyanax fasciatus mexicanus)",1407]
["W5LYQ0","W5LYQ0_LEPOC","Amylo-alpha-1, 6-glucosidase, 4-alpha-glucanotransferase b",null,"Lepisosteus oculatus (Spotted gar)",1534]
["W5Q8M3","W5Q8M3_SHEEP","Amylo-alpha-1, 6-glucosidase, 4-alpha-glucanotransferase","AGL","Ovis aries (Sheep)",1532]
["W6MVH6","W6MVH6_9ASCO","Uncharacterized protein","KUCA_T00002261001","Kuraishia capsulata CBS 1993",1528]
["W6PTC3","W6PTC3_PENRF","Glycogen debranching enzyme","GDB1 PROQFM164_S01g001259","Penicillium roqueforti (strain FM164)",1534]
["W6V9C7","W6V9C7_ECHGR","Glycogen debranching enzyme","EGR_01998","Echinococcus granulosus (Hydatid tapeworm)",1225]
["W6YBJ1","W6YBJ1_COCCA","Glycoside hydrolase family 133 protein","COCCADRAFT_2155","Bipolaris zeicola 26-R-13",1559]
["W7M3J4","W7M3J4_GIBM7","Uncharacterized protein","FVEG_06308","Gibberella moniliformis (strain M3125 / FGSC 7600) (Maize ear and stalk rot fungus) (Fusarium verticillioides)",1556]
["W7MLL3","W7MLL3_GIBM7","Uncharacterized protein","FVEG_06308","Gibberella moniliformis (strain M3125 / FGSC 7600) (Maize ear and stalk rot fungus) (Fusarium verticillioides)",1396]
["W7XI56","W7XI56_TETTS","Amylo-alpha-1,6-glucosidase","TTHERM_000128319","Tetrahymena thermophila (strain SB210)",1735]
["W9CJT9","W9CJT9_9HELO","Glycogen debranching enzyme","SBOR_3313","Sclerotinia borealis F-4128",1551]
["W9W037","W9W037_9EURO","Alpha amylase","A1O5_11875","Cladophialophora psammophila CBS 110553",1544]
["W9W9T5","W9W9T5_9EURO","Alpha amylase","A1O7_01180","Cladophialophora yegresii CBS 114405",1552]
["W9XNU5","W9XNU5_9EURO","Alpha amylase","A1O3_08496","Capronia epimyces CBS 606.96",1556]
["W9ZPQ4","W9ZPQ4_9EURO","Alpha amylase","A1O1_01575","Capronia coronata CBS 617.96",1561]
["X0CDJ6","X0CDJ6_FUSOX","Uncharacterized protein","FOQG_05631","Fusarium oxysporum f. sp. raphani 54005",1396]
["X0CNT7","X0CNT7_FUSOX","Uncharacterized protein","FOQG_05631","Fusarium oxysporum f. sp. raphani 54005",1556]
["X0JV77","X0JV77_FUSOX","Uncharacterized protein","FOIG_08297","Fusarium oxysporum f. sp. cubense tropical race 4 54006",1396]
["X0JVI1","X0JVI1_FUSOX","Uncharacterized protein","FOIG_08297","Fusarium oxysporum f. sp. cubense tropical race 4 54006",1556]

{"sheet":"taxonomy","index":4,"n_rows":695,"n_cols":25,"rows_kept":695,"cut":false,"hidden":false,"merged":[]}
["ID","primary_AC","OS","OG","OX","OH","Taxonomy","Столбец1","Столбец2","Столбец3","Столбец4","Столбец5","Столбец6","Столбец7","Столбец8","Столбец9","Столбец10","Столбец11","Столбец12","Столбец13","Столбец14","Столбец15","Столбец16"]
["A0A010QTU3_9PEZI","A0A010QTU3"," Colletotrichum fioriniae PJ7.",null," NCBI_TaxID=1445577 {ECO:0000313|EMBL:EXF80055.1, ECO:0000313|Proteomes:UP000020467};",null,"Eukaryota"," Fungi"," Dikarya"," Ascomycota"," Pezizomycotina","Sordariomycetes"," Hypocreomycetidae"," Glomerellales"," Glomerellaceae","Colletotrichum."]
["A0A016T824_9BILA","A0A016T824"," Ancylostoma ceylanicum.",null," NCBI_TaxID=53326 {ECO:0000313|EMBL:EYB99073.1, ECO:0000313|Proteomes:UP000024635};",null,"Eukaryota"," Metazoa"," Ecdysozoa"," Nematoda"," Chromadorea"," Rhabditida","Strongylida"," Ancylostomatoidea"," Ancylostomatidae"," Ancylostomatinae","Ancylostoma."]
["A0A016T8T2_9BILA","A0A016T8T2"," Ancylostoma ceylanicum.",null," NCBI_TaxID=53326 {ECO:0000313|EMBL:EYB99072.1, ECO:0000313|Proteomes:UP000024635};",null,"Eukaryota"," Metazoa"," Ecdysozoa"," Nematoda"," Chromadorea"," Rhabditida","Strongylida"," Ancylostomatoidea"," Ancylostomatidae"," Ancylostomatinae","Ancylostoma."]
["A0A016T905_9BILA","A0A016T905"," Ancylostoma ceylanicum.",null," NCBI_TaxID=53326 {ECO:0000313|EMBL:EYB99074.1, ECO:0000313|Proteomes:UP000024635};",null,"Eukaryota"," Metazoa"," Ecdysozoa"," Nematoda"," Chromadorea"," Rhabditida","Strongylida"," Ancylostomatoidea"," Ancylostomatidae"," Ancylostomatinae","Ancylostoma."]
["A0A023AYK6_GRENI","A0A023AYK6"," Gregarina niphandrodes (Septate eugregarine).",null," NCBI_TaxID=110365 {ECO:0000313|EMBL:EZG43752.1, ECO:0000313|Proteomes:UP000019763};",null,"Eukaryota"," Alveolata"," Apicomplexa"," Conoidasida"," Gregarinasina","Eugregarinorida"," Gregarinidae"," Gregarina."]
["A0A026W7M0_OOCBI","A0A026W7M0"," Ooceraea biroi (Clonal raider ant) (Cerapachys biroi).",null," NCBI_TaxID=2015173 {ECO:0000313|EMBL:EZA51596.1, ECO:0000313|Proteomes:UP000053097};",null,"Eukaryota"," Metazoa"," Ecdysozoa"," Arthropoda"," Hexapoda"," Insecta","Pterygota"," Neoptera"," Holometabola"," Hymenoptera"," Apocrita"," Aculeata","Vespoidea"," Formicidae"," Dorylinae"," Ooceraea."]
["A0A044QLY7_ONCVO","A0A044QLY7"," Onchocerca volvulus.",null," NCBI_TaxID=6282 {ECO:0000313|EnsemblMetazoa:OVOC10150, ECO:0000313|Proteomes:UP000024404};",null,"Eukaryota"," Metazoa"," Ecdysozoa"," Nematoda"," Chromadorea"," Spirurida","Spiruromorpha"," Filarioidea"," Onchocercidae"," Onchocerca."]
["A0A058Z1Q6_9EUKA","A0A058Z1Q6"," Fonticula alba.",null," NCBI_TaxID=691883 {ECO:0000313|EMBL:KCV67863.1, ECO:0000313|Proteomes:UP000030693};",null,"Eukaryota"," Nucleariidae and Fonticula group"," Fonticula."]
["A0A059JG84_9EURO","A0A059JG84"," Trichophyton interdigitale MR816.",null," NCBI_TaxID=1215338 {ECO:0000313|EMBL:KDB26875.1, ECO:0000313|Proteomes:UP000024533};",null,"Eukaryota"," Fungi"," Dikarya"," Ascomycota"," Pezizomycotina"," Eurotiomycetes","Eurotiomycetidae"," Onygenales"," Arthrodermataceae"," Trichophyton."]
["A0A060SM73_PYCCI","A0A060SM73"," Pycnoporus cinnabarinus (Cinnabar-red polypore) (Trametes cinnabarina).",null," NCBI_TaxID=5643 {ECO:0000313|EMBL:CDO73299.1, ECO:0000313|Proteomes:UP000029665};",null,"Eukaryota"," Fungi"," Dikarya"," Basidiomycota"," Agaricomycotina","Agaricomycetes"," Polyporales"," Polyporaceae"," Trametes."]
["A0A061HK78_BLUGR","A0A061HK78"," Blumeria graminis f. sp. tritici 96224.",null," NCBI_TaxID=1268274 {ECO:0000313|EMBL:EPQ65564.1, ECO:0000313|Proteomes:UP000053110};",null,"Eukaryota"," Fungi"," Dikarya"," Ascomycota"," Pezizomycotina"," Leotiomycetes","Erysiphales"," Erysiphaceae"," Blumeria."]
["A0A063C724_9HYPO","A0A063C724"," Ustilaginoidea virens.",null," NCBI_TaxID=1159556 {ECO:0000313|EMBL:KDB16304.1, ECO:0000313|Proteomes:UP000027002};",null,"Eukaryota"," Fungi"," Dikarya"," Ascomycota"," Pezizomycotina","Sordariomycetes"," Hypocreomycetidae"," Hypocreales","Hypocreales incertae sedis"," Ustilaginoidea."]
["A0A066VMY2_9HOMO","A0A066VMY2"," Rhizoctonia solani AG-8 WAC10335.",null," NCBI_TaxID=1287689 {ECO:0000313|EMBL:KDN42816.1, ECO:0000313|Proteomes:UP000027042};",null,"Eukaryota"," Fungi"," Dikarya"," Basidiomycota"," Agaricomycotina","Agaricomycetes"," Cantharellales"," Ceratobasidiaceae"," Rhizoctonia."]
["A0A066VPH2_9BASI","A0A066VPH2"," Tilletiaria anomala UBC 951.",null," NCBI_TaxID=1037660 {ECO:0000313|EMBL:KDN43331.1, ECO:0000313|Proteomes:UP000027361};",null,"Eukaryota"," Fungi"," Dikarya"," Basidiomycota"," Ustilaginomycotina","Exobasidiomycetes"," Georgefischeriales"," Tilletiariaceae"," Tilletiaria."]
["A0A066XER0_COLSU","A0A066XER0"," Colletotrichum sublineola (Sorghum anthracnose fungus).",null," NCBI_TaxID=1173701 {ECO:0000313|EMBL:KDN64206.1, ECO:0000313|Proteomes:UP000027238};",null,"Eukaryota"," Fungi"," Dikarya"," Ascomycota"," Pezizomycotina","Sordariomycetes"," Hypocreomycetidae"," Glomerellales"," Glomerellaceae","Colletotrichum."]
["A0A067MEC5_9HOMO","A0A067MEC5"," Botryobasidium botryosum FD-172 SS1.",null," NCBI_TaxID=930990 {ECO:0000313|EMBL:KDQ13065.1, ECO:0000313|Proteomes:UP000027195};",null,"Eukaryota"," Fungi"," Dikarya"," Basidiomycota"," Agaricomycotina","Agaricomycetes"," Cantharellales"," Botryobasidiaceae"," Botryobasidium."]
["A0A067NTR2_PLEOS","A0A067NTR2"," Pleurotus ostreatus PC15.",null," NCBI_TaxID=1137138 {ECO:0000313|EMBL:KDQ27006.1, ECO:0000313|Proteomes:UP000027073};",null,"Eukaryota"," Fungi"," Dikarya"," Basidiomycota"," Agaricomycotina","Agaricomycetes"," Agaricomycetidae"," Agaricales"," Pleurotaceae"," Pleurotus."]
["A0A067Q6F6_9HOMO","A0A067Q6F6"," Jaapia argillacea MUCL 33604.",null," NCBI_TaxID=933084 {ECO:0000313|EMBL:KDQ61755.1, ECO:0000313|Proteomes:UP000027265};",null,"Eukaryota"," Fungi"," Dikarya"," Basidiomycota"," Agaricomycotina","Agaricomycetes"," Agaricomycetidae"," Jaapiales"," Jaapiaceae"," Jaapia."]
["A0A067R0B7_ZOONE","A0A067R0B7"," Zootermopsis nevadensis (Dampwood termite).",null," NCBI_TaxID=136037 {ECO:0000313|EMBL:KDR16306.1, ECO:0000313|Proteomes:UP000027135};",null,"Eukaryota"," Metazoa"," Ecdysozoa"," Arthropoda"," Hexapoda"," Insecta","Pterygota"," Neoptera"," Polyneoptera"," Dictyoptera"," Blattodea"," Blattoidea","Termitoidae"," Termopsidae"," Zootermopsis."]
["A0A067S4G4_GALM3","A0A067S4G4"," Galerina marginata (strain CBS 339.88).",null," NCBI_TaxID=685588 {ECO:0000313|EMBL:KDR65730.1, ECO:0000313|Proteomes:UP000027222};",null,"Eukaryota"," Fungi"," Dikarya"," Basidiomycota"," Agaricomycotina","Agaricomycetes"," Agaricomycetidae"," Agaricales"," Strophariaceae","Galerina."]
["A0A068S7K8_9FUNG","A0A068S7K8"," Lichtheimia corymbifera JMRC:FSU:9682.",null," NCBI_TaxID=1263082 {ECO:0000313|EMBL:CDH58358.1, ECO:0000313|Proteomes:UP000027586};",null,"Eukaryota"," Fungi"," Mucoromycota"," Mucoromycotina"," Mucorales","Lichtheimiaceae"," Lichtheimia."]
["A0A068S963_9FUNG","A0A068S963"," Lichtheimia corymbifera JMRC:FSU:9682.",null," NCBI_TaxID=1263082 {ECO:0000313|EMBL:CDH58357.1, ECO:0000313|Proteomes:UP000027586};",null,"Eukaryota"," Fungi"," Mucoromycota"," Mucoromycotina"," Mucorales","Lichtheimiaceae"," Lichtheimia."]
["A0A068X5G4_HYMMI","A0A068X5G4"," Hymenolepis microstoma (Rodent tapeworm) (Rodentolepis microstoma).",null," NCBI_TaxID=85433 {ECO:0000313|EMBL:CDS25267.1, ECO:0000313|Proteomes:UP000017242};",null,"Eukaryota"," Metazoa"," Platyhelminthes"," Cestoda"," Eucestoda","Cyclophyllidea"," Hymenolepididae"," Hymenolepis."]
["A0A068Y9Z0_ECHMU","A0A068Y9Z0"," Echinococcus multilocularis (Fox tapeworm).",null," NCBI_TaxID=6211 {ECO:0000313|EMBL:CUT99368.1, ECO:0000313|Proteomes:UP000017246};",null,"Eukaryota"," Metazoa"," Platyhelminthes"," Cestoda"," Eucestoda","Cyclophyllidea"," Taeniidae"," Echinococcus."]
["A0A072P3F0_9EURO","A0A072P3F0"," Exophiala aquamarina CBS 119918.",null," NCBI_TaxID=1182545 {ECO:0000313|EMBL:KEF53763.1, ECO:0000313|Proteomes:UP000027920};",null,"Eukaryota"," Fungi"," Dikarya"," Ascomycota"," Pezizomycotina"," Eurotiomycetes","Chaetothyriomycetidae"," Chaetothyriales"," Herpotrichiellaceae","Exophiala."]
["A0A074SCB3_9HOMO","A0A074SCB3"," Rhizoctonia solani 123E.",null," NCBI_TaxID=1423351 {ECO:0000313|EMBL:KEP55230.1, ECO:0000313|Proteomes:UP000027456};",null,"Eukaryota"," Fungi"," Dikarya"," Basidiomycota"," Agaricomycotina","Agaricomycetes"," Cantharellales"," Ceratobasidiaceae"," Rhizoctonia."]
["A0A074TF13_HAMHA","A0A074TF13"," Hammondia hammondi (Parasitic protozoan).",null," NCBI_TaxID=99158 {ECO:0000313|EMBL:KEP67628.1, ECO:0000313|Proteomes:UP000027470};",null,"Eukaryota"," Alveolata"," Apicomplexa"," Conoidasida"," Coccidia","Eucoccidiorida"," Eimeriorina"," Sarcocystidae"," Hammondia."]
["A0A074WED3_9PEZI","A0A074WED3"," Aureobasidium melanogenum CBS 110374.",null," NCBI_TaxID=1043003 {ECO:0000313|EMBL:KEQ60846.1, ECO:0000313|Proteomes:UP000030672};",null,"Eukaryota"," Fungi"," Dikarya"," Ascomycota"," Pezizomycotina","Dothideomycetes"," Dothideomycetidae"," Dothideales"," Saccotheciaceae","Aureobasidium."]
["A0A074X1S4_9PEZI","A0A074X1S4"," Aureobasidium namibiae CBS 147.97.",null," NCBI_TaxID=1043004 {ECO:0000313|EMBL:KEQ75987.1, ECO:0000313|Proteomes:UP000027730};",null,"Eukaryota"," Fungi"," Dikarya"," Ascomycota"," Pezizomycotina","Dothideomycetes"," Dothideomycetidae"," Dothideales"," Saccotheciaceae","Aureobasidium."]
["A0A074Y8R4_9PEZI","A0A074Y8R4"," Aureobasidium subglaciale EXF-2481.",null," NCBI_TaxID=1043005 {ECO:0000313|EMBL:KEQ92399.1, ECO:0000313|Proteomes:UP000030641};",null,"Eukaryota"," Fungi"," Dikarya"," Ascomycota"," Pezizomycotina","Dothideomycetes"," Dothideomycetidae"," Dothideales"," Saccotheciaceae","Aureobasidium."]
["A0A074YD67_AURPU","A0A074YD67"," Aureobasidium pullulans EXF-150.",null," NCBI_TaxID=1043002 {ECO:0000313|EMBL:KEQ84796.1, ECO:0000313|Proteomes:UP000030706};",null,"Eukaryota"," Fungi"," Dikarya"," Ascomycota"," Pezizomycotina","Dothideomycetes"," Dothideomycetidae"," Dothideales"," Saccotheciaceae","Aureobasidium."]
["A0A075A357_9TREM","A0A075A357"," Opisthorchis viverrini.",null," NCBI_TaxID=6198 {ECO:0000313|EMBL:KER21834.1, ECO:0000313|Proteomes:UP000054324};",null,"Eukaryota"," Metazoa"," Platyhelminthes"," Trematoda"," Digenea","Opisthorchiida"," Opisthorchiata"," Opisthorchiidae"," Opisthorchis."]
["A0A075AYU9_9FUNG","A0A075AYU9"," Rozella allomycis CSF55.",null," NCBI_TaxID=988480 {ECO:0000313|EMBL:EPZ35447.1, ECO:0000313|Proteomes:UP000030755};",null,"Eukaryota"," Fungi"," Cryptomycota"," Rozella."]
["A0A077YY88_TRITR","A0A077YY88"," Trichuris trichiura (Whipworm) (Trichocephalus trichiurus).",null," NCBI_TaxID=36087 {ECO:0000313|EMBL:CDW52751.1, ECO:0000313|Proteomes:UP000030665};",null,"Eukaryota"," Metazoa"," Ecdysozoa"," Nematoda"," Enoplea"," Dorylaimia","Trichinellida"," Trichuridae"," Trichuris."]
["A0A077Z661_TRITR","A0A077Z661"," Trichuris trichiura (Whipworm) (Trichocephalus trichiurus).",null," NCBI_TaxID=36087 {ECO:0000313|EMBL:CDW55977.1, ECO:0000313|Proteomes:UP000030665};",null,"Eukaryota"," Metazoa"," Ecdysozoa"," Nematoda"," Enoplea"," Dorylaimia","Trichinellida"," Trichuridae"," Trichuris."]
["A0A078A3A7_STYLE","A0A078A3A7"," Stylonychia lemnae (Ciliate).",null," NCBI_TaxID=5949 {ECO:0000313|EMBL:CDW76652.1, ECO:0000313|Proteomes:UP000039865};",null,"Eukaryota"," Alveolata"," Ciliophora"," Intramacronucleata"," Spirotrichea","Stichotrichia"," Sporadotrichida"," Oxytrichidae"," Stylonychinae","Stylonychia."]
["A0A078AI91_STYLE","A0A078AI91"," Stylonychia lemnae (Ciliate).",null," NCBI_TaxID=5949 {ECO:0000313|EMBL:CDW81227.1, ECO:0000313|Proteomes:UP000039865};",null,"Eukaryota"," Alveolata"," Ciliophora"," Intramacronucleata"," Spirotrichea","Stichotrichia"," Sporadotrichida"," Oxytrichidae"," Stylonychinae","Stylonychia."]
["A0A081CN43_PSEA2","A0A081CN43"," Pseudozyma antarctica (Yeast) (Candida antarctica).",null," NCBI_TaxID=84753 {ECO:0000313|EMBL:GAK68089.1, ECO:0000313|Proteomes:UP000053758};",null,"Eukaryota"," Fungi"," Dikarya"," Basidiomycota"," Ustilaginomycotina","Ustilaginomycetes"," Ustilaginales"," Ustilaginaceae"," Moesziomyces."]
["A0A084GGA7_9PEZI","A0A084GGA7"," Scedosporium apiospermum.",null," NCBI_TaxID=563466 {ECO:0000313|EMBL:KEZ46369.1, ECO:0000313|Proteomes:UP000028545};",null,"Eukaryota"," Fungi"," Dikarya"," Ascomycota"," Pezizomycotina","Sordariomycetes"," Hypocreomycetidae"," Microascales"," Microascaceae","Scedosporium."]
["A0A084QI67_STAC4","A0A084QI67"," Stachybotrys chlorohalonata (strain IBT 40285).",null," NCBI_TaxID=1283841 {ECO:0000313|EMBL:KFA63652.1, ECO:0000313|Proteomes:UP000028524};",null,"Eukaryota"," Fungi"," Dikarya"," Ascomycota"," Pezizomycotina","Sordariomycetes"," Hypocreomycetidae"," Hypocreales"," Stachybotryaceae","Stachybotrys."]
["A0A084W0C3_ANOSI","A0A084W0C3"," Anopheles sinensis (Mosquito).",null," NCBI_TaxID=74873 {ECO:0000313|EMBL:KFB43667.1, ECO:0000313|Proteomes:UP000030765};",null,"Eukaryota"," Metazoa"," Ecdysozoa"," Arthropoda"," Hexapoda"," Insecta","Pterygota"," Neoptera"," Holometabola"," Diptera"," Nematocera"," Culicoidea","Culicidae"," Anophelinae"," Anopheles."]
["A0A085NDC7_9BILA","A0A085NDC7"," Trichuris suis (pig whipworm).",null," NCBI_TaxID=68888 {ECO:0000313|EMBL:KFD67473.1, ECO:0000313|Proteomes:UP000030758};",null,"Eukaryota"," Metazoa"," Ecdysozoa"," Nematoda"," Enoplea"," Dorylaimia","Trichinellida"," Trichuridae"," Trichuris."]
["A0A085NML0_9BILA","A0A085NML0"," Trichuris suis (pig whipworm).",null," NCBI_TaxID=68888 {ECO:0000313|EMBL:KFD70706.1, ECO:0000313|Proteomes:UP000030758};",null,"Eukaryota"," Metazoa"," Ecdysozoa"," Nematoda"," Enoplea"," Dorylaimia","Trichinellida"," Trichuridae"," Trichuris."]
["A0A086THF9_ACRC1","A0A086THF9"," Acremonium chrysogenum (strain ATCC 11550 / CBS 779.69 / DSM 880 / JCM 23072 / IMI 49137).",null," NCBI_TaxID=857340 {ECO:0000313|EMBL:KFH48791.1, ECO:0000313|Proteomes:UP000029964};",null,"Eukaryota"," Fungi"," Dikarya"," Ascomycota"," Pezizomycotina","Sordariomycetes"," Hypocreomycetidae"," Hypocreales","Hypocreales incertae sedis"," Acremonium."]
["A0A087QMK8_APTFO","A0A087QMK8"," Aptenodytes forsteri (Emperor penguin).",null," NCBI_TaxID=9233 {ECO:0000313|EMBL:KFM02462.1, ECO:0000313|Proteomes:UP000053286};",null,"Eukaryota"," Metazoa"," Chordata"," Craniata"," Vertebrata"," Euteleostomi","Archelosauria"," Archosauria"," Dinosauria"," Saurischia"," Theropoda","Coelurosauria"," Aves"," Neognathae"," Sphenisciformes"," Spheniscidae","Aptenodytes."]
["A0A087U9R3_9ARAC","A0A087U9R3"," Stegodyphus mimosarum.",null," NCBI_TaxID=407821 {ECO:0000313|EMBL:KFM74102.1, ECO:0000313|Proteomes:UP000054359};",null,"Eukaryota"," Metazoa"," Ecdysozoa"," Arthropoda"," Chelicerata"," Arachnida","Araneae"," Araneomorphae"," Entelegynae"," Eresoidea"," Eresidae"," Stegodyphus."]
["A0A087U9R4_9ARAC","A0A087U9R4"," Stegodyphus mimosarum.",null," NCBI_TaxID=407821 {ECO:0000313|EMBL:KFM74103.1, ECO:0000313|Proteomes:UP000054359};",null,"Eukaryota"," Metazoa"," Ecdysozoa"," Arthropoda"," Chelicerata"," Arachnida","Araneae"," Araneomorphae"," Entelegynae"," Eresoidea"," Eresidae"," Stegodyphus."]
["A0A087X458_POEFO","A0A087X458"," Poecilia formosa (Amazon molly) (Limia formosa).",null," NCBI_TaxID=48698 {ECO:0000313|Ensembl:ENSPFOP00000000561, ECO:0000313|Proteomes:UP000028760};",null,"Eukaryota"," Metazoa"," Chordata"," Craniata"," Vertebrata"," Euteleostomi","Actinopterygii"," Neopterygii"," Teleostei"," Neoteleostei"," Acanthomorphata","Ovalentaria"," Atherinomorphae"," Cyprinodontiformes"," Poeciliidae","Poeciliinae"," Poecilia."]
["A0A088ALS8_APIME","A0A088ALS8"," Apis mellifera (Honeybee).",null," NCBI_TaxID=7460 {ECO:0000313|EnsemblMetazoa:GB52537-PA, ECO:0000313|Proteomes:UP000005203};",null,"Eukaryota"," Metazoa"," Ecdysozoa"," Arthropoda"," Hexapoda"," Insecta","Pterygota"," Neoptera"," Holometabola"," Hymenoptera"," Apocrita"," Aculeata","Apoidea"," Apidae"," Apis."]
["A0A090L6T4_STRRB","A0A090L6T4"," Strongyloides ratti (Parasitic roundworm).",null," NCBI_TaxID=34506 {ECO:0000313|EMBL:CEF63823.1, ECO:0000313|Proteomes:UP000035682};",null,"Eukaryota"," Metazoa"," Ecdysozoa"," Nematoda"," Chromadorea"," Tylenchida","Panagrolaimomorpha"," Strongyloidoidea"," Strongyloididae"," Strongyloides."]
["A0A091D443_FUKDA","A0A091D443"," Fukomys damarensis (Damaraland mole rat) (Cryptomys damarensis).",null," NCBI_TaxID=885580 {ECO:0000313|EMBL:KFO26879.1, ECO:0000313|Proteomes:UP000028990};",null,"Eukaryota"," Metazoa"," Chordata"," Craniata"," Vertebrata"," Euteleostomi","Mammalia"," Eutheria"," Euarchontoglires"," Glires"," Rodentia","Hystricomorpha"," Bathyergidae"," Fukomys."]
["A0A091EIV1_CORBR","A0A091EIV1"," Corvus brachyrhynchos (American crow).",null," NCBI_TaxID=85066 {ECO:0000313|EMBL:KFO56537.1, ECO:0000313|Proteomes:UP000052976};",null,"Eukaryota"," Metazoa"," Chordata"," Craniata"," Vertebrata"," Euteleostomi","Archelosauria"," Archosauria"," Dinosauria"," Saurischia"," Theropoda","Coelurosauria"," Aves"," Neognathae"," Passeriformes"," Corvoidea"," Corvidae","Corvus."]
["A0A091G6W5_9AVES","A0A091G6W5"," Cuculus canorus (common cuckoo).",null," NCBI_TaxID=55661 {ECO:0000313|EMBL:KFO78125.1, ECO:0000313|Proteomes:UP000053760};",null,"Eukaryota"," Metazoa"," Chordata"," Craniata"," Vertebrata"," Euteleostomi","Archelosauria"," Archosauria"," Dinosauria"," Saurischia"," Theropoda","Coelurosauria"," Aves"," Neognathae"," Cuculiformes"," Cuculidae"," Cuculus."]
["A0A091GQE9_BUCRH","A0A091GQE9"," Buceros rhinoceros silvestris.",null," NCBI_TaxID=175836 {ECO:0000313|EMBL:KFO84645.1, ECO:0000313|Proteomes:UP000054064};",null,"Eukaryota"," Metazoa"," Chordata"," Craniata"," Vertebrata"," Euteleostomi","Archelosauria"," Archosauria"," Dinosauria"," Saurischia"," Theropoda","Coelurosauria"," Aves"," Neognathae"," Bucerotiformes"," Bucerotidae"," Buceros."]
["A0A091HRX4_CALAN","A0A091HRX4"," Calypte anna (Anna's hummingbird) (Archilochus anna).",null," NCBI_TaxID=9244 {ECO:0000313|EMBL:KFO98686.1, ECO:0000313|Proteomes:UP000054308};",null,"Eukaryota"," Metazoa"," Chordata"," Craniata"," Vertebrata"," Euteleostomi","Archelosauria"," Archosauria"," Dinosauria"," Saurischia"," Theropoda","Coelurosauria"," Aves"," Neognathae"," Apodiformes"," Trochilidae"," Calypte."]
["A0A091KHC9_EGRGA","A0A091KHC9"," Egretta garzetta (Little egret).",null," NCBI_TaxID=188379 {ECO:0000313|EMBL:KFP23121.1, ECO:0000313|Proteomes:UP000053119};",null,"Eukaryota"," Metazoa"," Chordata"," Craniata"," Vertebrata"," Euteleostomi","Archelosauria"," Archosauria"," Dinosauria"," Saurischia"," Theropoda","Coelurosauria"," Aves"," Neognathae"," Pelecaniformes"," Ardeidae"," Egretta."]
["A0A091KUT8_9GRUI","A0A091KUT8"," Chlamydotis macqueenii (Macqueen's bustard).",null," NCBI_TaxID=187382 {ECO:0000313|EMBL:KFP43802.1, ECO:0000313|Proteomes:UP000053330};",null,"Eukaryota"," Metazoa"," Chordata"," Craniata"," Vertebrata"," Euteleostomi","Archelosauria"," Archosauria"," Dinosauria"," Saurischia"," Theropoda","Coelurosauria"," Aves"," Neognathae"," Gruiformes"," Otididae"," Chlamydotis."]
["A0A091LLM9_CATAU","A0A091LLM9"," Cathartes aura (Turkey vulture) (Vultur aura).",null," NCBI_TaxID=43455 {ECO:0000313|EMBL:KFP58646.1, ECO:0000313|Proteomes:UP000053745};",null,"Eukaryota"," Metazoa"," Chordata"," Craniata"," Vertebrata"," Euteleostomi","Archelosauria"," Archosauria"," Dinosauria"," Saurischia"," Theropoda","Coelurosauria"," Aves"," Neognathae"," Ciconiiformes"," Cathartidae","Cathartes."]
["A0A091MDQ5_CARIC","A0A091MDQ5"," Cariama cristata (Red-legged seriema).",null," NCBI_TaxID=54380 {ECO:0000313|EMBL:KFP68887.1, ECO:0000313|Proteomes:UP000054116};",null,"Eukaryota"," Metazoa"," Chordata"," Craniata"," Vertebrata"," Euteleostomi","Archelosauria"," Archosauria"," Dinosauria"," Saurischia"," Theropoda","Coelurosauria"," Aves"," Neognathae"," Cariamiformes"," Cariamidae"," Cariama."]
["A0A091NKW9_APAVI","A0A091NKW9"," Apaloderma vittatum (Bar-tailed trogon).",null," NCBI_TaxID=57397 {ECO:0000313|EMBL:KFP89554.1, ECO:0000313|Proteomes:UP000054244};",null,"Eukaryota"," Metazoa"," Chordata"," Craniata"," Vertebrata"," Euteleostomi","Archelosauria"," Archosauria"," Dinosauria"," Saurischia"," Theropoda","Coelurosauria"," Aves"," Neognathae"," Trogoniformes"," Trogonidae","Apaloderma."]
["A0A091P1S7_HALAL","A0A091P1S7"," Haliaeetus albicilla (White-tailed sea-eagle).",null," NCBI_TaxID=8969 {ECO:0000313|EMBL:KFQ01214.1, ECO:0000313|Proteomes:UP000054379};",null,"Eukaryota"," Metazoa"," Chordata"," Craniata"," Vertebrata"," Euteleostomi","Archelosauria"," Archosauria"," Dinosauria"," Saurischia"," Theropoda","Coelurosauria"," Aves"," Neognathae"," Falconiformes"," Accipitridae","Accipitrinae"," Haliaeetus."]
["A0A091QG56_MERNU","A0A091QG56"," Merops nubicus (Northern carmine bee-eater).",null," NCBI_TaxID=57421 {ECO:0000313|EMBL:KFQ26082.1, ECO:0000313|Proteomes:UP000052967};",null,"Eukaryota"," Metazoa"," Chordata"," Craniata"," Vertebrata"," Euteleostomi","Archelosauria"," Archosauria"," Dinosauria"," Saurischia"," Theropoda","Coelurosauria"," Aves"," Neognathae"," Coraciiformes"," Meropidae"," Merops."]
["A0A091RCN7_9GRUI","A0A091RCN7"," Mesitornis unicolor (brown roatelo).",null," NCBI_TaxID=54374 {ECO:0000313|EMBL:KFQ37261.1, ECO:0000313|Proteomes:UP000053369};",null,"Eukaryota"," Metazoa"," Chordata"," Craniata"," Vertebrata"," Euteleostomi","Archelosauria"," Archosauria"," Dinosauria"," Saurischia"," Theropoda","Coelurosauria"," Aves"," Neognathae"," Gruiformes"," Mesitornithidae","Mesitornis."]
["A0A091T2P6_NESNO","A0A091T2P6"," Nestor notabilis (Kea).",null," NCBI_TaxID=176057 {ECO:0000313|EMBL:KFQ50931.1, ECO:0000313|Proteomes:UP000053840};",null,"Eukaryota"," Metazoa"," Chordata"," Craniata"," Vertebrata"," Euteleostomi","Archelosauria"," Archosauria"," Dinosauria"," Saurischia"," Theropoda","Coelurosauria"," Aves"," Neognathae"," Psittaciformes"," Psittacidae"," Nestor."]
["A0A091TI76_PHALP","A0A091TI76"," Phaethon lepturus (White-tailed tropicbird).",null," NCBI_TaxID=97097 {ECO:0000313|EMBL:KFQ75329.1, ECO:0000313|Proteomes:UP000053638};",null,"Eukaryota"," Metazoa"," Chordata"," Craniata"," Vertebrata"," Euteleostomi","Archelosauria"," Archosauria"," Dinosauria"," Saurischia"," Theropoda","Coelurosauria"," Aves"," Neognathae"," Pelecaniformes"," Phaethontidae","Phaethon."]
["A0A091TXK1_9AVES","A0A091TXK1"," Pelecanus crispus (Dalmatian pelican).",null," NCBI_TaxID=36300 {ECO:0000313|EMBL:KFQ63276.1, ECO:0000313|Proteomes:UP000054150};",null,"Eukaryota"," Metazoa"," Chordata"," Craniata"," Vertebrata"," Euteleostomi","Archelosauria"," Archosauria"," Dinosauria"," Saurischia"," Theropoda","Coelurosauria"," Aves"," Neognathae"," Pelecaniformes"," Pelecanidae","Pelecanus."]
["A0A091UFK0_PHORB","A0A091UFK0"," Phoenicopterus ruber ruber.",null," NCBI_TaxID=9218 {ECO:0000313|EMBL:KFQ89326.1, ECO:0000313|Proteomes:UP000053700};",null,"Eukaryota"," Metazoa"," Chordata"," Craniata"," Vertebrata"," Euteleostomi","Archelosauria"," Archosauria"," Dinosauria"," Saurischia"," Theropoda","Coelurosauria"," Aves"," Neognathae"," Phoenicopteriformes","Phoenicopteridae"," Phoenicopterus."]
["A0A091VAU0_NIPNI","A0A091VAU0"," Nipponia nippon (Crested ibis) (Ibis nippon).",null," NCBI_TaxID=128390 {ECO:0000313|EMBL:KFR00417.1, ECO:0000313|Proteomes:UP000053283};",null,"Eukaryota"," Metazoa"," Chordata"," Craniata"," Vertebrata"," Euteleostomi","Archelosauria"," Archosauria"," Dinosauria"," Saurischia"," Theropoda","Coelurosauria"," Aves"," Neognathae"," Pelecaniformes"," Threskiornithidae","Nipponia."]
["A0A091XK00_OPIHO","A0A091XK00"," Opisthocomus hoazin (Hoatzin) (Phasianus hoazin).",null," NCBI_TaxID=30419 {ECO:0000313|EMBL:KFR13461.1, ECO:0000313|Proteomes:UP000053605};",null,"Eukaryota"," Metazoa"," Chordata"," Craniata"," Vertebrata"," Euteleostomi","Archelosauria"," Archosauria"," Dinosauria"," Saurischia"," Theropoda","Coelurosauria"," Aves"," Neognathae"," Opisthocomiformes"," Opisthocomidae","Opisthocomus."]
["A0A093CNC6_TAUER","A0A093CNC6"," Tauraco erythrolophus (Red-crested turaco).",null," NCBI_TaxID=121530 {ECO:0000313|EMBL:KFV17360.1, ECO:0000313|Proteomes:UP000053661};",null,"Eukaryota"," Metazoa"," Chordata"," Craniata"," Vertebrata"," Euteleostomi","Archelosauria"," Archosauria"," Dinosauria"," Saurischia"," Theropoda","Coelurosauria"," Aves"," Neognathae"," Musophagiformes"," Musophagidae","Tauraco."]
["A0A093CQ14_9AVES","A0A093CQ14"," Pterocles gutturalis (yellow-throated sandgrouse).",null," NCBI_TaxID=240206 {ECO:0000313|EMBL:KFV16558.1, ECO:0000313|Proteomes:UP000053149};",null,"Eukaryota"," Metazoa"," Chordata"," Craniata"," Vertebrata"," Euteleostomi","Archelosauria"," Archosauria"," Dinosauria"," Saurischia"," Theropoda","Coelurosauria"," Aves"," Neognathae"," Ciconiiformes"," Pteroclidae","Pterocles."]
["A0A093EJE1_TYTAL","A0A093EJE1"," Tyto alba (Barn owl).",null," NCBI_TaxID=56313 {ECO:0000313|EMBL:KFV44443.1, ECO:0000313|Proteomes:UP000054190};",null,"Eukaryota"," Metazoa"," Chordata"," Craniata"," Vertebrata"," Euteleostomi","Archelosauria"," Archosauria"," Dinosauria"," Saurischia"," Theropoda","Coelurosauria"," Aves"," Neognathae"," Strigiformes"," Tytonidae"," Tyto."]
["A0A093H545_DRYPU","A0A093H545"," Dryobates pubescens (Downy woodpecker) (Picoides pubescens).",null," NCBI_TaxID=118200 {ECO:0000313|EMBL:KFV74545.1, ECO:0000313|Proteomes:UP000053875};",null,"Eukaryota"," Metazoa"," Chordata"," Craniata"," Vertebrata"," Euteleostomi","Archelosauria"," Archosauria"," Dinosauria"," Saurischia"," Theropoda","Coelurosauria"," Aves"," Neognathae"," Piciformes"," Picidae"," Picoides."]
["A0A093J624_EURHL","A0A093J624"," Eurypyga helias (Sunbittern).",null," NCBI_TaxID=54383 {ECO:0000313|EMBL:KFW10420.1, ECO:0000313|Proteomes:UP000054232};",null,"Eukaryota"," Metazoa"," Chordata"," Craniata"," Vertebrata"," Euteleostomi","Archelosauria"," Archosauria"," Dinosauria"," Saurischia"," Theropoda","Coelurosauria"," Aves"," Neognathae"," Gruiformes"," Eurypygidae"," Eurypyga."]
["A0A093LME3_FULGA","A0A093LME3"," Fulmarus glacialis (Northern fulmar).",null," NCBI_TaxID=30455 {ECO:0000313|EMBL:KFW10011.1, ECO:0000313|Proteomes:UP000053806};",null,"Eukaryota"," Metazoa"," Chordata"," Craniata"," Vertebrata"," Euteleostomi","Archelosauria"," Archosauria"," Dinosauria"," Saurischia"," Theropoda","Coelurosauria"," Aves"," Neognathae"," Procellariiformes"," Procellariidae","Fulmarus."]
["A0A093PRZ8_9PASS","A0A093PRZ8"," Manacus vitellinus (golden-collared manakin).",null," NCBI_TaxID=328815 {ECO:0000313|EMBL:KFW79583.1, ECO:0000313|Proteomes:UP000053258};",null,"Eukaryota"," Metazoa"," Chordata"," Craniata"," Vertebrata"," Euteleostomi","Archelosauria"," Archosauria"," Dinosauria"," Saurischia"," Theropoda","Coelurosauria"," Aves"," Neognathae"," Passeriformes"," Pipridae"," Manacus."]
["A0A093Y8C9_9PEZI","A0A093Y8C9"," Pseudogymnoascus sp. VKM F-3808.",null," NCBI_TaxID=1391699 {ECO:0000313|EMBL:KFY01276.1, ECO:0000313|Proteomes:UP000029329};",null,"Eukaryota"," Fungi"," Dikarya"," Ascomycota"," Pezizomycotina"," Leotiomycetes","Leotiomycetes incertae sedis"," Pseudeurotiaceae"," Pseudogymnoascus."]
["A0A093Y8Z0_9PEZI","A0A093Y8Z0"," Pseudogymnoascus sp. VKM F-3557.",null," NCBI_TaxID=1437433 {ECO:0000313|EMBL:KFX95409.1, ECO:0000313|Proteomes:UP000029320};",null,"Eukaryota"," Fungi"," Dikarya"," Ascomycota"," Pezizomycotina"," Leotiomycetes","Leotiomycetes incertae sedis"," Pseudeurotiaceae"," Pseudogymnoascus."]
["A0A093ZDG4_9PEZI","A0A093ZDG4"," Pseudogymnoascus sp. VKM F-4246.",null," NCBI_TaxID=1420902 {ECO:0000313|EMBL:KFY15346.1, ECO:0000313|Proteomes:UP000029299};",null,"Eukaryota"," Fungi"," Dikarya"," Ascomycota"," Pezizomycotina"," Leotiomycetes","Leotiomycetes incertae sedis"," Pseudeurotiaceae"," Pseudogymnoascus."]
["A0A094A6U6_9PEZI","A0A094A6U6"," Pseudogymnoascus sp. VKM F-4281 (FW-2241).",null," NCBI_TaxID=1420906 {ECO:0000313|EMBL:KFY25104.1, ECO:0000313|Proteomes:UP000029327};",null,"Eukaryota"," Fungi"," Dikarya"," Ascomycota"," Pezizomycotina"," Leotiomycetes","Leotiomycetes incertae sedis"," Pseudeurotiaceae"," Pseudogymnoascus."]
["A0A094AGV0_9PEZI","A0A094AGV0"," Pseudogymnoascus sp. VKM F-3775.",null," NCBI_TaxID=1420901 {ECO:0000313|EMBL:KFY22375.1, ECO:0000313|Proteomes:UP000029338};",null,"Eukaryota"," Fungi"," Dikarya"," Ascomycota"," Pezizomycotina"," Leotiomycetes","Leotiomycetes incertae sedis"," Pseudeurotiaceae"," Pseudogymnoascus."]
["A0A094BZU4_9PEZI","A0A094BZU4"," Pseudogymnoascus sp. VKM F-4513 (FW-928).",null," NCBI_TaxID=1420907 {ECO:0000313|EMBL:KFY45158.1, ECO:0000313|Proteomes:UP000029288};",null,"Eukaryota"," Fungi"," Dikarya"," Ascomycota"," Pezizomycotina"," Leotiomycetes","Leotiomycetes incertae sedis"," Pseudeurotiaceae"," Pseudogymnoascus."]
["A0A094CBT3_9PEZI","A0A094CBT3"," Pseudogymnoascus sp. VKM F-4515 (FW-2607).",null," NCBI_TaxID=1420909 {ECO:0000313|EMBL:KFY51646.1, ECO:0000313|Proteomes:UP000029302};",null,"Eukaryota"," Fungi"," Dikarya"," Ascomycota"," Pezizomycotina"," Leotiomycetes","Leotiomycetes incertae sedis"," Pseudeurotiaceae"," Pseudogymnoascus."]
["A0A094DFK1_9PEZI","A0A094DFK1"," Pseudogymnoascus sp. VKM F-4516 (FW-969).",null," NCBI_TaxID=1420910 {ECO:0000313|EMBL:KFY65216.1, ECO:0000313|Proteomes:UP000029268};",null,"Eukaryota"," Fungi"," Dikarya"," Ascomycota"," Pezizomycotina"," Leotiomycetes","Leotiomycetes incertae sedis"," Pseudeurotiaceae"," Pseudogymnoascus."]
["A0A094EPV8_9PEZI","A0A094EPV8"," Pseudogymnoascus sp. VKM F-103.",null," NCBI_TaxID=1420912 {ECO:0000313|EMBL:KFY80771.1, ECO:0000313|Proteomes:UP000029295};",null,"Eukaryota"," Fungi"," Dikarya"," Ascomycota"," Pezizomycotina"," Leotiomycetes","Leotiomycetes incertae sedis"," Pseudeurotiaceae"," Pseudogymnoascus."]
["A0A094FZP8_9PEZI","A0A094FZP8"," Pseudogymnoascus sp. VKM F-4518 (FW-2643).",null," NCBI_TaxID=1420913 {ECO:0000313|EMBL:KFY96319.1, ECO:0000313|Proteomes:UP000029284};",null,"Eukaryota"," Fungi"," Dikarya"," Ascomycota"," Pezizomycotina"," Leotiomycetes","Leotiomycetes incertae sedis"," Pseudeurotiaceae"," Pseudogymnoascus."]
["A0A094GBR2_9PEZI","A0A094GBR2"," Pseudogymnoascus sp. VKM F-4517 (FW-2822).",null," NCBI_TaxID=1420911 {ECO:0000313|EMBL:KFY93515.1, ECO:0000313|Proteomes:UP000029270};",null,"Eukaryota"," Fungi"," Dikarya"," Ascomycota"," Pezizomycotina"," Leotiomycetes","Leotiomycetes incertae sedis"," Pseudeurotiaceae"," Pseudogymnoascus."]
["A0A094H8A7_9PEZI","A0A094H8A7"," Pseudogymnoascus sp. VKM F-4520 (FW-2644).",null," NCBI_TaxID=1420915 {ECO:0000313|EMBL:KFZ11595.1, ECO:0000313|Proteomes:UP000029308};",null,"Eukaryota"," Fungi"," Dikarya"," Ascomycota"," Pezizomycotina"," Leotiomycetes","Leotiomycetes incertae sedis"," Pseudeurotiaceae"," Pseudogymnoascus."]
["A0A094JA99_9PEZI","A0A094JA99"," Pseudogymnoascus sp. VKM F-4519 (FW-2642).",null," NCBI_TaxID=1420914 {ECO:0000313|EMBL:KFZ05868.1, ECO:0000313|Proteomes:UP000029315};",null,"Eukaryota"," Fungi"," Dikarya"," Ascomycota"," Pezizomycotina"," Leotiomycetes","Leotiomycetes incertae sedis"," Pseudeurotiaceae"," Pseudogymnoascus."]
["A0A094ZFT4_SCHHA","A0A094ZFT4"," Schistosoma haematobium (Blood fluke).",null," NCBI_TaxID=6185 {ECO:0000313|EMBL:KGB32657.1, ECO:0000313|Proteomes:UP000054474};",null,"Eukaryota"," Metazoa"," Platyhelminthes"," Trematoda"," Digenea"," Strigeidida","Schistosomatoidea"," Schistosomatidae"," Schistosoma."]
["A0A095DHE2_CRYGR","A0A095DHE2"," Cryptococcus gattii serotype B (strain R265) (Filobasidiella gattii) (Cryptococcus bacillisporus).",null," NCBI_TaxID=294750 {ECO:0000313|EMBL:KGB80051.1, ECO:0000313|Proteomes:UP000029445};",null,"Eukaryota"," Fungi"," Dikarya"," Basidiomycota"," Agaricomycotina","Tremellomycetes"," Tremellales"," Cryptococcaceae"," Cryptococcus","Cryptococcus gattii species complex."]
["A0A096N6Q6_PAPAN","A0A096N6Q6"," Papio anubis (Olive baboon).",null," NCBI_TaxID=9555 {ECO:0000313|Ensembl:ENSPANP00000008183, ECO:0000313|Proteomes:UP000028761};",null,"Eukaryota"," Metazoa"," Chordata"," Craniata"," Vertebrata"," Euteleostomi","Mammalia"," Eutheria"," Euarchontoglires"," Primates"," Haplorrhini","Catarrhini"," Cercopithecidae"," Cercopithecinae"," Papio."]
["A0A099P130_PICKU","A0A099P130"," Pichia kudriavzevii (Yeast) (Issatchenkia orientalis).",null," NCBI_TaxID=4909 {ECO:0000313|EMBL:KGK38610.1, ECO:0000313|Proteomes:UP000029867};",null,"Eukaryota"," Fungi"," Dikarya"," Ascomycota"," Saccharomycotina","Saccharomycetes"," Saccharomycetales"," Pichiaceae"," Pichia."]
["A0A0A0AG33_CHAVO","A0A0A0AG33"," Charadrius vociferus (Killdeer) (Aegialitis vocifera).",null," NCBI_TaxID=50402 {ECO:0000313|EMBL:KGL93136.1, ECO:0000313|Proteomes:UP000053858};",null,"Eukaryota"," Metazoa"," Chordata"," Craniata"," Vertebrata"," Euteleostomi","Archelosauria"," Archosauria"," Dinosauria"," Saurischia"," Theropoda","Coelurosauria"," Aves"," Neognathae"," Charadriiformes"," Charadriidae","Charadrius."]
["A0A0A1NX13_9FUNG","A0A0A1NX13"," Rhizopus microsporus.",null," NCBI_TaxID=58291 {ECO:0000313|EMBL:CEI97162.1, ECO:0000313|Proteomes:UP000038169};",null,"Eukaryota"," Fungi"," Mucoromycota"," Mucoromycotina"," Mucorales"," Mucorineae","Rhizopodaceae"," Rhizopus."]
["A0A0A1P236_9FUNG","A0A0A1P236"," Rhizopus microsporus.",null," NCBI_TaxID=58291 {ECO:0000313|EMBL:CEJ03146.1, ECO:0000313|Proteomes:UP000038169};",null,"Eukaryota"," Fungi"," Mucoromycota"," Mucoromycotina"," Mucorales"," Mucorineae","Rhizopodaceae"," Rhizopus."]
["A0A0A1TRF2_9HYPO","A0A0A1TRF2"," Torrubiella hemipterigena.",null," NCBI_TaxID=1531966 {ECO:0000313|EMBL:CEJ93827.1, ECO:0000313|Proteomes:UP000039046};",null,"Eukaryota"," Fungi"," Dikarya"," Ascomycota"," Pezizomycotina","Sordariomycetes"," Hypocreomycetidae"," Hypocreales"," Clavicipitaceae","Torrubiella."]
["A0A0A1U014_ENTIV","A0A0A1U014"," Entamoeba invadens IP1.",null," NCBI_TaxID=370355 {ECO:0000313|EMBL:ELP84233.1, ECO:0000313|Proteomes:UP000014680};",null,"Eukaryota"," Amoebozoa"," Archamoebae"," Entamoebidae"," Entamoeba."]
["A0A0A1UPQ1_9HYPO","A0A0A1UPQ1"," Metarhizium robertsii.",null," NCBI_TaxID=568076 {ECO:0000313|EMBL:EXU96855.1, ECO:0000313|Proteomes:UP000030151};",null,"Eukaryota"," Fungi"," Dikarya"," Ascomycota"," Pezizomycotina","Sordariomycetes"," Hypocreomycetidae"," Hypocreales"," Clavicipitaceae","Metarhizium."]
["A0A0A2IUN1_PENEN","A0A0A2IUN1"," Penicillium expansum (Blue mold rot fungus).",null," NCBI_TaxID=27334 {ECO:0000313|EMBL:KGO62410.1, ECO:0000313|Proteomes:UP000030143};",null,"Eukaryota"," Fungi"," Dikarya"," Ascomycota"," Pezizomycotina"," Eurotiomycetes","Eurotiomycetidae"," Eurotiales"," Aspergillaceae"," Penicillium."]
["A0A0A2LCV9_PENIT","A0A0A2LCV9"," Penicillium italicum (Blue mold).",null," NCBI_TaxID=40296 {ECO:0000313|EMBL:KGO77729.1, ECO:0000313|Proteomes:UP000030104};",null,"Eukaryota"," Fungi"," Dikarya"," Ascomycota"," Pezizomycotina"," Eurotiomycetes","Eurotiomycetidae"," Eurotiales"," Aspergillaceae"," Penicillium."]
["A0A0A2UZZ1_PARBA","A0A0A2UZZ1"," Paracoccidioides lutzii (strain ATCC MYA-826 / Pb01) (Paracoccidioides brasiliensis).",null," NCBI_TaxID=502779 {ECO:0000313|EMBL:KGQ01116.1, ECO:0000313|Proteomes:UP000002059};",null,"Eukaryota"," Fungi"," Dikarya"," Ascomycota"," Pezizomycotina"," Eurotiomycetes","Eurotiomycetidae"," Onygenales"," Onygenales incertae sedis","Paracoccidioides."]
["A0A0A2VHZ6_BEABA","A0A0A2VHZ6"," Beauveria bassiana D1-5.",null," NCBI_TaxID=1245745 {ECO:0000313|EMBL:KGQ07168.1, ECO:0000313|Proteomes:UP000030106};",null,"Eukaryota"," Fungi"," Dikarya"," Ascomycota"," Pezizomycotina","Sordariomycetes"," Hypocreomycetidae"," Hypocreales"," Cordycipitaceae","Beauveria."]
["A0A0A8L004_9SACH","A0A0A8L004"," Kluyveromyces dobzhanskii CBS 2104.",null," NCBI_TaxID=1427455 {ECO:0000313|EMBL:CDO92168.1, ECO:0000313|Proteomes:UP000031516};",null,"Eukaryota"," Fungi"," Dikarya"," Ascomycota"," Saccharomycotina","Saccharomycetes"," Saccharomycetales"," Saccharomycetaceae"," Kluyveromyces."]
["A0A0B1P1J1_UNCNE","A0A0B1P1J1"," Uncinula necator (Grape powdery mildew).",null," NCBI_TaxID=52586 {ECO:0000313|EMBL:KHJ30684.1, ECO:0000313|Proteomes:UP000030854};",null,"Eukaryota"," Fungi"," Dikarya"," Ascomycota"," Pezizomycotina"," Leotiomycetes","Erysiphales"," Erysiphaceae"," Erysiphe."]
["A0A0B1TUK7_OESDE","A0A0B1TUK7"," Oesophagostomum dentatum (Nodular worm).",null," NCBI_TaxID=61180 {ECO:0000313|EMBL:KHJ99115.1, ECO:0000313|Proteomes:UP000053660};",null,"Eukaryota"," Metazoa"," Ecdysozoa"," Nematoda"," Chromadorea"," Rhabditida","Strongylida"," Strongyloidea"," Cloacinidae"," Oesophagostomum."]
["A0A0B2V6Z8_TOXCA","A0A0B2V6Z8"," Toxocara canis (Canine roundworm).",null," NCBI_TaxID=6265 {ECO:0000313|EMBL:KHN79226.1, ECO:0000313|Proteomes:UP000031036};",null,"Eukaryota"," Metazoa"," Ecdysozoa"," Nematoda"," Chromadorea"," Ascaridida","Ascaridoidea"," Toxocaridae"," Toxocara."]
["A0A0B2VE34_TOXCA","A0A0B2VE34"," Toxocara canis (Canine roundworm).",null," NCBI_TaxID=6265 {ECO:0000313|EMBL:KHN79240.1, ECO:0000313|Proteomes:UP000031036};",null,"Eukaryota"," Metazoa"," Ecdysozoa"," Nematoda"," Chromadorea"," Ascaridida","Ascaridoidea"," Toxocaridae"," Toxocara."]
["A0A0B2WZE8_9HYPO","A0A0B2WZE8"," Metarhizium album ARSEF 1941.",null," NCBI_TaxID=1081103 {ECO:0000313|EMBL:KHN98954.1, ECO:0000313|Proteomes:UP000030816};",null,"Eukaryota"," Fungi"," Dikarya"," Ascomycota"," Pezizomycotina","Sordariomycetes"," Hypocreomycetidae"," Hypocreales"," Clavicipitaceae","Metarhizium."]
["A0A0B4GUX9_9HYPO","A0A0B4GUX9"," Metarhizium guizhouense ARSEF 977.",null," NCBI_TaxID=1276136 {ECO:0000313|EMBL:KID86463.1, ECO:0000313|Proteomes:UP000031192};",null,"Eukaryota"," Fungi"," Dikarya"," Ascomycota"," Pezizomycotina","Sordariomycetes"," Hypocreomycetidae"," Hypocreales"," Clavicipitaceae","Metarhizium."]
["A0A0B7N845_9FUNG","A0A0B7N845"," Parasitella parasitica.",null," NCBI_TaxID=35722 {ECO:0000313|EMBL:CEP11164.1, ECO:0000313|Proteomes:UP000054107};",null,"Eukaryota"," Fungi"," Mucoromycota"," Mucoromycotina"," Mucorales"," Mucorineae","Mucoraceae"," Parasitella."]
["A0A0B8N525_9EURO","A0A0B8N525"," Talaromyces cellulolyticus.",null," NCBI_TaxID=1472165 {ECO:0000313|EMBL:GAM43277.1};",null,"Eukaryota"," Fungi"," Dikarya"," Ascomycota"," Pezizomycotina"," Eurotiomycetes","Eurotiomycetidae"," Eurotiales"," Trichocomaceae"," Talaromyces."]
["A0A0C2GKR7_9BILA","A0A0C2GKR7"," Ancylostoma duodenale.",null," NCBI_TaxID=51022 {ECO:0000313|EMBL:KIH61800.1, ECO:0000313|Proteomes:UP000054047};",null,"Eukaryota"," Metazoa"," Ecdysozoa"," Nematoda"," Chromadorea"," Rhabditida","Strongylida"," Ancylostomatoidea"," Ancylostomatidae"," Ancylostomatinae","Ancylostoma."]
["A0A0C2M3A6_THEKT","A0A0C2M3A6"," Thelohanellus kitauei (Myxosporean).",null," NCBI_TaxID=669202 {ECO:0000313|EMBL:KII61520.1, ECO:0000313|Proteomes:UP000031668};",null,"Eukaryota"," Metazoa"," Cnidaria"," Myxozoa"," Myxosporea"," Bivalvulida","Platysporina"," Myxobolidae"," Thelohanellus."]
["A0A0C2MJT8_THEKT","A0A0C2MJT8"," Thelohanellus kitauei (Myxosporean).",null," NCBI_TaxID=669202 {ECO:0000313|EMBL:KII64615.1, ECO:0000313|Proteomes:UP000031668};",null,"Eukaryota"," Metazoa"," Cnidaria"," Myxozoa"," Myxosporea"," Bivalvulida","Platysporina"," Myxobolidae"," Thelohanellus."]
["A0A0C2X5E2_AMAMU","A0A0C2X5E2"," Amanita muscaria Koide BX008.",null," NCBI_TaxID=946122 {ECO:0000313|EMBL:KIL69487.1, ECO:0000313|Proteomes:UP000054549};",null,"Eukaryota"," Fungi"," Dikarya"," Basidiomycota"," Agaricomycotina","Agaricomycetes"," Agaricomycetidae"," Agaricales"," Amanitaceae"," Amanita."]
["A0A0C2YVD8_HEBCY","A0A0C2YVD8"," Hebeloma cylindrosporum h7.",null," NCBI_TaxID=686832 {ECO:0000313|EMBL:KIM44977.1, ECO:0000313|Proteomes:UP000053424};",null,"Eukaryota"," Fungi"," Dikarya"," Basidiomycota"," Agaricomycotina","Agaricomycetes"," Agaricomycetidae"," Agaricales"," Cortinariaceae","Hebeloma."]
["A0A0C3ACH9_9HOMO","A0A0C3ACH9"," Scleroderma citrinum Foug A.",null," NCBI_TaxID=1036808 {ECO:0000313|EMBL:KIM62597.1, ECO:0000313|Proteomes:UP000053989};",null,"Eukaryota"," Fungi"," Dikarya"," Basidiomycota"," Agaricomycotina","Agaricomycetes"," Agaricomycetidae"," Boletales"," Sclerodermatineae","Sclerodermataceae"," Scleroderma."]
["A0A0C3BSZ1_9HOMO","A0A0C3BSZ1"," Serendipita vermifera MAFF 305830.",null," NCBI_TaxID=933852 {ECO:0000313|EMBL:KIM34496.1, ECO:0000313|Proteomes:UP000054097};",null,"Eukaryota"," Fungi"," Dikarya"," Basidiomycota"," Agaricomycotina","Agaricomycetes"," Sebacinales"," Serendipitaceae"," Serendipita."]
["A0A0C3FWV3_9HOMO","A0A0C3FWV3"," Piloderma croceum F 1598.",null," NCBI_TaxID=765440 {ECO:0000313|EMBL:KIM83036.1, ECO:0000313|Proteomes:UP000054166};",null,"Eukaryota"," Fungi"," Dikarya"," Basidiomycota"," Agaricomycotina","Agaricomycetes"," Agaricomycetidae"," Atheliales"," Atheliaceae"," Piloderma."]
["A0A0C3HLL3_9PEZI","A0A0C3HLL3"," Oidiodendron maius Zn.",null," NCBI_TaxID=913774 {ECO:0000313|EMBL:KIN03920.1, ECO:0000313|Proteomes:UP000054321};",null,"Eukaryota"," Fungi"," Dikarya"," Ascomycota"," Pezizomycotina"," Leotiomycetes","Leotiomycetes incertae sedis"," Myxotrichaceae"," Oidiodendron."]
["A0A0C3L9K1_9HOMO","A0A0C3L9K1"," Tulasnella calospora MUT 4182.",null," NCBI_TaxID=1051891 {ECO:0000313|EMBL:KIO30578.1, ECO:0000313|Proteomes:UP000054248};",null,"Eukaryota"," Fungi"," Dikarya"," Basidiomycota"," Agaricomycotina","Agaricomycetes"," Cantharellales"," Tulasnellaceae"," Tulasnella."]
["A0A0C3PQW6_PISTI","A0A0C3PQW6"," Pisolithus tinctorius Marx 270.",null," NCBI_TaxID=870435 {ECO:0000313|EMBL:KIO10939.1, ECO:0000313|Proteomes:UP000054217};",null,"Eukaryota"," Fungi"," Dikarya"," Basidiomycota"," Agaricomycotina","Agaricomycetes"," Agaricomycetidae"," Boletales"," Sclerodermatineae","Pisolithaceae"," Pisolithus."]
["A0A0C3SDX7_PHLGI","A0A0C3SDX7"," Phlebiopsis gigantea 11061_1 CR5-6.",null," NCBI_TaxID=745531 {ECO:0000313|EMBL:KIP10030.1, ECO:0000313|Proteomes:UP000053257};",null,"Eukaryota"," Fungi"," Dikarya"," Basidiomycota"," Agaricomycotina","Agaricomycetes"," Polyporales"," Phanerochaetaceae"," Phlebiopsis."]
["A0A0C4EF57_MAGP6","A0A0C4EF57"," Magnaporthiopsis poae (strain ATCC 64411 / 73-15) (Kentucky bluegrass fungus) (Magnaporthe poae).",null," NCBI_TaxID=644358 {ECO:0000313|EnsemblFungi:MAPG_11391T0, ECO:0000313|Proteomes:UP000011715};",null,"Eukaryota"," Fungi"," Dikarya"," Ascomycota"," Pezizomycotina","Sordariomycetes"," Sordariomycetidae"," Magnaporthales"," Magnaporthaceae","Magnaporthiopsis."]
["A0A0C7N3C4_9SACH","A0A0C7N3C4"," Lachancea lanzarotensis.",null," NCBI_TaxID=1245769 {ECO:0000313|EMBL:CEP64670.1, ECO:0000313|Proteomes:UP000054304};",null,"Eukaryota"," Fungi"," Dikarya"," Ascomycota"," Saccharomycotina","Saccharomycetes"," Saccharomycetales"," Saccharomycetaceae"," Lachancea."]
["A0A0C9LWN1_9FUNG","A0A0C9LWN1"," Mucor ambiguus.",null," NCBI_TaxID=91626 {ECO:0000313|EMBL:GAN08815.1, ECO:0000313|Proteomes:UP000053815};",null,"Eukaryota"," Fungi"," Mucoromycota"," Mucoromycotina"," Mucorales"," Mucorineae","Mucoraceae"," Mucor."]
["A0A0C9WFV0_9HOMO","A0A0C9WFV0"," Hydnomerulius pinastri MD-312.",null," NCBI_TaxID=994086 {ECO:0000313|EMBL:KIJ65141.1, ECO:0000313|Proteomes:UP000053820};",null,"Eukaryota"," Fungi"," Dikarya"," Basidiomycota"," Agaricomycotina","Agaricomycetes"," Agaricomycetidae"," Boletales"," Paxilineae"," Paxillaceae","Hydnomerulius."]
["A0A0C9X698_9AGAR","A0A0C9X698"," Laccaria amethystina LaAM-08-1.",null," NCBI_TaxID=1095629 {ECO:0000313|EMBL:KIK07725.1, ECO:0000313|Proteomes:UP000054477};",null,"Eukaryota"," Fungi"," Dikarya"," Basidiomycota"," Agaricomycotina","Agaricomycetes"," Agaricomycetidae"," Agaricales"," Tricholomataceae","Laccaria."]
["A0A0C9Z1J0_9HOMO","A0A0C9Z1J0"," Pisolithus microcarpus 441.",null," NCBI_TaxID=765257 {ECO:0000313|EMBL:KIK20144.1, ECO:0000313|Proteomes:UP000054018};",null,"Eukaryota"," Fungi"," Dikarya"," Basidiomycota"," Agaricomycotina","Agaricomycetes"," Agaricomycetidae"," Boletales"," Sclerodermatineae","Pisolithaceae"," Pisolithus."]
["A0A0D0A959_9HOMO","A0A0D0A959"," Suillus luteus UH-Slu-Lm8-n1.",null," NCBI_TaxID=930992 {ECO:0000313|EMBL:KIK38291.1, ECO:0000313|Proteomes:UP000054485};",null,"Eukaryota"," Fungi"," Dikarya"," Basidiomycota"," Agaricomycotina","Agaricomycetes"," Agaricomycetidae"," Boletales"," Suillineae"," Suillaceae","Suillus."]
["A0A0D0CW47_9AGAR","A0A0D0CW47"," Gymnopus luxurians FD-317 M1.",null," NCBI_TaxID=944289 {ECO:0000313|EMBL:KIK60308.1, ECO:0000313|Proteomes:UP000053593};",null,"Eukaryota"," Fungi"," Dikarya"," Basidiomycota"," Agaricomycotina","Agaricomycetes"," Agaricomycetidae"," Agaricales"," Omphalotaceae"," Gymnopus."]
["A0A0D0ECG9_9HOMO","A0A0D0ECG9"," Paxillus rubicundulus Ve08.2h10.",null," NCBI_TaxID=930991 {ECO:0000313|EMBL:KIK99350.1, ECO:0000313|Proteomes:UP000054538};",null,"Eukaryota"," Fungi"," Dikarya"," Basidiomycota"," Agaricomycotina","Agaricomycetes"," Agaricomycetidae"," Boletales"," Paxilineae"," Paxillaceae","Paxillus."]
["A0A0D1DW40_USTMA","A0A0D1DW40"," Ustilago maydis (strain 521 / FGSC 9021) (Corn smut fungus).",null," NCBI_TaxID=237631 {ECO:0000313|EMBL:KIS67896.1, ECO:0000313|Proteomes:UP000000561};",null,"Eukaryota"," Fungi"," Dikarya"," Basidiomycota"," Ustilaginomycotina","Ustilaginomycetes"," Ustilaginales"," Ustilaginaceae"," Ustilago."]
["A0A0D1Y1X4_9EURO","A0A0D1Y1X4"," Exophiala mesophila.",null," NCBI_TaxID=212818 {ECO:0000313|EMBL:KIV94501.1, ECO:0000313|Proteomes:UP000054302};",null,"Eukaryota"," Fungi"," Dikarya"," Ascomycota"," Pezizomycotina"," Eurotiomycetes","Chaetothyriomycetidae"," Chaetothyriales"," Herpotrichiellaceae","Exophiala."]
["A0A0D1YTW6_9EURO","A0A0D1YTW6"," Exophiala sideris.",null," NCBI_TaxID=1016849 {ECO:0000313|EMBL:KIV78338.1, ECO:0000313|Proteomes:UP000053599};",null,"Eukaryota"," Fungi"," Dikarya"," Ascomycota"," Pezizomycotina"," Eurotiomycetes","Chaetothyriomycetidae"," Chaetothyriales"," Herpotrichiellaceae","Exophiala."]
["A0A0D1ZYM2_9EURO","A0A0D1ZYM2"," Exophiala spinifera.",null," NCBI_TaxID=91928 {ECO:0000313|EMBL:KIW17767.1, ECO:0000313|Proteomes:UP000053328};",null,"Eukaryota"," Fungi"," Dikarya"," Ascomycota"," Pezizomycotina"," Eurotiomycetes","Chaetothyriomycetidae"," Chaetothyriales"," Herpotrichiellaceae","Exophiala."]
["A0A0D2A5A0_9PEZI","A0A0D2A5A0"," Verruconis gallopava.",null," NCBI_TaxID=253628 {ECO:0000313|EMBL:KIW01705.1, ECO:0000313|Proteomes:UP000053259};",null,"Eukaryota"," Fungi"," Dikarya"," Ascomycota"," Pezizomycotina","Dothideomycetes"," Dothideomycetes incertae sedis"," Venturiales","Sympoventuriaceae"," Verruconis."]
["A0A0D2AR99_9EURO","A0A0D2AR99"," Exophiala oligosperma.",null," NCBI_TaxID=215243 {ECO:0000313|EMBL:KIW42446.1, ECO:0000313|Proteomes:UP000053342};",null,"Eukaryota"," Fungi"," Dikarya"," Ascomycota"," Pezizomycotina"," Eurotiomycetes","Chaetothyriomycetidae"," Chaetothyriales"," Herpotrichiellaceae","Exophiala."]
["A0A0D2CKN8_9EURO","A0A0D2CKN8"," Cladophialophora immunda.",null," NCBI_TaxID=569365 {ECO:0000313|EMBL:KIW30615.1, ECO:0000313|Proteomes:UP000054466};",null,"Eukaryota"," Fungi"," Dikarya"," Ascomycota"," Pezizomycotina"," Eurotiomycetes","Chaetothyriomycetidae"," Chaetothyriales"," Herpotrichiellaceae","Cladophialophora."]
["A0A0D2DJ28_9EURO","A0A0D2DJ28"," Exophiala oligosperma.",null," NCBI_TaxID=215243 {ECO:0000313|EMBL:KIW42445.1, ECO:0000313|Proteomes:UP000053342};",null,"Eukaryota"," Fungi"," Dikarya"," Ascomycota"," Pezizomycotina"," Eurotiomycetes","Chaetothyriomycetidae"," Chaetothyriales"," Herpotrichiellaceae","Exophiala."]
["A0A0D2E8D8_9EURO","A0A0D2E8D8"," Exophiala xenobiotica.",null," NCBI_TaxID=348802 {ECO:0000313|EMBL:KIW50960.1, ECO:0000313|Proteomes:UP000054342};",null,"Eukaryota"," Fungi"," Dikarya"," Ascomycota"," Pezizomycotina"," Eurotiomycetes","Chaetothyriomycetidae"," Chaetothyriales"," Herpotrichiellaceae","Exophiala."]
["A0A0D2G1H9_9EURO","A0A0D2G1H9"," Phialophora americana.",null," NCBI_TaxID=5601 {ECO:0000313|EMBL:KIW72620.1, ECO:0000313|Proteomes:UP000054266};",null,"Eukaryota"," Fungi"," Dikarya"," Ascomycota"," Pezizomycotina"," Eurotiomycetes","Chaetothyriomycetidae"," Chaetothyriales"," Herpotrichiellaceae","Phialophora."]
["A0A0D2HJE3_9EURO","A0A0D2HJE3"," Fonsecaea pedrosoi CBS 271.37.",null," NCBI_TaxID=1442368 {ECO:0000313|EMBL:KIW84549.1, ECO:0000313|Proteomes:UP000053029};",null,"Eukaryota"," Fungi"," Dikarya"," Ascomycota"," Pezizomycotina"," Eurotiomycetes","Chaetothyriomycetidae"," Chaetothyriales"," Herpotrichiellaceae","Fonsecaea."]
["A0A0D2I322_9EURO","A0A0D2I322"," Rhinocladiella mackenziei CBS 650.93.",null," NCBI_TaxID=1442369 {ECO:0000313|EMBL:KIX00179.1, ECO:0000313|Proteomes:UP000053617};",null,"Eukaryota"," Fungi"," Dikarya"," Ascomycota"," Pezizomycotina"," Eurotiomycetes","Chaetothyriomycetidae"," Chaetothyriales"," Herpotrichiellaceae","Rhinocladiella."]
["A0A0D2KAA1_9EURO","A0A0D2KAA1"," Fonsecaea multimorphosa CBS 102226.",null," NCBI_TaxID=1442371 {ECO:0000313|EMBL:KIX93333.1, ECO:0000313|Proteomes:UP000053411};",null,"Eukaryota"," Fungi"," Dikarya"," Ascomycota"," Pezizomycotina"," Eurotiomycetes","Chaetothyriomycetidae"," Chaetothyriales"," Herpotrichiellaceae","Fonsecaea."]
["A0A0D2NY00_9AGAR","A0A0D2NY00"," Hypholoma sublateritium FD-334 SS-4.",null," NCBI_TaxID=945553 {ECO:0000313|EMBL:KJA23619.1, ECO:0000313|Proteomes:UP000054270};",null,"Eukaryota"," Fungi"," Dikarya"," Basidiomycota"," Agaricomycotina","Agaricomycetes"," Agaricomycetidae"," Agaricales"," Strophariaceae","Hypholoma."]
["A0A0D2X4G8_CAPO3","A0A0D2X4G8"," Capsaspora owczarzaki (strain ATCC 30864).",null," NCBI_TaxID=595528 {ECO:0000313|EMBL:KJE96034.1, ECO:0000313|Proteomes:UP000008743};",null,"Eukaryota"," Ichthyosporea"," Capsaspora."]
["A0A0D2XWJ8_FUSO4","A0A0D2XWJ8"," Fusarium oxysporum f. sp. lycopersici (strain 4287 / CBS 123668 / FGSC 9935 / NRRL 34936) (Fusarium vascular wilt of tomato).",null," NCBI_TaxID=426428 {ECO:0000313|EnsemblFungi:FOXG_08364P0, ECO:0000313|Proteomes:UP000009097};",null,"Eukaryota"," Fungi"," Dikarya"," Ascomycota"," Pezizomycotina","Sordariomycetes"," Hypocreomycetidae"," Hypocreales"," Nectriaceae","Fusarium"," Fusarium oxysporum species complex."]
["A0A0D7AM24_9AGAR","A0A0D7AM24"," Fistulina hepatica ATCC 64428.",null," NCBI_TaxID=1128425 {ECO:0000313|EMBL:KIY52794.1, ECO:0000313|Proteomes:UP000054144};",null,"Eukaryota"," Fungi"," Dikarya"," Basidiomycota"," Agaricomycotina","Agaricomycetes"," Agaricomycetidae"," Agaricales"," Fistulinaceae","Fistulina."]
["A0A0D7BL27_9AGAR","A0A0D7BL27"," Cylindrobasidium torrendii FP15055 ss-10.",null," NCBI_TaxID=1314674 {ECO:0000313|EMBL:KIY70306.1, ECO:0000313|Proteomes:UP000054007};",null,"Eukaryota"," Fungi"," Dikarya"," Basidiomycota"," Agaricomycotina","Agaricomycetes"," Agaricomycetidae"," Agaricales"," Physalacriaceae","Cylindrobasidium."]
["A0A0D8Y173_DICVI","A0A0D8Y173"," Dictyocaulus viviparus (Bovine lungworm).",null," NCBI_TaxID=29172 {ECO:0000313|EMBL:KJH49784.1, ECO:0000313|Proteomes:UP000053766};",null,"Eukaryota"," Metazoa"," Ecdysozoa"," Nematoda"," Chromadorea"," Rhabditida","Strongylida"," Trichostrongyloidea"," Dictyocaulidae"," Dictyocaulinae","Dictyocaulus."]
["A0A0D9N9Z1_ASPFA","A0A0D9N9Z1"," Aspergillus flavus (strain ATCC MYA-384 / AF70).",null," NCBI_TaxID=1392242 {ECO:0000313|EMBL:KJJ35638.1, ECO:0000313|Proteomes:UP000032444};",null,"Eukaryota"," Fungi"," Dikarya"," Ascomycota"," Pezizomycotina"," Eurotiomycetes","Eurotiomycetidae"," Eurotiales"," Aspergillaceae"," Aspergillus."]
["A0A0D9S6N5_CHLSB","A0A0D9S6N5"," Chlorocebus sabaeus (Green monkey) (Cercopithecus sabaeus).",null," NCBI_TaxID=60711 {ECO:0000313|Ensembl:ENSCSAP00000016524, ECO:0000313|Proteomes:UP000029965};",null,"Eukaryota"," Metazoa"," Chordata"," Craniata"," Vertebrata"," Euteleostomi","Mammalia"," Eutheria"," Euarchontoglires"," Primates"," Haplorrhini","Catarrhini"," Cercopithecidae"," Cercopithecinae"," Chlorocebus."]
["A0A0E1RUZ2_COCIM","A0A0E1RUZ2"," Coccidioides immitis (strain RS) (Valley fever fungus).",null," NCBI_TaxID=246410 {ECO:0000313|EMBL:EAS27376.2, ECO:0000313|Proteomes:UP000001261};",null,"Eukaryota"," Fungi"," Dikarya"," Ascomycota"," Pezizomycotina"," Eurotiomycetes","Eurotiomycetidae"," Onygenales"," Onygenales incertae sedis"," Coccidioides."]
["A0A0E9NAY6_9ASCO","A0A0E9NAY6"," Saitoella complicata NRRL Y-17804.",null," NCBI_TaxID=698492 {ECO:0000313|EMBL:GAO47042.1, ECO:0000313|Proteomes:UP000033140};",null,"Eukaryota"," Fungi"," Dikarya"," Ascomycota"," Taphrinomycotina","Taphrinomycotina incertae sedis"," Saitoella."]
["A0A0F0I5P1_ASPPU","A0A0F0I5P1"," Aspergillus parasiticus (strain ATCC 56775 / NRRL 5862 / SRRC 143 / SU-1).",null," NCBI_TaxID=1403190 {ECO:0000313|EMBL:KJK63079.1, ECO:0000313|Proteomes:UP000033540};",null,"Eukaryota"," Fungi"," Dikarya"," Ascomycota"," Pezizomycotina"," Eurotiomycetes","Eurotiomycetidae"," Eurotiales"," Aspergillaceae"," Aspergillus."]
["A0A0F4GBS7_9PEZI","A0A0F4GBS7"," Zymoseptoria brevis.",null," NCBI_TaxID=1047168 {ECO:0000313|EMBL:KJX94853.1, ECO:0000313|Proteomes:UP000033647};",null,"Eukaryota"," Fungi"," Dikarya"," Ascomycota"," Pezizomycotina","Dothideomycetes"," Dothideomycetidae"," Capnodiales"," Mycosphaerellaceae","Zymoseptoria."]
["A0A0F4YRT6_TALEM","A0A0F4YRT6"," Rasamsonia emersonii CBS 393.64.",null," NCBI_TaxID=1408163 {ECO:0000313|EMBL:KKA20959.1, ECO:0000313|Proteomes:UP000053958};",null,"Eukaryota"," Fungi"," Dikarya"," Ascomycota"," Pezizomycotina"," Eurotiomycetes","Eurotiomycetidae"," Eurotiales"," Trichocomaceae"," Rasamsonia."]
["A0A0F4ZGE2_9PEZI","A0A0F4ZGE2"," Thielaviopsis punctulata.",null," NCBI_TaxID=72032 {ECO:0000313|EMBL:KKA29659.1, ECO:0000313|Proteomes:UP000033483};",null,"Eukaryota"," Fungi"," Dikarya"," Ascomycota"," Pezizomycotina","Sordariomycetes"," Hypocreomycetidae"," Microascales"," Ceratocystidaceae","Thielaviopsis."]
["A0A0F7TMN7_9EURO","A0A0F7TMN7"," Penicillium brasilianum.",null," NCBI_TaxID=104259 {ECO:0000313|EMBL:CEJ56690.1, ECO:0000313|Proteomes:UP000042958};",null,"Eukaryota"," Fungi"," Dikarya"," Ascomycota"," Pezizomycotina"," Eurotiomycetes","Eurotiomycetidae"," Eurotiales"," Aspergillaceae"," Penicillium."]
["A0A0F8A3N1_9HYPO","A0A0F8A3N1"," Hirsutella minnesotensis 3608.",null," NCBI_TaxID=1043627 {ECO:0000313|EMBL:KJZ72119.1, ECO:0000313|Proteomes:UP000054481};",null,"Eukaryota"," Fungi"," Dikarya"," Ascomycota"," Pezizomycotina","Sordariomycetes"," Hypocreomycetidae"," Hypocreales"," Ophiocordycipitaceae","Hirsutella."]
["A0A0F8B4S6_CERFI","A0A0F8B4S6"," Ceratocystis fimbriata f. sp. platani.",null," NCBI_TaxID=88771 {ECO:0000313|EMBL:KKF96931.1, ECO:0000313|Proteomes:UP000034841};",null,"Eukaryota"," Fungi"," Dikarya"," Ascomycota"," Pezizomycotina","Sordariomycetes"," Hypocreomycetidae"," Microascales"," Ceratocystidaceae","Ceratocystis."]
["A0A0F8UGN8_9EURO","A0A0F8UGN8"," Aspergillus rambellii.",null," NCBI_TaxID=308745 {ECO:0000313|EMBL:KKK18703.1, ECO:0000313|Proteomes:UP000034291};",null,"Eukaryota"," Fungi"," Dikarya"," Ascomycota"," Pezizomycotina"," Eurotiomycetes","Eurotiomycetidae"," Eurotiales"," Aspergillaceae"," Aspergillus."]
["A0A0F9X9B6_TRIHA","A0A0F9X9B6"," Trichoderma harzianum (Hypocrea lixii).",null," NCBI_TaxID=5544 {ECO:0000313|EMBL:KKP01100.1, ECO:0000313|Proteomes:UP000034112};",null,"Eukaryota"," Fungi"," Dikarya"," Ascomycota"," Pezizomycotina","Sordariomycetes"," Hypocreomycetidae"," Hypocreales"," Hypocreaceae","Trichoderma."]
["A0A0G2E4D9_9PEZI","A0A0G2E4D9"," Diplodia seriata.",null," NCBI_TaxID=420778 {ECO:0000313|EMBL:KKY17882.1, ECO:0000313|Proteomes:UP000034182};",null,"Eukaryota"," Fungi"," Dikarya"," Ascomycota"," Pezizomycotina","Dothideomycetes"," Dothideomycetes incertae sedis"," Botryosphaeriales","Botryosphaeriaceae"," Diplodia."]
["A0A0G2F9N9_9PEZI","A0A0G2F9N9"," Diaporthe ampelina.",null," NCBI_TaxID=1214573 {ECO:0000313|EMBL:KKY30894.1, ECO:0000313|Proteomes:UP000034680};",null,"Eukaryota"," Fungi"," Dikarya"," Ascomycota"," Pezizomycotina","Sordariomycetes"," Sordariomycetidae"," Diaporthales"," Diaporthaceae","Diaporthe."]
["A0A0G2FU03_9EURO","A0A0G2FU03"," Phaeomoniella chlamydospora.",null," NCBI_TaxID=158046 {ECO:0000313|EMBL:KKY15358.1, ECO:0000313|Proteomes:UP000053317};",null,"Eukaryota"," Fungi"," Dikarya"," Ascomycota"," Pezizomycotina"," Eurotiomycetes","Chaetothyriomycetidae"," Phaeomoniellales","Phaeomoniellales incertae sedis"," Phaeomoniella."]
["A0A0G2I3T6_9EURO","A0A0G2I3T6"," Emmonsia crescens UAMH 3008.",null," NCBI_TaxID=1247875 {ECO:0000313|EMBL:KKZ65058.1, ECO:0000313|Proteomes:UP000034164};",null,"Eukaryota"," Fungi"," Dikarya"," Ascomycota"," Pezizomycotina"," Eurotiomycetes","Eurotiomycetidae"," Onygenales"," Ajellomycetaceae"," Emmonsia."]
["A0A0G2JGI9_MOUSE","A0A0G2JGI9"," Mus musculus (Mouse).",null," NCBI_TaxID=10090 {ECO:0000313|Ensembl:ENSMUSP00000143582, ECO:0000313|Proteomes:UP000000589};",null,"Eukaryota"," Metazoa"," Chordata"," Craniata"," Vertebrata"," Euteleostomi","Mammalia"," Eutheria"," Euarchontoglires"," Glires"," Rodentia"," Myomorpha","Muroidea"," Muridae"," Murinae"," Mus"," Mus."]
["A0A0G4G102_VITBC","A0A0G4G102"," Vitrella brassicaformis (strain CCMP3155).",null," NCBI_TaxID=1169540 {ECO:0000313|EMBL:CEM21760.1, ECO:0000313|Proteomes:UP000041254};",null,"Eukaryota"," Alveolata"," Chromerida"," Vitrella."]
["A0A0G4KZD0_9PEZI","A0A0G4KZD0"," Verticillium longisporum.",null," NCBI_TaxID=100787 {ECO:0000313|EMBL:CRK15124.1, ECO:0000313|Proteomes:UP000044602};",null,"Eukaryota"," Fungi"," Dikarya"," Ascomycota"," Pezizomycotina","Sordariomycetes"," Hypocreomycetidae"," Glomerellales","Plectosphaerellaceae"," Verticillium."]
["A0A0G4LQK9_9PEZI","A0A0G4LQK9"," Verticillium longisporum.",null," NCBI_TaxID=100787 {ECO:0000313|EMBL:CRK24297.1, ECO:0000313|Proteomes:UP000044602};",null,"Eukaryota"," Fungi"," Dikarya"," Ascomycota"," Pezizomycotina","Sordariomycetes"," Hypocreomycetidae"," Glomerellales","Plectosphaerellaceae"," Verticillium."]
["A0A0G4MAL6_9PEZI","A0A0G4MAL6"," Verticillium longisporum.",null," NCBI_TaxID=100787 {ECO:0000313|EMBL:CRK31206.1, ECO:0000313|Proteomes:UP000044602};",null,"Eukaryota"," Fungi"," Dikarya"," Ascomycota"," Pezizomycotina","Sordariomycetes"," Hypocreomycetidae"," Glomerellales","Plectosphaerellaceae"," Verticillium."]
["A0A0G4NW80_PENCA","A0A0G4NW80"," Penicillium camemberti FM 013.",null," NCBI_TaxID=1429867 {ECO:0000313|EMBL:CRL18323.1, ECO:0000313|Proteomes:UP000053732};",null,"Eukaryota"," Fungi"," Dikarya"," Ascomycota"," Pezizomycotina"," Eurotiomycetes","Eurotiomycetidae"," Eurotiales"," Aspergillaceae"," Penicillium."]
["A0A0H1B6U3_9EURO","A0A0H1B6U3"," Emmonsia parva UAMH 139.",null," NCBI_TaxID=1246674 {ECO:0000313|EMBL:KLJ07169.1, ECO:0000313|Proteomes:UP000053573};",null,"Eukaryota"," Fungi"," Dikarya"," Ascomycota"," Pezizomycotina"," Eurotiomycetes","Eurotiomycetidae"," Onygenales"," Ajellomycetaceae"," Emmonsia."]
["A0A0H2RII2_9HOMO","A0A0H2RII2"," Schizopora paradoxa.",null," NCBI_TaxID=27342 {ECO:0000313|EMBL:KLO11599.1, ECO:0000313|Proteomes:UP000053477};",null,"Eukaryota"," Fungi"," Dikarya"," Basidiomycota"," Agaricomycotina","Agaricomycetes"," Hymenochaetales"," Schizoporaceae"," Schizopora."]
["A0A0H5C1A1_CYBJA","A0A0H5C1A1"," Cyberlindnera jadinii (Torula yeast) (Pichia jadinii).",null," NCBI_TaxID=4903 {ECO:0000313|EMBL:CEP21212.1, ECO:0000313|Proteomes:UP000038830};",null,"Eukaryota"," Fungi"," Dikarya"," Ascomycota"," Saccharomycotina","Saccharomycetes"," Saccharomycetales"," Phaffomycetaceae"," Cyberlindnera."]
["A0A0J0XP15_9TREE","A0A0J0XP15"," Cutaneotrichosporon oleaginosum.",null," NCBI_TaxID=879819 {ECO:0000313|EMBL:KLT42863.1, ECO:0000313|Proteomes:UP000053611};",null,"Eukaryota"," Fungi"," Dikarya"," Basidiomycota"," Agaricomycotina","Tremellomycetes"," Trichosporonales"," Trichosporonaceae","Cutaneotrichosporon."]
["A0A0J7BGE2_COCIT","A0A0J7BGE2"," Coccidioides immitis RMSCC 2394.",null," NCBI_TaxID=404692 {ECO:0000313|EMBL:KMP09327.1, ECO:0000313|Proteomes:UP000054565};",null,"Eukaryota"," Fungi"," Dikarya"," Ascomycota"," Pezizomycotina"," Eurotiomycetes","Eurotiomycetidae"," Onygenales"," Onygenales incertae sedis"," Coccidioides."]
["A0A0J7NAZ8_LASNI","A0A0J7NAZ8"," Lasius niger (Black garden ant).",null," NCBI_TaxID=67767 {ECO:0000313|EMBL:KMQ89780.1, ECO:0000313|Proteomes:UP000036403};",null,"Eukaryota"," Metazoa"," Ecdysozoa"," Arthropoda"," Hexapoda"," Insecta","Pterygota"," Neoptera"," Holometabola"," Hymenoptera"," Apocrita"," Aculeata","Vespoidea"," Formicidae"," Formicinae"," Lasius"," Lasius."]
["A0A0J8TWI9_COCIT","A0A0J8TWI9"," Coccidioides immitis RMSCC 3703.",null," NCBI_TaxID=454286 {ECO:0000313|EMBL:KMU78292.1, ECO:0000313|Proteomes:UP000054559};",null,"Eukaryota"," Fungi"," Dikarya"," Ascomycota"," Pezizomycotina"," Eurotiomycetes","Eurotiomycetidae"," Onygenales"," Onygenales incertae sedis"," Coccidioides."]
["A0A0J9V7A0_FUSO4","A0A0J9V7A0"," Fusarium oxysporum f. sp. lycopersici (strain 4287 / CBS 123668 / FGSC 9935 / NRRL 34936) (Fusarium vascular wilt of tomato).",null," NCBI_TaxID=426428 {ECO:0000313|EMBL:KNB07055.1};",null,"Eukaryota"," Fungi"," Dikarya"," Ascomycota"," Pezizomycotina","Sordariomycetes"," Hypocreomycetidae"," Hypocreales"," Nectriaceae","Fusarium"," Fusarium oxysporum species complex."]
["A0A0K0E803_STRER","A0A0K0E803"," Strongyloides stercoralis (Threadworm).",null," NCBI_TaxID=6248 {ECO:0000313|Proteomes:UP000035681, ECO:0000313|WBParaSite:SSTP_0000563300.1};",null,"Eukaryota"," Metazoa"," Ecdysozoa"," Nematoda"," Chromadorea"," Tylenchida","Panagrolaimomorpha"," Strongyloidoidea"," Strongyloididae"," Strongyloides."]
["A0A0K0FGL4_9BILA","A0A0K0FGL4"," Strongyloides venezuelensis.",null," NCBI_TaxID=75913 {ECO:0000313|Proteomes:UP000035680, ECO:0000313|WBParaSite:SVE_0801900.1};",null,"Eukaryota"," Metazoa"," Ecdysozoa"," Nematoda"," Chromadorea"," Tylenchida","Panagrolaimomorpha"," Strongyloidoidea"," Strongyloididae"," Strongyloides."]
["A0A0K6GIF6_9HOMO","A0A0K6GIF6"," Rhizoctonia solani.",null," NCBI_TaxID=456999 {ECO:0000313|EMBL:CUA78154.1, ECO:0000313|Proteomes:UP000044841};",null,"Eukaryota"," Fungi"," Dikarya"," Basidiomycota"," Agaricomycotina","Agaricomycetes"," Cantharellales"," Ceratobasidiaceae"," Rhizoctonia."]
["A0A0K8LPV6_9EURO","A0A0K8LPV6"," Aspergillus udagawae.",null," NCBI_TaxID=91492 {ECO:0000313|EMBL:GAO89968.1, ECO:0000313|Proteomes:UP000036893};",null,"Eukaryota"," Fungi"," Dikarya"," Ascomycota"," Pezizomycotina"," Eurotiomycetes","Eurotiomycetidae"," Eurotiales"," Aspergillaceae"," Aspergillus."]
["A0A0L0BUP1_LUCCU","A0A0L0BUP1"," Lucilia cuprina (Green bottle fly) (Australian sheep blowfly).",null," NCBI_TaxID=7375 {ECO:0000313|EMBL:KNC22924.1, ECO:0000313|Proteomes:UP000037069};",null,"Eukaryota"," Metazoa"," Ecdysozoa"," Arthropoda"," Hexapoda"," Insecta","Pterygota"," Neoptera"," Holometabola"," Diptera"," Brachycera"," Muscomorpha","Oestroidea"," Calliphoridae"," Luciliinae"," Lucilia."]
["A0A0L0D597_THETB","A0A0L0D597"," Thecamonas trahens ATCC 50062.",null," NCBI_TaxID=461836 {ECO:0000313|EMBL:KNC47552.1, ECO:0000313|Proteomes:UP000054408};",null,"Eukaryota"," Apusozoa"," Apusomonadidae"," Thecamonas."]
["A0A0L0FY95_9EUKA","A0A0L0FY95"," Sphaeroforma arctica JP610.",null," NCBI_TaxID=667725 {ECO:0000313|EMBL:KNC81810.1, ECO:0000313|Proteomes:UP000054560};",null,"Eukaryota"," Ichthyosporea"," Ichthyophonida"," Sphaeroforma."]
["A0A0L0HGW7_SPIPN","A0A0L0HGW7"," Spizellomyces punctatus DAOM BR117.",null," NCBI_TaxID=645134 {ECO:0000313|EMBL:KND00358.1, ECO:0000313|Proteomes:UP000053201};",null,"Eukaryota"," Fungi"," Chytridiomycota"," Chytridiomycetes","Spizellomycetales"," Spizellomycetaceae"," Spizellomyces."]
["A0A0L0N7E7_9HYPO","A0A0L0N7E7"," Tolypocladium ophioglossoides CBS 100239.",null," NCBI_TaxID=1163406 {ECO:0000313|EMBL:KND89929.1, ECO:0000313|Proteomes:UP000036947};",null,"Eukaryota"," Fungi"," Dikarya"," Ascomycota"," Pezizomycotina","Sordariomycetes"," Hypocreomycetidae"," Hypocreales"," Ophiocordycipitaceae","Tolypocladium."]
["A0A0L0P4J2_CANAR","A0A0L0P4J2"," Candida auris (Yeast).",null," NCBI_TaxID=498019 {ECO:0000313|EMBL:KNE01219.1, ECO:0000313|Proteomes:UP000037122};",null,"Eukaryota"," Fungi"," Dikarya"," Ascomycota"," Saccharomycotina","Saccharomycetes"," Saccharomycetales"," Metschnikowiaceae"," Clavispora","Clavispora/Candida clade."]
["A0A0L0TEU8_ALLMA","A0A0L0TEU8"," Allomyces macrogynus ATCC 38327.",null," NCBI_TaxID=578462 {ECO:0000313|EMBL:KNE73181.1, ECO:0000313|Proteomes:UP000054350};",null,"Eukaryota"," Fungi"," Blastocladiomycota"," Blastocladiomycetes","Blastocladiales"," Blastocladiaceae"," Allomyces."]
["A0A0L0TF30_ALLMA","A0A0L0TF30"," Allomyces macrogynus ATCC 38327.",null," NCBI_TaxID=578462 {ECO:0000313|EMBL:KNE73199.1, ECO:0000313|Proteomes:UP000054350};",null,"Eukaryota"," Fungi"," Blastocladiomycota"," Blastocladiomycetes","Blastocladiales"," Blastocladiaceae"," Allomyces."]
["A0A0L0VQ97_9BASI","A0A0L0VQ97"," Puccinia striiformis f. sp. tritici PST-78.",null," NCBI_TaxID=1165861 {ECO:0000313|EMBL:KNF01175.1, ECO:0000313|Proteomes:UP000054564};",null,"Eukaryota"," Fungi"," Dikarya"," Basidiomycota"," Pucciniomycotina","Pucciniomycetes"," Pucciniales"," Pucciniaceae"," Puccinia."]
["A0A0L1HSN2_9PLEO","A0A0L1HSN2"," Stemphylium lycopersici.",null," NCBI_TaxID=183478 {ECO:0000313|EMBL:KNG49082.1, ECO:0000313|Proteomes:UP000054122};",null,"Eukaryota"," Fungi"," Dikarya"," Ascomycota"," Pezizomycotina","Dothideomycetes"," Pleosporomycetidae"," Pleosporales"," Pleosporineae","Pleosporaceae"," Stemphylium."]
["A0A0L1J5G2_ASPNO","A0A0L1J5G2"," Aspergillus nomius NRRL 13137.",null," NCBI_TaxID=1509407 {ECO:0000313|EMBL:KNG87056.1, ECO:0000313|Proteomes:UP000037505};",null,"Eukaryota"," Fungi"," Dikarya"," Ascomycota"," Pezizomycotina"," Eurotiomycetes","Eurotiomycetidae"," Eurotiales"," Aspergillaceae"," Aspergillus."]
["A0A0L6UGP3_9BASI","A0A0L6UGP3"," Puccinia sorghi.",null," NCBI_TaxID=27349 {ECO:0000313|EMBL:KNZ47716.1, ECO:0000313|Proteomes:UP000037035};",null,"Eukaryota"," Fungi"," Dikarya"," Basidiomycota"," Pucciniomycotina","Pucciniomycetes"," Pucciniales"," Pucciniaceae"," Puccinia."]
["A0A0L6WZ71_9AGAR","A0A0L6WZ71"," Termitomyces sp. J132.",null," NCBI_TaxID=1306850 {ECO:0000313|EMBL:KNZ80711.1, ECO:0000313|Proteomes:UP000053712};",null,"Eukaryota"," Fungi"," Dikarya"," Basidiomycota"," Agaricomycotina","Agaricomycetes"," Agaricomycetidae"," Agaricales"," Lyophyllaceae","Termitomyces."]
["A0A0L7QQA0_9HYME","A0A0L7QQA0"," Habropoda laboriosa.",null," NCBI_TaxID=597456 {ECO:0000313|EMBL:KOC60813.1, ECO:0000313|Proteomes:UP000053825};",null,"Eukaryota"," Metazoa"," Ecdysozoa"," Arthropoda"," Hexapoda"," Insecta","Pterygota"," Neoptera"," Holometabola"," Hymenoptera"," Apocrita"," Aculeata","Apoidea"," Apidae"," Habropoda."]
["A0A0L8G6V0_OCTBM","A0A0L8G6V0"," Octopus bimaculoides (California two-spotted octopus).",null," NCBI_TaxID=37653 {ECO:0000313|EMBL:KOF72559.1, ECO:0000313|Proteomes:UP000053454};",null,"Eukaryota"," Metazoa"," Lophotrochozoa"," Mollusca"," Cephalopoda"," Coleoidea","Neocoleoidea"," Octopodiformes"," Octopoda"," Incirrata"," Octopodidae","Octopus."]
["A0A0M8N0M3_9HYPO","A0A0M8N0M3"," Escovopsis weberi.",null," NCBI_TaxID=150374 {ECO:0000313|EMBL:KOS20697.1, ECO:0000313|Proteomes:UP000053831};",null,"Eukaryota"," Fungi"," Dikarya"," Ascomycota"," Pezizomycotina","Sordariomycetes"," Hypocreomycetidae"," Hypocreales"," Hypocreaceae","Escovopsis."]
["A0A0M9A074_9HYME","A0A0M9A074"," Melipona quadrifasciata.",null," NCBI_TaxID=166423 {ECO:0000313|EMBL:KOX74487.1, ECO:0000313|Proteomes:UP000053105};",null,"Eukaryota"," Metazoa"," Ecdysozoa"," Arthropoda"," Hexapoda"," Insecta","Pterygota"," Neoptera"," Holometabola"," Hymenoptera"," Apocrita"," Aculeata","Apoidea"," Apidae"," Melipona."]
["A0A0M9EXZ4_FUSLA","A0A0M9EXZ4"," Fusarium langsethiae.",null," NCBI_TaxID=179993 {ECO:0000313|EMBL:KPA42198.1, ECO:0000313|Proteomes:UP000037904};",null,"Eukaryota"," Fungi"," Dikarya"," Ascomycota"," Pezizomycotina","Sordariomycetes"," Hypocreomycetidae"," Hypocreales"," Nectriaceae","Fusarium."]
["A0A0M9WGZ0_9EURO","A0A0M9WGZ0"," Penicillium nordicum.",null," NCBI_TaxID=229535 {ECO:0000313|EMBL:KOS44489.1, ECO:0000313|Proteomes:UP000037696};",null,"Eukaryota"," Fungi"," Dikarya"," Ascomycota"," Pezizomycotina"," Eurotiomycetes","Eurotiomycetidae"," Eurotiales"," Aspergillaceae"," Penicillium."]
["A0A0N0NS63_9EURO","A0A0N0NS63"," Phialophora attae.",null," NCBI_TaxID=1664694 {ECO:0000313|EMBL:KPI45891.1, ECO:0000313|Proteomes:UP000038010};",null,"Eukaryota"," Fungi"," Dikarya"," Ascomycota"," Pezizomycotina"," Eurotiomycetes","Chaetothyriomycetidae"," Chaetothyriales"," Herpotrichiellaceae","Phialophora."]
["A0A0N4T439_BRUPA","A0A0N4T439"," Brugia pahangi (Filarial nematode worm).",null," NCBI_TaxID=6280 {ECO:0000313|Proteomes:UP000038020, ECO:0000313|WBParaSite:BPAG_0000296901-mRNA-1};",null,"Eukaryota"," Metazoa"," Ecdysozoa"," Nematoda"," Chromadorea"," Spirurida","Spiruromorpha"," Filarioidea"," Onchocercidae"," Brugia."]
["A0A0N4UM20_DRAME","A0A0N4UM20"," Dracunculus medinensis (Guinea worm).",null," NCBI_TaxID=318479 {ECO:0000313|Proteomes:UP000038040, ECO:0000313|WBParaSite:DME_0000887201-mRNA-1};",null,"Eukaryota"," Metazoa"," Ecdysozoa"," Nematoda"," Chromadorea"," Spirurida","Spirurida incertae sedis"," Dracunculoidea"," Dracunculidae"," Dracunculus."]
["A0A0N4VFZ0_ENTVE","A0A0N4VFZ0"," Enterobius vermicularis (Human pinworm).",null," NCBI_TaxID=51028 {ECO:0000313|Proteomes:UP000038041, ECO:0000313|WBParaSite:EVEC_0000967101-mRNA-1};",null,"Eukaryota"," Metazoa"," Ecdysozoa"," Nematoda"," Chromadorea"," Oxyurida","Oxyuroidea"," Oxyuridae"," Enterobius."]
["A0A0N4VVA2_HAEPC","A0A0N4VVA2"," Haemonchus placei (Barber's pole worm).",null," NCBI_TaxID=6290 {ECO:0000313|Proteomes:UP000038042, ECO:0000313|WBParaSite:HPLM_0000122201-mRNA-1};",null,"Eukaryota"," Metazoa"," Ecdysozoa"," Nematoda"," Chromadorea"," Rhabditida","Strongylida"," Trichostrongyloidea"," Haemonchidae"," Haemonchinae","Haemonchus."]
["A0A0N4VY25_HAEPC","A0A0N4VY25"," Haemonchus placei (Barber's pole worm).",null," NCBI_TaxID=6290 {ECO:0000313|Proteomes:UP000038042, ECO:0000313|WBParaSite:HPLM_0000219501-mRNA-1};",null,"Eukaryota"," Metazoa"," Ecdysozoa"," Nematoda"," Chromadorea"," Rhabditida","Strongylida"," Trichostrongyloidea"," Haemonchidae"," Haemonchinae","Haemonchus."]
["A0A0N4ZYY6_PARTI","A0A0N4ZYY6"," Parastrongyloides trichosuri (Possum-specific nematode worm).",null," NCBI_TaxID=131310 {ECO:0000313|Proteomes:UP000038045, ECO:0000313|WBParaSite:PTRK_0001400100.1};",null,"Eukaryota"," Metazoa"," Ecdysozoa"," Nematoda"," Chromadorea"," Tylenchida","Panagrolaimomorpha"," Strongyloidoidea"," Strongyloididae","Parastrongyloides."]
["A0A0N5AQW6_9BILA","A0A0N5AQW6"," Syphacia muris.",null," NCBI_TaxID=451379 {ECO:0000313|Proteomes:UP000046393, ECO:0000313|WBParaSite:SMUV_0000709301-mRNA-1};",null,"Eukaryota"," Metazoa"," Ecdysozoa"," Nematoda"," Chromadorea"," Oxyurida","Oxyuroidea"," Oxyuridae"," Syphacia."]
["A0A0N5CB21_STREA","A0A0N5CB21"," Strongyloides papillosus (Intestinal threadworm).",null," NCBI_TaxID=174720 {ECO:0000313|Proteomes:UP000046392, ECO:0000313|WBParaSite:SPAL_0001508500.1};",null,"Eukaryota"," Metazoa"," Ecdysozoa"," Nematoda"," Chromadorea"," Tylenchida","Panagrolaimomorpha"," Strongyloidoidea"," Strongyloididae"," Strongyloides."]
["A0A0N5CNJ6_THECL","A0A0N5CNJ6"," Thelazia callipaeda (Oriental eyeworm) (Parasitic nematode).",null," NCBI_TaxID=103827 {ECO:0000313|Proteomes:UP000046394, ECO:0000313|WBParaSite:TCLT_0000175801-mRNA-1};",null,"Eukaryota"," Metazoa"," Ecdysozoa"," Nematoda"," Chromadorea"," Spirurida","Spiruromorpha"," Thelazioidea"," Thelaziidae"," Thelazia."]
["A0A0N5DQX3_TRIMR","A0A0N5DQX3"," Trichuris muris (Mouse whipworm).",null," NCBI_TaxID=70415 {ECO:0000313|Proteomes:UP000046395, ECO:0000313|WBParaSite:TMUE_s0046004600};",null,"Eukaryota"," Metazoa"," Ecdysozoa"," Nematoda"," Enoplea"," Dorylaimia","Trichinellida"," Trichuridae"," Trichuris."]
["A0A0N5E2Y0_TRIMR","A0A0N5E2Y0"," Trichuris muris (Mouse whipworm).",null," NCBI_TaxID=70415 {ECO:0000313|Proteomes:UP000046395, ECO:0000313|WBParaSite:TMUE_s0166000900};",null,"Eukaryota"," Metazoa"," Ecdysozoa"," Nematoda"," Enoplea"," Dorylaimia","Trichinellida"," Trichuridae"," Trichuris."]
["A0A0P1BQ20_9BASI","A0A0P1BQ20"," Ceraceosorus bombacis.",null," NCBI_TaxID=401625 {ECO:0000313|EMBL:CEH18611.1, ECO:0000313|Proteomes:UP000054845};",null,"Eukaryota"," Fungi"," Dikarya"," Basidiomycota"," Ustilaginomycotina","Exobasidiomycetes"," Ceraceosorales"," Ceraceosoraceae"," Ceraceosorus."]
["A0A0P7BVC3_9HYPO","A0A0P7BVC3"," Neonectria ditissima.",null," NCBI_TaxID=78410 {ECO:0000313|EMBL:KPM45397.1, ECO:0000313|Proteomes:UP000050424};",null,"Eukaryota"," Fungi"," Dikarya"," Ascomycota"," Pezizomycotina","Sordariomycetes"," Hypocreomycetidae"," Hypocreales"," Nectriaceae","Neonectria."]
["A0A0P7USB6_9TELE","A0A0P7USB6"," Scleropages formosus (Asian bonytongue).",null," NCBI_TaxID=113540 {ECO:0000313|EMBL:KPP77327.1, ECO:0000313|Proteomes:UP000034805};",null,"Eukaryota"," Metazoa"," Chordata"," Craniata"," Vertebrata"," Euteleostomi","Actinopterygii"," Neopterygii"," Teleostei"," Osteoglossocephala","Osteoglossomorpha"," Osteoglossiformes"," Osteoglossidae"," Scleropages."]
["A0A0P8XMZ1_DROAN","A0A0P8XMZ1"," Drosophila ananassae (Fruit fly).",null," NCBI_TaxID=7217 {ECO:0000313|EMBL:KPU76033.1, ECO:0000313|Proteomes:UP000007801};",null,"Eukaryota"," Metazoa"," Ecdysozoa"," Arthropoda"," Hexapoda"," Insecta","Pterygota"," Neoptera"," Holometabola"," Diptera"," Brachycera"," Muscomorpha","Ephydroidea"," Drosophilidae"," Drosophila"," Sophophora."]
["A0A0P9AD98_DROAN","A0A0P9AD98"," Drosophila ananassae (Fruit fly).",null," NCBI_TaxID=7217 {ECO:0000313|EMBL:KPU76034.1, ECO:0000313|Proteomes:UP000007801};",null,"Eukaryota"," Metazoa"," Ecdysozoa"," Arthropoda"," Hexapoda"," Insecta","Pterygota"," Neoptera"," Holometabola"," Diptera"," Brachycera"," Muscomorpha","Ephydroidea"," Drosophilidae"," Drosophila"," Sophophora."]
["A0A0Q3LTJ5_AMAAE","A0A0Q3LTJ5"," Amazona aestiva (Blue-fronted Amazon parrot).",null," NCBI_TaxID=12930 {ECO:0000313|EMBL:KQK73695.1, ECO:0000313|Proteomes:UP000051836};",null,"Eukaryota"," Metazoa"," Chordata"," Craniata"," Vertebrata"," Euteleostomi","Archelosauria"," Archosauria"," Dinosauria"," Saurischia"," Theropoda","Coelurosauria"," Aves"," Neognathae"," Psittaciformes"," Psittacidae"," Amazona."]
["A0A0Q9W6A7_DROVI","A0A0Q9W6A7"," Drosophila virilis (Fruit fly).",null," NCBI_TaxID=7244 {ECO:0000313|EMBL:KRF80413.1, ECO:0000313|Proteomes:UP000008792};",null,"Eukaryota"," Metazoa"," Ecdysozoa"," Arthropoda"," Hexapoda"," Insecta","Pterygota"," Neoptera"," Holometabola"," Diptera"," Brachycera"," Muscomorpha","Ephydroidea"," Drosophilidae"," Drosophila."]
["A0A0Q9WH87_DROVI","A0A0Q9WH87"," Drosophila virilis (Fruit fly).",null," NCBI_TaxID=7244 {ECO:0000313|EMBL:KRF80414.1, ECO:0000313|Proteomes:UP000008792};",null,"Eukaryota"," Metazoa"," Ecdysozoa"," Arthropoda"," Hexapoda"," Insecta","Pterygota"," Neoptera"," Holometabola"," Diptera"," Brachycera"," Muscomorpha","Ephydroidea"," Drosophilidae"," Drosophila."]
["A0A0Q9X8G5_DROMO","A0A0Q9X8G5"," Drosophila mojavensis (Fruit fly).",null," NCBI_TaxID=7230 {ECO:0000313|EMBL:KRG04694.1, ECO:0000313|Proteomes:UP000009192};",null,"Eukaryota"," Metazoa"," Ecdysozoa"," Arthropoda"," Hexapoda"," Insecta","Pterygota"," Neoptera"," Holometabola"," Diptera"," Brachycera"," Muscomorpha","Ephydroidea"," Drosophilidae"," Drosophila."]
["A0A0Q9X9A0_DROMO","A0A0Q9X9A0"," Drosophila mojavensis (Fruit fly).",null," NCBI_TaxID=7230 {ECO:0000313|EMBL:KRG04693.1, ECO:0000313|Proteomes:UP000009192};",null,"Eukaryota"," Metazoa"," Ecdysozoa"," Arthropoda"," Hexapoda"," Insecta","Pterygota"," Neoptera"," Holometabola"," Diptera"," Brachycera"," Muscomorpha","Ephydroidea"," Drosophilidae"," Drosophila."]
["A0A0Q9XL69_DROMO","A0A0Q9XL69"," Drosophila mojavensis (Fruit fly).",null," NCBI_TaxID=7230 {ECO:0000313|EMBL:KRG04696.1, ECO:0000313|Proteomes:UP000009192};",null,"Eukaryota"," Metazoa"," Ecdysozoa"," Arthropoda"," Hexapoda"," Insecta","Pterygota"," Neoptera"," Holometabola"," Diptera"," Brachycera"," Muscomorpha","Ephydroidea"," Drosophilidae"," Drosophila."]
["A0A0R3NSL8_DROPS","A0A0R3NSL8"," Drosophila pseudoobscura pseudoobscura (Fruit fly).",null," NCBI_TaxID=46245 {ECO:0000313|EMBL:KRT01795.1, ECO:0000313|Proteomes:UP000001819};",null,"Eukaryota"," Metazoa"," Ecdysozoa"," Arthropoda"," Hexapoda"," Insecta","Pterygota"," Neoptera"," Holometabola"," Diptera"," Brachycera"," Muscomorpha","Ephydroidea"," Drosophilidae"," Drosophila"," Sophophora."]
["A0A0R3PR76_ANGCS","A0A0R3PR76"," Angiostrongylus costaricensis (Nematode worm).",null," NCBI_TaxID=334426 {ECO:0000313|Proteomes:UP000050601, ECO:0000313|WBParaSite:ACOC_0000795801-mRNA-1};",null,"Eukaryota"," Metazoa"," Ecdysozoa"," Nematoda"," Chromadorea"," Rhabditida","Strongylida"," Metastrongyloidea"," Angiostrongylidae"," Angiostrongylus."]
["A0A0R3QD39_9BILA","A0A0R3QD39"," Brugia timori.",null," NCBI_TaxID=42155 {ECO:0000313|Proteomes:UP000050602, ECO:0000313|WBParaSite:BTMF_0000427301-mRNA-1};",null,"Eukaryota"," Metazoa"," Ecdysozoa"," Nematoda"," Chromadorea"," Spirurida","Spiruromorpha"," Filarioidea"," Onchocercidae"," Brugia."]
["A0A0R3RCE9_9BILA","A0A0R3RCE9"," Brugia timori.",null," NCBI_TaxID=42155 {ECO:0000313|Proteomes:UP000050602, ECO:0000313|WBParaSite:BTMF_0001772001-mRNA-1};",null,"Eukaryota"," Metazoa"," Ecdysozoa"," Nematoda"," Chromadorea"," Spirurida","Spiruromorpha"," Filarioidea"," Onchocercidae"," Brugia."]
["A0A0R3RER8_BRUMA","A0A0R3RER8"," Brugia malayi (Filarial nematode worm).",null," NCBI_TaxID=6279 {ECO:0000313|Proteomes:UP000006672, ECO:0000313|WBParaSite:Bm5241};",null,"Eukaryota"," Metazoa"," Ecdysozoa"," Nematoda"," Chromadorea"," Spirurida","Spiruromorpha"," Filarioidea"," Onchocercidae"," Brugia."]
["A0A0R3S651_9BILA","A0A0R3S651"," Elaeophora elaphi.",null," NCBI_TaxID=1147741 {ECO:0000313|Proteomes:UP000050640, ECO:0000313|WBParaSite:EEL_0001027301-mRNA-1};",null,"Eukaryota"," Metazoa"," Ecdysozoa"," Nematoda"," Chromadorea"," Spirurida","Spiruromorpha"," Filarioidea"," Onchocercidae"," Elaeophora."]
["A0A0R3SBE9_HYMDI","A0A0R3SBE9"," Hymenolepis diminuta (Rat tapeworm).",null," NCBI_TaxID=6216 {ECO:0000313|Proteomes:UP000046397, ECO:0000313|WBParaSite:HDID_0000179401-mRNA-1};",null,"Eukaryota"," Metazoa"," Platyhelminthes"," Cestoda"," Eucestoda","Cyclophyllidea"," Hymenolepididae"," Hymenolepis."]
["A0A0R3TSV0_HYMNN","A0A0R3TSV0"," Hymenolepis nana (Dwarf tapeworm) (Rodentolepis nana).",null," NCBI_TaxID=102285 {ECO:0000313|Proteomes:UP000046398, ECO:0000313|WBParaSite:HNAJ_0001074901-mRNA-1};",null,"Eukaryota"," Metazoa"," Platyhelminthes"," Cestoda"," Eucestoda","Cyclophyllidea"," Hymenolepididae"," Hymenolepis."]
["A0A0R3U9I3_9CEST","A0A0R3U9I3"," Mesocestoides corti.",null," NCBI_TaxID=53468 {ECO:0000313|Proteomes:UP000046399, ECO:0000313|WBParaSite:MCOS_0000358101-mRNA-1};",null,"Eukaryota"," Metazoa"," Platyhelminthes"," Cestoda"," Eucestoda","Cyclophyllidea"," Mesocestoididae"," Mesocestoides."]
["A0A0R3UQS6_9CEST","A0A0R3UQS6"," Mesocestoides corti.",null," NCBI_TaxID=53468 {ECO:0000313|Proteomes:UP000046399, ECO:0000313|WBParaSite:MCOS_0001023101-mRNA-1};",null,"Eukaryota"," Metazoa"," Platyhelminthes"," Cestoda"," Eucestoda","Cyclophyllidea"," Mesocestoididae"," Mesocestoides."]
["A0A0R3XAA9_HYDTA","A0A0R3XAA9"," Hydatigena taeniaeformis (Feline tapeworm) (Taenia taeniaeformis).",null," NCBI_TaxID=6205 {ECO:0000313|Proteomes:UP000046396, ECO:0000313|WBParaSite:TTAC_0001048601-mRNA-1};",null,"Eukaryota"," Metazoa"," Platyhelminthes"," Cestoda"," Eucestoda","Cyclophyllidea"," Taeniidae"," Hydatigera."]
["A0A0R3XCR1_HYDTA","A0A0R3XCR1"," Hydatigena taeniaeformis (Feline tapeworm) (Taenia taeniaeformis).",null," NCBI_TaxID=6205 {ECO:0000313|Proteomes:UP000046396, ECO:0000313|WBParaSite:TTAC_0001133801-mRNA-1};",null,"Eukaryota"," Metazoa"," Platyhelminthes"," Cestoda"," Eucestoda","Cyclophyllidea"," Taeniidae"," Hydatigera."]
["A0A0R4IA63_DANRE","A0A0R4IA63"," Danio rerio (Zebrafish) (Brachydanio rerio).",null," NCBI_TaxID=7955 {ECO:0000313|Ensembl:ENSDARP00000130374, ECO:0000313|Proteomes:UP000000437};",null,"Eukaryota"," Metazoa"," Chordata"," Craniata"," Vertebrata"," Euteleostomi","Actinopterygii"," Neopterygii"," Teleostei"," Ostariophysi"," Cypriniformes","Cyprinidae"," Danio."]
["A0A0R4IF54_DANRE","A0A0R4IF54"," Danio rerio (Zebrafish) (Brachydanio rerio).",null," NCBI_TaxID=7955 {ECO:0000313|Ensembl:ENSDARP00000131426, ECO:0000313|Proteomes:UP000000437};",null,"Eukaryota"," Metazoa"," Chordata"," Craniata"," Vertebrata"," Euteleostomi","Actinopterygii"," Neopterygii"," Teleostei"," Ostariophysi"," Cypriniformes","Cyprinidae"," Danio."]
["A0A0R4IH04_DANRE","A0A0R4IH04"," Danio rerio (Zebrafish) (Brachydanio rerio).",null," NCBI_TaxID=7955 {ECO:0000313|Ensembl:ENSDARP00000134679, ECO:0000313|Proteomes:UP000000437};",null,"Eukaryota"," Metazoa"," Chordata"," Craniata"," Vertebrata"," Euteleostomi","Actinopterygii"," Neopterygii"," Teleostei"," Ostariophysi"," Cypriniformes","Cyprinidae"," Danio."]
["A0A0R4IU33_DANRE","A0A0R4IU33"," Danio rerio (Zebrafish) (Brachydanio rerio).",null," NCBI_TaxID=7955 {ECO:0000313|Ensembl:ENSDARP00000138012, ECO:0000313|Proteomes:UP000000437};",null,"Eukaryota"," Metazoa"," Chordata"," Craniata"," Vertebrata"," Euteleostomi","Actinopterygii"," Neopterygii"," Teleostei"," Ostariophysi"," Cypriniformes","Cyprinidae"," Danio."]
["A0A0R4IV67_DANRE","A0A0R4IV67"," Danio rerio (Zebrafish) (Brachydanio rerio).",null," NCBI_TaxID=7955 {ECO:0000313|Ensembl:ENSDARP00000138992, ECO:0000313|Proteomes:UP000000437};",null,"Eukaryota"," Metazoa"," Chordata"," Craniata"," Vertebrata"," Euteleostomi","Actinopterygii"," Neopterygii"," Teleostei"," Ostariophysi"," Cypriniformes","Cyprinidae"," Danio."]
["A0A0R4IZH8_DANRE","A0A0R4IZH8"," Danio rerio (Zebrafish) (Brachydanio rerio).",null," NCBI_TaxID=7955 {ECO:0000313|Ensembl:ENSDARP00000141037, ECO:0000313|Proteomes:UP000000437};",null,"Eukaryota"," Metazoa"," Chordata"," Craniata"," Vertebrata"," Euteleostomi","Actinopterygii"," Neopterygii"," Teleostei"," Ostariophysi"," Cypriniformes","Cyprinidae"," Danio."]
["A0A0S7E419_9EURO","A0A0S7E419"," Aspergillus lentulus.",null," NCBI_TaxID=293939 {ECO:0000313|EMBL:GAQ11571.1, ECO:0000313|Proteomes:UP000051487};",null,"Eukaryota"," Fungi"," Dikarya"," Ascomycota"," Pezizomycotina"," Eurotiomycetes","Eurotiomycetidae"," Eurotiales"," Aspergillaceae"," Aspergillus."]
["A0A0T6B546_9SCAR","A0A0T6B546"," Oryctes borbonicus.",null," NCBI_TaxID=1629725 {ECO:0000313|EMBL:KRT82522.1, ECO:0000313|Proteomes:UP000051574};",null,"Eukaryota"," Metazoa"," Ecdysozoa"," Arthropoda"," Hexapoda"," Insecta","Pterygota"," Neoptera"," Holometabola"," Coleoptera"," Polyphaga","Scarabaeiformia"," Scarabaeidae"," Dynastinae"," Oryctes."]
["A0A0U1M6K4_TALIS","A0A0U1M6K4"," Talaromyces islandicus (Penicillium islandicum).",null," NCBI_TaxID=28573 {ECO:0000313|EMBL:CRG91188.1, ECO:0000313|Proteomes:UP000054383};",null,"Eukaryota"," Fungi"," Dikarya"," Ascomycota"," Pezizomycotina"," Eurotiomycetes","Eurotiomycetidae"," Eurotiales"," Trichocomaceae"," Talaromyces."]
["A0A0U5G358_9EURO","A0A0U5G358"," Aspergillus calidoustus.",null," NCBI_TaxID=454130 {ECO:0000313|EMBL:CEL06118.1, ECO:0000313|Proteomes:UP000054771};",null,"Eukaryota"," Fungi"," Dikarya"," Ascomycota"," Pezizomycotina"," Eurotiomycetes","Eurotiomycetidae"," Eurotiales"," Aspergillaceae"," Aspergillus."]
["A0A0V0QAH6_PSEPJ","A0A0V0QAH6"," Pseudocohnilembus persalinus (Ciliate).",null," NCBI_TaxID=266149 {ECO:0000313|EMBL:KRW99244.1, ECO:0000313|Proteomes:UP000054937};",null,"Eukaryota"," Alveolata"," Ciliophora"," Intramacronucleata","Oligohymenophorea"," Scuticociliatia"," Philasterida"," Pseudocohnilembidae","Pseudocohnilembus."]
["A0A0V0R3M8_PSEPJ","A0A0V0R3M8"," Pseudocohnilembus persalinus (Ciliate).",null," NCBI_TaxID=266149 {ECO:0000313|EMBL:KRX09092.1, ECO:0000313|Proteomes:UP000054937};",null,"Eukaryota"," Alveolata"," Ciliophora"," Intramacronucleata","Oligohymenophorea"," Scuticociliatia"," Philasterida"," Pseudocohnilembidae","Pseudocohnilembus."]
["A0A0V0SG53_9BILA","A0A0V0SG53"," Trichinella nelsoni.",null," NCBI_TaxID=6336 {ECO:0000313|EMBL:KRX25253.1, ECO:0000313|Proteomes:UP000054630};",null,"Eukaryota"," Metazoa"," Ecdysozoa"," Nematoda"," Enoplea"," Dorylaimia","Trichinellida"," Trichinellidae"," Trichinella."]
["A0A0V0TWA6_9BILA","A0A0V0TWA6"," Trichinella murrelli.",null," NCBI_TaxID=144512 {ECO:0000313|EMBL:KRX43295.1, ECO:0000313|Proteomes:UP000055048};",null,"Eukaryota"," Metazoa"," Ecdysozoa"," Nematoda"," Enoplea"," Dorylaimia","Trichinellida"," Trichinellidae"," Trichinella."]
["A0A0V0TWF8_9BILA","A0A0V0TWF8"," Trichinella murrelli.",null," NCBI_TaxID=144512 {ECO:0000313|EMBL:KRX43297.1, ECO:0000313|Proteomes:UP000055048};",null,"Eukaryota"," Metazoa"," Ecdysozoa"," Nematoda"," Enoplea"," Dorylaimia","Trichinellida"," Trichinellidae"," Trichinella."]
["A0A0V0TWQ3_9BILA","A0A0V0TWQ3"," Trichinella murrelli.",null," NCBI_TaxID=144512 {ECO:0000313|EMBL:KRX43296.1, ECO:0000313|Proteomes:UP000055048};",null,"Eukaryota"," Metazoa"," Ecdysozoa"," Nematoda"," Enoplea"," Dorylaimia","Trichinellida"," Trichinellidae"," Trichinella."]
["A0A0V0VQX3_9BILA","A0A0V0VQX3"," Trichinella sp. T9.",null," NCBI_TaxID=181606 {ECO:0000313|EMBL:KRX65895.1, ECO:0000313|Proteomes:UP000054681};",null,"Eukaryota"," Metazoa"," Ecdysozoa"," Nematoda"," Enoplea"," Dorylaimia","Trichinellida"," Trichinellidae"," Trichinella."]
["A0A0V0VQX8_9BILA","A0A0V0VQX8"," Trichinella sp. T9.",null," NCBI_TaxID=181606 {ECO:0000313|EMBL:KRX65897.1, ECO:0000313|Proteomes:UP000054681};",null,"Eukaryota"," Metazoa"," Ecdysozoa"," Nematoda"," Enoplea"," Dorylaimia","Trichinellida"," Trichinellidae"," Trichinella."]
["A0A0V0VQY2_9BILA","A0A0V0VQY2"," Trichinella sp. T9.",null," NCBI_TaxID=181606 {ECO:0000313|EMBL:KRX65896.1, ECO:0000313|Proteomes:UP000054681};",null,"Eukaryota"," Metazoa"," Ecdysozoa"," Nematoda"," Enoplea"," Dorylaimia","Trichinellida"," Trichinellidae"," Trichinella."]
["A0A0V0VQY7_9BILA","A0A0V0VQY7"," Trichinella sp. T9.",null," NCBI_TaxID=181606 {ECO:0000313|EMBL:KRX65894.1, ECO:0000313|Proteomes:UP000054681};",null,"Eukaryota"," Metazoa"," Ecdysozoa"," Nematoda"," Enoplea"," Dorylaimia","Trichinellida"," Trichinellidae"," Trichinella."]
["A0A0V0X128_9BILA","A0A0V0X128"," Trichinella sp. T6.",null," NCBI_TaxID=92179 {ECO:0000313|EMBL:KRX81718.1, ECO:0000313|Proteomes:UP000054673};",null,"Eukaryota"," Metazoa"," Ecdysozoa"," Nematoda"," Enoplea"," Dorylaimia","Trichinellida"," Trichinellidae"," Trichinella."]
["A0A0V0X1D4_9BILA","A0A0V0X1D4"," Trichinella sp. T6.",null," NCBI_TaxID=92179 {ECO:0000313|EMBL:KRX81717.1, ECO:0000313|Proteomes:UP000054673};",null,"Eukaryota"," Metazoa"," Ecdysozoa"," Nematoda"," Enoplea"," Dorylaimia","Trichinellida"," Trichinellidae"," Trichinella."]
["A0A0V0X1F2_9BILA","A0A0V0X1F2"," Trichinella sp. T6.",null," NCBI_TaxID=92179 {ECO:0000313|EMBL:KRX81720.1, ECO:0000313|Proteomes:UP000054673};",null,"Eukaryota"," Metazoa"," Ecdysozoa"," Nematoda"," Enoplea"," Dorylaimia","Trichinellida"," Trichinellidae"," Trichinella."]
["A0A0V0X1G1_9BILA","A0A0V0X1G1"," Trichinella sp. T6.",null," NCBI_TaxID=92179 {ECO:0000313|EMBL:KRX81716.1, ECO:0000313|Proteomes:UP000054673};",null,"Eukaryota"," Metazoa"," Ecdysozoa"," Nematoda"," Enoplea"," Dorylaimia","Trichinellida"," Trichinellidae"," Trichinella."]
["A0A0V0X1J3_9BILA","A0A0V0X1J3"," Trichinella sp. T6.",null," NCBI_TaxID=92179 {ECO:0000313|EMBL:KRX81719.1, ECO:0000313|Proteomes:UP000054673};",null,"Eukaryota"," Metazoa"," Ecdysozoa"," Nematoda"," Enoplea"," Dorylaimia","Trichinellida"," Trichinellidae"," Trichinella."]
["A0A0V0Y4S8_TRIPS","A0A0V0Y4S8"," Trichinella pseudospiralis (Parasitic roundworm).",null," NCBI_TaxID=6337 {ECO:0000313|EMBL:KRX95178.1, ECO:0000313|Proteomes:UP000054815};",null,"Eukaryota"," Metazoa"," Ecdysozoa"," Nematoda"," Enoplea"," Dorylaimia","Trichinellida"," Trichinellidae"," Trichinella."]
["A0A0V0Y4W1_TRIPS","A0A0V0Y4W1"," Trichinella pseudospiralis (Parasitic roundworm).",null," NCBI_TaxID=6337 {ECO:0000313|EMBL:KRX95179.1, ECO:0000313|Proteomes:UP000054815};",null,"Eukaryota"," Metazoa"," Ecdysozoa"," Nematoda"," Enoplea"," Dorylaimia","Trichinellida"," Trichinellidae"," Trichinella."]
["A0A0V1AFM7_9BILA","A0A0V1AFM7"," Trichinella patagoniensis.",null," NCBI_TaxID=990121 {ECO:0000313|EMBL:KRY23637.1, ECO:0000313|Proteomes:UP000054783};",null,"Eukaryota"," Metazoa"," Ecdysozoa"," Nematoda"," Enoplea"," Dorylaimia","Trichinellida"," Trichinellidae"," Trichinella."]
["A0A0V1AG06_9BILA","A0A0V1AG06"," Trichinella patagoniensis.",null," NCBI_TaxID=990121 {ECO:0000313|EMBL:KRY23636.1, ECO:0000313|Proteomes:UP000054783};",null,"Eukaryota"," Metazoa"," Ecdysozoa"," Nematoda"," Enoplea"," Dorylaimia","Trichinellida"," Trichinellidae"," Trichinella."]
["A0A0V1AHE9_9BILA","A0A0V1AHE9"," Trichinella patagoniensis.",null," NCBI_TaxID=990121 {ECO:0000313|EMBL:KRY23635.1, ECO:0000313|Proteomes:UP000054783};",null,"Eukaryota"," Metazoa"," Ecdysozoa"," Nematoda"," Enoplea"," Dorylaimia","Trichinellida"," Trichinellidae"," Trichinella."]
["A0A0V1CSK8_TRIBR","A0A0V1CSK8"," Trichinella britovi (Parasitic roundworm).",null," NCBI_TaxID=45882 {ECO:0000313|EMBL:KRY52325.1, ECO:0000313|Proteomes:UP000054653};",null,"Eukaryota"," Metazoa"," Ecdysozoa"," Nematoda"," Enoplea"," Dorylaimia","Trichinellida"," Trichinellidae"," Trichinella."]
["A0A0V1CSQ0_TRIBR","A0A0V1CSQ0"," Trichinella britovi (Parasitic roundworm).",null," NCBI_TaxID=45882 {ECO:0000313|EMBL:KRY52324.1, ECO:0000313|Proteomes:UP000054653};",null,"Eukaryota"," Metazoa"," Ecdysozoa"," Nematoda"," Enoplea"," Dorylaimia","Trichinellida"," Trichinellidae"," Trichinella."]
["A0A0V1CT18_TRIBR","A0A0V1CT18"," Trichinella britovi (Parasitic roundworm).",null," NCBI_TaxID=45882 {ECO:0000313|EMBL:KRY52326.1, ECO:0000313|Proteomes:UP000054653};",null,"Eukaryota"," Metazoa"," Ecdysozoa"," Nematoda"," Enoplea"," Dorylaimia","Trichinellida"," Trichinellidae"," Trichinella."]
["A0A0V1CUE4_TRIBR","A0A0V1CUE4"," Trichinella britovi (Parasitic roundworm).",null," NCBI_TaxID=45882 {ECO:0000313|EMBL:KRY52323.1, ECO:0000313|Proteomes:UP000054653};",null,"Eukaryota"," Metazoa"," Ecdysozoa"," Nematoda"," Enoplea"," Dorylaimia","Trichinellida"," Trichinellidae"," Trichinella."]
["A0A0V1HRF5_9BILA","A0A0V1HRF5"," Trichinella zimbabwensis.",null," NCBI_TaxID=268475 {ECO:0000313|EMBL:KRZ12879.1, ECO:0000313|Proteomes:UP000055024};",null,"Eukaryota"," Metazoa"," Ecdysozoa"," Nematoda"," Enoplea"," Dorylaimia","Trichinellida"," Trichinellidae"," Trichinella."]
["A0A0V1L3P3_9BILA","A0A0V1L3P3"," Trichinella nativa.",null," NCBI_TaxID=6335 {ECO:0000313|EMBL:KRZ54175.1, ECO:0000313|Proteomes:UP000054721};",null,"Eukaryota"," Metazoa"," Ecdysozoa"," Nematoda"," Enoplea"," Dorylaimia","Trichinellida"," Trichinellidae"," Trichinella."]
["A0A0V1L3R1_9BILA","A0A0V1L3R1"," Trichinella nativa.",null," NCBI_TaxID=6335 {ECO:0000313|EMBL:KRZ54176.1, ECO:0000313|Proteomes:UP000054721};",null,"Eukaryota"," Metazoa"," Ecdysozoa"," Nematoda"," Enoplea"," Dorylaimia","Trichinellida"," Trichinellidae"," Trichinella."]
["A0A0V1L4L3_9BILA","A0A0V1L4L3"," Trichinella nativa.",null," NCBI_TaxID=6335 {ECO:0000313|EMBL:KRZ54178.1, ECO:0000313|Proteomes:UP000054721};",null,"Eukaryota"," Metazoa"," Ecdysozoa"," Nematoda"," Enoplea"," Dorylaimia","Trichinellida"," Trichinellidae"," Trichinella."]
["A0A0V1PH35_9BILA","A0A0V1PH35"," Trichinella sp. T8.",null," NCBI_TaxID=92180 {ECO:0000313|EMBL:KRZ95549.1, ECO:0000313|Proteomes:UP000054924};",null,"Eukaryota"," Metazoa"," Ecdysozoa"," Nematoda"," Enoplea"," Dorylaimia","Trichinellida"," Trichinellidae"," Trichinella."]
["A0A0V1PHD2_9BILA","A0A0V1PHD2"," Trichinella sp. T8.",null," NCBI_TaxID=92180 {ECO:0000313|EMBL:KRZ95548.1, ECO:0000313|Proteomes:UP000054924};",null,"Eukaryota"," Metazoa"," Ecdysozoa"," Nematoda"," Enoplea"," Dorylaimia","Trichinellida"," Trichinellidae"," Trichinella."]
["A0A0W0FZI5_9AGAR","A0A0W0FZI5"," Moniliophthora roreri.",null," NCBI_TaxID=221103 {ECO:0000313|EMBL:KTB41694.1, ECO:0000313|Proteomes:UP000054988};",null,"Eukaryota"," Fungi"," Dikarya"," Basidiomycota"," Agaricomycotina","Agaricomycetes"," Agaricomycetidae"," Agaricales"," Marasmiaceae","Moniliophthora."]
["A0A0W4ZQK3_PNEC8","A0A0W4ZQK3"," Pneumocystis carinii (strain B80) (Rat pneumocystis pneumonia agent) (Pneumocystis carinii f. sp. carinii).",null," NCBI_TaxID=1408658 {ECO:0000313|EMBL:KTW30644.1, ECO:0000313|Proteomes:UP000054454};",null,"Eukaryota"," Fungi"," Dikarya"," Ascomycota"," Taphrinomycotina","Pneumocystidomycetes"," Pneumocystidaceae"," Pneumocystis."]
["A0A0W4ZUI4_PNEJ7","A0A0W4ZUI4"," Pneumocystis jirovecii (strain RU7) (Human pneumocystis pneumonia agent).",null," NCBI_TaxID=1408657 {ECO:0000313|EMBL:KTW32045.1, ECO:0000313|Proteomes:UP000053447};",null,"Eukaryota"," Fungi"," Dikarya"," Ascomycota"," Taphrinomycotina","Pneumocystidomycetes"," Pneumocystidaceae"," Pneumocystis."]
["A0A0W7W367_9HYPO","A0A0W7W367"," Trichoderma gamsii.",null," NCBI_TaxID=398673 {ECO:0000313|EMBL:KUF05018.1, ECO:0000313|Proteomes:UP000054821};",null,"Eukaryota"," Fungi"," Dikarya"," Ascomycota"," Pezizomycotina","Sordariomycetes"," Hypocreomycetidae"," Hypocreales"," Hypocreaceae","Trichoderma."]
["A0A101MIR9_9EURO","A0A101MIR9"," Penicillium freii.",null," NCBI_TaxID=48697 {ECO:0000313|EMBL:KUM61183.1, ECO:0000313|Proteomes:UP000055045};",null,"Eukaryota"," Fungi"," Dikarya"," Ascomycota"," Pezizomycotina"," Eurotiomycetes","Eurotiomycetidae"," Eurotiales"," Aspergillaceae"," Penicillium."]
["A0A109FAQ5_9BASI","A0A109FAQ5"," Rhodotorula sp. JG-1b.",null," NCBI_TaxID=1305733 {ECO:0000313|EMBL:KWU41047.1, ECO:0000313|Proteomes:UP000062823};",null,"Eukaryota"," Fungi"," Dikarya"," Basidiomycota"," Pucciniomycotina","Microbotryomycetes"," Sporidiobolales"," Sporidiobolaceae"," Rhodotorula."]
["A0A124BUR9_ASPNG","A0A124BUR9"," Aspergillus niger.",null," NCBI_TaxID=5061 {ECO:0000313|EMBL:GAQ33831.1, ECO:0000313|Proteomes:UP000068243};",null,"Eukaryota"," Fungi"," Dikarya"," Ascomycota"," Pezizomycotina"," Eurotiomycetes","Eurotiomycetidae"," Eurotiales"," Aspergillaceae"," Aspergillus."]
["A0A132A5T5_SARSC","A0A132A5T5"," Sarcoptes scabiei (Itch mite) (Acarus scabiei).",null," NCBI_TaxID=52283 {ECO:0000313|EMBL:KPM06297.1, ECO:0000313|Proteomes:UP000070412};",null,"Eukaryota"," Metazoa"," Ecdysozoa"," Arthropoda"," Chelicerata"," Arachnida","Acari"," Acariformes"," Sarcoptiformes"," Astigmata"," Psoroptidia","Sarcoptoidea"," Sarcoptidae"," Sarcoptinae"," Sarcoptes."]
["A0A135LZ37_PENPA","A0A135LZ37"," Penicillium patulum (Penicillium griseofulvum).",null," NCBI_TaxID=5078 {ECO:0000313|EMBL:KXG54220.1, ECO:0000313|Proteomes:UP000070168};",null,"Eukaryota"," Fungi"," Dikarya"," Ascomycota"," Pezizomycotina"," Eurotiomycetes","Eurotiomycetidae"," Eurotiales"," Aspergillaceae"," Penicillium."]
["A0A135RMG2_9PEZI","A0A135RMG2"," Colletotrichum salicis.",null," NCBI_TaxID=1209931 {ECO:0000313|EMBL:KXH24910.1, ECO:0000313|Proteomes:UP000070121};",null,"Eukaryota"," Fungi"," Dikarya"," Ascomycota"," Pezizomycotina","Sordariomycetes"," Hypocreomycetidae"," Glomerellales"," Glomerellaceae","Colletotrichum."]
["A0A135UQZ0_9PEZI","A0A135UQZ0"," Colletotrichum nymphaeae SA-01.",null," NCBI_TaxID=1460502 {ECO:0000313|EMBL:KXH62815.1, ECO:0000313|Proteomes:UP000070054};",null,"Eukaryota"," Fungi"," Dikarya"," Ascomycota"," Pezizomycotina","Sordariomycetes"," Hypocreomycetidae"," Glomerellales"," Glomerellaceae","Colletotrichum."]
["A0A136J2Y3_9PEZI","A0A136J2Y3"," Microdochium bolleyi.",null," NCBI_TaxID=196109 {ECO:0000313|EMBL:KXJ91439.1, ECO:0000313|Proteomes:UP000070501};",null,"Eukaryota"," Fungi"," Dikarya"," Ascomycota"," Pezizomycotina","Sordariomycetes"," Xylariomycetidae"," Xylariales"," Microdochiaceae","Microdochium."]
["A0A137P5H3_CONC2","A0A137P5H3"," Conidiobolus coronatus (strain ATCC 28846 / CBS 209.66 / NRRL 28638) (Delacroixia coronata).",null," NCBI_TaxID=796925 {ECO:0000313|EMBL:KXN70253.1, ECO:0000313|Proteomes:UP000070444};",null,"Eukaryota"," Fungi"," Zoopagomycota"," Entomophthoromycotina","Entomophthoromycetes"," Entomophthorales"," Ancylistaceae"," Conidiobolus."]
["A0A137QHA0_9AGAR","A0A137QHA0"," Leucoagaricus sp. SymC.cos.",null," NCBI_TaxID=1714833 {ECO:0000313|EMBL:KXN86634.1, ECO:0000313|Proteomes:UP000070249};",null,"Eukaryota"," Fungi"," Dikarya"," Basidiomycota"," Agaricomycotina","Agaricomycetes"," Agaricomycetidae"," Agaricales"," Agaricaceae","Leucoagaricus."]
["A0A139A531_GONPR","A0A139A531"," Gonapodya prolifera JEL478.",null," NCBI_TaxID=1344416 {ECO:0000313|EMBL:KXS11729.1, ECO:0000313|Proteomes:UP000070544};",null,"Eukaryota"," Fungi"," Chytridiomycota"," Monoblepharidomycetes","Monoblepharidales"," Gonapodyaceae"," Gonapodya."]
["A0A139GV41_9PEZI","A0A139GV41"," Mycosphaerella eumusae.",null," NCBI_TaxID=321146 {ECO:0000313|EMBL:KXS94049.1, ECO:0000313|Proteomes:UP000070133};",null,"Eukaryota"," Fungi"," Dikarya"," Ascomycota"," Pezizomycotina","Dothideomycetes"," Dothideomycetidae"," Capnodiales"," Mycosphaerellaceae","Mycosphaerella."]
["A0A139IKD5_9PEZI","A0A139IKD5"," Pseudocercospora musae.",null," NCBI_TaxID=113226 {ECO:0000313|EMBL:KXT15042.1, ECO:0000313|Proteomes:UP000073492};",null,"Eukaryota"," Fungi"," Dikarya"," Ascomycota"," Pezizomycotina","Dothideomycetes"," Dothideomycetidae"," Capnodiales"," Mycosphaerellaceae","Pseudocercospora."]
["A0A139WC21_TRICA","A0A139WC21"," Tribolium castaneum (Red flour beetle).",null," NCBI_TaxID=7070 {ECO:0000313|EMBL:KYB25482.1, ECO:0000313|Proteomes:UP000007266};",null,"Eukaryota"," Metazoa"," Ecdysozoa"," Arthropoda"," Hexapoda"," Insecta","Pterygota"," Neoptera"," Holometabola"," Coleoptera"," Polyphaga","Cucujiformia"," Tenebrionidae"," Tenebrionidae incertae sedis"," Tribolium."]
["A0A150VIY2_9PEZI","A0A150VIY2"," Acidomyces richmondensis BFW.",null," NCBI_TaxID=766039 {ECO:0000313|EMBL:KYG50462.1, ECO:0000313|Proteomes:UP000075602};",null,"Eukaryota"," Fungi"," Dikarya"," Ascomycota"," Pezizomycotina","Dothideomycetes"," Dothideomycetes incertae sedis"," Acidomyces."]
["A0A151GPN9_9HYPO","A0A151GPN9"," Drechmeria coniospora.",null," NCBI_TaxID=98403 {ECO:0000313|EMBL:KYK59053.1, ECO:0000313|Proteomes:UP000076580};",null,"Eukaryota"," Fungi"," Dikarya"," Ascomycota"," Pezizomycotina","Sordariomycetes"," Hypocreomycetidae"," Hypocreales"," Ophiocordycipitaceae","Drechmeria."]
["A0A151M4V6_ALLMI","A0A151M4V6"," Alligator mississippiensis (American alligator).",null," NCBI_TaxID=8496 {ECO:0000313|EMBL:KYO19547.1};",null,"Eukaryota"," Metazoa"," Chordata"," Craniata"," Vertebrata"," Euteleostomi","Archelosauria"," Archosauria"," Crocodylia"," Alligatoridae"," Alligatorinae","Alligator."]
["A0A151M4W7_ALLMI","A0A151M4W7"," Alligator mississippiensis (American alligator).",null," NCBI_TaxID=8496 {ECO:0000313|EMBL:KYO19548.1};",null,"Eukaryota"," Metazoa"," Chordata"," Craniata"," Vertebrata"," Euteleostomi","Archelosauria"," Archosauria"," Crocodylia"," Alligatoridae"," Alligatorinae","Alligator."]
["A0A151VFH8_HYPMA","A0A151VFH8"," Hypsizygus marmoreus (White beech mushroom) (Agaricus marmoreus).",null," NCBI_TaxID=39966 {ECO:0000313|EMBL:KYQ34313.1, ECO:0000313|Proteomes:UP000076154};",null,"Eukaryota"," Fungi"," Dikarya"," Basidiomycota"," Agaricomycotina","Agaricomycetes"," Agaricomycetidae"," Agaricales"," Lyophyllaceae","Hypsizygus."]
["A0A151WGY4_9HYME","A0A151WGY4"," Trachymyrmex zeteki.",null," NCBI_TaxID=64791 {ECO:0000313|EMBL:KYQ47084.1, ECO:0000313|Proteomes:UP000075809};",null,"Eukaryota"," Metazoa"," Ecdysozoa"," Arthropoda"," Hexapoda"," Insecta","Pterygota"," Neoptera"," Holometabola"," Hymenoptera"," Apocrita"," Aculeata","Vespoidea"," Formicidae"," Myrmicinae"," Trachymyrmex."]
["A0A152A9F1_9MYCE","A0A152A9F1"," Tieghemostelium lacteum.",null," NCBI_TaxID=361077 {ECO:0000313|EMBL:KYR02849.1, ECO:0000313|Proteomes:UP000076078};",null,"Eukaryota"," Amoebozoa"," Mycetozoa"," Dictyostelids"," Dictyosteliales","Raperosteliaceae"," Tieghemostelium."]
["A0A154PFZ0_9HYME","A0A154PFZ0"," Dufourea novaeangliae.",null," NCBI_TaxID=178035 {ECO:0000313|EMBL:KZC10742.1, ECO:0000313|Proteomes:UP000076502};",null,"Eukaryota"," Metazoa"," Ecdysozoa"," Arthropoda"," Hexapoda"," Insecta","Pterygota"," Neoptera"," Holometabola"," Hymenoptera"," Apocrita"," Aculeata","Apoidea"," Halictidae"," Rophitinae"," Dufourea."]
["A0A158NS37_ATTCE","A0A158NS37"," Atta cephalotes (Leafcutter ant).",null," NCBI_TaxID=12957 {ECO:0000313|EnsemblMetazoa:XP_012060345.1};",null,"Eukaryota"," Metazoa"," Ecdysozoa"," Arthropoda"," Hexapoda"," Insecta","Pterygota"," Neoptera"," Holometabola"," Hymenoptera"," Apocrita"," Aculeata","Vespoidea"," Formicidae"," Myrmicinae"," Atta."]
["A0A158PC84_ANGCA","A0A158PC84"," Angiostrongylus cantonensis (Rat lungworm).",null," NCBI_TaxID=6313 {ECO:0000313|WBParaSite:ACAC_0001210301-mRNA-1};",null,"Eukaryota"," Metazoa"," Ecdysozoa"," Nematoda"," Chromadorea"," Rhabditida","Strongylida"," Metastrongyloidea"," Angiostrongylidae"," Angiostrongylus."]
["A0A158PN69_ANISI","A0A158PN69"," Anisakis simplex (Herring worm).",null," NCBI_TaxID=6269 {ECO:0000313|WBParaSite:ASIM_0001117201-mRNA-1};",null,"Eukaryota"," Metazoa"," Ecdysozoa"," Nematoda"," Chromadorea"," Ascaridida","Ascaridoidea"," Anisakidae"," Anisakis"," Anisakis simplex complex."]
["A0A158QFZ4_HYMDI","A0A158QFZ4"," Hymenolepis diminuta (Rat tapeworm).",null," NCBI_TaxID=6216 {ECO:0000313|WBParaSite:HDID_0000975101-mRNA-1};",null,"Eukaryota"," Metazoa"," Platyhelminthes"," Cestoda"," Eucestoda","Cyclophyllidea"," Hymenolepididae"," Hymenolepis."]
["A0A158QX09_NIPBR","A0A158QX09"," Nippostrongylus brasiliensis (Rat hookworm).",null," NCBI_TaxID=27835 {ECO:0000313|WBParaSite:NBR_0000608101-mRNA-1};",null,"Eukaryota"," Metazoa"," Ecdysozoa"," Nematoda"," Chromadorea"," Rhabditida","Strongylida"," Trichostrongyloidea"," Heligmonellidae"," Nippostrongylinae","Nippostrongylus."]
["A0A158R7U9_TAEAS","A0A158R7U9"," Taenia asiatica (Asian tapeworm).",null," NCBI_TaxID=60517 {ECO:0000313|Proteomes:UP000046400, ECO:0000313|WBParaSite:TASK_0000441301-mRNA-1};",null,"Eukaryota"," Metazoa"," Platyhelminthes"," Cestoda"," Eucestoda","Cyclophyllidea"," Taeniidae"," Taenia."]
["A0A162K3D0_9HYPO","A0A162K3D0"," Cordyceps brongniartii RCEF 3172.",null," NCBI_TaxID=1081107 {ECO:0000313|EMBL:OAA52768.1, ECO:0000313|Proteomes:UP000076863};",null,"Eukaryota"," Fungi"," Dikarya"," Ascomycota"," Pezizomycotina","Sordariomycetes"," Hypocreomycetidae"," Hypocreales"," Cordycipitaceae","Cordyceps"," Cordyceps brongniartii."]
["A0A162UR45_PHYB8","A0A162UR45"," Phycomyces blakesleeanus (strain ATCC 8743b / DSM 1359 / FGSC 10004 / NBRC 33097 / NRRL 1555).",null," NCBI_TaxID=763407 {ECO:0000313|EMBL:OAD77253.1, ECO:0000313|Proteomes:UP000077315};",null,"Eukaryota"," Fungi"," Mucoromycota"," Mucoromycotina"," Mucorales","Phycomycetaceae"," Phycomyces."]
["A0A163DBX9_DIDRA","A0A163DBX9"," Didymella rabiei (Chickpea ascochyta blight fungus) (Mycosphaerella rabiei).",null," NCBI_TaxID=5454 {ECO:0000313|EMBL:KZM23058.1, ECO:0000313|Proteomes:UP000076837};",null,"Eukaryota"," Fungi"," Dikarya"," Ascomycota"," Pezizomycotina","Dothideomycetes"," Pleosporomycetidae"," Pleosporales"," Pleosporineae","Didymellaceae"," Ascochyta."]
["A0A164NPU1_9CRUS","A0A164NPU1"," Daphnia magna.",null," NCBI_TaxID=35525 {ECO:0000313|EMBL:KZS06140.1, ECO:0000313|Proteomes:UP000076858};",null,"Eukaryota"," Metazoa"," Ecdysozoa"," Arthropoda"," Crustacea"," Branchiopoda","Diplostraca"," Cladocera"," Anomopoda"," Daphniidae"," Daphnia."]
["A0A164VTK7_9HOMO","A0A164VTK7"," Sistotremastrum niveocremeum HHB9708.",null," NCBI_TaxID=1314777 {ECO:0000313|EMBL:KZS94457.1, ECO:0000313|Proteomes:UP000076722};",null,"Eukaryota"," Fungi"," Dikarya"," Basidiomycota"," Agaricomycotina","Agaricomycetes"," Trechisporales"," Hydnodontaceae"," Sistotremastrum."]
["A0A165GB67_9APHY","A0A165GB67"," Laetiporus sulphureus 93-53.",null," NCBI_TaxID=1314785 {ECO:0000313|EMBL:KZT10101.1, ECO:0000313|Proteomes:UP000076871};",null,"Eukaryota"," Fungi"," Dikarya"," Basidiomycota"," Agaricomycotina","Agaricomycetes"," Polyporales"," Laetiporus."]
["A0A165HYM6_9BASI","A0A165HYM6"," Calocera cornea HHB12733.",null," NCBI_TaxID=1353952 {ECO:0000313|EMBL:KZT59916.1, ECO:0000313|Proteomes:UP000076842};",null,"Eukaryota"," Fungi"," Dikarya"," Basidiomycota"," Agaricomycotina","Dacrymycetes"," Dacrymycetales"," Dacrymycetaceae"," Calocera."]
["A0A165JZD4_9PEZI","A0A165JZD4"," Xylona heveae TC161.",null," NCBI_TaxID=1328760 {ECO:0000313|EMBL:KZF26819.1, ECO:0000313|Proteomes:UP000076632};",null,"Eukaryota"," Fungi"," Dikarya"," Ascomycota"," Pezizomycotina"," Xylonomycetes","Xylonomycetales"," Xylonomycetaceae"," Xylona."]
["A0A165LZL5_9APHY","A0A165LZL5"," Daedalea quercina L-15889.",null," NCBI_TaxID=1314783 {ECO:0000313|EMBL:KZT65051.1, ECO:0000313|Proteomes:UP000076727};",null,"Eukaryota"," Fungi"," Dikarya"," Basidiomycota"," Agaricomycotina","Agaricomycetes"," Polyporales"," Daedalea."]
["A0A165U9Q9_9HOMO","A0A165U9Q9"," Neolentinus lepideus HHB14362 ss-1.",null," NCBI_TaxID=1314782 {ECO:0000313|EMBL:KZT27841.1, ECO:0000313|Proteomes:UP000076761};",null,"Eukaryota"," Fungi"," Dikarya"," Basidiomycota"," Agaricomycotina","Agaricomycetes"," Gloeophyllales"," Gloeophyllaceae"," Neolentinus."]
["A0A166BCP4_EXIGL","A0A166BCP4"," Exidia glandulosa HHB12029.",null," NCBI_TaxID=1314781 {ECO:0000313|EMBL:KZV99969.1, ECO:0000313|Proteomes:UP000077266};",null,"Eukaryota"," Fungi"," Dikarya"," Basidiomycota"," Agaricomycotina","Agaricomycetes"," Auriculariales"," Exidiaceae"," Exidia."]
["A0A166CDF1_9HOMO","A0A166CDF1"," Peniophora sp. CONT.",null," NCBI_TaxID=1314672 {ECO:0000313|EMBL:KZV66134.1, ECO:0000313|Proteomes:UP000077086};",null,"Eukaryota"," Fungi"," Dikarya"," Basidiomycota"," Agaricomycotina","Agaricomycetes"," Russulales"," Peniophoraceae"," Peniophora."]
["A0A166FBI4_9HOMO","A0A166FBI4"," Fibularhizoctonia sp. CBS 109695.",null," NCBI_TaxID=436010 {ECO:0000313|EMBL:KZP16628.1, ECO:0000313|Proteomes:UP000076532};",null,"Eukaryota"," Fungi"," Dikarya"," Basidiomycota"," Agaricomycotina","Agaricomycetes"," Agaricomycetidae"," Atheliales"," Atheliaceae","Fibularhizoctonia."]
["A0A166HVI1_9HOMO","A0A166HVI1"," Sistotremastrum suecicum HHB10207 ss-3.",null," NCBI_TaxID=1314776 {ECO:0000313|EMBL:KZT43121.1, ECO:0000313|Proteomes:UP000076798};",null,"Eukaryota"," Fungi"," Dikarya"," Basidiomycota"," Agaricomycotina","Agaricomycetes"," Trechisporales"," Hydnodontaceae"," Sistotremastrum."]
["A0A166UV10_9PEZI","A0A166UV10"," Colletotrichum tofieldiae.",null," NCBI_TaxID=708197 {ECO:0000313|EMBL:KZL73842.1, ECO:0000313|Proteomes:UP000076552};",null,"Eukaryota"," Fungi"," Dikarya"," Ascomycota"," Pezizomycotina","Sordariomycetes"," Hypocreomycetidae"," Glomerellales"," Glomerellaceae","Colletotrichum."]
["A0A167BNH3_9PEZI","A0A167BNH3"," Colletotrichum incanum.",null," NCBI_TaxID=1573173 {ECO:0000313|EMBL:KZL81534.1, ECO:0000313|Proteomes:UP000076584};",null,"Eukaryota"," Fungi"," Dikarya"," Ascomycota"," Pezizomycotina","Sordariomycetes"," Hypocreomycetidae"," Glomerellales"," Glomerellaceae","Colletotrichum."]
["A0A167S918_9BASI","A0A167S918"," Calocera viscosa TUFC12733.",null," NCBI_TaxID=1330018 {ECO:0000313|EMBL:KZP01692.1, ECO:0000313|Proteomes:UP000076738};",null,"Eukaryota"," Fungi"," Dikarya"," Basidiomycota"," Agaricomycotina","Dacrymycetes"," Dacrymycetales"," Dacrymycetaceae"," Calocera."]
["A0A167UPF6_9PEZI","A0A167UPF6"," Sporothrix insectorum RCEF 264.",null," NCBI_TaxID=1081102 {ECO:0000313|EMBL:OAA61771.1, ECO:0000313|Proteomes:UP000076874};",null,"Eukaryota"," Fungi"," Dikarya"," Ascomycota"," Pezizomycotina","Sordariomycetes"," Sordariomycetidae"," Ophiostomatales"," Ophiostomataceae","Sporothrix."]
["A0A168GI85_MUCCL","A0A168GI85"," Mucor circinelloides f. lusitanicus CBS 277.49.",null," NCBI_TaxID=747725 {ECO:0000313|EMBL:OAC97710.1, ECO:0000313|Proteomes:UP000077051};",null,"Eukaryota"," Fungi"," Mucoromycota"," Mucoromycotina"," Mucorales"," Mucorineae","Mucoraceae"," Mucor."]
["A0A168GXS6_CORDF","A0A168GXS6"," Cordyceps confragosa RCEF 1005.",null," NCBI_TaxID=1081108 {ECO:0000313|EMBL:OAA77053.1, ECO:0000313|Proteomes:UP000076881};",null,"Eukaryota"," Fungi"," Dikarya"," Ascomycota"," Pezizomycotina","Sordariomycetes"," Hypocreomycetidae"," Hypocreales"," Cordycipitaceae","Cordyceps."]
["A0A177BY91_9PLEO","A0A177BY91"," Paraphaeosphaeria sporulosa.",null," NCBI_TaxID=1460663 {ECO:0000313|EMBL:OAG00323.1, ECO:0000313|Proteomes:UP000077069};",null,"Eukaryota"," Fungi"," Dikarya"," Ascomycota"," Pezizomycotina","Dothideomycetes"," Pleosporomycetidae"," Pleosporales"," Massarineae","Didymosphaeriaceae"," Paraphaeosphaeria."]
["A0A177DMY2_ALTAL","A0A177DMY2"," Alternaria alternata (Alternaria rot fungus) (Torula alternata).",null," NCBI_TaxID=5599 {ECO:0000313|EMBL:OAG21314.1, ECO:0000313|Proteomes:UP000077248};",null,"Eukaryota"," Fungi"," Dikarya"," Ascomycota"," Pezizomycotina","Dothideomycetes"," Pleosporomycetidae"," Pleosporales"," Pleosporineae","Pleosporaceae"," Alternaria"," Alternaria alternata group."]
["A0A177WDZ8_BATDE","A0A177WDZ8"," Batrachochytrium dendrobatidis JEL423.",null," NCBI_TaxID=403673 {ECO:0000313|EMBL:OAJ37770.1, ECO:0000313|Proteomes:UP000077115};",null,"Eukaryota"," Fungi"," Chytridiomycota"," Chytridiomycetes"," Rhizophydiales","Rhizophydiales incertae sedis"," Batrachochytrium."]
["A0A178BB70_9PLEO","A0A178BB70"," Stagonospora sp. SRC1lsM3a.",null," NCBI_TaxID=765868 {ECO:0000313|EMBL:OAL06792.1, ECO:0000313|Proteomes:UP000077206};",null,"Eukaryota"," Fungi"," Dikarya"," Ascomycota"," Pezizomycotina","Dothideomycetes"," Pleosporomycetidae"," Pleosporales"," Massarineae","Massarinaceae"," Stagonospora."]
["A0A178EBW2_9PLEO","A0A178EBW2"," Pyrenochaeta sp. DS3sAY3a.",null," NCBI_TaxID=765867 {ECO:0000313|EMBL:OAL53182.1, ECO:0000313|Proteomes:UP000077535};",null,"Eukaryota"," Fungi"," Dikarya"," Ascomycota"," Pezizomycotina","Dothideomycetes"," Pleosporomycetidae"," Pleosporales"," Pleosporineae","Cucurbitariaceae"," Pyrenochaeta."]
["A0A180H1Z8_PUCT1","A0A180H1Z8"," Puccinia triticina (isolate 1-1 / race 1 (BBBD)) (Brown leaf rust fungus).",null," NCBI_TaxID=630390 {ECO:0000313|EMBL:OAV98393.1, ECO:0000313|Proteomes:UP000005240};",null,"Eukaryota"," Fungi"," Dikarya"," Basidiomycota"," Pucciniomycotina","Pucciniomycetes"," Pucciniales"," Pucciniaceae"," Puccinia."]
["A0A183AAW8_9TREM","A0A183AAW8"," Echinostoma caproni.",null," NCBI_TaxID=27848 {ECO:0000313|Proteomes:UP000050740, ECO:0000313|WBParaSite:ECPE_0000411101-mRNA-1};",null,"Eukaryota"," Metazoa"," Platyhelminthes"," Trematoda"," Digenea","Plagiorchiida"," Echinostomata"," Echinostomatoidea"," Echinostomatidae","Echinostoma."]
["A0A183E542_9BILA","A0A183E542"," Gongylonema pulchrum.",null," NCBI_TaxID=637853 {ECO:0000313|Proteomes:UP000050760, ECO:0000313|WBParaSite:GPUH_0001610501-mRNA-1};",null,"Eukaryota"," Metazoa"," Ecdysozoa"," Nematoda"," Chromadorea"," Spirurida","Spiruromorpha"," Spiruroidea"," Gongylonematidae"," Gongylonema."]
["A0A183EVV2_9BILA","A0A183EVV2"," Gongylonema pulchrum.",null," NCBI_TaxID=637853 {ECO:0000313|Proteomes:UP000050760, ECO:0000313|WBParaSite:GPUH_0002512301-mRNA-1};",null,"Eukaryota"," Metazoa"," Ecdysozoa"," Nematoda"," Chromadorea"," Spirurida","Spiruromorpha"," Spiruroidea"," Gongylonematidae"," Gongylonema."]
["A0A183IQB6_9BILA","A0A183IQB6"," Soboliphyme baturini.",null," NCBI_TaxID=241478 {ECO:0000313|Proteomes:UP000050793, ECO:0000313|WBParaSite:SBAD_0000604601-mRNA-1};",null,"Eukaryota"," Metazoa"," Ecdysozoa"," Nematoda"," Enoplea"," Dorylaimia","Dioctophymatida"," Dioctophymatoidea"," Soboliphymatidae"," Soboliphyme."]
["A0A183L3P4_9TREM","A0A183L3P4"," Schistosoma curassoni.",null," NCBI_TaxID=6186 {ECO:0000313|Proteomes:UP000050789, ECO:0000313|WBParaSite:SCUD_0002195501-mRNA-1};",null,"Eukaryota"," Metazoa"," Platyhelminthes"," Trematoda"," Digenea"," Strigeidida","Schistosomatoidea"," Schistosomatidae"," Schistosoma."]
["A0A183L5T7_9TREM","A0A183L5T7"," Schistosoma curassoni.",null," NCBI_TaxID=6186 {ECO:0000313|Proteomes:UP000050789, ECO:0000313|WBParaSite:SCUD_0002270701-mRNA-1};",null,"Eukaryota"," Metazoa"," Platyhelminthes"," Trematoda"," Digenea"," Strigeidida","Schistosomatoidea"," Schistosomatidae"," Schistosoma."]
["A0A183MQF5_9TREM","A0A183MQF5"," Schistosoma margrebowiei.",null," NCBI_TaxID=48269 {ECO:0000313|Proteomes:UP000050790, ECO:0000313|WBParaSite:SMRZ_0001828101-mRNA-1};",null,"Eukaryota"," Metazoa"," Platyhelminthes"," Trematoda"," Digenea"," Strigeidida","Schistosomatoidea"," Schistosomatidae"," Schistosoma."]
["A0A183PB67_9TREM","A0A183PB67"," Schistosoma mattheei.",null," NCBI_TaxID=31246 {ECO:0000313|Proteomes:UP000050791, ECO:0000313|WBParaSite:SMTD_0001160201-mRNA-1};",null,"Eukaryota"," Metazoa"," Platyhelminthes"," Trematoda"," Digenea"," Strigeidida","Schistosomatoidea"," Schistosomatidae"," Schistosoma."]
["A0A183PBC8_9TREM","A0A183PBC8"," Schistosoma mattheei.",null," NCBI_TaxID=31246 {ECO:0000313|Proteomes:UP000050791, ECO:0000313|WBParaSite:SMTD_0001166301-mRNA-1};",null,"Eukaryota"," Metazoa"," Platyhelminthes"," Trematoda"," Digenea"," Strigeidida","Schistosomatoidea"," Schistosomatidae"," Schistosoma."]
["A0A183PHM0_9TREM","A0A183PHM0"," Schistosoma mattheei.",null," NCBI_TaxID=31246 {ECO:0000313|Proteomes:UP000050791, ECO:0000313|WBParaSite:SMTD_0001385501-mRNA-1};",null,"Eukaryota"," Metazoa"," Platyhelminthes"," Trematoda"," Digenea"," Strigeidida","Schistosomatoidea"," Schistosomatidae"," Schistosoma."]
["A0A183QFQ2_9TREM","A0A183QFQ2"," Schistosoma rodhaini.",null," NCBI_TaxID=6188 {ECO:0000313|Proteomes:UP000050792, ECO:0000313|WBParaSite:SROB_0000246201-mRNA-1};",null,"Eukaryota"," Metazoa"," Platyhelminthes"," Trematoda"," Digenea"," Strigeidida","Schistosomatoidea"," Schistosomatidae"," Schistosoma."]
["A0A183QFQ3_9TREM","A0A183QFQ3"," Schistosoma rodhaini.",null," NCBI_TaxID=6188 {ECO:0000313|Proteomes:UP000050792, ECO:0000313|WBParaSite:SROB_0000246301-mRNA-1};",null,"Eukaryota"," Metazoa"," Platyhelminthes"," Trematoda"," Digenea"," Strigeidida","Schistosomatoidea"," Schistosomatidae"," Schistosoma."]
["A0A183TE88_SCHSO","A0A183TE88"," Schistocephalus solidus (Tapeworm).",null," NCBI_TaxID=70667 {ECO:0000313|Proteomes:UP000050788, ECO:0000313|WBParaSite:SSLN_0001534501-mRNA-1};",null,"Eukaryota"," Metazoa"," Platyhelminthes"," Cestoda"," Eucestoda","Diphyllobothriidea"," Diphyllobothriidae"," Schistocephalus."]
["A0A183VKK7_TRIRE","A0A183VKK7"," Trichobilharzia regenti (Nasal bird schistosome).",null," NCBI_TaxID=157069 {ECO:0000313|Proteomes:UP000050795, ECO:0000313|WBParaSite:TRE_0000101301-mRNA-1};",null,"Eukaryota"," Metazoa"," Platyhelminthes"," Trematoda"," Digenea"," Strigeidida","Schistosomatoidea"," Schistosomatidae"," Trichobilharzia."]
["A0A183WMJ4_TRIRE","A0A183WMJ4"," Trichobilharzia regenti (Nasal bird schistosome).",null," NCBI_TaxID=157069 {ECO:0000313|Proteomes:UP000050795, ECO:0000313|WBParaSite:TRE_0001396001-mRNA-1};",null,"Eukaryota"," Metazoa"," Platyhelminthes"," Trematoda"," Digenea"," Strigeidida","Schistosomatoidea"," Schistosomatidae"," Trichobilharzia."]
["A0A183WVX9_TRIRE","A0A183WVX9"," Trichobilharzia regenti (Nasal bird schistosome).",null," NCBI_TaxID=157069 {ECO:0000313|Proteomes:UP000050795, ECO:0000313|WBParaSite:TRE_0001689901-mRNA-1};",null,"Eukaryota"," Metazoa"," Platyhelminthes"," Trematoda"," Digenea"," Strigeidida","Schistosomatoidea"," Schistosomatidae"," Trichobilharzia."]
["A0A194PXK2_PAPXU","A0A194PXK2"," Papilio xuthus (Asian swallowtail butterfly).",null," NCBI_TaxID=66420 {ECO:0000313|EMBL:KPI98071.1, ECO:0000313|Proteomes:UP000053268};",null,"Eukaryota"," Metazoa"," Ecdysozoa"," Arthropoda"," Hexapoda"," Insecta","Pterygota"," Neoptera"," Holometabola"," Lepidoptera"," Glossata"," Ditrysia","Papilionoidea"," Papilionidae"," Papilioninae"," Papilio."]
["A0A194REP1_PAPMA","A0A194REP1"," Papilio machaon (Old World swallowtail butterfly).",null," NCBI_TaxID=76193 {ECO:0000313|EMBL:KPJ15929.1, ECO:0000313|Proteomes:UP000053240};",null,"Eukaryota"," Metazoa"," Ecdysozoa"," Arthropoda"," Hexapoda"," Insecta","Pterygota"," Neoptera"," Holometabola"," Lepidoptera"," Glossata"," Ditrysia","Papilionoidea"," Papilionidae"," Papilioninae"," Papilio."]
["A0A194SBG9_RHOGW","A0A194SBG9"," Rhodotorula graminis (strain WP1).",null," NCBI_TaxID=578459 {ECO:0000313|EMBL:KPV77934.1, ECO:0000313|Proteomes:UP000053890};",null,"Eukaryota"," Fungi"," Dikarya"," Basidiomycota"," Pucciniomycotina","Microbotryomycetes"," Sporidiobolales"," Sporidiobolaceae"," Rhodotorula."]
["A0A194XSF5_9HELO","A0A194XSF5"," Phialocephala scopiformis.",null," NCBI_TaxID=149040 {ECO:0000313|EMBL:KUJ22662.1, ECO:0000313|Proteomes:UP000070700};",null,"Eukaryota"," Fungi"," Dikarya"," Ascomycota"," Pezizomycotina"," Leotiomycetes","Helotiales"," Helotiales incertae sedis"," Phialocephala."]
["A0BFM1_PARTE","A0BFM1"," Paramecium tetraurelia.",null," NCBI_TaxID=5888 {ECO:0000313|EMBL:CAK57338.1, ECO:0000313|Proteomes:UP000000600};",null,"Eukaryota"," Alveolata"," Ciliophora"," Intramacronucleata","Oligohymenophorea"," Peniculida"," Parameciidae"," Paramecium."]
["A0BWA0_PARTE","A0BWA0"," Paramecium tetraurelia.",null," NCBI_TaxID=5888 {ECO:0000313|EMBL:CAK62817.1, ECO:0000313|Proteomes:UP000000600};",null,"Eukaryota"," Alveolata"," Ciliophora"," Intramacronucleata","Oligohymenophorea"," Peniculida"," Parameciidae"," Paramecium."]
["A0EEA7_PARTE","A0EEA7"," Paramecium tetraurelia.",null," NCBI_TaxID=5888 {ECO:0000313|EMBL:CAK93624.1, ECO:0000313|Proteomes:UP000000600};",null,"Eukaryota"," Alveolata"," Ciliophora"," Intramacronucleata","Oligohymenophorea"," Peniculida"," Parameciidae"," Paramecium."]
["A1CS73_ASPCL","A1CS73"," Aspergillus clavatus (strain ATCC 1007 / CBS 513.65 / DSM 816 / NCTC 3887 / NRRL 1).",null," NCBI_TaxID=344612 {ECO:0000313|EMBL:EAW08494.1, ECO:0000313|Proteomes:UP000006701};",null,"Eukaryota"," Fungi"," Dikarya"," Ascomycota"," Pezizomycotina"," Eurotiomycetes","Eurotiomycetidae"," Eurotiales"," Aspergillaceae"," Aspergillus."]
["A1D547_NEOFI","A1D547"," Neosartorya fischeri (strain ATCC 1020 / DSM 3700 / CBS 544.65 / FGSC A1164 / JCM 1740 / NRRL 181 / WB 181) (Aspergillus fischerianus).",null," NCBI_TaxID=331117 {ECO:0000313|EMBL:EAW23540.1, ECO:0000313|Proteomes:UP000006702};",null,"Eukaryota"," Fungi"," Dikarya"," Ascomycota"," Pezizomycotina"," Eurotiomycetes","Eurotiomycetidae"," Eurotiales"," Aspergillaceae"," Aspergillus."]
["A2DRU5_TRIVA","A2DRU5"," Trichomonas vaginalis.",null," NCBI_TaxID=5722 {ECO:0000313|EMBL:EAY16892.1, ECO:0000313|Proteomes:UP000001542};",null,"Eukaryota"," Parabasalia"," Trichomonadida"," Trichomonadidae"," Trichomonas."]
["A2EWE5_TRIVA","A2EWE5"," Trichomonas vaginalis.",null," NCBI_TaxID=5722 {ECO:0000313|EMBL:EAY03049.1, ECO:0000313|Proteomes:UP000001542};",null,"Eukaryota"," Parabasalia"," Trichomonadida"," Trichomonadidae"," Trichomonas."]
["A2F4M9_TRIVA","A2F4M9"," Trichomonas vaginalis.",null," NCBI_TaxID=5722 {ECO:0000313|EMBL:EAY00134.1, ECO:0000313|Proteomes:UP000001542};",null,"Eukaryota"," Parabasalia"," Trichomonadida"," Trichomonadidae"," Trichomonas."]
["A2Q8Z7_ASPNC","A2Q8Z7"," Aspergillus niger (strain CBS 513.88 / FGSC A1513).",null," NCBI_TaxID=425011 {ECO:0000313|Proteomes:UP000006706};",null,"Eukaryota"," Fungi"," Dikarya"," Ascomycota"," Pezizomycotina"," Eurotiomycetes","Eurotiomycetidae"," Eurotiales"," Aspergillaceae"," Aspergillus."]
["A3GF70_PICST","A3GF70"," Scheffersomyces stipitis (strain ATCC 58785 / CBS 6054 / NBRC 10063 / NRRL Y-11545) (Yeast) (Pichia stipitis).",null," NCBI_TaxID=322104 {ECO:0000313|EMBL:EAZ63299.2, ECO:0000313|Proteomes:UP000002258};",null,"Eukaryota"," Fungi"," Dikarya"," Ascomycota"," Saccharomycotina","Saccharomycetes"," Saccharomycetales"," Debaryomycetaceae","Scheffersomyces."]
["A5DQ07_PICGU","A5DQ07"," Meyerozyma guilliermondii (strain ATCC 6260 / CBS 566 / DSM 6381 / JCM 1539 / NBRC 10279 / NRRL Y-324) (Yeast) (Candida guilliermondii).",null," NCBI_TaxID=294746 {ECO:0000313|EMBL:EDK41260.2, ECO:0000313|Proteomes:UP000001997};",null,"Eukaryota"," Fungi"," Dikarya"," Ascomycota"," Saccharomycotina","Saccharomycetes"," Saccharomycetales"," Debaryomycetaceae"," Meyerozyma."]
["A5E4R5_LODEL","A5E4R5"," Lodderomyces elongisporus (strain ATCC 11503 / CBS 2605 / JCM 1781 / NBRC 1676 / NRRL YB-4239) (Yeast) (Saccharomyces elongisporus).",null," NCBI_TaxID=379508 {ECO:0000313|EMBL:EDK46423.1, ECO:0000313|Proteomes:UP000001996};",null,"Eukaryota"," Fungi"," Dikarya"," Ascomycota"," Saccharomycotina","Saccharomycetes"," Saccharomycetales"," Debaryomycetaceae","Candida/Lodderomyces clade"," Lodderomyces."]
["A6R0W1_AJECN","A6R0W1"," Ajellomyces capsulatus (strain NAm1 / WU24) (Darling's disease fungus) (Histoplasma capsulatum).",null," NCBI_TaxID=339724 {ECO:0000313|EMBL:EDN06738.1, ECO:0000313|Proteomes:UP000009297};",null,"Eukaryota"," Fungi"," Dikarya"," Ascomycota"," Pezizomycotina"," Eurotiomycetes","Eurotiomycetidae"," Onygenales"," Ajellomycetaceae"," Histoplasma."]
["A7F5B8_SCLS1","A7F5B8"," Sclerotinia sclerotiorum (strain ATCC 18683 / 1980 / Ss-1) (White mold) (Whetzelinia sclerotiorum).",null," NCBI_TaxID=665079 {ECO:0000313|EMBL:EDN97939.1, ECO:0000313|Proteomes:UP000001312};",null,"Eukaryota"," Fungi"," Dikarya"," Ascomycota"," Pezizomycotina"," Leotiomycetes","Helotiales"," Sclerotiniaceae"," Sclerotinia."]
["A7TH79_VANPO","A7TH79"," Vanderwaltozyma polyspora (strain ATCC 22028 / DSM 70294) (Kluyveromyces polysporus).",null," NCBI_TaxID=436907 {ECO:0000313|Proteomes:UP000000267};",null,"Eukaryota"," Fungi"," Dikarya"," Ascomycota"," Saccharomycotina","Saccharomycetes"," Saccharomycetales"," Saccharomycetaceae","Vanderwaltozyma."]
["A8BPE3_GIAIC","A8BPE3"," Giardia intestinalis (strain ATCC 50803 / WB clone C6) (Giardia lamblia).",null," NCBI_TaxID=184922 {ECO:0000313|EMBL:EDO78059.1, ECO:0000313|Proteomes:UP000001548};",null,"Eukaryota"," Diplomonadida"," Hexamitidae"," Giardiinae"," Giardia."]
["GDE_HORSE","A8BQB4"," Equus caballus (Horse).",null," NCBI_TaxID=9796;",null,"Eukaryota"," Metazoa"," Chordata"," Craniata"," Vertebrata"," Euteleostomi","Mammalia"," Eutheria"," Laurasiatheria"," Perissodactyla"," Equidae"," Equus."]
["A8N9L1_COPC7","A8N9L1"," Coprinopsis cinerea (strain Okayama-7 / 130 / ATCC MYA-4618 / FGSC 9003) (Inky cap fungus) (Hormographiella aspergillata).",null," NCBI_TaxID=240176 {ECO:0000313|EMBL:EAU90296.1, ECO:0000313|Proteomes:UP000001861};",null,"Eukaryota"," Fungi"," Dikarya"," Basidiomycota"," Agaricomycotina","Agaricomycetes"," Agaricomycetidae"," Agaricales"," Psathyrellaceae","Coprinopsis."]
["A8XCF0_CAEBR","A8XCF0"," Caenorhabditis briggsae.",null," NCBI_TaxID=6238 {ECO:0000313|EMBL:CAP30317.2, ECO:0000313|Proteomes:UP000008549};",null,"Eukaryota"," Metazoa"," Ecdysozoa"," Nematoda"," Chromadorea"," Rhabditida","Rhabditoidea"," Rhabditidae"," Peloderinae"," Caenorhabditis."]
["A9V544_MONBE","A9V544"," Monosiga brevicollis (Choanoflagellate).",null," NCBI_TaxID=81824 {ECO:0000313|Proteomes:UP000001357};",null,"Eukaryota"," Choanoflagellida"," Craspedida"," Salpingoecidae"," Monosiga."]
["B0DI75_LACBS","B0DI75"," Laccaria bicolor (strain S238N-H82 / ATCC MYA-4686) (Bicoloured deceiver) (Laccaria laccata var. bicolor).",null," NCBI_TaxID=486041 {ECO:0000313|Proteomes:UP000001194};",null,"Eukaryota"," Fungi"," Dikarya"," Basidiomycota"," Agaricomycotina","Agaricomycetes"," Agaricomycetidae"," Agaricales"," Tricholomataceae","Laccaria."]
["B0DME9_LACBS","B0DME9"," Laccaria bicolor (strain S238N-H82 / ATCC MYA-4686) (Bicoloured deceiver) (Laccaria laccata var. bicolor).",null," NCBI_TaxID=486041 {ECO:0000313|Proteomes:UP000001194};",null,"Eukaryota"," Fungi"," Dikarya"," Basidiomycota"," Agaricomycotina","Agaricomycetes"," Agaricomycetidae"," Agaricales"," Tricholomataceae","Laccaria."]
["B0DZ84_LACBS","B0DZ84"," Laccaria bicolor (strain S238N-H82 / ATCC MYA-4686) (Bicoloured deceiver) (Laccaria laccata var. bicolor).",null," NCBI_TaxID=486041 {ECO:0000313|Proteomes:UP000001194};",null,"Eukaryota"," Fungi"," Dikarya"," Basidiomycota"," Agaricomycotina","Agaricomycetes"," Agaricomycetidae"," Agaricales"," Tricholomataceae","Laccaria."]
["B0X1H0_CULQU","B0X1H0"," Culex quinquefasciatus (Southern house mosquito) (Culex pungens).",null," NCBI_TaxID=7176 {ECO:0000313|Proteomes:UP000002320};",null,"Eukaryota"," Metazoa"," Ecdysozoa"," Arthropoda"," Hexapoda"," Insecta","Pterygota"," Neoptera"," Holometabola"," Diptera"," Nematocera"," Culicoidea","Culicidae"," Culicinae"," Culicini"," Culex"," Culex."]
["B0XLP5_CULQU","B0XLP5"," Culex quinquefasciatus (Southern house mosquito) (Culex pungens).",null," NCBI_TaxID=7176 {ECO:0000313|Proteomes:UP000002320};",null,"Eukaryota"," Metazoa"," Ecdysozoa"," Arthropoda"," Hexapoda"," Insecta","Pterygota"," Neoptera"," Holometabola"," Diptera"," Nematocera"," Culicoidea","Culicidae"," Culicinae"," Culicini"," Culex"," Culex."]
["B2AB57_PODAN","B2AB57"," Podospora anserina (strain S / ATCC MYA-4624 / DSM 980 / FGSC 10383) (Pleurage anserina).",null," NCBI_TaxID=515849 {ECO:0000313|EMBL:CAP60319.1};",null,"Eukaryota"," Fungi"," Dikarya"," Ascomycota"," Pezizomycotina","Sordariomycetes"," Sordariomycetidae"," Sordariales"," Lasiosphaeriaceae","Podospora."]
["B2VZS2_PYRTR","B2VZS2"," Pyrenophora tritici-repentis (strain Pt-1C-BFP) (Wheat tan spot fungus) (Drechslera tritici-repentis).",null," NCBI_TaxID=426418 {ECO:0000313|EMBL:EDU45435.1, ECO:0000313|Proteomes:UP000001471};",null,"Eukaryota"," Fungi"," Dikarya"," Ascomycota"," Pezizomycotina","Dothideomycetes"," Pleosporomycetidae"," Pleosporales"," Pleosporineae","Pleosporaceae"," Pyrenophora."]
["B3MBX1_DROAN","B3MBX1"," Drosophila ananassae (Fruit fly).",null," NCBI_TaxID=7217 {ECO:0000313|EMBL:EDV36142.1, ECO:0000313|Proteomes:UP000007801};",null,"Eukaryota"," Metazoa"," Ecdysozoa"," Arthropoda"," Hexapoda"," Insecta","Pterygota"," Neoptera"," Holometabola"," Diptera"," Brachycera"," Muscomorpha","Ephydroidea"," Drosophilidae"," Drosophila"," Sophophora."]
["B4GA88_DROPE","B4GA88"," Drosophila persimilis (Fruit fly).",null," NCBI_TaxID=7234 {ECO:0000313|Proteomes:UP000008744};",null,"Eukaryota"," Metazoa"," Ecdysozoa"," Arthropoda"," Hexapoda"," Insecta","Pterygota"," Neoptera"," Holometabola"," Diptera"," Brachycera"," Muscomorpha","Ephydroidea"," Drosophilidae"," Drosophila"," Sophophora."]
["B4I7P0_DROSE","B4I7P0"," Drosophila sechellia (Fruit fly).",null," NCBI_TaxID=7238 {ECO:0000313|Proteomes:UP000001292};",null,"Eukaryota"," Metazoa"," Ecdysozoa"," Arthropoda"," Hexapoda"," Insecta","Pterygota"," Neoptera"," Holometabola"," Diptera"," Brachycera"," Muscomorpha","Ephydroidea"," Drosophilidae"," Drosophila"," Sophophora."]
["B4J7H5_DROGR","B4J7H5"," Drosophila grimshawi (Fruit fly) (Idiomyia grimshawi).",null," NCBI_TaxID=7222 {ECO:0000313|Proteomes:UP000001070};",null,"Eukaryota"," Metazoa"," Ecdysozoa"," Arthropoda"," Hexapoda"," Insecta","Pterygota"," Neoptera"," Holometabola"," Diptera"," Brachycera"," Muscomorpha","Ephydroidea"," Drosophilidae"," Drosophila"," Hawaiian Drosophila."]
["B4KSI9_DROMO","B4KSI9"," Drosophila mojavensis (Fruit fly).",null," NCBI_TaxID=7230 {ECO:0000313|EMBL:EDW09494.1, ECO:0000313|Proteomes:UP000009192};",null,"Eukaryota"," Metazoa"," Ecdysozoa"," Arthropoda"," Hexapoda"," Insecta","Pterygota"," Neoptera"," Holometabola"," Diptera"," Brachycera"," Muscomorpha","Ephydroidea"," Drosophilidae"," Drosophila."]
["B4LMF7_DROVI","B4LMF7"," Drosophila virilis (Fruit fly).",null," NCBI_TaxID=7244 {ECO:0000313|EMBL:EDW62052.1, ECO:0000313|Proteomes:UP000008792};",null,"Eukaryota"," Metazoa"," Ecdysozoa"," Arthropoda"," Hexapoda"," Insecta","Pterygota"," Neoptera"," Holometabola"," Diptera"," Brachycera"," Muscomorpha","Ephydroidea"," Drosophilidae"," Drosophila."]
["B4MPI2_DROWI","B4MPI2"," Drosophila willistoni (Fruit fly).",null," NCBI_TaxID=7260 {ECO:0000313|Proteomes:UP000007798};",null,"Eukaryota"," Metazoa"," Ecdysozoa"," Arthropoda"," Hexapoda"," Insecta","Pterygota"," Neoptera"," Holometabola"," Diptera"," Brachycera"," Muscomorpha","Ephydroidea"," Drosophilidae"," Drosophila"," Sophophora."]
["B4QG18_DROSI","B4QG18"," Drosophila simulans (Fruit fly).",null," NCBI_TaxID=7240 {ECO:0000313|EMBL:EDX08054.1, ECO:0000313|Proteomes:UP000000304};",null,"Eukaryota"," Metazoa"," Ecdysozoa"," Arthropoda"," Hexapoda"," Insecta","Pterygota"," Neoptera"," Holometabola"," Diptera"," Brachycera"," Muscomorpha","Ephydroidea"," Drosophilidae"," Drosophila"," Sophophora."]
["B6ABH3_CRYMR","B6ABH3"," Cryptosporidium muris (strain RN66).",null," NCBI_TaxID=441375 {ECO:0000313|Proteomes:UP000001460};",null,"Eukaryota"," Alveolata"," Apicomplexa"," Conoidasida"," Coccidia","Eucoccidiorida"," Eimeriorina"," Cryptosporidiidae"," Cryptosporidium."]
["B6HTR6_PENRW","B6HTR6"," Penicillium rubens (strain ATCC 28089 / DSM 1075 / NRRL 1951 / Wisconsin 54-1255) (Penicillium chrysogenum).",null," NCBI_TaxID=500485 {ECO:0000313|EMBL:CAP99500.1, ECO:0000313|Proteomes:UP000000724};",null,"Eukaryota"," Fungi"," Dikarya"," Ascomycota"," Pezizomycotina"," Eurotiomycetes","Eurotiomycetidae"," Eurotiales"," Aspergillaceae"," Penicillium","Penicillium chrysogenum species complex."]
["B6QE94_TALMQ","B6QE94"," Talaromyces marneffei (strain ATCC 18224 / CBS 334.59 / QM 7333) (Penicillium marneffei).",null," NCBI_TaxID=441960 {ECO:0000313|EMBL:EEA24939.1, ECO:0000313|Proteomes:UP000001294};",null,"Eukaryota"," Fungi"," Dikarya"," Ascomycota"," Pezizomycotina"," Eurotiomycetes","Eurotiomycetidae"," Eurotiales"," Trichocomaceae"," Talaromyces."]
["B7QG62_IXOSC","B7QG62"," Ixodes scapularis (Black-legged tick) (Deer tick).",null," NCBI_TaxID=6945 {ECO:0000313|Proteomes:UP000001555};",null,"Eukaryota"," Metazoa"," Ecdysozoa"," Arthropoda"," Chelicerata"," Arachnida","Acari"," Parasitiformes"," Ixodida"," Ixodoidea"," Ixodidae"," Ixodinae"," Ixodes."]
["B8MB42_TALSN","B8MB42"," Talaromyces stipitatus (strain ATCC 10500 / CBS 375.48 / QM 6759 / NRRL 1006) (Penicillium stipitatum).",null," NCBI_TaxID=441959 {ECO:0000313|EMBL:EED18743.1, ECO:0000313|Proteomes:UP000001745};",null,"Eukaryota"," Fungi"," Dikarya"," Ascomycota"," Pezizomycotina"," Eurotiomycetes","Eurotiomycetidae"," Eurotiales"," Trichocomaceae"," Talaromyces."]
["B8MYJ6_ASPFN","B8MYJ6"," Aspergillus flavus (strain ATCC 200026 / FGSC A1120 / NRRL 3357 / JCM 12722 / SRRC 167).",null," NCBI_TaxID=332952 {ECO:0000313|EMBL:EED57438.1, ECO:0000313|Proteomes:UP000001875};",null,"Eukaryota"," Fungi"," Dikarya"," Ascomycota"," Pezizomycotina"," Eurotiomycetes","Eurotiomycetidae"," Eurotiales"," Aspergillaceae"," Aspergillus."]
["C0NQD3_AJECG","C0NQD3"," Ajellomyces capsulatus (strain G186AR / H82 / ATCC MYA-2454 / RMSCC 2432) (Darling's disease fungus) (Histoplasma capsulatum).",null," NCBI_TaxID=447093 {ECO:0000313|EMBL:EEH06405.1, ECO:0000313|Proteomes:UP000001631};",null,"Eukaryota"," Fungi"," Dikarya"," Ascomycota"," Pezizomycotina"," Eurotiomycetes","Eurotiomycetidae"," Onygenales"," Ajellomycetaceae"," Histoplasma."]
["C1GL12_PARBD","C1GL12"," Paracoccidioides brasiliensis (strain Pb18).",null," NCBI_TaxID=502780 {ECO:0000313|EMBL:EEH43199.2, ECO:0000313|Proteomes:UP000001628};",null,"Eukaryota"," Fungi"," Dikarya"," Ascomycota"," Pezizomycotina"," Eurotiomycetes","Eurotiomycetidae"," Onygenales"," Onygenales incertae sedis","Paracoccidioides."]
["C3YID9_BRAFL","C3YID9"," Branchiostoma floridae (Florida lancelet) (Amphioxus).",null," NCBI_TaxID=7739 {ECO:0000313|Proteomes:UP000001554};",null,"Eukaryota"," Metazoa"," Chordata"," Cephalochordata"," Branchiostomidae","Branchiostoma."]
["C4JU91_UNCRE","C4JU91"," Uncinocarpus reesii (strain UAMH 1704).",null," NCBI_TaxID=336963 {ECO:0000313|EMBL:EEP81188.1, ECO:0000313|Proteomes:UP000002058};",null,"Eukaryota"," Fungi"," Dikarya"," Ascomycota"," Pezizomycotina"," Eurotiomycetes","Eurotiomycetidae"," Onygenales"," Onygenaceae"," Uncinocarpus."]
["C4LXB9_ENTHI","C4LXB9"," Entamoeba histolytica.",null," NCBI_TaxID=5759 {ECO:0000313|EMBL:EAL48222.1, ECO:0000313|Proteomes:UP000001926};",null,"Eukaryota"," Amoebozoa"," Archamoebae"," Entamoebidae"," Entamoeba."]
["C4R1U8_KOMPG","C4R1U8"," Komagataella phaffii (strain GS115 / ATCC 20864) (Yeast) (Pichia pastoris).",null," NCBI_TaxID=644223 {ECO:0000313|EMBL:CAY69472.1, ECO:0000313|Proteomes:UP000000314};",null,"Eukaryota"," Fungi"," Dikarya"," Ascomycota"," Saccharomycotina","Saccharomycetes"," Saccharomycetales"," Phaffomycetaceae"," Komagataella."]
["C4Y8I7_CLAL4","C4Y8I7"," Clavispora lusitaniae (strain ATCC 42720) (Yeast) (Candida lusitaniae).",null," NCBI_TaxID=306902 {ECO:0000313|EMBL:EEQ40388.1, ECO:0000313|Proteomes:UP000007703};",null,"Eukaryota"," Fungi"," Dikarya"," Ascomycota"," Saccharomycotina","Saccharomycetes"," Saccharomycetales"," Metschnikowiaceae"," Clavispora."]
["C5DB95_LACTC","C5DB95"," Lachancea thermotolerans (strain ATCC 56472 / CBS 6340 / NRRL Y-8284) (Yeast) (Kluyveromyces thermotolerans).",null," NCBI_TaxID=559295 {ECO:0000313|EMBL:CAR21052.1, ECO:0000313|Proteomes:UP000002036};",null,"Eukaryota"," Fungi"," Dikarya"," Ascomycota"," Saccharomycotina","Saccharomycetes"," Saccharomycetales"," Saccharomycetaceae"," Lachancea."]
["C5DUS3_ZYGRC","C5DUS3"," Zygosaccharomyces rouxii (strain ATCC 2623 / CBS 732 / NBRC 1130 / NCYC 568 / NRRL Y-229) (Candida mogii).",null," NCBI_TaxID=559307 {ECO:0000313|Proteomes:UP000008536};",null,"Eukaryota"," Fungi"," Dikarya"," Ascomycota"," Saccharomycotina","Saccharomycetes"," Saccharomycetales"," Saccharomycetaceae","Zygosaccharomyces."]
["C5FS32_ARTOC","C5FS32"," Arthroderma otae (strain ATCC MYA-4605 / CBS 113480) (Microsporum canis).",null," NCBI_TaxID=554155 {ECO:0000313|EMBL:EEQ32685.1, ECO:0000313|Proteomes:UP000002035};",null,"Eukaryota"," Fungi"," Dikarya"," Ascomycota"," Pezizomycotina"," Eurotiomycetes","Eurotiomycetidae"," Onygenales"," Arthrodermataceae"," Microsporum."]
["C5GTI6_AJEDR","C5GTI6"," Ajellomyces dermatitidis (strain ER-3 / ATCC MYA-2586) (Blastomyces dermatitidis).",null," NCBI_TaxID=559297 {ECO:0000313|EMBL:EEQ92608.2, ECO:0000313|Proteomes:UP000002039};",null,"Eukaryota"," Fungi"," Dikarya"," Ascomycota"," Pezizomycotina"," Eurotiomycetes","Eurotiomycetidae"," Onygenales"," Ajellomycetaceae"," Blastomyces."]
["C5MCK0_CANTT","C5MCK0"," Candida tropicalis (strain ATCC MYA-3404 / T1) (Yeast).",null," NCBI_TaxID=294747 {ECO:0000313|EMBL:EER32280.1, ECO:0000313|Proteomes:UP000002037};",null,"Eukaryota"," Fungi"," Dikarya"," Ascomycota"," Saccharomycotina","Saccharomycetes"," Saccharomycetales"," Debaryomycetaceae","Candida/Lodderomyces clade"," Candida."]
["C6HS62_AJECH","C6HS62"," Ajellomyces capsulatus (strain H143) (Darling's disease fungus) (Histoplasma capsulatum).",null," NCBI_TaxID=544712 {ECO:0000313|EMBL:EER36880.1, ECO:0000313|Proteomes:UP000002624};",null,"Eukaryota"," Fungi"," Dikarya"," Ascomycota"," Pezizomycotina"," Eurotiomycetes","Eurotiomycetidae"," Onygenales"," Ajellomycetaceae"," Histoplasma."]
["C7Z6K9_NECH7","C7Z6K9"," Nectria haematococca (strain 77-13-4 / ATCC MYA-4622 / FGSC 9596 / MPVI) (Fusarium solani subsp. pisi).",null," NCBI_TaxID=660122 {ECO:0000313|Proteomes:UP000005206};",null,"Eukaryota"," Fungi"," Dikarya"," Ascomycota"," Pezizomycotina","Sordariomycetes"," Hypocreomycetidae"," Hypocreales"," Nectriaceae","Fusarium"," Fusarium solani species complex."]
["C8VTT8_EMENI","C8VTT8"," Emericella nidulans (strain FGSC A4 / ATCC 38163 / CBS 112.46 / NRRL 194 / M139) (Aspergillus nidulans).",null," NCBI_TaxID=227321 {ECO:0000313|EMBL:CBF89663.1, ECO:0000313|Proteomes:UP000000560};",null,"Eukaryota"," Fungi"," Dikarya"," Ascomycota"," Pezizomycotina"," Eurotiomycetes","Eurotiomycetidae"," Eurotiales"," Aspergillaceae"," Aspergillus."]
["C9SJ23_VERA1","C9SJ23"," Verticillium alfalfae (strain VaMs.102 / ATCC MYA-4576 / FGSC 10136) (Verticillium wilt of alfalfa) (Verticillium albo-atrum).",null," NCBI_TaxID=526221 {ECO:0000313|Proteomes:UP000008698};",null,"Eukaryota"," Fungi"," Dikarya"," Ascomycota"," Pezizomycotina","Sordariomycetes"," Hypocreomycetidae"," Glomerellales","Plectosphaerellaceae"," Verticillium."]
["D3AZS3_POLPP","D3AZS3"," Polysphondylium pallidum (strain ATCC 26659 / Pp 5 / PN500) (Heterostelium pallidum).",null," NCBI_TaxID=670386 {ECO:0000313|Proteomes:UP000001396};",null,"Eukaryota"," Amoebozoa"," Mycetozoa"," Dictyostelids"," Acytosteliales","Acytosteliaceae"," Heterostelium."]
["D4AEH9_RAT","D4AEH9"," Rattus norvegicus (Rat).",null," NCBI_TaxID=10116 {ECO:0000313|Ensembl:ENSRNOP00000052593, ECO:0000313|Proteomes:UP000002494};",null,"Eukaryota"," Metazoa"," Chordata"," Craniata"," Vertebrata"," Euteleostomi","Mammalia"," Eutheria"," Euarchontoglires"," Glires"," Rodentia"," Myomorpha","Muroidea"," Muridae"," Murinae"," Rattus."]
["D4ASG4_ARTBC","D4ASG4"," Arthroderma benhamiae (strain ATCC MYA-4681 / CBS 112371) (Trichophyton mentagrophytes).",null," NCBI_TaxID=663331 {ECO:0000313|EMBL:EFE34228.1, ECO:0000313|Proteomes:UP000008866};",null,"Eukaryota"," Fungi"," Dikarya"," Ascomycota"," Pezizomycotina"," Eurotiomycetes","Eurotiomycetidae"," Onygenales"," Arthrodermataceae"," Trichophyton."]
["D5G4I5_TUBMM","D5G4I5"," Tuber melanosporum (strain Mel28) (Perigord black truffle).",null," NCBI_TaxID=656061 {ECO:0000313|EMBL:CAZ79428.1, ECO:0000313|Proteomes:UP000006911};",null,"Eukaryota"," Fungi"," Dikarya"," Ascomycota"," Pezizomycotina"," Pezizomycetes","Pezizales"," Tuberaceae"," Tuber."]
["D8LWI1_BLAHO","D8LWI1"," Blastocystis hominis.",null," NCBI_TaxID=12968 {ECO:0000313|EMBL:CBK20170.2, ECO:0000313|Proteomes:UP000008312};",null,"Eukaryota"," Stramenopiles"," Blastocystis."]
["D8Q378_SCHCM","D8Q378"," Schizophyllum commune (strain H4-8 / FGSC 9210) (Split gill fungus).",null," NCBI_TaxID=578458 {ECO:0000313|Proteomes:UP000007431};",null,"Eukaryota"," Fungi"," Dikarya"," Basidiomycota"," Agaricomycotina","Agaricomycetes"," Agaricomycetidae"," Agaricales"," Schizophyllaceae","Schizophyllum."]
["E0VNL2_PEDHC","E0VNL2"," Pediculus humanus subsp. corporis (Body louse).",null," NCBI_TaxID=121224 {ECO:0000313|Proteomes:UP000009046};",null,"Eukaryota"," Metazoa"," Ecdysozoa"," Arthropoda"," Hexapoda"," Insecta","Pterygota"," Neoptera"," Paraneoptera"," Psocodea"," Phthiraptera"," Anoplura","Pediculidae"," Pediculus."]
["E1JGQ5_DROME","E1JGQ5"," Drosophila melanogaster (Fruit fly).",null," NCBI_TaxID=7227 {ECO:0000313|EMBL:ACZ94506.1, ECO:0000313|Proteomes:UP000000803};",null,"Eukaryota"," Metazoa"," Ecdysozoa"," Arthropoda"," Hexapoda"," Insecta","Pterygota"," Neoptera"," Holometabola"," Diptera"," Brachycera"," Muscomorpha","Ephydroidea"," Drosophilidae"," Drosophila"," Sophophora."]
["E2A7S3_CAMFO","E2A7S3"," Camponotus floridanus (Florida carpenter ant).",null," NCBI_TaxID=104421 {ECO:0000313|Proteomes:UP000000311};",null,"Eukaryota"," Metazoa"," Ecdysozoa"," Arthropoda"," Hexapoda"," Insecta","Pterygota"," Neoptera"," Holometabola"," Hymenoptera"," Apocrita"," Aculeata","Vespoidea"," Formicidae"," Formicinae"," Camponotus."]
["E2BPT9_HARSA","E2BPT9"," Harpegnathos saltator (Jerdon's jumping ant).",null," NCBI_TaxID=610380 {ECO:0000313|Proteomes:UP000008237};",null,"Eukaryota"," Metazoa"," Ecdysozoa"," Arthropoda"," Hexapoda"," Insecta","Pterygota"," Neoptera"," Holometabola"," Hymenoptera"," Apocrita"," Aculeata","Vespoidea"," Formicidae"," Ponerinae"," Ponerini"," Harpegnathos."]
["E2L5Q4_MONPE","E2L5Q4"," Moniliophthora perniciosa (strain FA553 / isolate CP02) (Witches'-broom disease fungus) (Marasmius perniciosus).",null," NCBI_TaxID=554373 {ECO:0000313|EMBL:EEB99247.1, ECO:0000313|Proteomes:UP000000741};",null,"Eukaryota"," Fungi"," Dikarya"," Basidiomycota"," Agaricomycotina","Agaricomycetes"," Agaricomycetidae"," Agaricales"," Marasmiaceae","Moniliophthora."]
["E3KWY4_PUCGT","E3KWY4"," Puccinia graminis f. sp. tritici (strain CRL 75-36-700-3 / race SCCL) (Black stem rust fungus).",null," NCBI_TaxID=418459 {ECO:0000313|EMBL:EFP88877.2, ECO:0000313|Proteomes:UP000008783};",null,"Eukaryota"," Fungi"," Dikarya"," Basidiomycota"," Pucciniomycotina","Pucciniomycetes"," Pucciniales"," Pucciniaceae"," Puccinia."]
["E3MHZ4_CAERE","E3MHZ4"," Caenorhabditis remanei (Caenorhabditis vulgaris).",null," NCBI_TaxID=31234 {ECO:0000313|Proteomes:UP000008281};",null,"Eukaryota"," Metazoa"," Ecdysozoa"," Nematoda"," Chromadorea"," Rhabditida","Rhabditoidea"," Rhabditidae"," Peloderinae"," Caenorhabditis."]
["E3QZQ7_COLGM","E3QZQ7"," Colletotrichum graminicola (strain M1.001 / M2 / FGSC 10212) (Maize anthracnose fungus) (Glomerella graminicola).",null," NCBI_TaxID=645133 {ECO:0000313|Proteomes:UP000008782};",null,"Eukaryota"," Fungi"," Dikarya"," Ascomycota"," Pezizomycotina","Sordariomycetes"," Hypocreomycetidae"," Glomerellales"," Glomerellaceae","Colletotrichum."]
["E3RH37_PYRTT","E3RH37"," Pyrenophora teres f. teres (strain 0-1) (Barley net blotch fungus) (Drechslera teres f. teres).",null," NCBI_TaxID=861557 {ECO:0000313|Proteomes:UP000001067};",null,"Eukaryota"," Fungi"," Dikarya"," Ascomycota"," Pezizomycotina","Dothideomycetes"," Pleosporomycetidae"," Pleosporales"," Pleosporineae","Pleosporaceae"," Pyrenophora."]
["E4UNH6_ARTGP","E4UNH6"," Arthroderma gypseum (strain ATCC MYA-4604 / CBS 118893) (Microsporum gypseum).",null," NCBI_TaxID=535722 {ECO:0000313|Proteomes:UP000002669};",null,"Eukaryota"," Fungi"," Dikarya"," Ascomycota"," Pezizomycotina"," Eurotiomycetes","Eurotiomycetidae"," Onygenales"," Arthrodermataceae"," Nannizzia."]
["E4X3A2_OIKDI","E4X3A2"," Oikopleura dioica (Tunicate).",null," NCBI_TaxID=34765 {ECO:0000313|EMBL:CBY18106.1, ECO:0000313|Proteomes:UP000001307};",null,"Eukaryota"," Metazoa"," Chordata"," Tunicata"," Appendicularia"," Oikopleuridae","Oikopleura."]
["E4ZG29_LEPMJ","E4ZG29"," Leptosphaeria maculans (strain JN3 / isolate v23.1.3 / race Av1-4-5-6-7-8) (Blackleg fungus) (Phoma lingam).",null," NCBI_TaxID=985895 {ECO:0000313|EMBL:CBX90249.1, ECO:0000313|Proteomes:UP000002668};",null,"Eukaryota"," Fungi"," Dikarya"," Ascomycota"," Pezizomycotina","Dothideomycetes"," Pleosporomycetidae"," Pleosporales"," Pleosporineae","Leptosphaeriaceae"," Leptosphaeria","Leptosphaeria maculans species complex."]
["E5S846_TRISP","E5S846"," Trichinella spiralis (Trichina worm).",null," NCBI_TaxID=6334 {ECO:0000313|EMBL:EFV59020.1, ECO:0000313|Proteomes:UP000006823};",null,"Eukaryota"," Metazoa"," Ecdysozoa"," Nematoda"," Enoplea"," Dorylaimia","Trichinellida"," Trichinellidae"," Trichinella."]
["E6ZMW0_SPORE","E6ZMW0"," Sporisorium reilianum (strain SRZ2) (Maize head smut fungus).",null," NCBI_TaxID=999809 {ECO:0000313|EMBL:CBQ68567.1, ECO:0000313|Proteomes:UP000008867};",null,"Eukaryota"," Fungi"," Dikarya"," Basidiomycota"," Ustilaginomycotina","Ustilaginomycetes"," Ustilaginales"," Ustilaginaceae"," Sporisorium."]
["E7KJ04_YEASA","E7KJ04"," Saccharomyces cerevisiae (strain AWRI796) (Baker's yeast).",null," NCBI_TaxID=764097 {ECO:0000313|EMBL:EGA72805.1, ECO:0000313|Proteomes:UP000000306};",null,"Eukaryota"," Fungi"," Dikarya"," Ascomycota"," Saccharomycotina","Saccharomycetes"," Saccharomycetales"," Saccharomycetaceae"," Saccharomyces."]
["E7M1B8_YEASV","E7M1B8"," Saccharomyces cerevisiae (strain VIN 13) (Baker's yeast).",null," NCBI_TaxID=764099 {ECO:0000313|EMBL:EGA76520.1, ECO:0000313|Proteomes:UP000000307};",null,"Eukaryota"," Fungi"," Dikarya"," Ascomycota"," Saccharomycotina","Saccharomycetes"," Saccharomycetales"," Saccharomycetaceae"," Saccharomyces."]
["E7QAP2_YEASB","E7QAP2"," Saccharomyces cerevisiae (strain FostersB) (Baker's yeast).",null," NCBI_TaxID=764102 {ECO:0000313|EMBL:EGA56335.1, ECO:0000313|Proteomes:UP000000309};",null,"Eukaryota"," Fungi"," Dikarya"," Ascomycota"," Saccharomycotina","Saccharomycetes"," Saccharomycetales"," Saccharomycetaceae"," Saccharomyces."]
["E9DJT7_COCPS","E9DJT7"," Coccidioides posadasii (strain RMSCC 757 / Silveira) (Valley fever fungus).",null," NCBI_TaxID=443226 {ECO:0000313|Proteomes:UP000002497};",null,"Eukaryota"," Fungi"," Dikarya"," Ascomycota"," Pezizomycotina"," Eurotiomycetes","Eurotiomycetidae"," Onygenales"," Onygenales incertae sedis"," Coccidioides."]
["E9E262_METAQ","E9E262"," Metarhizium acridum (strain CQMa 102).",null," NCBI_TaxID=655827 {ECO:0000313|Proteomes:UP000002499};",null,"Eukaryota"," Fungi"," Dikarya"," Ascomycota"," Pezizomycotina","Sordariomycetes"," Hypocreomycetidae"," Hypocreales"," Clavicipitaceae","Metarhizium."]
["E9F3Z7_METRA","E9F3Z7"," Metarhizium robertsii (strain ARSEF 23 / ATCC MYA-3075) (Metarhizium anisopliae (strain ARSEF 23)).",null," NCBI_TaxID=655844 {ECO:0000313|EMBL:EFY97354.2, ECO:0000313|Proteomes:UP000002498};",null,"Eukaryota"," Fungi"," Dikarya"," Ascomycota"," Pezizomycotina","Sordariomycetes"," Hypocreomycetidae"," Hypocreales"," Clavicipitaceae","Metarhizium."]
["E9IFN1_SOLIN","E9IFN1"," Solenopsis invicta (Red imported fire ant) (Solenopsis wagneri).",null," NCBI_TaxID=13686 {ECO:0000313|Proteomes:UP000006539};",null,"Eukaryota"," Metazoa"," Ecdysozoa"," Arthropoda"," Hexapoda"," Insecta","Pterygota"," Neoptera"," Holometabola"," Hymenoptera"," Apocrita"," Aculeata","Vespoidea"," Formicidae"," Myrmicinae"," Solenopsis."]
["F0UTC9_AJEC8","F0UTC9"," Ajellomyces capsulatus (strain H88) (Darling's disease fungus) (Histoplasma capsulatum).",null," NCBI_TaxID=544711 {ECO:0000313|Proteomes:UP000008142};",null,"Eukaryota"," Fungi"," Dikarya"," Ascomycota"," Pezizomycotina"," Eurotiomycetes","Eurotiomycetidae"," Onygenales"," Ajellomycetaceae"," Histoplasma."]
["F0VLQ0_NEOCL","F0VLQ0"," Neospora caninum (strain Liverpool).",null," NCBI_TaxID=572307 {ECO:0000313|EMBL:CBZ54178.1, ECO:0000313|Proteomes:UP000007494};",null,"Eukaryota"," Alveolata"," Apicomplexa"," Conoidasida"," Coccidia","Eucoccidiorida"," Eimeriorina"," Sarcocystidae"," Neospora."]
["F0XQV3_GROCL","F0XQV3"," Grosmannia clavigera (strain kw1407 / UAMH 11150) (Blue stain fungus) (Graphiocladiella clavigera).",null," NCBI_TaxID=655863 {ECO:0000313|Proteomes:UP000007796};",null,"Eukaryota"," Fungi"," Dikarya"," Ascomycota"," Pezizomycotina","Sordariomycetes"," Sordariomycetidae"," Ophiostomatales"," Ophiostomataceae","Grosmannia."]
["F0ZCG6_DICPU","F0ZCG6"," Dictyostelium purpureum (Slime mold).",null," NCBI_TaxID=5786 {ECO:0000313|Proteomes:UP000001064};",null,"Eukaryota"," Amoebozoa"," Mycetozoa"," Dictyostelids"," Dictyosteliales","Dictyosteliaceae"," Dictyostelium."]
["F1MHT1_BOVIN","F1MHT1"," Bos taurus (Bovine).",null," NCBI_TaxID=9913 {ECO:0000313|Ensembl:ENSBTAP00000008518, ECO:0000313|Proteomes:UP000009136};",null,"Eukaryota"," Metazoa"," Chordata"," Craniata"," Vertebrata"," Euteleostomi","Mammalia"," Eutheria"," Laurasiatheria"," Cetartiodactyla"," Ruminantia","Pecora"," Bovidae"," Bovinae"," Bos."]
["F1NX83_CHICK","F1NX83"," Gallus gallus (Chicken).",null," NCBI_TaxID=9031 {ECO:0000313|Ensembl:ENSGALP00000008669, ECO:0000313|Proteomes:UP000000539};",null,"Eukaryota"," Metazoa"," Chordata"," Craniata"," Vertebrata"," Euteleostomi","Archelosauria"," Archosauria"," Dinosauria"," Saurischia"," Theropoda","Coelurosauria"," Aves"," Neognathae"," Galloanserae"," Galliformes","Phasianidae"," Phasianinae"," Gallus."]
["F1PBL3_CANLF","F1PBL3"," Canis lupus familiaris (Dog) (Canis familiaris).",null," NCBI_TaxID=9615 {ECO:0000313|Ensembl:ENSCAFP00000029699, ECO:0000313|Proteomes:UP000002254};",null,"Eukaryota"," Metazoa"," Chordata"," Craniata"," Vertebrata"," Euteleostomi","Mammalia"," Eutheria"," Laurasiatheria"," Carnivora"," Caniformia"," Canidae","Canis."]
["F1S557_PIG","F1S557"," Sus scrofa (Pig).",null," NCBI_TaxID=9823 {ECO:0000313|Ensembl:ENSSSCP00000007326, ECO:0000313|Proteomes:UP000008227};",null,"Eukaryota"," Metazoa"," Chordata"," Craniata"," Vertebrata"," Euteleostomi","Mammalia"," Eutheria"," Laurasiatheria"," Cetartiodactyla"," Suina"," Suidae","Sus."]
["F2PHR1_TRIEC","F2PHR1"," Trichophyton equinum (strain ATCC MYA-4606 / CBS 127.97) (Horse ringworm fungus).",null," NCBI_TaxID=559882 {ECO:0000313|Proteomes:UP000009169};",null,"Eukaryota"," Fungi"," Dikarya"," Ascomycota"," Pezizomycotina"," Eurotiomycetes","Eurotiomycetidae"," Onygenales"," Arthrodermataceae"," Trichophyton."]
["F2SVW0_TRIRC","F2SVW0"," Trichophyton rubrum (strain ATCC MYA-4607 / CBS 118892) (Athlete's foot fungus).",null," NCBI_TaxID=559305 {ECO:0000313|EMBL:EGD90454.2, ECO:0000313|Proteomes:UP000008864};",null,"Eukaryota"," Fungi"," Dikarya"," Ascomycota"," Pezizomycotina"," Eurotiomycetes","Eurotiomycetidae"," Onygenales"," Arthrodermataceae"," Trichophyton."]
["F2UQQ0_SALR5","F2UQQ0"," Salpingoeca rosetta (strain ATCC 50818 / BSB-021).",null," NCBI_TaxID=946362 {ECO:0000313|Proteomes:UP000007799};",null,"Eukaryota"," Choanoflagellida"," Craspedida"," Salpingoecidae"," Salpingoeca."]
["F4PBL6_BATDJ","F4PBL6"," Batrachochytrium dendrobatidis (strain JAM81 / FGSC 10211) (Frog chytrid fungus).",null," NCBI_TaxID=684364 {ECO:0000313|Proteomes:UP000007241};",null,"Eukaryota"," Fungi"," Chytridiomycota"," Chytridiomycetes"," Rhizophydiales","Rhizophydiales incertae sedis"," Batrachochytrium."]
["F4PRV5_CAVFA","F4PRV5"," Cavenderia fasciculata (strain SH3) (Slime mold) (Dictyostelium fasciculatum).",null," NCBI_TaxID=1054147 {ECO:0000313|Proteomes:UP000007797};",null,"Eukaryota"," Amoebozoa"," Mycetozoa"," Dictyostelids"," Acytosteliales","Cavenderiaceae"," Cavenderia."]
["F4RSD6_MELLP","F4RSD6"," Melampsora larici-populina (strain 98AG31 / pathotype 3-4-7) (Poplar leaf rust fungus).",null," NCBI_TaxID=747676 {ECO:0000313|Proteomes:UP000001072};",null,"Eukaryota"," Fungi"," Dikarya"," Basidiomycota"," Pucciniomycotina","Pucciniomycetes"," Pucciniales"," Melampsoraceae"," Melampsora."]
["F5HMX0_ANOGA","F5HMX0"," Anopheles gambiae (African malaria mosquito).",null," NCBI_TaxID=7165 {ECO:0000313|EMBL:EGK97642.1, ECO:0000313|Proteomes:UP000007062};",null,"Eukaryota"," Metazoa"," Ecdysozoa"," Arthropoda"," Hexapoda"," Insecta","Pterygota"," Neoptera"," Holometabola"," Diptera"," Nematocera"," Culicoidea","Culicidae"," Anophelinae"," Anopheles."]
["F6TE92_HORSE","F6TE92"," Equus caballus (Horse).",null," NCBI_TaxID=9796 {ECO:0000313|Ensembl:ENSECAP00000009911, ECO:0000313|Proteomes:UP000002281};",null,"Eukaryota"," Metazoa"," Chordata"," Craniata"," Vertebrata"," Euteleostomi","Mammalia"," Eutheria"," Laurasiatheria"," Perissodactyla"," Equidae"," Equus."]
["F6UM75_CIOIN","F6UM75"," Ciona intestinalis (Transparent sea squirt) (Ascidia intestinalis).",null," NCBI_TaxID=7719 {ECO:0000313|Ensembl:ENSCINP00000015169, ECO:0000313|Proteomes:UP000008144};",null,"Eukaryota"," Metazoa"," Chordata"," Tunicata"," Ascidiacea"," Enterogona","Phlebobranchia"," Cionidae"," Ciona."]
["F6XXE6_MOUSE","F6XXE6"," Mus musculus (Mouse).",null," NCBI_TaxID=10090 {ECO:0000313|Ensembl:ENSMUSP00000123985, ECO:0000313|Proteomes:UP000000589};",null,"Eukaryota"," Metazoa"," Chordata"," Craniata"," Vertebrata"," Euteleostomi","Mammalia"," Eutheria"," Euarchontoglires"," Glires"," Rodentia"," Myomorpha","Muroidea"," Muridae"," Murinae"," Mus"," Mus."]
["F6YVZ9_ORNAN","F6YVZ9"," Ornithorhynchus anatinus (Duckbill platypus).",null," NCBI_TaxID=9258 {ECO:0000313|Ensembl:ENSOANP00000005070, ECO:0000313|Proteomes:UP000002279};",null,"Eukaryota"," Metazoa"," Chordata"," Craniata"," Vertebrata"," Euteleostomi","Mammalia"," Monotremata"," Ornithorhynchidae"," Ornithorhynchus."]
["F7CSZ6_MOUSE","F7CSZ6"," Mus musculus (Mouse).",null," NCBI_TaxID=10090 {ECO:0000313|Ensembl:ENSMUSP00000125246, ECO:0000313|Proteomes:UP000000589};",null,"Eukaryota"," Metazoa"," Chordata"," Craniata"," Vertebrata"," Euteleostomi","Mammalia"," Eutheria"," Euarchontoglires"," Glires"," Rodentia"," Myomorpha","Muroidea"," Muridae"," Murinae"," Mus"," Mus."]
["F7D8W4_XENTR","F7D8W4"," Xenopus tropicalis (Western clawed frog) (Silurana tropicalis).",null," NCBI_TaxID=8364 {ECO:0000313|Ensembl:ENSXETP00000028875, ECO:0000313|Proteomes:UP000008143};",null,"Eukaryota"," Metazoa"," Chordata"," Craniata"," Vertebrata"," Euteleostomi","Amphibia"," Batrachia"," Anura"," Pipoidea"," Pipidae"," Xenopodinae"," Xenopus","Silurana."]
["F7EAR4_MACMU","F7EAR4"," Macaca mulatta (Rhesus macaque).",null," NCBI_TaxID=9544 {ECO:0000313|Ensembl:ENSMMUP00000028243, ECO:0000313|Proteomes:UP000006718};",null,"Eukaryota"," Metazoa"," Chordata"," Craniata"," Vertebrata"," Euteleostomi","Mammalia"," Eutheria"," Euarchontoglires"," Primates"," Haplorrhini","Catarrhini"," Cercopithecidae"," Cercopithecinae"," Macaca."]
["F7EAR8_MACMU","F7EAR8"," Macaca mulatta (Rhesus macaque).",null," NCBI_TaxID=9544 {ECO:0000313|Ensembl:ENSMMUP00000028242, ECO:0000313|Proteomes:UP000006718};",null,"Eukaryota"," Metazoa"," Chordata"," Craniata"," Vertebrata"," Euteleostomi","Mammalia"," Eutheria"," Euarchontoglires"," Primates"," Haplorrhini","Catarrhini"," Cercopithecidae"," Cercopithecinae"," Macaca."]
["F7GJD2_MONDO","F7GJD2"," Monodelphis domestica (Gray short-tailed opossum).",null," NCBI_TaxID=13616 {ECO:0000313|Ensembl:ENSMODP00000004696, ECO:0000313|Proteomes:UP000002280};",null,"Eukaryota"," Metazoa"," Chordata"," Craniata"," Vertebrata"," Euteleostomi","Mammalia"," Metatheria"," Didelphimorphia"," Didelphidae"," Monodelphis."]
["F7VQT1_SORMK","F7VQT1"," Sordaria macrospora (strain ATCC MYA-333 / DSM 997 / K(L3346) / K-hell).",null," NCBI_TaxID=771870 {ECO:0000313|EMBL:CCC07863.1, ECO:0000313|Proteomes:UP000001881};",null,"Eukaryota"," Fungi"," Dikarya"," Ascomycota"," Pezizomycotina","Sordariomycetes"," Sordariomycetidae"," Sordariales"," Sordariaceae","Sordaria."]
["F8Q4P4_SERL3","F8Q4P4"," Serpula lacrymans var. lacrymans (strain S7.3) (Dry rot fungus).",null," NCBI_TaxID=936435 {ECO:0000313|Proteomes:UP000008063};",null,"Eukaryota"," Fungi"," Dikarya"," Basidiomycota"," Agaricomycotina","Agaricomycetes"," Agaricomycetidae"," Boletales"," Coniophorineae","Serpulaceae"," Serpula."]
["F8VPN4_MOUSE","F8VPN4"," Mus musculus (Mouse).",null," NCBI_TaxID=10090 {ECO:0000313|Ensembl:ENSMUSP00000044012, ECO:0000313|Proteomes:UP000000589};",null,"Eukaryota"," Metazoa"," Chordata"," Craniata"," Vertebrata"," Euteleostomi","Mammalia"," Eutheria"," Euarchontoglires"," Glires"," Rodentia"," Myomorpha","Muroidea"," Muridae"," Murinae"," Mus"," Mus."]
["F9FVA4_FUSOF","F9FVA4"," Fusarium oxysporum (strain Fo5176) (Fusarium vascular wilt).",null," NCBI_TaxID=660025 {ECO:0000313|EMBL:EGU79175.1, ECO:0000313|Proteomes:UP000002489};",null,"Eukaryota"," Fungi"," Dikarya"," Ascomycota"," Pezizomycotina","Sordariomycetes"," Hypocreomycetidae"," Hypocreales"," Nectriaceae","Fusarium"," Fusarium oxysporum species complex."]
["F9XGA6_ZYMTI","F9XGA6"," Zymoseptoria tritici (strain CBS 115943 / IPO323) (Speckled leaf blotch fungus) (Septoria tritici).",null," NCBI_TaxID=336722 {ECO:0000313|EMBL:EGP86042.1, ECO:0000313|Proteomes:UP000008062};",null,"Eukaryota"," Fungi"," Dikarya"," Ascomycota"," Pezizomycotina","Dothideomycetes"," Dothideomycetidae"," Capnodiales"," Mycosphaerellaceae","Zymoseptoria."]
["G0N6Z0_CAEBE","G0N6Z0"," Caenorhabditis brenneri (Nematode worm).",null," NCBI_TaxID=135651 {ECO:0000313|Proteomes:UP000008068};",null,"Eukaryota"," Metazoa"," Ecdysozoa"," Nematoda"," Chromadorea"," Rhabditida","Rhabditoidea"," Rhabditidae"," Peloderinae"," Caenorhabditis."]
["G0PCL2_CAEBE","G0PCL2"," Caenorhabditis brenneri (Nematode worm).",null," NCBI_TaxID=135651 {ECO:0000313|Proteomes:UP000008068};",null,"Eukaryota"," Metazoa"," Ecdysozoa"," Nematoda"," Chromadorea"," Rhabditida","Rhabditoidea"," Rhabditidae"," Peloderinae"," Caenorhabditis."]
["G0QV62_ICHMG","G0QV62"," Ichthyophthirius multifiliis (strain G5) (White spot disease agent) (Ich).",null," NCBI_TaxID=857967 {ECO:0000313|Proteomes:UP000008983};",null,"Eukaryota"," Alveolata"," Ciliophora"," Intramacronucleata","Oligohymenophorea"," Hymenostomatida"," Ophryoglenina"," Ichthyophthirius."]
["G0QZ29_ICHMG","G0QZ29"," Ichthyophthirius multifiliis (strain G5) (White spot disease agent) (Ich).",null," NCBI_TaxID=857967 {ECO:0000313|Proteomes:UP000008983};",null,"Eukaryota"," Alveolata"," Ciliophora"," Intramacronucleata","Oligohymenophorea"," Hymenostomatida"," Ophryoglenina"," Ichthyophthirius."]
["G0RBU1_HYPJQ","G0RBU1"," Hypocrea jecorina (strain QM6a) (Trichoderma reesei).",null," NCBI_TaxID=431241 {ECO:0000313|Proteomes:UP000008984};",null,"Eukaryota"," Fungi"," Dikarya"," Ascomycota"," Pezizomycotina","Sordariomycetes"," Hypocreomycetidae"," Hypocreales"," Hypocreaceae","Trichoderma."]
["G0SC60_CHATD","G0SC60"," Chaetomium thermophilum (strain DSM 1495 / CBS 144.50 / IMI 039719).",null," NCBI_TaxID=759272 {ECO:0000313|Proteomes:UP000008066};",null,"Eukaryota"," Fungi"," Dikarya"," Ascomycota"," Pezizomycotina","Sordariomycetes"," Sordariomycetidae"," Sordariales"," Chaetomiaceae","Chaetomium."]
["G0V9D2_NAUCC","G0V9D2"," Naumovozyma castellii (strain ATCC 76901 / CBS 4309 / NBRC 1992 / NRRL Y-12630) (Yeast) (Saccharomyces castellii).",null," NCBI_TaxID=1064592 {ECO:0000313|EMBL:CCC68083.1, ECO:0000313|Proteomes:UP000001640};",null,"Eukaryota"," Fungi"," Dikarya"," Ascomycota"," Saccharomycotina","Saccharomycetes"," Saccharomycetales"," Saccharomycetaceae"," Naumovozyma."]
["G0WHD0_NAUDC","G0WHD0"," Naumovozyma dairenensis (strain ATCC 10597 / BCRC 20456 / CBS 421 / NBRC 0211 / NRRL Y-12639) (Saccharomyces dairenensis).",null," NCBI_TaxID=1071378 {ECO:0000313|EMBL:CCD26910.1, ECO:0000313|Proteomes:UP000000689};",null,"Eukaryota"," Fungi"," Dikarya"," Ascomycota"," Saccharomycotina","Saccharomycetes"," Saccharomycetales"," Saccharomycetaceae"," Naumovozyma."]
["G1KCM2_ANOCA","G1KCM2"," Anolis carolinensis (Green anole) (American chameleon).",null," NCBI_TaxID=28377 {ECO:0000313|Ensembl:ENSACAP00000004092, ECO:0000313|Proteomes:UP000001646};",null,"Eukaryota"," Metazoa"," Chordata"," Craniata"," Vertebrata"," Euteleostomi","Lepidosauria"," Squamata"," Bifurcata"," Unidentata"," Episquamata","Toxicofera"," Iguania"," Dactyloidae"," Anolis."]
["G1LR84_AILME","G1LR84"," Ailuropoda melanoleuca (Giant panda).",null," NCBI_TaxID=9646 {ECO:0000313|Ensembl:ENSAMEP00000009568, ECO:0000313|Proteomes:UP000008912};",null,"Eukaryota"," Metazoa"," Chordata"," Craniata"," Vertebrata"," Euteleostomi","Mammalia"," Eutheria"," Laurasiatheria"," Carnivora"," Caniformia"," Ursidae","Ailuropoda."]
["G1N5J6_MELGA","G1N5J6"," Meleagris gallopavo (Wild turkey).",null," NCBI_TaxID=9103 {ECO:0000313|Ensembl:ENSMGAP00000007233, ECO:0000313|Proteomes:UP000001645};",null,"Eukaryota"," Metazoa"," Chordata"," Craniata"," Vertebrata"," Euteleostomi","Archelosauria"," Archosauria"," Dinosauria"," Saurischia"," Theropoda","Coelurosauria"," Aves"," Neognathae"," Galloanserae"," Galliformes","Phasianidae"," Meleagridinae"," Meleagris."]
["G1PTA9_MYOLU","G1PTA9"," Myotis lucifugus (Little brown bat).",null," NCBI_TaxID=59463 {ECO:0000313|Ensembl:ENSMLUP00000014457, ECO:0000313|Proteomes:UP000001074};",null,"Eukaryota"," Metazoa"," Chordata"," Craniata"," Vertebrata"," Euteleostomi","Mammalia"," Eutheria"," Laurasiatheria"," Chiroptera"," Microchiroptera","Vespertilionidae"," Myotis."]
["G1RLT1_NOMLE","G1RLT1"," Nomascus leucogenys (Northern white-cheeked gibbon) (Hylobates leucogenys).",null," NCBI_TaxID=61853 {ECO:0000313|Ensembl:ENSNLEP00000014192, ECO:0000313|Proteomes:UP000001073};",null,"Eukaryota"," Metazoa"," Chordata"," Craniata"," Vertebrata"," Euteleostomi","Mammalia"," Eutheria"," Euarchontoglires"," Primates"," Haplorrhini","Catarrhini"," Hylobatidae"," Nomascus."]
["G1TS42_RABIT","G1TS42"," Oryctolagus cuniculus (Rabbit).",null," NCBI_TaxID=9986 {ECO:0000313|Ensembl:ENSOCUP00000019854, ECO:0000313|Proteomes:UP000001811};",null,"Eukaryota"," Metazoa"," Chordata"," Craniata"," Vertebrata"," Euteleostomi","Mammalia"," Eutheria"," Euarchontoglires"," Glires"," Lagomorpha"," Leporidae","Oryctolagus."]
["G1X7A7_ARTOA","G1X7A7"," Arthrobotrys oligospora (strain ATCC 24927 / CBS 115.81 / DSM 1491) (Nematode-trapping fungus) (Didymozoophaga oligospora).",null," NCBI_TaxID=756982 {ECO:0000313|EMBL:EGX51015.1, ECO:0000313|Proteomes:UP000008784};",null,"Eukaryota"," Fungi"," Dikarya"," Ascomycota"," Pezizomycotina"," Orbiliomycetes","Orbiliales"," Orbiliaceae"," Arthrobotrys."]
["G2Q5G4_MYCTT","G2Q5G4"," Myceliophthora thermophila (strain ATCC 42464 / BCRC 31852 / DSM 1799) (Sporotrichum thermophile).",null," NCBI_TaxID=573729 {ECO:0000313|EMBL:AEO53795.1, ECO:0000313|Proteomes:UP000007322};",null,"Eukaryota"," Fungi"," Dikarya"," Ascomycota"," Pezizomycotina","Sordariomycetes"," Sordariomycetidae"," Sordariales"," Chaetomiaceae","Thermothelomyces."]
["G2QYC2_THITE","G2QYC2"," Thielavia terrestris (strain ATCC 38088 / NRRL 8126) (Acremonium alabamense).",null," NCBI_TaxID=578455 {ECO:0000313|EMBL:AEO66220.1, ECO:0000313|Proteomes:UP000008181};",null,"Eukaryota"," Fungi"," Dikarya"," Ascomycota"," Pezizomycotina","Sordariomycetes"," Sordariomycetidae"," Sordariales"," Chaetomiaceae","Thielavia."]
["G2XJI1_VERDV","G2XJI1"," Verticillium dahliae (strain VdLs.17 / ATCC MYA-4575 / FGSC 10137) (Verticillium wilt).",null," NCBI_TaxID=498257 {ECO:0000313|Proteomes:UP000001611};",null,"Eukaryota"," Fungi"," Dikarya"," Ascomycota"," Pezizomycotina","Sordariomycetes"," Hypocreomycetidae"," Glomerellales","Plectosphaerellaceae"," Verticillium."]
["G2XQH5_BOTF4","G2XQH5"," Botryotinia fuckeliana (strain T4) (Noble rot fungus) (Botrytis cinerea).",null," NCBI_TaxID=999810 {ECO:0000313|EMBL:CCD43080.1, ECO:0000313|Proteomes:UP000008177};",null,"Eukaryota"," Fungi"," Dikarya"," Ascomycota"," Pezizomycotina"," Leotiomycetes","Helotiales"," Sclerotiniaceae"," Botrytis."]
["G3AER9_SPAPN","G3AER9"," Spathaspora passalidarum (strain NRRL Y-27907 / 11-Y1).",null," NCBI_TaxID=619300 {ECO:0000313|Proteomes:UP000000709};",null,"Eukaryota"," Fungi"," Dikarya"," Ascomycota"," Saccharomycotina","Saccharomycetes"," Saccharomycetales"," Debaryomycetaceae"," Spathaspora."]
["G3B7R1_CANTC","G3B7R1"," Candida tenuis (strain ATCC 10573 / BCRC 21748 / CBS 615 / JCM 9827 / NBRC 10315 / NRRL Y-1498 / VKM Y-70) (Yeast).",null," NCBI_TaxID=590646 {ECO:0000313|Proteomes:UP000000707};",null,"Eukaryota"," Fungi"," Dikarya"," Ascomycota"," Saccharomycotina","Saccharomycetes"," Saccharomycetales"," Debaryomycetaceae"," Yamadazyma","Yamadazyma/Candida clade."]
["G3JB92_CORMM","G3JB92"," Cordyceps militaris (strain CM01) (Caterpillar fungus).",null," NCBI_TaxID=983644 {ECO:0000313|EMBL:EGX95250.1, ECO:0000313|Proteomes:UP000001610};",null,"Eukaryota"," Fungi"," Dikarya"," Ascomycota"," Pezizomycotina","Sordariomycetes"," Hypocreomycetidae"," Hypocreales"," Cordycipitaceae","Cordyceps."]
["G3PNW0_GASAC","G3PNW0"," Gasterosteus aculeatus (Three-spined stickleback).",null," NCBI_TaxID=69293 {ECO:0000313|Ensembl:ENSGACP00000019293, ECO:0000313|Proteomes:UP000007635};",null,"Eukaryota"," Metazoa"," Chordata"," Craniata"," Vertebrata"," Euteleostomi","Actinopterygii"," Neopterygii"," Teleostei"," Neoteleostei"," Acanthomorphata","Eupercaria"," Perciformes"," Cottioidei"," Gasterosteales"," Gasterosteidae","Gasterosteus."]
["G3SJU0_GORGO","G3SJU0"," Gorilla gorilla gorilla (Western lowland gorilla).",null," NCBI_TaxID=9595 {ECO:0000313|Ensembl:ENSGGOP00000028380, ECO:0000313|Proteomes:UP000001519};",null,"Eukaryota"," Metazoa"," Chordata"," Craniata"," Vertebrata"," Euteleostomi","Mammalia"," Eutheria"," Euarchontoglires"," Primates"," Haplorrhini","Catarrhini"," Hominidae"," Gorilla."]
["G3SM26_LOXAF","G3SM26"," Loxodonta africana (African elephant).",null," NCBI_TaxID=9785 {ECO:0000313|Ensembl:ENSLAFP00000000521, ECO:0000313|Proteomes:UP000007646};",null,"Eukaryota"," Metazoa"," Chordata"," Craniata"," Vertebrata"," Euteleostomi","Mammalia"," Eutheria"," Afrotheria"," Proboscidea"," Elephantidae"," Loxodonta."]
["G3UCH9_LOXAF","G3UCH9"," Loxodonta africana (African elephant).",null," NCBI_TaxID=9785 {ECO:0000313|Ensembl:ENSLAFP00000025537, ECO:0000313|Proteomes:UP000007646};",null,"Eukaryota"," Metazoa"," Chordata"," Craniata"," Vertebrata"," Euteleostomi","Mammalia"," Eutheria"," Afrotheria"," Proboscidea"," Elephantidae"," Loxodonta."]
["G3WP17_SARHA","G3WP17"," Sarcophilus harrisii (Tasmanian devil) (Sarcophilus laniarius).",null," NCBI_TaxID=9305 {ECO:0000313|Ensembl:ENSSHAP00000017172, ECO:0000313|Proteomes:UP000007648};",null,"Eukaryota"," Metazoa"," Chordata"," Craniata"," Vertebrata"," Euteleostomi","Mammalia"," Metatheria"," Dasyuromorphia"," Dasyuridae"," Sarcophilus."]
["G3WP18_SARHA","G3WP18"," Sarcophilus harrisii (Tasmanian devil) (Sarcophilus laniarius).",null," NCBI_TaxID=9305 {ECO:0000313|Ensembl:ENSSHAP00000017173, ECO:0000313|Proteomes:UP000007648};",null,"Eukaryota"," Metazoa"," Chordata"," Craniata"," Vertebrata"," Euteleostomi","Mammalia"," Metatheria"," Dasyuromorphia"," Dasyuridae"," Sarcophilus."]
["G3XSN7_ASPNA","G3XSN7"," Aspergillus niger (strain ATCC 1015 / CBS 113.46 / FGSC A1144 / LSHB Ac4 / NCTC 3858a / NRRL 328 / USDA 3528.7).",null," NCBI_TaxID=380704 {ECO:0000313|EMBL:EHA26514.1, ECO:0000313|Proteomes:UP000009038};",null,"Eukaryota"," Fungi"," Dikarya"," Ascomycota"," Pezizomycotina"," Eurotiomycetes","Eurotiomycetidae"," Eurotiales"," Aspergillaceae"," Aspergillus."]
["G4NES1_MAGO7","G4NES1"," Magnaporthe oryzae (strain 70-15 / ATCC MYA-4617 / FGSC 8958) (Rice blast fungus) (Pyricularia oryzae).",null," NCBI_TaxID=242507 {ECO:0000313|EMBL:EHA49494.1, ECO:0000313|Proteomes:UP000009058};",null,"Eukaryota"," Fungi"," Dikarya"," Ascomycota"," Pezizomycotina","Sordariomycetes"," Sordariomycetidae"," Magnaporthales"," Magnaporthaceae","Magnaporthe."]
["G4U2U9_SERID","G4U2U9"," Serendipita indica (strain DSM 11827) (Root endophyte fungus) (Piriformospora indica).",null," NCBI_TaxID=1109443 {ECO:0000313|EMBL:CCA77894.1, ECO:0000313|Proteomes:UP000007148};",null,"Eukaryota"," Fungi"," Dikarya"," Basidiomycota"," Agaricomycotina","Agaricomycetes"," Sebacinales"," Serendipitaceae"," Serendipita."]
["G4U8D0_NEUT9","G4U8D0"," Neurospora tetrasperma (strain FGSC 2509 / P0656).",null," NCBI_TaxID=510952 {ECO:0000313|EMBL:EGZ76766.1, ECO:0000313|Proteomes:UP000008513};",null,"Eukaryota"," Fungi"," Dikarya"," Ascomycota"," Pezizomycotina","Sordariomycetes"," Sordariomycetidae"," Sordariales"," Sordariaceae","Neurospora."]
["G4VPZ3_SCHMA","G4VPZ3"," Schistosoma mansoni (Blood fluke).",null," NCBI_TaxID=6183 {ECO:0000313|EMBL:CCD81381.1, ECO:0000313|Proteomes:UP000008854};",null,"Eukaryota"," Metazoa"," Platyhelminthes"," Trematoda"," Digenea"," Strigeidida","Schistosomatoidea"," Schistosomatidae"," Schistosoma."]
["G5C720_HETGA","G5C720"," Heterocephalus glaber (Naked mole rat).",null," NCBI_TaxID=10181 {ECO:0000313|EMBL:EHB17331.1, ECO:0000313|Proteomes:UP000006813};",null,"Eukaryota"," Metazoa"," Chordata"," Craniata"," Vertebrata"," Euteleostomi","Mammalia"," Eutheria"," Euarchontoglires"," Glires"," Rodentia","Hystricomorpha"," Bathyergidae"," Heterocephalus."]
["G7DTR3_MIXOS","G7DTR3"," Mixia osmundae (strain CBS 9802 / IAM 14324 / JCM 22182 / KY 12970).",null," NCBI_TaxID=764103 {ECO:0000313|EMBL:GAA93973.1, ECO:0000313|Proteomes:UP000009131};",null,"Eukaryota"," Fungi"," Dikarya"," Basidiomycota"," Pucciniomycotina","Mixiomycetes"," Mixiales"," Mixiaceae"," Mixia."]
["G7NV22_MACFA","G7NV22"," Macaca fascicularis (Crab-eating macaque) (Cynomolgus monkey).",null," NCBI_TaxID=9541 {ECO:0000313|Proteomes:UP000009130};",null,"Eukaryota"," Metazoa"," Chordata"," Craniata"," Vertebrata"," Euteleostomi","Mammalia"," Eutheria"," Euarchontoglires"," Primates"," Haplorrhini","Catarrhini"," Cercopithecidae"," Cercopithecinae"," Macaca."]
["G7X9C7_ASPKW","G7X9C7"," Aspergillus kawachii (strain NBRC 4308) (White koji mold) (Aspergillus awamori var. kawachi).",null," NCBI_TaxID=1033177 {ECO:0000313|EMBL:GAA83544.1, ECO:0000313|Proteomes:UP000006812};",null,"Eukaryota"," Fungi"," Dikarya"," Ascomycota"," Pezizomycotina"," Eurotiomycetes","Eurotiomycetidae"," Eurotiales"," Aspergillaceae"," Aspergillus."]
["G7YQV3_CLOSI","G7YQV3"," Clonorchis sinensis (Chinese liver fluke).",null," NCBI_TaxID=79923 {ECO:0000313|EMBL:GAA55333.1, ECO:0000313|Proteomes:UP000008909};",null,"Eukaryota"," Metazoa"," Platyhelminthes"," Trematoda"," Digenea","Opisthorchiida"," Opisthorchiata"," Opisthorchiidae"," Clonorchis."]
["G8BH52_CANPC","G8BH52"," Candida parapsilosis (strain CDC 317 / ATCC MYA-4646) (Yeast) (Monilia parapsilosis).",null," NCBI_TaxID=578454 {ECO:0000313|Proteomes:UP000005221};",null,"Eukaryota"," Fungi"," Dikarya"," Ascomycota"," Saccharomycotina","Saccharomycetes"," Saccharomycetales"," Debaryomycetaceae","Candida/Lodderomyces clade"," Candida."]
["G8BY52_TETPH","G8BY52"," Tetrapisispora phaffii (strain ATCC 24235 / CBS 4417 / NBRC 1672 / NRRL Y-8282 / UCD 70-5) (Yeast) (Fabospora phaffii).",null," NCBI_TaxID=1071381 {ECO:0000313|EMBL:CCE64830.1, ECO:0000313|Proteomes:UP000005666};",null,"Eukaryota"," Fungi"," Dikarya"," Ascomycota"," Saccharomycotina","Saccharomycetes"," Saccharomycetales"," Saccharomycetaceae","Tetrapisispora."]
["G8JQE8_ERECY","G8JQE8"," Eremothecium cymbalariae (strain CBS 270.75 / DBVPG 7215 / KCTC 17166 / NRRL Y-17582) (Yeast).",null," NCBI_TaxID=931890 {ECO:0000313|EMBL:AET38511.1, ECO:0000313|Proteomes:UP000006790};",null,"Eukaryota"," Fungi"," Dikarya"," Ascomycota"," Saccharomycotina","Saccharomycetes"," Saccharomycetales"," Saccharomycetaceae"," Eremothecium."]
["G8YCT6_PICSO","G8YCT6"," Pichia sorbitophila (strain ATCC MYA-4447 / BCRC 22081 / CBS 7064 / NBRC 10061 / NRRL Y-12695) (Hybrid yeast).",null," NCBI_TaxID=559304 {ECO:0000313|EMBL:CCE82767.1, ECO:0000313|Proteomes:UP000005222};",null,"Eukaryota"," Fungi"," Dikarya"," Ascomycota"," Saccharomycotina","Saccharomycetes"," Saccharomycetales"," Debaryomycetaceae"," Millerozyma."]
["G8YF87_PICSO","G8YF87"," Pichia sorbitophila (strain ATCC MYA-4447 / BCRC 22081 / CBS 7064 / NBRC 10061 / NRRL Y-12695) (Hybrid yeast).",null," NCBI_TaxID=559304 {ECO:0000313|EMBL:CCE81836.1, ECO:0000313|Proteomes:UP000005222};",null,"Eukaryota"," Fungi"," Dikarya"," Ascomycota"," Saccharomycotina","Saccharomycetes"," Saccharomycetales"," Debaryomycetaceae"," Millerozyma."]
["G8ZZ45_TORDC","G8ZZ45"," Torulaspora delbrueckii (strain ATCC 10662 / CBS 1146 / NBRC 0425 / NCYC 2629 / NRRL Y-866) (Yeast) (Candida colliculosa).",null," NCBI_TaxID=1076872 {ECO:0000313|Proteomes:UP000005627};",null,"Eukaryota"," Fungi"," Dikarya"," Ascomycota"," Saccharomycotina","Saccharomycetes"," Saccharomycetales"," Saccharomycetaceae"," Torulaspora."]
["G9N5P0_HYPVG","G9N5P0"," Hypocrea virens (strain Gv29-8 / FGSC 10586) (Gliocladium virens) (Trichoderma virens).",null," NCBI_TaxID=413071 {ECO:0000313|EMBL:EHK18082.1, ECO:0000313|Proteomes:UP000007115};",null,"Eukaryota"," Fungi"," Dikarya"," Ascomycota"," Pezizomycotina","Sordariomycetes"," Hypocreomycetidae"," Hypocreales"," Hypocreaceae","Trichoderma."]
["G9NGJ9_HYPAI","G9NGJ9"," Hypocrea atroviridis (strain ATCC 20476 / IMI 206040) (Trichoderma atroviride).",null," NCBI_TaxID=452589 {ECO:0000313|EMBL:EHK50410.1, ECO:0000313|Proteomes:UP000005426};",null,"Eukaryota"," Fungi"," Dikarya"," Ascomycota"," Pezizomycotina","Sordariomycetes"," Hypocreomycetidae"," Hypocreales"," Hypocreaceae","Trichoderma."]
["H0EHK2_GLAL7","H0EHK2"," Glarea lozoyensis (strain ATCC 74030 / MF5533).",null," NCBI_TaxID=1104152 {ECO:0000313|EMBL:EHL02031.1, ECO:0000313|Proteomes:UP000005446};",null,"Eukaryota"," Fungi"," Dikarya"," Ascomycota"," Pezizomycotina"," Leotiomycetes","Helotiales"," Helotiaceae"," Glarea."]
["H0VJR7_CAVPO","H0VJR7"," Cavia porcellus (Guinea pig).",null," NCBI_TaxID=10141 {ECO:0000313|Ensembl:ENSCPOP00000010509};",null,"Eukaryota"," Metazoa"," Chordata"," Craniata"," Vertebrata"," Euteleostomi","Mammalia"," Eutheria"," Euarchontoglires"," Glires"," Rodentia","Hystricomorpha"," Caviidae"," Cavia."]
["H0WSE9_OTOGA","H0WSE9"," Otolemur garnettii (Small-eared galago) (Garnett's greater bushbaby).",null," NCBI_TaxID=30611 {ECO:0000313|Ensembl:ENSOGAP00000005009, ECO:0000313|Proteomes:UP000005225};",null,"Eukaryota"," Metazoa"," Chordata"," Craniata"," Vertebrata"," Euteleostomi","Mammalia"," Eutheria"," Euarchontoglires"," Primates"," Strepsirrhini","Lorisiformes"," Galagidae"," Otolemur."]
["H0XMV7_OTOGA","H0XMV7"," Otolemur garnettii (Small-eared galago) (Garnett's greater bushbaby).",null," NCBI_TaxID=30611 {ECO:0000313|Ensembl:ENSOGAP00000017448, ECO:0000313|Proteomes:UP000005225};",null,"Eukaryota"," Metazoa"," Chordata"," Craniata"," Vertebrata"," Euteleostomi","Mammalia"," Eutheria"," Euarchontoglires"," Primates"," Strepsirrhini","Lorisiformes"," Galagidae"," Otolemur."]
["H0Z4Q4_TAEGU","H0Z4Q4"," Taeniopygia guttata (Zebra finch) (Poephila guttata).",null," NCBI_TaxID=59729 {ECO:0000313|Ensembl:ENSTGUP00000005549, ECO:0000313|Proteomes:UP000007754};",null,"Eukaryota"," Metazoa"," Chordata"," Craniata"," Vertebrata"," Euteleostomi","Archelosauria"," Archosauria"," Dinosauria"," Saurischia"," Theropoda","Coelurosauria"," Aves"," Neognathae"," Passeriformes"," Passeroidea","Estrildidae"," Estrildinae"," Taeniopygia."]
["H1UVW2_COLHI","H1UVW2"," Colletotrichum higginsianum (strain IMI 349063) (Crucifer anthracnose fungus).",null," NCBI_TaxID=759273 {ECO:0000313|Proteomes:UP000007174};",null,"Eukaryota"," Fungi"," Dikarya"," Ascomycota"," Pezizomycotina","Sordariomycetes"," Hypocreomycetidae"," Glomerellales"," Glomerellaceae","Colletotrichum."]
["H2APN0_KAZAF","H2APN0"," Kazachstania africana (strain ATCC 22294 / BCRC 22015 / CBS 2517 / CECT 1963 / NBRC 1671 / NRRL Y-8276) (Yeast) (Kluyveromyces africanus).",null," NCBI_TaxID=1071382 {ECO:0000313|EMBL:CCF56330.1, ECO:0000313|Proteomes:UP000005220};",null,"Eukaryota"," Fungi"," Dikarya"," Ascomycota"," Saccharomycotina","Saccharomycetes"," Saccharomycetales"," Saccharomycetaceae"," Kazachstania."]
["H2LLD2_ORYLA","H2LLD2"," Oryzias latipes (Japanese rice fish) (Japanese killifish).",null," NCBI_TaxID=8090 {ECO:0000313|Ensembl:ENSORLP00000006843, ECO:0000313|Proteomes:UP000001038};",null,"Eukaryota"," Metazoa"," Chordata"," Craniata"," Vertebrata"," Euteleostomi","Actinopterygii"," Neopterygii"," Teleostei"," Neoteleostei"," Acanthomorphata","Ovalentaria"," Atherinomorphae"," Beloniformes"," Adrianichthyidae","Oryziinae"," Oryzias."]
["H2N6N7_PONAB","H2N6N7"," Pongo abelii (Sumatran orangutan) (Pongo pygmaeus abelii).",null," NCBI_TaxID=9601 {ECO:0000313|Ensembl:ENSPPYP00000001302, ECO:0000313|Proteomes:UP000001595};",null,"Eukaryota"," Metazoa"," Chordata"," Craniata"," Vertebrata"," Euteleostomi","Mammalia"," Eutheria"," Euarchontoglires"," Primates"," Haplorrhini","Catarrhini"," Hominidae"," Pongo."]
["H2PZG8_PANTR","H2PZG8"," Pan troglodytes (Chimpanzee).",null," NCBI_TaxID=9598 {ECO:0000313|Ensembl:ENSPTRP00000001712, ECO:0000313|Proteomes:UP000002277};",null,"Eukaryota"," Metazoa"," Chordata"," Craniata"," Vertebrata"," Euteleostomi","Mammalia"," Eutheria"," Euarchontoglires"," Primates"," Haplorrhini","Catarrhini"," Hominidae"," Pan."]
["H2U5M9_TAKRU","H2U5M9"," Takifugu rubripes (Japanese pufferfish) (Fugu rubripes).",null," NCBI_TaxID=31033 {ECO:0000313|Ensembl:ENSTRUP00000032245, ECO:0000313|Proteomes:UP000005226};",null,"Eukaryota"," Metazoa"," Chordata"," Craniata"," Vertebrata"," Euteleostomi","Actinopterygii"," Neopterygii"," Teleostei"," Neoteleostei"," Acanthomorphata","Eupercaria"," Tetraodontiformes"," Tetradontoidea"," Tetraodontidae","Takifugu."]
["H2U5N0_TAKRU","H2U5N0"," Takifugu rubripes (Japanese pufferfish) (Fugu rubripes).",null," NCBI_TaxID=31033 {ECO:0000313|Ensembl:ENSTRUP00000032246, ECO:0000313|Proteomes:UP000005226};",null,"Eukaryota"," Metazoa"," Chordata"," Craniata"," Vertebrata"," Euteleostomi","Actinopterygii"," Neopterygii"," Teleostei"," Neoteleostei"," Acanthomorphata","Eupercaria"," Tetraodontiformes"," Tetradontoidea"," Tetraodontidae","Takifugu."]
["H2ZLQ6_CIOSA","H2ZLQ6"," Ciona savignyi (Pacific transparent sea squirt).",null," NCBI_TaxID=51511 {ECO:0000313|Ensembl:ENSCSAVP00000018522, ECO:0000313|Proteomes:UP000007875};",null,"Eukaryota"," Metazoa"," Chordata"," Tunicata"," Ascidiacea"," Enterogona","Phlebobranchia"," Cionidae"," Ciona."]
["H3AL55_LATCH","H3AL55"," Latimeria chalumnae (West Indian ocean coelacanth).",null," NCBI_TaxID=7897 {ECO:0000313|Ensembl:ENSLACP00000010376, ECO:0000313|Proteomes:UP000008672};",null,"Eukaryota"," Metazoa"," Chordata"," Craniata"," Vertebrata"," Euteleostomi","Coelacanthiformes"," Coelacanthidae"," Latimeria."]
["H3AL56_LATCH","H3AL56"," Latimeria chalumnae (West Indian ocean coelacanth).",null," NCBI_TaxID=7897 {ECO:0000313|Ensembl:ENSLACP00000010377, ECO:0000313|Proteomes:UP000008672};",null,"Eukaryota"," Metazoa"," Chordata"," Craniata"," Vertebrata"," Euteleostomi","Coelacanthiformes"," Coelacanthidae"," Latimeria."]
["H3DLB9_TETNG","H3DLB9"," Tetraodon nigroviridis (Spotted green pufferfish) (Chelonodon nigroviridis).",null," NCBI_TaxID=99883 {ECO:0000313|Ensembl:ENSTNIP00000021317, ECO:0000313|Proteomes:UP000007303};",null,"Eukaryota"," Metazoa"," Chordata"," Craniata"," Vertebrata"," Euteleostomi","Actinopterygii"," Neopterygii"," Teleostei"," Neoteleostei"," Acanthomorphata","Eupercaria"," Tetraodontiformes"," Tetradontoidea"," Tetraodontidae","Tetraodon."]
["H3FFD1_PRIPA","H3FFD1"," Pristionchus pacificus (Parasitic nematode).",null," NCBI_TaxID=54126 {ECO:0000313|EnsemblMetazoa:PPA20962, ECO:0000313|Proteomes:UP000005239};",null,"Eukaryota"," Metazoa"," Ecdysozoa"," Nematoda"," Chromadorea"," Diplogasterida","Neodiplogasteridae"," Pristionchus."]
["H3FFD2_PRIPA","H3FFD2"," Pristionchus pacificus (Parasitic nematode).",null," NCBI_TaxID=54126 {ECO:0000313|EnsemblMetazoa:PPA20963, ECO:0000313|Proteomes:UP000005239};",null,"Eukaryota"," Metazoa"," Ecdysozoa"," Nematoda"," Chromadorea"," Diplogasterida","Neodiplogasteridae"," Pristionchus."]
["H6BL98_EXODN","H6BL98"," Exophiala dermatitidis (strain ATCC 34100 / CBS 525.76 / NIH/UT8656) (Black yeast) (Wangiella dermatitidis).",null," NCBI_TaxID=858893 {ECO:0000313|EMBL:EHY51845.1, ECO:0000313|Proteomes:UP000007304};",null,"Eukaryota"," Fungi"," Dikarya"," Ascomycota"," Pezizomycotina"," Eurotiomycetes","Chaetothyriomycetidae"," Chaetothyriales"," Herpotrichiellaceae","Exophiala."]
["H9JMY5_BOMMO","H9JMY5"," Bombyx mori (Silk moth).",null," NCBI_TaxID=7091 {ECO:0000313|EnsemblMetazoa:BGIBMGA010888-TA, ECO:0000313|Proteomes:UP000005204};",null,"Eukaryota"," Metazoa"," Ecdysozoa"," Arthropoda"," Hexapoda"," Insecta","Pterygota"," Neoptera"," Holometabola"," Lepidoptera"," Glossata"," Ditrysia","Bombycoidea"," Bombycidae"," Bombycinae"," Bombyx."]
["I1C152_RHIO9","I1C152"," Rhizopus delemar (strain RA 99-880 / ATCC MYA-4621 / FGSC 9543 / NRRL 43880) (Mucormycosis agent) (Rhizopus arrhizus var. delemar).",null," NCBI_TaxID=246409 {ECO:0000313|EMBL:EIE82182.1, ECO:0000313|Proteomes:UP000009138};",null,"Eukaryota"," Fungi"," Mucoromycota"," Mucoromycotina"," Mucorales"," Mucorineae","Rhizopodaceae"," Rhizopus."]
["I1RZ78_GIBZE","I1RZ78"," Gibberella zeae (strain PH-1 / ATCC MYA-4620 / FGSC 9075 / NRRL 31084) (Wheat head blight fungus) (Fusarium graminearum).",null," NCBI_TaxID=229533 {ECO:0000313|EMBL:CEF83646.1, ECO:0000313|Proteomes:UP000070720};",null,"Eukaryota"," Fungi"," Dikarya"," Ascomycota"," Pezizomycotina","Sordariomycetes"," Hypocreomycetidae"," Hypocreales"," Nectriaceae","Fusarium."]
["I2FPU0_USTH4","I2FPU0"," Ustilago hordei (strain Uh4875-4) (Barley covered smut fungus).",null," NCBI_TaxID=1128400 {ECO:0000313|Proteomes:UP000006174};",null,"Eukaryota"," Fungi"," Dikarya"," Basidiomycota"," Ustilaginomycotina","Ustilaginomycetes"," Ustilaginales"," Ustilaginaceae"," Ustilago."]
["I2H9G0_TETBL","I2H9G0"," Tetrapisispora blattae (strain ATCC 34711 / CBS 6284 / DSM 70876 / NBRC 10599 / NRRL Y-10934 / UCD 77-7) (Yeast) (Kluyveromyces blattae).",null," NCBI_TaxID=1071380 {ECO:0000313|EMBL:CCH63012.1, ECO:0000313|Proteomes:UP000002866};",null,"Eukaryota"," Fungi"," Dikarya"," Ascomycota"," Saccharomycotina","Saccharomycetes"," Saccharomycetales"," Saccharomycetaceae","Tetrapisispora."]
["I2K053_DEKBR","I2K053"," Brettanomyces bruxellensis AWRI1499.",null," NCBI_TaxID=1124627 {ECO:0000313|EMBL:EIF48605.1, ECO:0000313|Proteomes:UP000004997};",null,"Eukaryota"," Fungi"," Dikarya"," Ascomycota"," Saccharomycotina","Saccharomycetes"," Saccharomycetales"," Pichiaceae"," Brettanomyces."]
["I3IZN6_ORENI","I3IZN6"," Oreochromis niloticus (Nile tilapia) (Tilapia nilotica).",null," NCBI_TaxID=8128 {ECO:0000313|Ensembl:ENSONIP00000002076, ECO:0000313|Proteomes:UP000005207};",null,"Eukaryota"," Metazoa"," Chordata"," Craniata"," Vertebrata"," Euteleostomi","Actinopterygii"," Neopterygii"," Teleostei"," Neoteleostei"," Acanthomorphata","Ovalentaria"," Cichlomorphae"," Cichliformes"," Cichlidae"," African cichlids","Pseudocrenilabrinae"," Oreochromini"," Oreochromis."]
["J3P6J6_GAGT3","J3P6J6"," Gaeumannomyces graminis var. tritici (strain R3-111a-1) (Wheat and barley take-all root rot fungus).",null," NCBI_TaxID=644352;",null,"Eukaryota"," Fungi"," Dikarya"," Ascomycota"," Pezizomycotina","Sordariomycetes"," Sordariomycetidae"," Magnaporthales"," Magnaporthaceae","Gaeumannomyces."]
["J4GPF6_9APHY","J4GPF6"," Fibroporia radiculosa.",null," NCBI_TaxID=599839 {ECO:0000313|EMBL:CCM02450.1, ECO:0000313|Proteomes:UP000006352};",null,"Eukaryota"," Fungi"," Dikarya"," Basidiomycota"," Agaricomycotina","Agaricomycetes"," Polyporales"," Polyporales incertae sedis"," Fibroporia."]
["J4KPW8_BEAB2","J4KPW8"," Beauveria bassiana (strain ARSEF 2860) (White muscardine disease fungus) (Tritirachium shiotae).",null," NCBI_TaxID=655819 {ECO:0000313|EMBL:EJP68179.1, ECO:0000313|Proteomes:UP000002762};",null,"Eukaryota"," Fungi"," Dikarya"," Ascomycota"," Pezizomycotina","Sordariomycetes"," Hypocreomycetidae"," Hypocreales"," Cordycipitaceae","Beauveria."]
["J7R876_KAZNA","J7R876"," Kazachstania naganishii (strain ATCC MYA-139 / BCRC 22969 / CBS 8797 / CCRC 22969 / KCTC 17520 / NBRC 10181 / NCYC 3082) (Yeast) (Saccharomyces naganishii).",null," NCBI_TaxID=1071383 {ECO:0000313|EMBL:CCK71060.1, ECO:0000313|Proteomes:UP000006310};",null,"Eukaryota"," Fungi"," Dikarya"," Ascomycota"," Saccharomycotina","Saccharomycetes"," Saccharomycetales"," Saccharomycetaceae"," Kazachstania."]
["J9E4Y2_WUCBA","J9E4Y2"," Wuchereria bancrofti.",null," NCBI_TaxID=6293 {ECO:0000313|EMBL:EJW77198.1, ECO:0000313|Proteomes:UP000004810};",null,"Eukaryota"," Metazoa"," Ecdysozoa"," Nematoda"," Chromadorea"," Spirurida","Spiruromorpha"," Filarioidea"," Onchocercidae"," Wuchereria."]
["J9EHP7_WUCBA","J9EHP7"," Wuchereria bancrofti.",null," NCBI_TaxID=6293 {ECO:0000313|EMBL:EJW74919.1, ECO:0000313|Proteomes:UP000004810};",null,"Eukaryota"," Metazoa"," Ecdysozoa"," Nematoda"," Chromadorea"," Spirurida","Spiruromorpha"," Filarioidea"," Onchocercidae"," Wuchereria."]
["J9ICV4_9SPIT","J9ICV4"," Oxytricha trifallax.",null," NCBI_TaxID=1172189 {ECO:0000313|EMBL:EJY76264.1, ECO:0000313|Proteomes:UP000006077};",null,"Eukaryota"," Alveolata"," Ciliophora"," Intramacronucleata"," Spirotrichea","Stichotrichia"," Sporadotrichida"," Oxytrichidae"," Oxytrichinae"," Oxytricha."]
["J9J9U9_9SPIT","J9J9U9"," Oxytricha trifallax.",null," NCBI_TaxID=1172189 {ECO:0000313|EMBL:EJY88208.1, ECO:0000313|Proteomes:UP000006077};",null,"Eukaryota"," Alveolata"," Ciliophora"," Intramacronucleata"," Spirotrichea","Stichotrichia"," Sporadotrichida"," Oxytrichidae"," Oxytrichinae"," Oxytricha."]
["J9JL61_ACYPI","J9JL61"," Acyrthosiphon pisum (Pea aphid).",null," NCBI_TaxID=7029 {ECO:0000313|EnsemblMetazoa:ACYPI000923-PA, ECO:0000313|Proteomes:UP000007819};",null,"Eukaryota"," Metazoa"," Ecdysozoa"," Arthropoda"," Hexapoda"," Insecta","Pterygota"," Neoptera"," Paraneoptera"," Hemiptera"," Sternorrhyncha","Aphidomorpha"," Aphidoidea"," Aphididae"," Macrosiphini"," Acyrthosiphon."]
["K0KJM8_WICCF","K0KJM8"," Wickerhamomyces ciferrii (strain F-60-10 / ATCC 14091 / CBS 111 / JCM 3599 / NBRC 0793 / NRRL Y-1031) (Yeast) (Pichia ciferrii).",null," NCBI_TaxID=1206466 {ECO:0000313|Proteomes:UP000009328};",null,"Eukaryota"," Fungi"," Dikarya"," Ascomycota"," Saccharomycotina","Saccharomycetes"," Saccharomycetales"," Phaffomycetaceae"," Wickerhamomyces."]
["K1PW08_CRAGI","K1PW08"," Crassostrea gigas (Pacific oyster) (Crassostrea angulata).",null," NCBI_TaxID=29159 {ECO:0000313|EMBL:EKC20480.1, ECO:0000313|Proteomes:UP000005408};",null,"Eukaryota"," Metazoa"," Lophotrochozoa"," Mollusca"," Bivalvia"," Pteriomorphia","Ostreoida"," Ostreoidea"," Ostreidae"," Crassostrea."]
["K1VYD8_TRIAC","K1VYD8"," Trichosporon asahii var. asahii (strain CBS 8904) (Yeast).",null," NCBI_TaxID=1220162 {ECO:0000313|EMBL:EKD04552.1, ECO:0000313|Proteomes:UP000006757};",null,"Eukaryota"," Fungi"," Dikarya"," Basidiomycota"," Agaricomycotina","Tremellomycetes"," Trichosporonales"," Trichosporonaceae"," Trichosporon."]
["K1WXM4_MARBU","K1WXM4"," Marssonina brunnea f. sp. multigermtubi (strain MB_m1) (Marssonina leaf spot fungus).",null," NCBI_TaxID=1072389 {ECO:0000313|EMBL:EKD17302.1, ECO:0000313|Proteomes:UP000006753};",null,"Eukaryota"," Fungi"," Dikarya"," Ascomycota"," Pezizomycotina"," Leotiomycetes","Helotiales"," Dermateaceae"," Marssonina."]
["K2RJH2_MACPH","K2RJH2"," Macrophomina phaseolina (strain MS6) (Charcoal rot fungus).",null," NCBI_TaxID=1126212 {ECO:0000313|EMBL:EKG14803.1, ECO:0000313|Proteomes:UP000007129};",null,"Eukaryota"," Fungi"," Dikarya"," Ascomycota"," Pezizomycotina","Dothideomycetes"," Dothideomycetes incertae sedis"," Botryosphaeriales","Botryosphaeriaceae"," Macrophomina."]
["K3VP26_FUSPC","K3VP26"," Fusarium pseudograminearum (strain CS3096) (Wheat and barley crown-rot fungus).",null," NCBI_TaxID=1028729 {ECO:0000313|EMBL:EKJ75533.1, ECO:0000313|Proteomes:UP000007978};",null,"Eukaryota"," Fungi"," Dikarya"," Ascomycota"," Pezizomycotina","Sordariomycetes"," Hypocreomycetidae"," Hypocreales"," Nectriaceae","Fusarium."]
["K5WID5_PHACS","K5WID5"," Phanerochaete carnosa (strain HHB-10118-sp) (White-rot fungus) (Peniophora carnosa).",null," NCBI_TaxID=650164 {ECO:0000313|EMBL:EKM49997.1, ECO:0000313|Proteomes:UP000008370};",null,"Eukaryota"," Fungi"," Dikarya"," Basidiomycota"," Agaricomycotina","Agaricomycetes"," Polyporales"," Phanerochaetaceae"," Phanerochaete."]
["K5XER8_AGABU","K5XER8"," Agaricus bisporus var. burnettii (strain JB137-S8 / ATCC MYA-4627 / FGSC 10392) (White button mushroom).",null," NCBI_TaxID=597362 {ECO:0000313|EMBL:EKM81883.1, ECO:0000313|Proteomes:UP000008493};",null,"Eukaryota"," Fungi"," Dikarya"," Basidiomycota"," Agaricomycotina","Agaricomycetes"," Agaricomycetidae"," Agaricales"," Agaricaceae"," Agaricus."]
["K7G8P8_PELSI","K7G8P8"," Pelodiscus sinensis (Chinese softshell turtle) (Trionyx sinensis).",null," NCBI_TaxID=13735 {ECO:0000313|Ensembl:ENSPSIP00000016659, ECO:0000313|Proteomes:UP000007267};",null,"Eukaryota"," Metazoa"," Chordata"," Craniata"," Vertebrata"," Euteleostomi","Archelosauria"," Testudines"," Cryptodira"," Trionychia"," Trionychidae","Pelodiscus."]
["K7J9S2_NASVI","K7J9S2"," Nasonia vitripennis (Parasitic wasp).",null," NCBI_TaxID=7425 {ECO:0000313|EnsemblMetazoa:NV18142-PA, ECO:0000313|Proteomes:UP000002358};",null,"Eukaryota"," Metazoa"," Ecdysozoa"," Arthropoda"," Hexapoda"," Insecta","Pterygota"," Neoptera"," Holometabola"," Hymenoptera"," Apocrita"," Terebrantes","Chalcidoidea"," Pteromalidae"," Pteromalinae"," Nasonia."]
["K9GPV4_PEND2","K9GPV4"," Penicillium digitatum (strain PHI26 / CECT 20796) (Green mold).",null," NCBI_TaxID=1170229 {ECO:0000313|EMBL:EKV15186.1, ECO:0000313|Proteomes:UP000009882};",null,"Eukaryota"," Fungi"," Dikarya"," Ascomycota"," Pezizomycotina"," Eurotiomycetes","Eurotiomycetidae"," Eurotiales"," Aspergillaceae"," Penicillium."]
["L0PG12_PNEJ8","L0PG12"," Pneumocystis jirovecii (strain SE8) (Human pneumocystis pneumonia agent).",null," NCBI_TaxID=1209962 {ECO:0000313|Proteomes:UP000010422};",null,"Eukaryota"," Fungi"," Dikarya"," Ascomycota"," Taphrinomycotina","Pneumocystidomycetes"," Pneumocystidaceae"," Pneumocystis."]
["L2G928_COLGN","L2G928"," Colletotrichum gloeosporioides (strain Nara gc5) (Anthracnose fungus) (Glomerella cingulata).",null," NCBI_TaxID=1213859 {ECO:0000313|EMBL:ELA35174.1, ECO:0000313|Proteomes:UP000011096};",null,"Eukaryota"," Fungi"," Dikarya"," Ascomycota"," Pezizomycotina","Sordariomycetes"," Hypocreomycetidae"," Glomerellales"," Glomerellaceae","Colletotrichum."]
["L5K396_PTEAL","L5K396"," Pteropus alecto (Black flying fox).",null," NCBI_TaxID=9402 {ECO:0000313|EMBL:ELK05822.1, ECO:0000313|Proteomes:UP000010552};",null,"Eukaryota"," Metazoa"," Chordata"," Craniata"," Vertebrata"," Euteleostomi","Mammalia"," Eutheria"," Laurasiatheria"," Chiroptera"," Megachiroptera","Pteropodidae"," Pteropodinae"," Pteropus."]
["L5LXG2_MYODS","L5LXG2"," Myotis davidii (David's myotis).",null," NCBI_TaxID=225400 {ECO:0000313|EMBL:ELK30715.1, ECO:0000313|Proteomes:UP000010556};",null,"Eukaryota"," Metazoa"," Chordata"," Craniata"," Vertebrata"," Euteleostomi","Mammalia"," Eutheria"," Laurasiatheria"," Chiroptera"," Microchiroptera","Vespertilionidae"," Myotis."]
["L8FUI4_PSED2","L8FUI4"," Pseudogymnoascus destructans (strain ATCC MYA-4855 / 20631-21) (Bat white-nose syndrome fungus) (Geomyces destructans).",null," NCBI_TaxID=658429 {ECO:0000313|EMBL:ELR03411.1, ECO:0000313|Proteomes:UP000011064};",null,"Eukaryota"," Fungi"," Dikarya"," Ascomycota"," Pezizomycotina"," Leotiomycetes","Leotiomycetes incertae sedis"," Pseudeurotiaceae"," Pseudogymnoascus."]
["L8X4Q1_THACA","L8X4Q1"," Thanatephorus cucumeris (strain AG1-IA) (Rice sheath blight fungus) (Rhizoctonia solani).",null," NCBI_TaxID=983506 {ECO:0000313|EMBL:ELU43609.1, ECO:0000313|Proteomes:UP000011668};",null,"Eukaryota"," Fungi"," Dikarya"," Basidiomycota"," Agaricomycotina","Agaricomycetes"," Cantharellales"," Ceratobasidiaceae"," Rhizoctonia."]
["L8Y2P5_TUPCH","L8Y2P5"," Tupaia chinensis (Chinese tree shrew).",null," NCBI_TaxID=246437 {ECO:0000313|EMBL:ELV10507.1, ECO:0000313|Proteomes:UP000011518};",null,"Eukaryota"," Metazoa"," Chordata"," Craniata"," Vertebrata"," Euteleostomi","Mammalia"," Eutheria"," Euarchontoglires"," Scandentia"," Tupaiidae"," Tupaia."]
["M1W1F8_CLAP2","M1W1F8"," Claviceps purpurea (strain 20.1) (Ergot fungus) (Sphacelia segetum).",null," NCBI_TaxID=1111077 {ECO:0000313|EMBL:CCE26760.1, ECO:0000313|Proteomes:UP000016801};",null,"Eukaryota"," Fungi"," Dikarya"," Ascomycota"," Pezizomycotina","Sordariomycetes"," Hypocreomycetidae"," Hypocreales"," Clavicipitaceae","Claviceps."]
["M2M3S2_BAUCO","M2M3S2"," Baudoinia compniacensis (strain UAMH 10762) (Angels' share fungus).",null," NCBI_TaxID=717646 {ECO:0000313|EMBL:EMC91216.1, ECO:0000313|Proteomes:UP000011761};",null,"Eukaryota"," Fungi"," Dikarya"," Ascomycota"," Pezizomycotina","Dothideomycetes"," Dothideomycetidae"," Capnodiales"," Teratosphaeriaceae","Baudoinia."]
["M2RJS3_CERS8","M2RJS3"," Ceriporiopsis subvermispora (strain B) (White-rot fungus) (Gelatoporia subvermispora).",null," NCBI_TaxID=914234 {ECO:0000313|EMBL:EMD39051.1, ECO:0000313|Proteomes:UP000016930};",null,"Eukaryota"," Fungi"," Dikarya"," Basidiomycota"," Agaricomycotina","Agaricomycetes"," Polyporales"," Gelatoporiaceae"," Gelatoporia."]
["M2S4D3_COCSN","M2S4D3"," Cochliobolus sativus (strain ND90Pr / ATCC 201652) (Common root rot and spot blotch fungus) (Bipolaris sorokiniana).",null," NCBI_TaxID=665912 {ECO:0000313|EMBL:EMD62028.1, ECO:0000313|Proteomes:UP000016934};",null,"Eukaryota"," Fungi"," Dikarya"," Ascomycota"," Pezizomycotina","Dothideomycetes"," Pleosporomycetidae"," Pleosporales"," Pleosporineae","Pleosporaceae"," Bipolaris."]
["M2TWV8_COCH5","M2TWV8"," Cochliobolus heterostrophus (strain C5 / ATCC 48332 / race O) (Southern corn leaf blight fungus) (Bipolaris maydis).",null," NCBI_TaxID=701091 {ECO:0000313|EMBL:EMD91004.1, ECO:0000313|Proteomes:UP000016936};",null,"Eukaryota"," Fungi"," Dikarya"," Ascomycota"," Pezizomycotina","Dothideomycetes"," Pleosporomycetidae"," Pleosporales"," Pleosporineae","Pleosporaceae"," Bipolaris."]
["M2YK58_DOTSN","M2YK58"," Dothistroma septosporum (strain NZE10 / CBS 128990) (Red band needle blight fungus) (Mycosphaerella pini).",null," NCBI_TaxID=675120 {ECO:0000313|EMBL:EME39275.1, ECO:0000313|Proteomes:UP000016933};",null,"Eukaryota"," Fungi"," Dikarya"," Ascomycota"," Pezizomycotina","Dothideomycetes"," Dothideomycetidae"," Capnodiales"," Mycosphaerellaceae","Dothistroma."]
["M3A760_PSEFD","M3A760"," Pseudocercospora fijiensis (strain CIRAD86) (Black leaf streak disease fungus) (Mycosphaerella fijiensis).",null," NCBI_TaxID=383855 {ECO:0000313|EMBL:EME80461.1, ECO:0000313|Proteomes:UP000016932};",null,"Eukaryota"," Fungi"," Dikarya"," Ascomycota"," Pezizomycotina","Dothideomycetes"," Dothideomycetidae"," Capnodiales"," Mycosphaerellaceae","Pseudocercospora."]
["M3BU19_SPHMS","M3BU19"," Sphaerulina musiva (strain SO2202) (Poplar stem canker fungus) (Septoria musiva).",null," NCBI_TaxID=692275 {ECO:0000313|EMBL:EMF10160.1, ECO:0000313|Proteomes:UP000016931};",null,"Eukaryota"," Fungi"," Dikarya"," Ascomycota"," Pezizomycotina","Dothideomycetes"," Dothideomycetidae"," Capnodiales"," Mycosphaerellaceae","Sphaerulina."]
["M3JST8_CANMX","M3JST8"," Candida maltosa (strain Xu316) (Yeast).",null," NCBI_TaxID=1245528 {ECO:0000313|EMBL:EMG45880.1, ECO:0000313|Proteomes:UP000011777};",null,"Eukaryota"," Fungi"," Dikarya"," Ascomycota"," Saccharomycotina","Saccharomycetes"," Saccharomycetales"," Debaryomycetaceae","Candida/Lodderomyces clade"," Candida."]
["M3X112_FELCA","M3X112"," Felis catus (Cat) (Felis silvestris catus).",null," NCBI_TaxID=9685 {ECO:0000313|Ensembl:ENSFCAP00000020304, ECO:0000313|Proteomes:UP000011712};",null,"Eukaryota"," Metazoa"," Chordata"," Craniata"," Vertebrata"," Euteleostomi","Mammalia"," Eutheria"," Laurasiatheria"," Carnivora"," Feliformia"," Felidae","Felinae"," Felis."]
["M3YLH2_MUSPF","M3YLH2"," Mustela putorius furo (European domestic ferret) (Mustela furo).",null," NCBI_TaxID=9669 {ECO:0000313|Ensembl:ENSMPUP00000012179, ECO:0000313|Proteomes:UP000000715};",null,"Eukaryota"," Metazoa"," Chordata"," Craniata"," Vertebrata"," Euteleostomi","Mammalia"," Eutheria"," Laurasiatheria"," Carnivora"," Caniformia"," Mustelidae","Mustelinae"," Mustela."]
["M3ZFB7_XIPMA","M3ZFB7"," Xiphophorus maculatus (Southern platyfish) (Platypoecilus maculatus).",null," NCBI_TaxID=8083 {ECO:0000313|Ensembl:ENSXMAP00000000909, ECO:0000313|Proteomes:UP000002852};",null,"Eukaryota"," Metazoa"," Chordata"," Craniata"," Vertebrata"," Euteleostomi","Actinopterygii"," Neopterygii"," Teleostei"," Neoteleostei"," Acanthomorphata","Ovalentaria"," Atherinomorphae"," Cyprinodontiformes"," Poeciliidae","Poeciliinae"," Xiphophorus."]
["M5BPU2_THACB","M5BPU2"," Thanatephorus cucumeris (strain AG1-IB / isolate 7/3/14) (Lettuce bottom rot fungus) (Rhizoctonia solani).",null," NCBI_TaxID=1108050 {ECO:0000313|EMBL:CCO28440.1, ECO:0000313|Proteomes:UP000012065};",null,"Eukaryota"," Fungi"," Dikarya"," Basidiomycota"," Agaricomycotina","Agaricomycetes"," Cantharellales"," Ceratobasidiaceae"," Rhizoctonia."]
["M5FZW2_DACPD","M5FZW2"," Dacryopinax primogenitus (strain DJM 731) (Brown rot fungus).",null," NCBI_TaxID=1858805 {ECO:0000313|EMBL:EJU03556.1, ECO:0000313|Proteomes:UP000030653};",null,"Eukaryota"," Fungi"," Dikarya"," Basidiomycota"," Agaricomycotina","Dacrymycetes"," Dacrymycetales"," Dacrymycetaceae"," Dacryopinax."]
["M7B7S1_CHEMY","M7B7S1"," Chelonia mydas (Green sea-turtle) (Chelonia agassizi).",null," NCBI_TaxID=8469 {ECO:0000313|EMBL:EMP33184.1, ECO:0000313|Proteomes:UP000031443};",null,"Eukaryota"," Metazoa"," Chordata"," Craniata"," Vertebrata"," Euteleostomi","Archelosauria"," Testudines"," Cryptodira"," Durocryptodira"," Americhelydia","Chelonioidea"," Cheloniidae"," Chelonia."]
["M7PC58_PNEMU","M7PC58"," Pneumocystis murina (strain B123) (Mouse pneumocystis pneumonia agent) (Pneumocystis carinii f. sp. muris).",null," NCBI_TaxID=1069680 {ECO:0000313|EMBL:EMR11480.1, ECO:0000313|Proteomes:UP000011958};",null,"Eukaryota"," Fungi"," Dikarya"," Ascomycota"," Taphrinomycotina","Pneumocystidomycetes"," Pneumocystidaceae"," Pneumocystis."]
["M7SMT2_EUTLA","M7SMT2"," Eutypa lata (strain UCR-EL1) (Grapevine dieback disease fungus) (Eutypa armeniacae).",null," NCBI_TaxID=1287681 {ECO:0000313|EMBL:EMR65728.1, ECO:0000313|Proteomes:UP000012174};",null,"Eukaryota"," Fungi"," Dikarya"," Ascomycota"," Pezizomycotina","Sordariomycetes"," Xylariomycetidae"," Xylariales"," Diatrypaceae"," Eutypa."]
["M7TLI0_BOTF1","M7TLI0"," Botryotinia fuckeliana (strain BcDW1) (Noble rot fungus) (Botrytis cinerea).",null," NCBI_TaxID=1290391 {ECO:0000313|EMBL:EMR82235.1, ECO:0000313|Proteomes:UP000012045};",null,"Eukaryota"," Fungi"," Dikarya"," Ascomycota"," Pezizomycotina"," Leotiomycetes","Helotiales"," Sclerotiniaceae"," Botrytis."]
["M7XLS6_RHOT1","M7XLS6"," Rhodosporidium toruloides (strain NP11) (Yeast) (Rhodotorula gracilis).",null," NCBI_TaxID=1130832 {ECO:0000313|EMBL:EMS24859.1, ECO:0000313|Proteomes:UP000016926};",null,"Eukaryota"," Fungi"," Dikarya"," Basidiomycota"," Pucciniomycotina","Microbotryomycetes"," Sporidiobolales"," Sporidiobolaceae"," Rhodotorula."]
["M9MG38_PSEA3","M9MG38"," Pseudozyma antarctica (strain T-34) (Yeast) (Candida antarctica).",null," NCBI_TaxID=1151754 {ECO:0000313|EMBL:GAC74877.1, ECO:0000313|Proteomes:UP000011976};",null,"Eukaryota"," Fungi"," Dikarya"," Basidiomycota"," Ustilaginomycotina","Ustilaginomycetes"," Ustilaginales"," Ustilaginaceae"," Moesziomyces."]
["N1J6R0_BLUG1","N1J6R0"," Blumeria graminis f. sp. hordei (strain DH14) (Barley powdery mildew) (Oidium monilioides f. sp. hordei).",null," NCBI_TaxID=546991 {ECO:0000313|EMBL:CCU74854.1, ECO:0000313|Proteomes:UP000015441};",null,"Eukaryota"," Fungi"," Dikarya"," Ascomycota"," Pezizomycotina"," Leotiomycetes","Erysiphales"," Erysiphaceae"," Blumeria."]
["N1RE77_FUSC4","N1RE77"," Fusarium oxysporum f. sp. cubense (strain race 4) (Panama disease fungus).",null," NCBI_TaxID=1229665 {ECO:0000313|EMBL:EMT60455.1, ECO:0000313|Proteomes:UP000016929};",null,"Eukaryota"," Fungi"," Dikarya"," Ascomycota"," Pezizomycotina","Sordariomycetes"," Hypocreomycetidae"," Hypocreales"," Nectriaceae","Fusarium"," Fusarium oxysporum species complex."]
["N4UG34_FUSC1","N4UG34"," Fusarium oxysporum f. sp. cubense (strain race 1) (Panama disease fungus).",null," NCBI_TaxID=1229664 {ECO:0000313|EMBL:ENH68975.1, ECO:0000313|Proteomes:UP000016928};",null,"Eukaryota"," Fungi"," Dikarya"," Ascomycota"," Pezizomycotina","Sordariomycetes"," Hypocreomycetidae"," Hypocreales"," Nectriaceae","Fusarium"," Fusarium oxysporum species complex."]
["N4VNG1_COLOR","N4VNG1"," Colletotrichum orbiculare (strain 104-T / ATCC 96160 / CBS 514.97 / LARS 414 / MAFF 240422) (Cucumber anthracnose fungus) (Colletotrichum lagenarium).",null," NCBI_TaxID=1213857 {ECO:0000313|EMBL:ENH88699.1, ECO:0000313|Proteomes:UP000014480};",null,"Eukaryota"," Fungi"," Dikarya"," Ascomycota"," Pezizomycotina","Sordariomycetes"," Hypocreomycetidae"," Glomerellales"," Glomerellaceae","Colletotrichum."]
["O62334_CAEEL","O62334"," Caenorhabditis elegans.",null," NCBI_TaxID=6239 {ECO:0000313|EMBL:CAB05588.1, ECO:0000313|Proteomes:UP000001940};",null,"Eukaryota"," Metazoa"," Ecdysozoa"," Nematoda"," Chromadorea"," Rhabditida","Rhabditoidea"," Rhabditidae"," Peloderinae"," Caenorhabditis."]
["GDE_HUMAN","P35573"," Homo sapiens (Human).",null," NCBI_TaxID=9606;",null,"Eukaryota"," Metazoa"," Chordata"," Craniata"," Vertebrata"," Euteleostomi","Mammalia"," Eutheria"," Euarchontoglires"," Primates"," Haplorrhini","Catarrhini"," Hominidae"," Homo."]
["GDE_RABIT","P35574"," Oryctolagus cuniculus (Rabbit).",null," NCBI_TaxID=9986;",null,"Eukaryota"," Metazoa"," Chordata"," Craniata"," Vertebrata"," Euteleostomi","Mammalia"," Eutheria"," Euarchontoglires"," Glires"," Lagomorpha"," Leporidae","Oryctolagus."]
["GDE_YEAST","Q06625"," Saccharomyces cerevisiae (strain ATCC 204508 / S288c) (Baker's yeast).",null," NCBI_TaxID=559292;",null,"Eukaryota"," Fungi"," Dikarya"," Ascomycota"," Saccharomycotina","Saccharomycetes"," Saccharomycetales"," Saccharomycetaceae"," Saccharomyces."]
["Q0CN55_ASPTN","Q0CN55"," Aspergillus terreus (strain NIH 2624 / FGSC A1156).",null," NCBI_TaxID=341663 {ECO:0000313|EMBL:EAU35326.1, ECO:0000313|Proteomes:UP000007963};",null,"Eukaryota"," Fungi"," Dikarya"," Ascomycota"," Pezizomycotina"," Eurotiomycetes","Eurotiomycetidae"," Eurotiales"," Aspergillaceae"," Aspergillus."]
["Q0UXB3_PHANO","Q0UXB3"," Phaeosphaeria nodorum (strain SN15 / ATCC MYA-4574 / FGSC 10173) (Glume blotch fungus) (Parastagonospora nodorum).",null," NCBI_TaxID=321614 {ECO:0000313|EMBL:EAT88806.1, ECO:0000313|Proteomes:UP000001055};",null,"Eukaryota"," Fungi"," Dikarya"," Ascomycota"," Pezizomycotina","Dothideomycetes"," Pleosporomycetidae"," Pleosporales"," Pleosporineae","Phaeosphaeriaceae"," Parastagonospora."]
["Q16UP5_AEDAE","Q16UP5"," Aedes aegypti (Yellowfever mosquito) (Culex aegypti).",null," NCBI_TaxID=7159 {ECO:0000313|EMBL:EAT38235.1, ECO:0000313|Proteomes:UP000008820};",null,"Eukaryota"," Metazoa"," Ecdysozoa"," Arthropoda"," Hexapoda"," Insecta","Pterygota"," Neoptera"," Holometabola"," Diptera"," Nematocera"," Culicoidea","Culicidae"," Culicinae"," Aedini"," Aedes"," Stegomyia."]
["Q291U7_DROPS","Q291U7"," Drosophila pseudoobscura pseudoobscura (Fruit fly).",null," NCBI_TaxID=46245 {ECO:0000313|EMBL:EAL25015.3, ECO:0000313|Proteomes:UP000001819};",null,"Eukaryota"," Metazoa"," Ecdysozoa"," Arthropoda"," Hexapoda"," Insecta","Pterygota"," Neoptera"," Holometabola"," Diptera"," Brachycera"," Muscomorpha","Ephydroidea"," Drosophilidae"," Drosophila"," Sophophora."]
["Q2HF43_CHAGB","Q2HF43"," Chaetomium globosum (strain ATCC 6205 / CBS 148.51 / DSM 1962 / NBRC 6347 / NRRL 1970) (Soil fungus).",null," NCBI_TaxID=306901 {ECO:0000313|EMBL:EAQ92926.1, ECO:0000313|Proteomes:UP000001056};",null,"Eukaryota"," Fungi"," Dikarya"," Ascomycota"," Pezizomycotina","Sordariomycetes"," Sordariomycetidae"," Sordariales"," Chaetomiaceae","Chaetomium."]
["GDE_CANLF","Q2PQH8"," Canis lupus familiaris (Dog) (Canis familiaris).",null," NCBI_TaxID=9615;",null,"Eukaryota"," Metazoa"," Chordata"," Craniata"," Vertebrata"," Euteleostomi","Mammalia"," Eutheria"," Laurasiatheria"," Carnivora"," Caniformia"," Canidae","Canis."]
["Q2URC4_ASPOR","Q2URC4"," Aspergillus oryzae (strain ATCC 42149 / RIB 40) (Yellow koji mold).",null," NCBI_TaxID=510516 {ECO:0000313|EMBL:BAE55891.1, ECO:0000313|Proteomes:UP000006564};",null,"Eukaryota"," Fungi"," Dikarya"," Ascomycota"," Pezizomycotina"," Eurotiomycetes","Eurotiomycetidae"," Eurotiales"," Aspergillaceae"," Aspergillus."]
["Q4WKK6_ASPFU","Q4WKK6"," Neosartorya fumigata (strain ATCC MYA-4609 / Af293 / CBS 101355 / FGSC A1100) (Aspergillus fumigatus).",null," NCBI_TaxID=330879 {ECO:0000313|EMBL:EAL87926.1, ECO:0000313|Proteomes:UP000002530};",null,"Eukaryota"," Fungi"," Dikarya"," Ascomycota"," Pezizomycotina"," Eurotiomycetes","Eurotiomycetidae"," Eurotiales"," Aspergillaceae"," Aspergillus."]
["Q54K94_DICDI","Q54K94"," Dictyostelium discoideum (Slime mold).",null," NCBI_TaxID=44689 {ECO:0000313|EMBL:EAL63684.1, ECO:0000313|Proteomes:UP000002195};",null,"Eukaryota"," Amoebozoa"," Mycetozoa"," Dictyostelids"," Dictyosteliales","Dictyosteliaceae"," Dictyostelium."]
["Q59MN2_CANAL","Q59MN2"," Candida albicans (strain SC5314 / ATCC MYA-2876) (Yeast).",null," NCBI_TaxID=237561 {ECO:0000313|EMBL:AOW29254.1, ECO:0000313|Proteomes:UP000000559};",null,"Eukaryota"," Fungi"," Dikarya"," Ascomycota"," Saccharomycotina","Saccharomycetes"," Saccharomycetales"," Debaryomycetaceae","Candida/Lodderomyces clade"," Candida."]
["Q5CXJ2_CRYPI","Q5CXJ2"," Cryptosporidium parvum (strain Iowa II).",null," NCBI_TaxID=353152 {ECO:0000313|EMBL:EAK89776.1, ECO:0000313|Proteomes:UP000006726};",null,"Eukaryota"," Alveolata"," Apicomplexa"," Conoidasida"," Coccidia","Eucoccidiorida"," Eimeriorina"," Cryptosporidiidae"," Cryptosporidium."]
["Q5KA48_CRYNJ","Q5KA48"," Cryptococcus neoformans var. neoformans serotype D (strain JEC21 / ATCC MYA-565) (Filobasidiella neoformans).",null," NCBI_TaxID=214684 {ECO:0000313|EMBL:AAW45872.1, ECO:0000313|Proteomes:UP000002149};",null,"Eukaryota"," Fungi"," Dikarya"," Basidiomycota"," Agaricomycotina","Tremellomycetes"," Tremellales"," Cryptococcaceae"," Cryptococcus","Cryptococcus neoformans species complex."]
["Q6BUY8_DEBHA","Q6BUY8"," Debaryomyces hansenii (strain ATCC 36239 / CBS 767 / JCM 1990 / NBRC 0083 / IGC 2968) (Yeast) (Torulaspora hansenii).",null," NCBI_TaxID=284592 {ECO:0000313|EMBL:CAG86039.2, ECO:0000313|Proteomes:UP000000599};",null,"Eukaryota"," Fungi"," Dikarya"," Ascomycota"," Saccharomycotina","Saccharomycetes"," Saccharomycetales"," Debaryomycetaceae"," Debaryomyces."]
["Q6CGI3_YARLI","Q6CGI3"," Yarrowia lipolytica (strain CLIB 122 / E 150) (Yeast) (Candida lipolytica).",null," NCBI_TaxID=284591 {ECO:0000313|EMBL:CAG84162.1, ECO:0000313|Proteomes:UP000001300};",null,"Eukaryota"," Fungi"," Dikarya"," Ascomycota"," Saccharomycotina","Saccharomycetes"," Saccharomycetales"," Dipodascaceae"," Yarrowia."]
["Q6FSK0_CANGA","Q6FSK0"," Candida glabrata (strain ATCC 2001 / CBS 138 / JCM 3761 / NBRC 0622 / NRRL Y-65) (Yeast) (Torulopsis glabrata).",null," NCBI_TaxID=284593 {ECO:0000313|Proteomes:UP000002428};",null,"Eukaryota"," Fungi"," Dikarya"," Ascomycota"," Saccharomycotina","Saccharomycetes"," Saccharomycetales"," Saccharomycetaceae"," Nakaseomyces","Nakaseomyces/Candida clade."]
["Q758N1_ASHGO","Q758N1"," Ashbya gossypii (strain ATCC 10895 / CBS 109.51 / FGSC 9923 / NRRL Y-1056) (Yeast) (Eremothecium gossypii).",null," NCBI_TaxID=284811 {ECO:0000313|EMBL:AAS52408.1, ECO:0000313|Proteomes:UP000000591};",null,"Eukaryota"," Fungi"," Dikarya"," Ascomycota"," Saccharomycotina","Saccharomycetes"," Saccharomycetales"," Saccharomycetaceae"," Eremothecium."]
["Q7KVP4_DROME","Q7KVP4"," Drosophila melanogaster (Fruit fly).",null," NCBI_TaxID=7227 {ECO:0000313|EMBL:AAG22188.1, ECO:0000313|Proteomes:UP000000803};",null,"Eukaryota"," Metazoa"," Ecdysozoa"," Arthropoda"," Hexapoda"," Insecta","Pterygota"," Neoptera"," Holometabola"," Diptera"," Brachycera"," Muscomorpha","Ephydroidea"," Drosophilidae"," Drosophila"," Sophophora."]
["Q7PX40_ANOGA","Q7PX40"," Anopheles gambiae (African malaria mosquito).",null," NCBI_TaxID=7165 {ECO:0000313|EMBL:EAA01807.3, ECO:0000313|Proteomes:UP000007062};",null,"Eukaryota"," Metazoa"," Ecdysozoa"," Arthropoda"," Hexapoda"," Insecta","Pterygota"," Neoptera"," Holometabola"," Diptera"," Nematocera"," Culicoidea","Culicidae"," Anophelinae"," Anopheles."]
["Q7SED5_NEUCR","Q7SED5"," Neurospora crassa (strain ATCC 24698 / 74-OR23-1A / CBS 708.71 / DSM 1257 / FGSC 987).",null," NCBI_TaxID=367110 {ECO:0000313|EMBL:EAA35160.3, ECO:0000313|Proteomes:UP000001805};",null,"Eukaryota"," Fungi"," Dikarya"," Ascomycota"," Pezizomycotina","Sordariomycetes"," Sordariomycetidae"," Sordariales"," Sordariaceae","Neurospora."]
["Q86BS7_DROME","Q86BS7"," Drosophila melanogaster (Fruit fly).",null," NCBI_TaxID=7227 {ECO:0000313|EMBL:AAF46713.3, ECO:0000313|Proteomes:UP000000803};",null,"Eukaryota"," Metazoa"," Ecdysozoa"," Arthropoda"," Hexapoda"," Insecta","Pterygota"," Neoptera"," Holometabola"," Diptera"," Brachycera"," Muscomorpha","Ephydroidea"," Drosophilidae"," Drosophila"," Sophophora."]
["Q9W2H8_DROME","Q9W2H8"," Drosophila melanogaster (Fruit fly).",null," NCBI_TaxID=7227 {ECO:0000313|EMBL:AAM70868.2, ECO:0000313|Proteomes:UP000000803};",null,"Eukaryota"," Metazoa"," Ecdysozoa"," Arthropoda"," Hexapoda"," Insecta","Pterygota"," Neoptera"," Holometabola"," Diptera"," Brachycera"," Muscomorpha","Ephydroidea"," Drosophilidae"," Drosophila"," Sophophora."]
["R0I5E7_SETT2","R0I5E7"," Setosphaeria turcica (strain 28A) (Northern leaf blight fungus) (Exserohilum turcicum).",null," NCBI_TaxID=671987 {ECO:0000313|EMBL:EOA80880.1, ECO:0000313|Proteomes:UP000016935};",null,"Eukaryota"," Fungi"," Dikarya"," Ascomycota"," Pezizomycotina","Dothideomycetes"," Pleosporomycetidae"," Pleosporales"," Pleosporineae","Pleosporaceae"," Setosphaeria."]
["R1ENZ2_BOTPV","R1ENZ2"," Botryosphaeria parva (strain UCR-NP2) (Grapevine canker fungus) (Neofusicoccum parvum).",null," NCBI_TaxID=1287680 {ECO:0000313|EMBL:EOD49282.1, ECO:0000313|Proteomes:UP000013521};",null,"Eukaryota"," Fungi"," Dikarya"," Ascomycota"," Pezizomycotina","Dothideomycetes"," Dothideomycetes incertae sedis"," Botryosphaeriales","Botryosphaeriaceae"," Neofusicoccum."]
["R4X711_TAPDE","R4X711"," Taphrina deformans (strain PYCC 5710 / ATCC 11124 / CBS 356.35 / IMI 108563 / JCM 9778 / NBRC 8474) (Peach leaf curl fungus) (Lalaria deformans).",null," NCBI_TaxID=1097556 {ECO:0000313|EMBL:CCG80823.1, ECO:0000313|Proteomes:UP000013776};",null,"Eukaryota"," Fungi"," Dikarya"," Ascomycota"," Taphrinomycotina","Taphrinomycetes"," Taphrinales"," Taphrinaceae"," Taphrina."]
["R7YY15_CONA1","R7YY15"," Coniosporium apollinis (strain CBS 100218) (Rock-inhabiting black yeast).",null," NCBI_TaxID=1168221 {ECO:0000313|EMBL:EON66669.1, ECO:0000313|Proteomes:UP000016924};",null,"Eukaryota"," Fungi"," Dikarya"," Ascomycota"," Pezizomycotina","Dothideomycetes"," Dothideomycetes incertae sedis"," Coniosporium."]
["R8BET4_TOGMI","R8BET4"," Togninia minima (strain UCR-PA7) (Esca disease fungus) (Phaeoacremonium aleophilum).",null," NCBI_TaxID=1286976 {ECO:0000313|EMBL:EON97811.1, ECO:0000313|Proteomes:UP000014074};",null,"Eukaryota"," Fungi"," Dikarya"," Ascomycota"," Pezizomycotina","Sordariomycetes"," Sordariomycetidae"," Togniniales"," Togniniaceae","Phaeoacremonium."]
["R9PE26_PSEHS","R9PE26"," Pseudozyma hubeiensis (strain SY62) (Yeast).",null," NCBI_TaxID=1305764 {ECO:0000313|EMBL:GAC99624.1, ECO:0000313|Proteomes:UP000014071};",null,"Eukaryota"," Fungi"," Dikarya"," Basidiomycota"," Ustilaginomycotina","Ustilaginomycetes"," Ustilaginales"," Ustilaginaceae"," Pseudozyma."]
["S0DU02_GIBF5","S0DU02"," Gibberella fujikuroi (strain CBS 195.34 / IMI 58289 / NRRL A-6831) (Bakanae and foot rot disease fungus) (Fusarium fujikuroi).",null," NCBI_TaxID=1279085 {ECO:0000313|EMBL:CCT64023.1, ECO:0000313|Proteomes:UP000016800};",null,"Eukaryota"," Fungi"," Dikarya"," Ascomycota"," Pezizomycotina","Sordariomycetes"," Hypocreomycetidae"," Hypocreales"," Nectriaceae","Fusarium"," Fusarium fujikuroi species complex."]
["S2JV67_MUCC1","S2JV67"," Mucor circinelloides f. circinelloides (strain 1006PhL) (Mucormycosis agent) (Calyptromyces circinelloides).",null," NCBI_TaxID=1220926 {ECO:0000313|EMBL:EPB86688.1, ECO:0000313|Proteomes:UP000014254};",null,"Eukaryota"," Fungi"," Mucoromycota"," Mucoromycotina"," Mucorales"," Mucorineae","Mucoraceae"," Mucor."]
["S3BXP7_OPHP1","S3BXP7"," Ophiostoma piceae (strain UAMH 11346) (Sap stain fungus).",null," NCBI_TaxID=1262450 {ECO:0000313|EMBL:EPE04201.1, ECO:0000313|Proteomes:UP000016923};",null,"Eukaryota"," Fungi"," Dikarya"," Ascomycota"," Pezizomycotina","Sordariomycetes"," Sordariomycetidae"," Ophiostomatales"," Ophiostomataceae","Ophiostoma."]
["S3CNJ0_GLAL2","S3CNJ0"," Glarea lozoyensis (strain ATCC 20868 / MF5171).",null," NCBI_TaxID=1116229 {ECO:0000313|EMBL:EPE28072.1, ECO:0000313|Proteomes:UP000016922};",null,"Eukaryota"," Fungi"," Dikarya"," Ascomycota"," Pezizomycotina"," Leotiomycetes","Helotiales"," Helotiaceae"," Glarea."]
["S6F5Y1_ZYGB2","S6F5Y1"," Zygosaccharomyces bailii (strain CLIB 213 / ATCC 58445 / CBS 680 / CCRC 21525 / NBRC 1098 / NCYC 1416 / NRRL Y-2227).",null," NCBI_TaxID=1333698 {ECO:0000313|EMBL:CDF90369.1, ECO:0000313|Proteomes:UP000019375};",null,"Eukaryota"," Fungi"," Dikarya"," Ascomycota"," Saccharomycotina","Saccharomycetes"," Saccharomycetales"," Saccharomycetaceae","Zygosaccharomyces."]
["S7Q397_MYOBR","S7Q397"," Myotis brandtii (Brandt's bat).",null," NCBI_TaxID=109478 {ECO:0000313|EMBL:EPQ15347.1, ECO:0000313|Proteomes:UP000052978};",null,"Eukaryota"," Metazoa"," Chordata"," Craniata"," Vertebrata"," Euteleostomi","Mammalia"," Eutheria"," Laurasiatheria"," Chiroptera"," Microchiroptera","Vespertilionidae"," Myotis."]
["S7RTJ5_GLOTA","S7RTJ5"," Gloeophyllum trabeum (strain ATCC 11539 / FP-39264 / Madison 617) (Brown rot fungus).",null," NCBI_TaxID=670483 {ECO:0000313|EMBL:EPQ56459.1, ECO:0000313|Proteomes:UP000030669};",null,"Eukaryota"," Fungi"," Dikarya"," Basidiomycota"," Agaricomycotina","Agaricomycetes"," Gloeophyllales"," Gloeophyllaceae"," Gloeophyllum."]
["S7ZFX6_PENO1","S7ZFX6"," Penicillium oxalicum (strain 114-2 / CGMCC 5302) (Penicillium decumbens).",null," NCBI_TaxID=933388 {ECO:0000313|EMBL:EPS29585.1, ECO:0000313|Proteomes:UP000019376};",null,"Eukaryota"," Fungi"," Dikarya"," Ascomycota"," Pezizomycotina"," Eurotiomycetes","Eurotiomycetidae"," Eurotiales"," Aspergillaceae"," Penicillium."]
["S8AGT1_DACHA","S8AGT1"," Dactylellina haptotyla (strain CBS 200.50) (Nematode-trapping fungus) (Monacrosporium haptotylum).",null," NCBI_TaxID=1284197 {ECO:0000313|EMBL:EPS42255.1, ECO:0000313|Proteomes:UP000015100};",null,"Eukaryota"," Fungi"," Dikarya"," Ascomycota"," Pezizomycotina"," Orbiliomycetes","Orbiliales"," Orbiliaceae"," Dactylellina."]
["S8FR05_FOMPI","S8FR05"," Fomitopsis pinicola (strain FP-58527) (Brown rot fungus).",null," NCBI_TaxID=743788 {ECO:0000313|EMBL:EPT00685.1, ECO:0000313|Proteomes:UP000015241};",null,"Eukaryota"," Fungi"," Dikarya"," Basidiomycota"," Agaricomycotina","Agaricomycetes"," Polyporales"," Fomitopsis."]
["S9WDR6_CAMFR","S9WDR6"," Camelus ferus (Wild bactrian camel) (Camelus bactrianus ferus).",null," NCBI_TaxID=419612 {ECO:0000313|EMBL:EPY76487.1, ECO:0000313|Proteomes:UP000030684};",null,"Eukaryota"," Metazoa"," Chordata"," Craniata"," Vertebrata"," Euteleostomi","Mammalia"," Eutheria"," Laurasiatheria"," Cetartiodactyla"," Tylopoda","Camelidae"," Camelus."]
["T0K3Z4_COLGC","T0K3Z4"," Colletotrichum gloeosporioides (strain Cg-14) (Anthracnose fungus) (Glomerella cingulata).",null," NCBI_TaxID=1237896 {ECO:0000313|EMBL:EQB46489.1, ECO:0000313|Proteomes:UP000015530};",null,"Eukaryota"," Fungi"," Dikarya"," Ascomycota"," Pezizomycotina","Sordariomycetes"," Hypocreomycetidae"," Glomerellales"," Glomerellaceae","Colletotrichum."]
["T1EEV2_HELRO","T1EEV2"," Helobdella robusta (Californian leech).",null," NCBI_TaxID=6412 {ECO:0000313|EnsemblMetazoa:HelroP109597, ECO:0000313|Proteomes:UP000015101};",null,"Eukaryota"," Metazoa"," Lophotrochozoa"," Annelida"," Clitellata"," Hirudinea","Rhynchobdellida"," Glossiphoniidae"," Helobdella."]
["T1GKN8_MEGSC","T1GKN8"," Megaselia scalaris (Humpbacked fly) (Phora scalaris).",null," NCBI_TaxID=36166 {ECO:0000313|EnsemblMetazoa:MESCA004065-PA, ECO:0000313|Proteomes:UP000015102};",null,"Eukaryota"," Metazoa"," Ecdysozoa"," Arthropoda"," Hexapoda"," Insecta","Pterygota"," Neoptera"," Holometabola"," Diptera"," Brachycera"," Muscomorpha","Platypezoidea"," Phoridae"," Megaseliini"," Megaselia."]
["T1HQC3_RHOPR","T1HQC3"," Rhodnius prolixus (Triatomid bug).",null," NCBI_TaxID=13249 {ECO:0000313|EnsemblMetazoa:RPRC006247-PA, ECO:0000313|Proteomes:UP000015103};",null,"Eukaryota"," Metazoa"," Ecdysozoa"," Arthropoda"," Hexapoda"," Insecta","Pterygota"," Neoptera"," Paraneoptera"," Hemiptera"," Heteroptera","Panheteroptera"," Cimicomorpha"," Reduviidae"," Triatominae"," Rhodnius."]
["T1J746_STRMM","T1J746"," Strigamia maritima (European centipede) (Geophilus maritimus).",null," NCBI_TaxID=126957 {ECO:0000313|EnsemblMetazoa:SMAR009479-PA, ECO:0000313|Proteomes:UP000014500};",null,"Eukaryota"," Metazoa"," Ecdysozoa"," Arthropoda"," Myriapoda"," Chilopoda","Pleurostigmophora"," Geophilomorpha"," Linotaeniidae"," Strigamia."]
["T1JUG0_TETUR","T1JUG0"," Tetranychus urticae (Two-spotted spider mite).",null," NCBI_TaxID=32264 {ECO:0000313|EnsemblMetazoa:tetur02g00800.1, ECO:0000313|Proteomes:UP000015104};",null,"Eukaryota"," Metazoa"," Ecdysozoa"," Arthropoda"," Chelicerata"," Arachnida","Acari"," Acariformes"," Trombidiformes"," Prostigmata"," Eleutherengona","Raphignathae"," Tetranychoidea"," Tetranychidae"," Tetranychus."]
["T1JUL4_TETUR","T1JUL4"," Tetranychus urticae (Two-spotted spider mite).",null," NCBI_TaxID=32264 {ECO:0000313|EnsemblMetazoa:tetur02g01370.1, ECO:0000313|Proteomes:UP000015104};",null,"Eukaryota"," Metazoa"," Ecdysozoa"," Arthropoda"," Chelicerata"," Arachnida","Acari"," Acariformes"," Trombidiformes"," Prostigmata"," Eleutherengona","Raphignathae"," Tetranychoidea"," Tetranychidae"," Tetranychus."]
["T5AFY6_OPHSC","T5AFY6"," Ophiocordyceps sinensis (strain Co18 / CGMCC 3.14243) (Yarsagumba caterpillar fungus) (Hirsutella sinensis).",null," NCBI_TaxID=911162 {ECO:0000313|EMBL:EQL00642.1, ECO:0000313|Proteomes:UP000019374};",null,"Eukaryota"," Fungi"," Dikarya"," Ascomycota"," Pezizomycotina","Sordariomycetes"," Hypocreomycetidae"," Hypocreales"," Ophiocordycipitaceae","Ophiocordyceps."]
["U1HM11_ENDPU","U1HM11"," Endocarpon pusillum (strain Z07020 / HMAS-L-300199) (Lichen-forming fungus).",null," NCBI_TaxID=1263415 {ECO:0000313|EMBL:ERF71325.1, ECO:0000313|Proteomes:UP000019373};",null,"Eukaryota"," Fungi"," Dikarya"," Ascomycota"," Pezizomycotina"," Eurotiomycetes","Chaetothyriomycetidae"," Verrucariales"," Verrucariaceae"," Endocarpon."]
["U3J1L9_ANAPL","U3J1L9"," Anas platyrhynchos (Mallard) (Anas boschas).",null," NCBI_TaxID=8839 {ECO:0000313|Ensembl:ENSAPLP00000013396, ECO:0000313|Proteomes:UP000016666};",null,"Eukaryota"," Metazoa"," Chordata"," Craniata"," Vertebrata"," Euteleostomi","Archelosauria"," Archosauria"," Dinosauria"," Saurischia"," Theropoda","Coelurosauria"," Aves"," Neognathae"," Galloanserae"," Anseriformes"," Anatidae","Anatinae"," Anas."]
["U3JI98_FICAL","U3JI98"," Ficedula albicollis (Collared flycatcher) (Muscicapa albicollis).",null," NCBI_TaxID=59894 {ECO:0000313|Ensembl:ENSFALP00000002502, ECO:0000313|Proteomes:UP000016665};",null,"Eukaryota"," Metazoa"," Chordata"," Craniata"," Vertebrata"," Euteleostomi","Archelosauria"," Archosauria"," Dinosauria"," Saurischia"," Theropoda","Coelurosauria"," Aves"," Neognathae"," Passeriformes"," Muscicapidae","Ficedula."]
["U4KYJ0_PYROM","U4KYJ0"," Pyronema omphalodes (strain CBS 100304) (Pyronema confluens).",null," NCBI_TaxID=1076935 {ECO:0000313|EMBL:CCX06635.1, ECO:0000313|Proteomes:UP000018144};",null,"Eukaryota"," Fungi"," Dikarya"," Ascomycota"," Pezizomycotina"," Pezizomycetes","Pezizales"," Pyronemataceae"," Pyronema."]
["U4UE49_DENPD","U4UE49"," Dendroctonus ponderosae (Mountain pine beetle).",null," NCBI_TaxID=77166 {ECO:0000313|EMBL:ERL88846.1, ECO:0000313|Proteomes:UP000030742};",null,"Eukaryota"," Metazoa"," Ecdysozoa"," Arthropoda"," Hexapoda"," Insecta","Pterygota"," Neoptera"," Holometabola"," Coleoptera"," Polyphaga","Cucujiformia"," Curculionidae"," Scolytinae"," Dendroctonus."]
["U5H663_USTV1","U5H663"," Microbotryum lychnidis-dioicae (strain p1A1 Lamole / MvSl-1064) (Anther smut fungus).",null," NCBI_TaxID=683840 {ECO:0000313|EMBL:KDE06879.1};",null,"Eukaryota"," Fungi"," Dikarya"," Basidiomycota"," Pucciniomycotina","Microbotryomycetes"," Microbotryales"," Microbotryaceae"," Microbotryum."]
["U6GUU5_EIMAC","U6GUU5"," Eimeria acervulina (Coccidian parasite).",null," NCBI_TaxID=5801 {ECO:0000313|EMBL:CDI83965.1, ECO:0000313|Proteomes:UP000018050};",null,"Eukaryota"," Alveolata"," Apicomplexa"," Conoidasida"," Coccidia","Eucoccidiorida"," Eimeriorina"," Eimeriidae"," Eimeria."]
["U6JZI1_9EIME","U6JZI1"," Eimeria mitis.",null," NCBI_TaxID=44415 {ECO:0000313|EMBL:CDJ28918.1, ECO:0000313|Proteomes:UP000030744};",null,"Eukaryota"," Alveolata"," Apicomplexa"," Conoidasida"," Coccidia","Eucoccidiorida"," Eimeriorina"," Eimeriidae"," Eimeria."]
["U6L804_EIMTE","U6L804"," Eimeria tenella (Coccidian parasite).",null," NCBI_TaxID=5802 {ECO:0000313|EMBL:CDJ44704.1, ECO:0000313|Proteomes:UP000030747};",null,"Eukaryota"," Alveolata"," Apicomplexa"," Conoidasida"," Coccidia","Eucoccidiorida"," Eimeriorina"," Eimeriidae"," Eimeria."]
["U6LN22_9EIME","U6LN22"," Eimeria brunetti.",null," NCBI_TaxID=51314 {ECO:0000313|EMBL:CDJ49205.1, ECO:0000313|Proteomes:UP000030750};",null,"Eukaryota"," Alveolata"," Apicomplexa"," Conoidasida"," Coccidia","Eucoccidiorida"," Eimeriorina"," Eimeriidae"," Eimeria."]
["U6N4S6_9EIME","U6N4S6"," Eimeria necatrix.",null," NCBI_TaxID=51315 {ECO:0000313|EMBL:CDJ68940.1, ECO:0000313|Proteomes:UP000030754};",null,"Eukaryota"," Alveolata"," Apicomplexa"," Conoidasida"," Coccidia","Eucoccidiorida"," Eimeriorina"," Eimeriidae"," Eimeria."]
["U6P8Q5_HAECO","U6P8Q5"," Haemonchus contortus (Barber pole worm).",null," NCBI_TaxID=6289 {ECO:0000313|EMBL:CDJ90340.1, ECO:0000313|Proteomes:UP000025227};",null,"Eukaryota"," Metazoa"," Ecdysozoa"," Nematoda"," Chromadorea"," Rhabditida","Strongylida"," Trichostrongyloidea"," Haemonchidae"," Haemonchinae","Haemonchus."]
["U7PL85_SPOS1","U7PL85"," Sporothrix schenckii (strain ATCC 58251 / de Perez 2211183) (Rose-picker's disease fungus).",null," NCBI_TaxID=1391915 {ECO:0000313|EMBL:ERS95696.1, ECO:0000313|Proteomes:UP000018087};",null,"Eukaryota"," Fungi"," Dikarya"," Ascomycota"," Pezizomycotina","Sordariomycetes"," Sordariomycetidae"," Ophiostomatales"," Ophiostomataceae","Sporothrix."]
["U9T0T6_RHIID","U9T0T6"," Rhizophagus irregularis (strain DAOM 181602 / DAOM 197198 / MUCL 43194) (Arbuscular mycorrhizal fungus) (Glomus intraradices).",null," NCBI_TaxID=747089 {ECO:0000313|EMBL:ESA01809.1, ECO:0000313|Proteomes:UP000018888};",null,"Eukaryota"," Fungi"," Mucoromycota"," Glomeromycotina"," Glomeromycetes","Glomerales"," Glomeraceae"," Rhizophagus."]
["V2YXH6_MONRO","V2YXH6"," Moniliophthora roreri (strain MCA 2997) (Cocoa frosty pod rot fungus) (Crinipellis roreri).",null," NCBI_TaxID=1381753 {ECO:0000313|EMBL:ESK96414.1, ECO:0000313|Proteomes:UP000017559};",null,"Eukaryota"," Fungi"," Dikarya"," Basidiomycota"," Agaricomycotina","Agaricomycetes"," Agaricomycetidae"," Agaricales"," Marasmiaceae","Moniliophthora."]
["V4ALP1_LOTGI","V4ALP1"," Lottia gigantea (Giant owl limpet).",null," NCBI_TaxID=225164 {ECO:0000313|EMBL:ESO94506.1, ECO:0000313|Proteomes:UP000030746};",null,"Eukaryota"," Metazoa"," Lophotrochozoa"," Mollusca"," Gastropoda","Patellogastropoda"," Lottioidea"," Lottiidae"," Lottia."]
["V4ZBE9_TOXGV","V4ZBE9"," Toxoplasma gondii (strain ATCC 50861 / VEG).",null," NCBI_TaxID=432359 {ECO:0000313|EMBL:ESS32593.1, ECO:0000313|Proteomes:UP000002226};",null,"Eukaryota"," Alveolata"," Apicomplexa"," Conoidasida"," Coccidia","Eucoccidiorida"," Eimeriorina"," Sarcocystidae"," Toxoplasma."]
["V5E335_KALBG","V5E335"," Kalmanozyma brasiliensis (strain GHG001) (Yeast) (Pseudozyma brasiliensis).",null," NCBI_TaxID=1365824 {ECO:0000313|EMBL:EST04541.1, ECO:0000313|Proteomes:UP000019377};",null,"Eukaryota"," Fungi"," Dikarya"," Basidiomycota"," Ustilaginomycotina","Ustilaginomycetes"," Ustilaginales"," Ustilaginaceae"," Kalmanozyma."]
["V5FW38_BYSSN","V5FW38"," Byssochlamys spectabilis (strain No. 5 / NBRC 109023) (Paecilomyces variotii).",null," NCBI_TaxID=1356009 {ECO:0000313|EMBL:GAD93926.1, ECO:0000313|Proteomes:UP000018001};",null,"Eukaryota"," Fungi"," Dikarya"," Ascomycota"," Pezizomycotina"," Eurotiomycetes","Eurotiomycetidae"," Eurotiales"," Thermoascaceae"," Byssochlamys."]
["V6LPQ1_9EUKA","V6LPQ1"," Spironucleus salmonicida.",null," NCBI_TaxID=348837 {ECO:0000313|EMBL:EST46208.1, ECO:0000313|Proteomes:UP000018208};",null,"Eukaryota"," Diplomonadida"," Hexamitidae"," Hexamitinae"," Spironucleus."]
["V6TUL1_GIAIN","V6TUL1"," Giardia intestinalis (Giardia lamblia).",null," NCBI_TaxID=5741 {ECO:0000313|EMBL:ESU42648.1, ECO:0000313|Proteomes:UP000018040};",null,"Eukaryota"," Diplomonadida"," Hexamitidae"," Giardiinae"," Giardia."]
["V8PGB5_OPHHA","V8PGB5"," Ophiophagus hannah (King cobra) (Naja hannah).",null," NCBI_TaxID=8665 {ECO:0000313|EMBL:ETE73609.1, ECO:0000313|Proteomes:UP000018936};",null,"Eukaryota"," Metazoa"," Chordata"," Craniata"," Vertebrata"," Euteleostomi","Lepidosauria"," Squamata"," Bifurcata"," Unidentata"," Episquamata","Toxicofera"," Serpentes"," Colubroidea"," Elapidae"," Elapinae"," Ophiophagus."]
["W1QEP6_OGAPD","W1QEP6"," Ogataea parapolymorpha (strain ATCC 26012 / BCRC 20466 / JCM 22074 / NRRL Y-7560 / DL-1) (Yeast) (Hansenula polymorpha).",null," NCBI_TaxID=871575 {ECO:0000313|EMBL:ESX00047.1, ECO:0000313|Proteomes:UP000008673};",null,"Eukaryota"," Fungi"," Dikarya"," Ascomycota"," Saccharomycotina","Saccharomycetes"," Saccharomycetales"," Pichiaceae"," Ogataea."]
["W2RR45_9EURO","W2RR45"," Cyphellophora europaea CBS 101466.",null," NCBI_TaxID=1220924 {ECO:0000313|EMBL:ETN38912.1, ECO:0000313|Proteomes:UP000030752};",null,"Eukaryota"," Fungi"," Dikarya"," Ascomycota"," Pezizomycotina"," Eurotiomycetes","Chaetothyriomycetidae"," Chaetothyriales"," Cyphellophoraceae","Cyphellophora."]
["W2THL3_NECAM","W2THL3"," Necator americanus (Human hookworm).",null," NCBI_TaxID=51031 {ECO:0000313|EMBL:ETN81560.1, ECO:0000313|Proteomes:UP000053676};",null,"Eukaryota"," Metazoa"," Ecdysozoa"," Nematoda"," Chromadorea"," Rhabditida","Strongylida"," Ancylostomatoidea"," Ancylostomatidae"," Bunostominae","Necator."]
["W3XM16_PESFW","W3XM16"," Pestalotiopsis fici (strain W106-1 / CGMCC3.15140).",null," NCBI_TaxID=1229662 {ECO:0000313|EMBL:ETS87015.1, ECO:0000313|Proteomes:UP000030651};",null,"Eukaryota"," Fungi"," Dikarya"," Ascomycota"," Pezizomycotina","Sordariomycetes"," Xylariomycetidae"," Xylariales"," Sporocadaceae","Pestalotiopsis."]
["W4K1A9_9HOMO","W4K1A9"," Heterobasidion irregulare TC 32-1.",null," NCBI_TaxID=747525 {ECO:0000313|EMBL:ETW79125.1, ECO:0000313|Proteomes:UP000030671};",null,"Eukaryota"," Fungi"," Dikarya"," Basidiomycota"," Agaricomycotina","Agaricomycetes"," Russulales"," Bondarzewiaceae"," Heterobasidion","Heterobasidion annosum species complex."]
["W4Z8R1_STRPU","W4Z8R1"," Strongylocentrotus purpuratus (Purple sea urchin).",null," NCBI_TaxID=7668 {ECO:0000313|EnsemblMetazoa:SPU_024535-tr, ECO:0000313|Proteomes:UP000007110};",null,"Eukaryota"," Metazoa"," Echinodermata"," Eleutherozoa"," Echinozoa","Echinoidea"," Euechinoidea"," Echinacea"," Echinoida"," Strongylocentrotidae","Strongylocentrotus."]
["W5J8I8_ANODA","W5J8I8"," Anopheles darlingi (Mosquito).",null," NCBI_TaxID=43151 {ECO:0000313|EMBL:ETN59109.1, ECO:0000313|Proteomes:UP000000673};",null,"Eukaryota"," Metazoa"," Ecdysozoa"," Arthropoda"," Hexapoda"," Insecta","Pterygota"," Neoptera"," Holometabola"," Diptera"," Nematocera"," Culicoidea","Culicidae"," Anophelinae"," Anopheles."]
["W5KD30_ASTMX","W5KD30"," Astyanax mexicanus (Blind cave fish) (Astyanax fasciatus mexicanus).",null," NCBI_TaxID=7994 {ECO:0000313|Ensembl:ENSAMXP00000005491, ECO:0000313|Proteomes:UP000018467};",null,"Eukaryota"," Metazoa"," Chordata"," Craniata"," Vertebrata"," Euteleostomi","Actinopterygii"," Neopterygii"," Teleostei"," Ostariophysi"," Characiformes","Characoidei"," Characidae"," Characidae incertae sedis"," Astyanax clade","Astyanax."]
["W5LJR7_ASTMX","W5LJR7"," Astyanax mexicanus (Blind cave fish) (Astyanax fasciatus mexicanus).",null," NCBI_TaxID=7994 {ECO:0000313|Ensembl:ENSAMXP00000020079, ECO:0000313|Proteomes:UP000018467};",null,"Eukaryota"," Metazoa"," Chordata"," Craniata"," Vertebrata"," Euteleostomi","Actinopterygii"," Neopterygii"," Teleostei"," Ostariophysi"," Characiformes","Characoidei"," Characidae"," Characidae incertae sedis"," Astyanax clade","Astyanax."]
["W5LYQ0_LEPOC","W5LYQ0"," Lepisosteus oculatus (Spotted gar).",null," NCBI_TaxID=7918 {ECO:0000313|Ensembl:ENSLOCP00000001257, ECO:0000313|Proteomes:UP000018468};",null,"Eukaryota"," Metazoa"," Chordata"," Craniata"," Vertebrata"," Euteleostomi","Actinopterygii"," Neopterygii"," Holostei"," Semionotiformes"," Lepisosteidae","Lepisosteus."]
["W5Q8M3_SHEEP","W5Q8M3"," Ovis aries (Sheep).",null," NCBI_TaxID=9940 {ECO:0000313|Ensembl:ENSOARP00000019065, ECO:0000313|Proteomes:UP000002356};",null,"Eukaryota"," Metazoa"," Chordata"," Craniata"," Vertebrata"," Euteleostomi","Mammalia"," Eutheria"," Laurasiatheria"," Cetartiodactyla"," Ruminantia","Pecora"," Bovidae"," Caprinae"," Ovis."]
["W6MVH6_9ASCO","W6MVH6"," Kuraishia capsulata CBS 1993.",null," NCBI_TaxID=1382522 {ECO:0000313|EMBL:CDK26290.1, ECO:0000313|Proteomes:UP000019384};",null,"Eukaryota"," Fungi"," Dikarya"," Ascomycota"," Saccharomycotina","Saccharomycetes"," Saccharomycetales"," Saccharomycetales incertae sedis","Kuraishia."]
["W6PTC3_PENRF","W6PTC3"," Penicillium roqueforti (strain FM164).",null," NCBI_TaxID=1365484 {ECO:0000313|EMBL:CDM27448.1, ECO:0000313|Proteomes:UP000030686};",null,"Eukaryota"," Fungi"," Dikarya"," Ascomycota"," Pezizomycotina"," Eurotiomycetes","Eurotiomycetidae"," Eurotiales"," Aspergillaceae"," Penicillium."]
["W6V9C7_ECHGR","W6V9C7"," Echinococcus granulosus (Hydatid tapeworm).",null," NCBI_TaxID=6210 {ECO:0000313|EMBL:EUB63194.1, ECO:0000313|Proteomes:UP000019149};",null,"Eukaryota"," Metazoa"," Platyhelminthes"," Cestoda"," Eucestoda","Cyclophyllidea"," Taeniidae"," Echinococcus."]
["W6YBJ1_COCCA","W6YBJ1"," Bipolaris zeicola 26-R-13.",null," NCBI_TaxID=930089 {ECO:0000313|EMBL:EUC36847.1, ECO:0000313|Proteomes:UP000053841};",null,"Eukaryota"," Fungi"," Dikarya"," Ascomycota"," Pezizomycotina","Dothideomycetes"," Pleosporomycetidae"," Pleosporales"," Pleosporineae","Pleosporaceae"," Bipolaris."]
["W7M3J4_GIBM7","W7M3J4"," Gibberella moniliformis (strain M3125 / FGSC 7600) (Maize ear and stalk rot fungus) (Fusarium verticillioides).",null," NCBI_TaxID=334819 {ECO:0000313|EMBL:EWG45556.1, ECO:0000313|Proteomes:UP000009096};",null,"Eukaryota"," Fungi"," Dikarya"," Ascomycota"," Pezizomycotina","Sordariomycetes"," Hypocreomycetidae"," Hypocreales"," Nectriaceae","Fusarium"," Fusarium fujikuroi species complex."]
["W7MLL3_GIBM7","W7MLL3"," Gibberella moniliformis (strain M3125 / FGSC 7600) (Maize ear and stalk rot fungus) (Fusarium verticillioides).",null," NCBI_TaxID=334819 {ECO:0000313|EMBL:EWG45557.1, ECO:0000313|Proteomes:UP000009096};",null,"Eukaryota"," Fungi"," Dikarya"," Ascomycota"," Pezizomycotina","Sordariomycetes"," Hypocreomycetidae"," Hypocreales"," Nectriaceae","Fusarium"," Fusarium fujikuroi species complex."]
["W7XI56_TETTS","W7XI56"," Tetrahymena thermophila (strain SB210).",null," NCBI_TaxID=312017 {ECO:0000313|EMBL:EWS74331.1, ECO:0000313|Proteomes:UP000009168};",null,"Eukaryota"," Alveolata"," Ciliophora"," Intramacronucleata","Oligohymenophorea"," Hymenostomatida"," Tetrahymenina"," Tetrahymenidae","Tetrahymena."]
["W9CJT9_9HELO","W9CJT9"," Sclerotinia borealis F-4128.",null," NCBI_TaxID=1432307 {ECO:0000313|EMBL:ESZ96258.1, ECO:0000313|Proteomes:UP000019487};",null,"Eukaryota"," Fungi"," Dikarya"," Ascomycota"," Pezizomycotina"," Leotiomycetes","Helotiales"," Sclerotiniaceae"," Sclerotinia."]
["W9W037_9EURO","W9W037"," Cladophialophora psammophila CBS 110553.",null," NCBI_TaxID=1182543 {ECO:0000313|EMBL:EXJ61318.1, ECO:0000313|Proteomes:UP000019471};",null,"Eukaryota"," Fungi"," Dikarya"," Ascomycota"," Pezizomycotina"," Eurotiomycetes","Chaetothyriomycetidae"," Chaetothyriales"," Herpotrichiellaceae","Cladophialophora."]
["W9W9T5_9EURO","W9W9T5"," Cladophialophora yegresii CBS 114405.",null," NCBI_TaxID=1182544 {ECO:0000313|EMBL:EXJ64842.1, ECO:0000313|Proteomes:UP000019473};",null,"Eukaryota"," Fungi"," Dikarya"," Ascomycota"," Pezizomycotina"," Eurotiomycetes","Chaetothyriomycetidae"," Chaetothyriales"," Herpotrichiellaceae","Cladophialophora."]
["W9XNU5_9EURO","W9XNU5"," Capronia epimyces CBS 606.96.",null," NCBI_TaxID=1182542 {ECO:0000313|EMBL:EXJ78995.1, ECO:0000313|Proteomes:UP000019478};",null,"Eukaryota"," Fungi"," Dikarya"," Ascomycota"," Pezizomycotina"," Eurotiomycetes","Chaetothyriomycetidae"," Chaetothyriales"," Herpotrichiellaceae"," Capronia."]
["W9ZPQ4_9EURO","W9ZPQ4"," Capronia coronata CBS 617.96.",null," NCBI_TaxID=1182541 {ECO:0000313|EMBL:EXJ96449.1, ECO:0000313|Proteomes:UP000019484};",null,"Eukaryota"," Fungi"," Dikarya"," Ascomycota"," Pezizomycotina"," Eurotiomycetes","Chaetothyriomycetidae"," Chaetothyriales"," Herpotrichiellaceae"," Capronia."]
["X0CDJ6_FUSOX","X0CDJ6"," Fusarium oxysporum f. sp. raphani 54005.",null," NCBI_TaxID=1089458 {ECO:0000313|EMBL:EXK92510.1, ECO:0000313|Proteomes:UP000030663};",null,"Eukaryota"," Fungi"," Dikarya"," Ascomycota"," Pezizomycotina","Sordariomycetes"," Hypocreomycetidae"," Hypocreales"," Nectriaceae","Fusarium"," Fusarium oxysporum species complex."]
["X0CNT7_FUSOX","X0CNT7"," Fusarium oxysporum f. sp. raphani 54005.",null," NCBI_TaxID=1089458 {ECO:0000313|EMBL:EXK92509.1, ECO:0000313|Proteomes:UP000030663};",null,"Eukaryota"," Fungi"," Dikarya"," Ascomycota"," Pezizomycotina","Sordariomycetes"," Hypocreomycetidae"," Hypocreales"," Nectriaceae","Fusarium"," Fusarium oxysporum species complex."]
["X0JV77_FUSOX","X0JV77"," Fusarium oxysporum f. sp. cubense tropical race 4 54006.",null," NCBI_TaxID=1089451 {ECO:0000313|EMBL:EXM00332.1, ECO:0000313|Proteomes:UP000030685};",null,"Eukaryota"," Fungi"," Dikarya"," Ascomycota"," Pezizomycotina","Sordariomycetes"," Hypocreomycetidae"," Hypocreales"," Nectriaceae","Fusarium"," Fusarium oxysporum species complex."]
["X0JVI1_FUSOX","X0JVI1"," Fusarium oxysporum f. sp. cubense tropical race 4 54006.",null," NCBI_TaxID=1089451 {ECO:0000313|EMBL:EXM00331.1, ECO:0000313|Proteomes:UP000030685};",null,"Eukaryota"," Fungi"," Dikarya"," Ascomycota"," Pezizomycotina","Sordariomycetes"," Hypocreomycetidae"," Hypocreales"," Nectriaceae","Fusarium"," Fusarium oxysporum species complex."]

{"sheet":"architecture","index":5,"n_rows":534,"n_cols":5,"rows_kept":534,"cut":false,"hidden":true,"merged":[]}
["Первая архитектура","Вторая архитектура",null,"Идентификатор ","Номер архитектуры"]
["A0A016T824","A0A087U9R3",null,"A0A016T824",1]
["A0A016T8T2","A0A087U9R4",null,"A0A016T8T2",1]
["A0A016T905","A0A0C2GKR7",null,"A0A016T905",1]
["A0A044QLY7","A0A0C2M3A6",null,"A0A044QLY7",1]
["A0A068Y9Z0","A0A0C2MJT8",null,"A0A068Y9Z0",1]
["A0A077YY88","A0A0N4VY25",null,"A0A077YY88",1]
["A0A085NDC7","A0A0R3QD39",null,"A0A085NDC7",1]
["A0A085NML0","A0A0R3SBE9",null,"A0A085NML0",1]
["A0A090L6T4","A0A0R3XCR1",null,"A0A090L6T4",1]
["A0A0A1U014","A0A0R4IA63",null,"A0A0A1U014",1]
["A0A0B2V6Z8","A0A183L3P4",null,"A0A0B2V6Z8",1]
["A0A0J9V7A0","A0A183L5T7",null,"A0A0J9V7A0",1]
["A0A0K0E803","A0A183PB67",null,"A0A0K0E803",1]
["A0A0K0FGL4","A0A183VKK7",null,"A0A0K0FGL4",1]
["A0A0L0D597","A0A183WMJ4",null,"A0A0L0D597",1]
["A0A0L8G6V0","A0A183WVX9",null,"A0A0L8G6V0",1]
["A0A0N4UM20","B0DME9",null,"A0A0N4UM20",1]
["A0A0N4VFZ0","B0DZ84",null,"A0A0N4VFZ0",1]
["A0A0N5AQW6","E2L5Q4",null,"A0A0N5AQW6",1]
["A0A0N5CB21","F7CSZ6",null,"A0A0N5CB21",1]
["A0A0N5DQX3",null,null,"A0A0N5DQX3",1]
["A0A0N5E2Y0",null,null,"A0A0N5E2Y0",1]
["A0A0R3RER8",null,null,"A0A0R3RER8",1]
["A0A158PN69",null,null,"A0A158PN69",1]
["A0A162UR45",null,null,"A0A162UR45",1]
["A0A183AAW8",null,null,"A0A183AAW8",1]
["A0A183MQF5",null,null,"A0A183MQF5",1]
["A2F4M9",null,null,"A2F4M9",1]
["B4I7P0",null,null,"B4I7P0",1]
["B7QG62",null,null,"B7QG62",1]
["C4LXB9",null,null,"C4LXB9",1]
["E1G3C1",null,null,"E1G3C1",1]
["E4X3A2",null,null,"E4X3A2",1]
["E7QAP2",null,null,"E7QAP2",1]
["F2PHR1",null,null,"F2PHR1",1]
["F4PBL6",null,null,"F4PBL6",1]
["F4PRV5",null,null,"F4PRV5",1]
["F6YVZ9",null,null,"F6YVZ9",1]
["G0QZ29",null,null,"G0QZ29",1]
["G3WP17",null,null,"G3WP17",1]
["G3WP18",null,null,"G3WP18",1]
["L8FUI4",null,null,"L8FUI4",1]
["Q54K94",null,null,"Q54K94",1]
["U1MI54",null,null,"U1MI54",1]
["U3J1L9",null,null,"U3J1L9",1]
["U6LN22",null,null,"U6LN22",1]
["V6LPQ1",null,null,"V6LPQ1",1]
["W5LJR7",null,null,"W5LJR7",1]
["W6V9C7",null,null,"W6V9C7",1]
["W7MLL3",null,null,"W7MLL3",1]
["X0CDJ6",null,null,"X0CDJ6",1]
["X0JV7",null,null,"X0JV7",1]
[null,null,null,"A0A087U9R3",2]
[null,null,null,"A0A087U9R4",2]
[null,null,null,"A0A0C2GKR7",2]
[null,null,null,"A0A0C2M3A6",2]
[null,null,null,"A0A0C2MJT8",2]
[null,null,null,"A0A0N4VY25",2]
[null,null,null,"A0A0R3QD39",2]
[null,null,null,"A0A0R3SBE9",2]
[null,null,null,"A0A0R3XCR1",2]
[null,null,null,"A0A0R4IA63",2]
[null,null,null,"A0A183L3P4",2]
[null,null,null,"A0A183L5T7",2]
[null,null,null,"A0A183PB67",2]
[null,null,null,"A0A183VKK7",2]
[null,null,null,"A0A183WMJ4",2]
[null,null,null,"A0A183WVX9",2]
[null,null,null,"B0DME9",2]
[null,null,null,"B0DZ84",2]
[null,null,null,"E2L5Q4",2]
[null,null,null,"F7CSZ6",2]
[null,null,null,"A0A010QTU3",3]
[null,null,null,"A0A026W7M0",3]
[null,null,null,"A0A059JG84",3]
[null,null,null,"A0A060SM73",3]
[null,null,null,"A0A061HK78",3]
[null,null,null,"A0A063C724",3]
[null,null,null,"A0A066VMY2",3]
[null,null,null,"A0A066VPH2",3]
[null,null,null,"A0A066XER0",3]
[null,null,null,"A0A067MEC5",3]
[null,null,null,"A0A067NTR2",3]
[null,null,null,"A0A067Q6F6",3]
[null,null,null,"A0A067S4G4",3]
[null,null,null,"A0A068S7K8",3]
[null,null,null,"A0A068S963",3]
[null,null,null,"A0A068X5G4",3]
[null,null,null,"A0A072P3F0",3]
[null,null,null,"A0A074SCB3",3]
[null,null,null,"A0A074WED3",3]
[null,null,null,"A0A074X1S4",3]
[null,null,null,"A0A074Y8R4",3]
[null,null,null,"A0A074YD67",3]
[null,null,null,"A0A075A357",3]
[null,null,null,"A0A081CN43",3]
[null,null,null,"A0A084GGA7",3]
[null,null,null,"A0A084QI67",3]
[null,null,null,"A0A084W0C3",3]
[null,null,null,"A0A086THF9",3]
[null,null,null,"A0A087QMK8",3]
[null,null,null,"A0A087X458",3]
[null,null,null,"A0A088ALS8",3]
[null,null,null,"A0A091EIV1",3]
[null,null,null,"A0A091G6W5",3]
[null,null,null,"A0A091GQE9",3]
[null,null,null,"A0A091HRX4",3]
[null,null,null,"A0A091KHC9",3]
[null,null,null,"A0A091KUT8",3]
[null,null,null,"A0A091LLM9",3]
[null,null,null,"A0A091MDQ5",3]
[null,null,null,"A0A091NKW9",3]
[null,null,null,"A0A091P1S7",3]
[null,null,null,"A0A091QG56",3]
[null,null,null,"A0A091TI76",3]
[null,null,null,"A0A091UFK0",3]
[null,null,null,"A0A091VAU0",3]
[null,null,null,"A0A091XK00",3]
[null,null,null,"A0A093CNC6",3]
[null,null,null,"A0A093CQ14",3]
[null,null,null,"A0A093EJE1",3]
[null,null,null,"A0A093H545",3]
[null,null,null,"A0A093J624",3]
[null,null,null,"A0A093LME3",3]
[null,null,null,"A0A093PRZ8",3]
[null,null,null,"A0A093Y8C9",3]
[null,null,null,"A0A093Y8Z0",3]
[null,null,null,"A0A093ZDG4",3]
[null,null,null,"A0A094A6U6",3]
[null,null,null,"A0A094AGV0",3]
[null,null,null,"A0A094BZU4",3]
[null,null,null,"A0A094CBT3",3]
[null,null,null,"A0A094DFK1",3]
[null,null,null,"A0A094EPV8",3]
[null,null,null,"A0A094FZP8",3]
[null,null,null,"A0A094GBR2",3]
[null,null,null,"A0A094H8A7",3]
[null,null,null,"A0A094JA99",3]
[null,null,null,"A0A094ZFT4",3]
[null,null,null,"A0A095DHE2",3]
[null,null,null,"A0A096N6Q6",3]
[null,null,null,"A0A099P130",3]
[null,null,null,"A0A0A0AG33",3]
[null,null,null,"A0A0A1TRF2",3]
[null,null,null,"A0A0A1UPQ1",3]
[null,null,null,"A0A0A2IUN1",3]
[null,null,null,"A0A0A2LCV9",3]
[null,null,null,"A0A0A2UZZ1",3]
[null,null,null,"A0A0A2VHZ6",3]
[null,null,null,"A0A0A8L004",3]
[null,null,null,"A0A0B1P1J1",3]
[null,null,null,"A0A0B2WZE8",3]
[null,null,null,"A0A0B4GUX9",3]
[null,null,null,"A0A0B7N845",3]
[null,null,null,"A0A0B8N525",3]
[null,null,null,"A0A0C2X5E2",3]
[null,null,null,"A0A0C2YVD8",3]
[null,null,null,"A0A0C3BSZ1",3]
[null,null,null,"A0A0C3FWV3",3]
[null,null,null,"A0A0C3HLL3",3]
[null,null,null,"A0A0C3L9K1",3]
[null,null,null,"A0A0C3PQW6",3]
[null,null,null,"A0A0C3SDX7",3]
[null,null,null,"A0A0C4EF57",3]
[null,null,null,"A0A0C7N3C4",3]
[null,null,null,"A0A0C9WFV0",3]
[null,null,null,"A0A0C9X698",3]
[null,null,null,"A0A0C9Z1J0",3]
[null,null,null,"A0A0D0A959",3]
[null,null,null,"A0A0D0CW47",3]
[null,null,null,"A0A0D0ECG9",3]
[null,null,null,"A0A0D1DW40",3]
[null,null,null,"A0A0D1Y1X4",3]
[null,null,null,"A0A0D1YTW6",3]
[null,null,null,"A0A0D1ZYM2",3]
[null,null,null,"A0A0D2A5A0",3]
[null,null,null,"A0A0D2AR99",3]
[null,null,null,"A0A0D2CKN8",3]
[null,null,null,"A0A0D2DJ28",3]
[null,null,null,"A0A0D2E8D8",3]
[null,null,null,"A0A0D2G1H9",3]
[null,null,null,"A0A0D2I322",3]
[null,null,null,"A0A0D2KAA1",3]
[null,null,null,"A0A0D2NY00",3]
[null,null,null,"A0A0D2XWJ8",3]
[null,null,null,"A0A0D7AM24",3]
[null,null,null,"A0A0D7BL27",3]
[null,null,null,"A0A0D9N9Z1",3]
[null,null,null,"A0A0D9S6N5",3]
[null,null,null,"A0A0E1RUZ2",3]
[null,null,null,"A0A0E9NAY6",3]
[null,null,null,"A0A0F0I5P1",3]
[null,null,null,"A0A0F4GBS7",3]
[null,null,null,"A0A0F4YRT6",3]
[null,null,null,"A0A0F4ZGE2",3]
[null,null,null,"A0A0F7TMN7",3]
[null,null,null,"A0A0F8A3N1",3]
[null,null,null,"A0A0F8UGN8",3]
[null,null,null,"A0A0F9X9B6",3]
[null,null,null,"A0A0G2E4D9",3]
[null,null,null,"A0A0G2F9N9",3]
[null,null,null,"A0A0G2I3T6",3]
[null,null,null,"A0A0G2JGI9",3]
[null,null,null,"A0A0G4LQK9",3]
[null,null,null,"A0A0G4MAL6",3]
[null,null,null,"A0A0G4NW80",3]
[null,null,null,"A0A0H1B6U3",3]
[null,null,null,"A0A0H2RII2",3]
[null,null,null,"A0A0J0XP15",3]
[null,null,null,"A0A0J7BGE2",3]
[null,null,null,"A0A0J8TWI9",3]
[null,null,null,"A0A0K6GIF6",3]
[null,null,null,"A0A0L0BUP1",3]
[null,null,null,"A0A0L0HGW7",3]
[null,null,null,"A0A0L0N7E7",3]
[null,null,null,"A0A0L0P4J2",3]
[null,null,null,"A0A0L0TEU8",3]
[null,null,null,"A0A0L0VQ97",3]
[null,null,null,"A0A0L6UGP3",3]
[null,null,null,"A0A0L7QQA0",3]
[null,null,null,"A0A0L9T245",3]
[null,null,null,"A0A0M8N0M3",3]
[null,null,null,"A0A0M9EXZ4",3]
[null,null,null,"A0A0M9WGZ0",3]
[null,null,null,"A0A0N0NS63",3]
[null,null,null,"A0A0N4ZYY6",3]
[null,null,null,"A0A0P1BQ20",3]
[null,null,null,"A0A0P7BVC3",3]
[null,null,null,"A0A0P7USB6",3]
[null,null,null,"A0A0P8XMZ1",3]
[null,null,null,"A0A0P9AD98",3]
[null,null,null,"A0A0Q3LTJ5",3]
[null,null,null,"A0A0Q9W6A7",3]
[null,null,null,"A0A0Q9WH87",3]
[null,null,null,"A0A0Q9X8G5",3]
[null,null,null,"A0A0Q9X9A0",3]
[null,null,null,"A0A0Q9XL69",3]
[null,null,null,"A0A0R3NSL8",3]
[null,null,null,"A0A0R3PR76",3]
[null,null,null,"A0A0R3TSV0",3]
[null,null,null,"A0A0R4IF54",3]
[null,null,null,"A0A0R4IU33",3]
[null,null,null,"A0A0R4IV67",3]
[null,null,null,"A0A0R4IZH8",3]
[null,null,null,"A0A0S7E419",3]
[null,null,null,"A0A0U1M6K4",3]
[null,null,null,"A0A0U5G358",3]
[null,null,null,"A0A0V0TWA6",3]
[null,null,null,"A0A0V0TWF8",3]
[null,null,null,"A0A0V0VQX8",3]
[null,null,null,"A0A0V0VQY7",3]
[null,null,null,"A0A0V0X1F2",3]
[null,null,null,"A0A0V0X1J3",3]
[null,null,null,"A0A0V0Y4S8",3]
[null,null,null,"A0A0V0Y4W1",3]
[null,null,null,"A0A0V1AFM7",3]
[null,null,null,"A0A0V1AG06",3]
[null,null,null,"A0A0V1AHE9",3]
[null,null,null,"A0A0V1CSK8",3]
[null,null,null,"A0A0V1CSQ0",3]
[null,null,null,"A0A0V1L4L3",3]
[null,null,null,"A0A0W0FZI5",3]
[null,null,null,"A0A0W4ZQK3",3]
[null,null,null,"A0A0W4ZUI4",3]
[null,null,null,"A0A0W7W367",3]
[null,null,null,"A0A101MIR9",3]
[null,null,null,"A0A109FAQ5",3]
[null,null,null,"A0A135LZ37",3]
[null,null,null,"A0A135RMG2",3]
[null,null,null,"A0A135UQZ0",3]
[null,null,null,"A0A136J2Y3",3]
[null,null,null,"A0A137P5H3",3]
[null,null,null,"A0A137QHA0",3]
[null,null,null,"A0A139A531",3]
[null,null,null,"A0A139GV41",3]
[null,null,null,"A0A139IKD5",3]
[null,null,null,"A0A139WC21",3]
[null,null,null,"A0A150VIY2",3]
[null,null,null,"A0A151GPN9",3]
[null,null,null,"A0A151VFH8",3]
[null,null,null,"A0A151WGY4",3]
[null,null,null,"A0A152A9F1",3]
[null,null,null,"A0A154PFZ0",3]
[null,null,null,"A0A158NS37",3]
[null,null,null,"A0A158PC84",3]
[null,null,null,"A0A158QX09",3]
[null,null,null,"A0A158R7U9",3]
[null,null,null,"A0A162K3D0",3]
[null,null,null,"A0A163DBX9",3]
[null,null,null,"A0A164VTK7",3]
[null,null,null,"A0A165GB67",3]
[null,null,null,"A0A165HYM6",3]
[null,null,null,"A0A165JZD4",3]
[null,null,null,"A0A165LZL5",3]
[null,null,null,"A0A165U9Q9",3]
[null,null,null,"A0A166BCP4",3]
[null,null,null,"A0A166CDF1",3]
[null,null,null,"A0A166FBI4",3]
[null,null,null,"A0A166HVI1",3]
[null,null,null,"A0A166UV10",3]
[null,null,null,"A0A167BNH3",3]
[null,null,null,"A0A167S918",3]
[null,null,null,"A0A167UPF6",3]
[null,null,null,"A0A168GI85",3]
[null,null,null,"A0A168GXS6",3]
[null,null,null,"A0A177BY91",3]
[null,null,null,"A0A177DMY2",3]
[null,null,null,"A0A178BB70",3]
[null,null,null,"A0A178EBW2",3]
[null,null,null,"A0A180H1Z8",3]
[null,null,null,"A0A183TE88",3]
[null,null,null,"A0A194SBG9",3]
[null,null,null,"A0A194XSF5",3]
[null,null,null,"C5MCK0",3]
[null,null,null,"C6HS62",3]
[null,null,null,"C7Z6K9",3]
[null,null,null,"C8VTT8",3]
[null,null,null,"D4AEH9",3]
[null,null,null,"D4ASG4",3]
[null,null,null,"D8Q378",3]
[null,null,null,"E0VNL2",3]
[null,null,null,"E1JGQ5",3]
[null,null,null,"E2BPT9",3]
[null,null,null,"E3KWY4",3]
[null,null,null,"E3MHZ4",3]
[null,null,null,"E3QZQ7",3]
[null,null,null,"E3RH37",3]
[null,null,null,"E4UNH6",3]
[null,null,null,"E4ZG29",3]
[null,null,null,"E5S846",3]
[null,null,null,"E6ZMW0",3]
[null,null,null,"E7KJ04",3]
[null,null,null,"E7M1B8",3]
[null,null,null,"E9DJT7",3]
[null,null,null,"E9E262",3]
[null,null,null,"E9F3Z7",3]
[null,null,null,"F0UTC9",3]
[null,null,null,"F0XQV3",3]
[null,null,null,"F0ZCG6",3]
[null,null,null,"F1MHT1",3]
[null,null,null,"F1NX83",3]
[null,null,null,"F1PBL3",3]
[null,null,null,"F1S557",3]
[null,null,null,"F2SVW0",3]
[null,null,null,"F4RSD6",3]
[null,null,null,"F5HMX0",3]
[null,null,null,"F6TE92",3]
[null,null,null,"F6UM75",3]
[null,null,null,"F7D8W4",3]
[null,null,null,"F7EAR4",3]
[null,null,null,"F7EAR8",3]
[null,null,null,"F7GJD2",3]
[null,null,null,"F7VQT1",3]
[null,null,null,"F8Q4P4",3]
[null,null,null,"F8VPN4",3]
[null,null,null,"F9FVA4",3]
[null,null,null,"F9XGA6",3]
[null,null,null,"G0N6Z0",3]
[null,null,null,"G0PCL2",3]
[null,null,null,"G0RBU1",3]
[null,null,null,"G0SC60",3]
[null,null,null,"G0V9D2",3]
[null,null,null,"G0WHD0",3]
[null,null,null,"G1KCM2",3]
[null,null,null,"G1LR84",3]
[null,null,null,"G1N5J6",3]
[null,null,null,"G1PTA9",3]
[null,null,null,"G1RLT1",3]
[null,null,null,"G1TS42",3]
[null,null,null,"G1X7A7",3]
[null,null,null,"G2Q5G4",3]
[null,null,null,"G2QYC2",3]
[null,null,null,"G2XJI1",3]
[null,null,null,"G2XQH5",3]
[null,null,null,"G3AER9",3]
[null,null,null,"G3B7R1",3]
[null,null,null,"G3JB92",3]
[null,null,null,"G3PNW0",3]
[null,null,null,"G3SM26",3]
[null,null,null,"G3UCH9",3]
[null,null,null,"G3XSN7",3]
[null,null,null,"G4NES1",3]
[null,null,null,"G4U2U9",3]
[null,null,null,"G4U8D0",3]
[null,null,null,"G7DTR3",3]
[null,null,null,"G7NV22",3]
[null,null,null,"G7X9C7",3]
[null,null,null,"G8BH52",3]
[null,null,null,"G8BY52",3]
[null,null,null,"G8JQE8",3]
[null,null,null,"G8YCT6",3]
[null,null,null,"G8YF87",3]
[null,null,null,"G8ZZ45",3]
[null,null,null,"G9N5P0",3]
[null,null,null,"G9NGJ9",3]
[null,null,null,"H0EHK2",3]
[null,null,null,"H0VJR7",3]
[null,null,null,"H0WSE9",3]
[null,null,null,"H0XMV7",3]
[null,null,null,"H0Z4Q4",3]
[null,null,null,"H1UVW2",3]
[null,null,null,"H2APN0",3]
[null,null,null,"H2LLD2",3]
[null,null,null,"H2N6N7",3]
[null,null,null,"H2PZG8",3]
[null,null,null,"H2U5M9",3]
[null,null,null,"H2U5N0",3]
[null,null,null,"H3AL55",3]
[null,null,null,"H3AL56",3]
[null,null,null,"H3DLB9",3]
[null,null,null,"H6BL98",3]
[null,null,null,"I1C152",3]
[null,null,null,"I1RZ78",3]
[null,null,null,"I2FPU0",3]
[null,null,null,"I2H9G0",3]
[null,null,null,"I3IZN6",3]
[null,null,null,"J3P6J6",3]
[null,null,null,"J4GPF6",3]
[null,null,null,"J4KPW8",3]
[null,null,null,"J7R876",3]
[null,null,null,"J9JL61",3]
[null,null,null,"K0KJM8",3]
[null,null,null,"K1PW08",3]
[null,null,null,"K1VYD8",3]
[null,null,null,"K1WXM4",3]
[null,null,null,"K2RJH2",3]
[null,null,null,"K3VP26",3]
[null,null,null,"K5WID5",3]
[null,null,null,"K5XER8",3]
[null,null,null,"K7G8P8",3]
[null,null,null,"K7J9S2",3]
[null,null,null,"K9GPV4",3]
[null,null,null,"L2G928",3]
[null,null,null,"L5LXG2",3]
[null,null,null,"M1W1F8",3]
[null,null,null,"M2M3S2",3]
[null,null,null,"M2RJS3",3]
[null,null,null,"M2S4D3",3]
[null,null,null,"M2TWV8",3]
[null,null,null,"M2YK58",3]
[null,null,null,"M3A760",3]
[null,null,null,"M3BU19",3]
[null,null,null,"M3JST8",3]
[null,null,null,"M3X112",3]
[null,null,null,"M3YLH2",3]
[null,null,null,"M3ZFB7",3]
[null,null,null,"M5BPU2",3]
[null,null,null,"M5FZW2",3]
[null,null,null,"M7PC58",3]
[null,null,null,"M7SMT2",3]
[null,null,null,"M7TLI0",3]
[null,null,null,"M7XLS6",3]
[null,null,null,"M9MG38",3]
[null,null,null,"N1J6R0",3]
[null,null,null,"N1RE77",3]
[null,null,null,"N4UG34",3]
[null,null,null,"N4VNG1",3]
[null,null,null,"O62334",3]
[null,null,null,"GDE_HU",3]
[null,null,null,"GDE_RA",3]
[null,null,null,"GDE_YE",3]
[null,null,null,"Q0CN55",3]
[null,null,null,"Q0UXB3",3]
[null,null,null,"Q16UP5",3]
[null,null,null,"Q291U7",3]
[null,null,null,"Q2HF43",3]
[null,null,null,"GDE_CA",3]
[null,null,null,"Q2URC4",3]
[null,null,null,"Q4WKK6",3]
[null,null,null,"Q59MN2",3]
[null,null,null,"Q5KA48",3]
[null,null,null,"Q6BUY8",3]
[null,null,null,"Q6CGI3",3]
[null,null,null,"Q6FSK0",3]
[null,null,null,"Q758N1",3]
[null,null,null,"Q7KVP4",3]
[null,null,null,"Q7PX40",3]
[null,null,null,"Q7SED5",3]
[null,null,null,"Q86BS7",3]
[null,null,null,"Q9W2H8",3]
[null,null,null,"R0I5E7",3]
[null,null,null,"R1ENZ2",3]
[null,null,null,"R4X711",3]
[null,null,null,"R7YY15",3]
[null,null,null,"R8BET4",3]
[null,null,null,"R9PE26",3]
[null,null,null,"S0DU02",3]
[null,null,null,"S2JV67",3]
[null,null,null,"S3BXP7",3]
[null,null,null,"S3CNJ0",3]
[null,null,null,"S6F5Y1",3]
[null,null,null,"S7Q397",3]
[null,null,null,"S7RTJ5",3]
[null,null,null,"S7ZFX6",3]
[null,null,null,"S8AGT1",3]
[null,null,null,"S8FR05",3]
[null,null,null,"T0K3Z4",3]
[null,null,null,"T1EEV2",3]
[null,null,null,"T1HQC3",3]
[null,null,null,"T1J746",3]
[null,null,null,"T1JUG0",3]
[null,null,null,"T5AFY6",3]
[null,null,null,"U1HM11",3]
[null,null,null,"U3JI98",3]
[null,null,null,"U4KYJ0",3]
[null,null,null,"U4UE49",3]
[null,null,null,"U5H663",3]
[null,null,null,"U6P8Q5",3]
[null,null,null,"U7PL85",3]
[null,null,null,"V2YXH6",3]
[null,null,null,"V4ALP1",3]
[null,null,null,"V5E335",3]
[null,null,null,"V5FW38",3]
[null,null,null,"V8PGB5",3]
[null,null,null,"W1QEP6",3]
[null,null,null,"W2RR45",3]
[null,null,null,"W3XM16",3]
[null,null,null,"W4K1A9",3]
[null,null,null,"W4Z8R1",3]
[null,null,null,"W5J8I8",3]
[null,null,null,"W5LYQ0",3]
[null,null,null,"W5Q8M3",3]
[null,null,null,"W6MVH6",3]
[null,null,null,"W6PTC3",3]
[null,null,null,"W6YBJ1",3]
[null,null,null,"W7M3J4",3]
[null,null,null,"W9CJT9",3]
[null,null,null,"W9W037",3]
[null,null,null,"W9W9T5",3]
[null,null,null,"W9XNU5",3]
[null,null,null,"W9ZPQ4",3]
[null,null,null,"X0CNT7",3]
[null,null,null,"X0JVI1",3]

{"sheet":"1+2_tab","index":6,"n_rows":701,"n_cols":15,"rows_kept":701,"cut":false,"hidden":true,"merged":[]}
["AC","Архитектура","Длина домена PF14702","Таксономия","--","--2","--3","--4","--5","--6","--7","--8","--9","--10","--11"]
["A0A010QTU3",{"$f":" VLOOKUP(A2, architecture!D$2:E$73, 2, FALSE)","v":{"$error":"#N/A"}},{"$f":"VLOOKUP(A2, 'PF14702'!B2:C2682, 2, FALSE)","v":1568},{"$f":"VLOOKUP($A2, taxonomy!$B$2:$T$695, 6, FALSE)","v":"Eukaryota"},{"$f":"VLOOKUP($A2, taxonomy!$B$2:$T$695, 7, FALSE)","v":" Fungi"},{"$f":"VLOOKUP($A2, taxonomy!$B$2:$T$695, 8, FALSE)","v":" Dikarya"},{"$f":"VLOOKUP($A2, taxonomy!$B$2:$T$695, 9, FALSE)","v":" Ascomycota"},{"$f":"VLOOKUP($A2, taxonomy!$B$2:$T$695, 10, FALSE)","v":" Pezizomycotina"},{"$f":"VLOOKUP($A2, taxonomy!$B$2:$T$695, 11, FALSE)","v":"Sordariomycetes"},{"$f":"VLOOKUP($A2, taxonomy!$B$2:$T$695, 12, FALSE)","v":" Hypocreomycetidae"},{"$f":"VLOOKUP($A2, taxonomy!$B$2:$T$695, 13, FALSE)","v":" Glomerellales"},{"$f":"VLOOKUP($A2, taxonomy!$B$2:$T$695, 14, FALSE)","v":" Glomerellaceae"},{"$f":"VLOOKUP($A2, taxonomy!$B$2:$T$695, 15, FALSE)","v":"Colletotrichum."},{"$f":"VLOOKUP($A2, taxonomy!$B$2:$T$695, 16, FALSE)","v":0},{"$f":"VLOOKUP($A2, taxonomy!$B$2:$T$695, 17, FALSE)","v":0}]
["A0A016T824",{"$f":" VLOOKUP(A3, architecture!D$2:E$73, 2, FALSE)","v":1},{"$f":"VLOOKUP(A3, 'PF14702'!B3:C2683, 2, FALSE)","v":1191},{"$f":"VLOOKUP($A3, taxonomy!$B$2:$T$695, 6, FALSE)","v":"Eukaryota"},{"$f":"VLOOKUP($A3, taxonomy!$B$2:$T$695, 7, FALSE)","v":" Metazoa"},{"$f":"VLOOKUP($A3, taxonomy!$B$2:$T$695, 8, FALSE)","v":" Ecdysozoa"},{"$f":"VLOOKUP($A3, taxonomy!$B$2:$T$695, 9, FALSE)","v":" Nematoda"},{"$f":"VLOOKUP($A3, taxonomy!$B$2:$T$695, 10, FALSE)","v":" Chromadorea"},{"$f":"VLOOKUP($A3, taxonomy!$B$2:$T$695, 11, FALSE)","v":" Rhabditida"},{"$f":"VLOOKUP($A3, taxonomy!$B$2:$T$695, 12, FALSE)","v":"Strongylida"},{"$f":"VLOOKUP($A3, taxonomy!$B$2:$T$695, 13, FALSE)","v":" Ancylostomatoidea"},{"$f":"VLOOKUP($A3, taxonomy!$B$2:$T$695, 14, FALSE)","v":" Ancylostomatidae"},{"$f":"VLOOKUP($A3, taxonomy!$B$2:$T$695, 15, FALSE)","v":" Ancylostomatinae"},{"$f":"VLOOKUP($A3, taxonomy!$B$2:$T$695, 16, FALSE)","v":"Ancylostoma."},{"$f":"VLOOKUP($A3, taxonomy!$B$2:$T$695, 17, FALSE)","v":0}]
["A0A016T8T2",{"$f":" VLOOKUP(A4, architecture!D$2:E$73, 2, FALSE)","v":1},{"$f":"VLOOKUP(A4, 'PF14702'!B4:C2684, 2, FALSE)","v":1119},{"$f":"VLOOKUP($A4, taxonomy!$B$2:$T$695, 6, FALSE)","v":"Eukaryota"},{"$f":"VLOOKUP($A4, taxonomy!$B$2:$T$695, 7, FALSE)","v":" Metazoa"},{"$f":"VLOOKUP($A4, taxonomy!$B$2:$T$695, 8, FALSE)","v":" Ecdysozoa"},{"$f":"VLOOKUP($A4, taxonomy!$B$2:$T$695, 9, FALSE)","v":" Nematoda"},{"$f":"VLOOKUP($A4, taxonomy!$B$2:$T$695, 10, FALSE)","v":" Chromadorea"},{"$f":"VLOOKUP($A4, taxonomy!$B$2:$T$695, 11, FALSE)","v":" Rhabditida"},{"$f":"VLOOKUP($A4, taxonomy!$B$2:$T$695, 12, FALSE)","v":"Strongylida"},{"$f":"VLOOKUP($A4, taxonomy!$B$2:$T$695, 13, FALSE)","v":" Ancylostomatoidea"},{"$f":"VLOOKUP($A4, taxonomy!$B$2:$T$695, 14, FALSE)","v":" Ancylostomatidae"},{"$f":"VLOOKUP($A4, taxonomy!$B$2:$T$695, 15, FALSE)","v":" Ancylostomatinae"},{"$f":"VLOOKUP($A4, taxonomy!$B$2:$T$695, 16, FALSE)","v":"Ancylostoma."},{"$f":"VLOOKUP($A4, taxonomy!$B$2:$T$695, 17, FALSE)","v":0}]
["A0A016T905",{"$f":" VLOOKUP(A5, architecture!D$2:E$73, 2, FALSE)","v":1},{"$f":"VLOOKUP(A5, 'PF14702'!B5:C2685, 2, FALSE)","v":1215},{"$f":"VLOOKUP($A5, taxonomy!$B$2:$T$695, 6, FALSE)","v":"Eukaryota"},{"$f":"VLOOKUP($A5, taxonomy!$B$2:$T$695, 7, FALSE)","v":" Metazoa"},{"$f":"VLOOKUP($A5, taxonomy!$B$2:$T$695, 8, FALSE)","v":" Ecdysozoa"},{"$f":"VLOOKUP($A5, taxonomy!$B$2:$T$695, 9, FALSE)","v":" Nematoda"},{"$f":"VLOOKUP($A5, taxonomy!$B$2:$T$695, 10, FALSE)","v":" Chromadorea"},{"$f":"VLOOKUP($A5, taxonomy!$B$2:$T$695, 11, FALSE)","v":" Rhabditida"},{"$f":"VLOOKUP($A5, taxonomy!$B$2:$T$695, 12, FALSE)","v":"Strongylida"},{"$f":"VLOOKUP($A5, taxonomy!$B$2:$T$695, 13, FALSE)","v":" Ancylostomatoidea"},{"$f":"VLOOKUP($A5, taxonomy!$B$2:$T$695, 14, FALSE)","v":" Ancylostomatidae"},{"$f":"VLOOKUP($A5, taxonomy!$B$2:$T$695, 15, FALSE)","v":" Ancylostomatinae"},{"$f":"VLOOKUP($A5, taxonomy!$B$2:$T$695, 16, FALSE)","v":"Ancylostoma."},{"$f":"VLOOKUP($A5, taxonomy!$B$2:$T$695, 17, FALSE)","v":0}]
["A0A023AYK6",{"$f":" VLOOKUP(A6, architecture!D$2:E$73, 2, FALSE)","v":{"$error":"#N/A"}},{"$f":"VLOOKUP(A6, 'PF14702'!B6:C2686, 2, FALSE)","v":1800},{"$f":"VLOOKUP($A6, taxonomy!$B$2:$T$695, 6, FALSE)","v":"Eukaryota"},{"$f":"VLOOKUP($A6, taxonomy!$B$2:$T$695, 7, FALSE)","v":" Alveolata"},{"$f":"VLOOKUP($A6, taxonomy!$B$2:$T$695, 8, FALSE)","v":" Apicomplexa"},{"$f":"VLOOKUP($A6, taxonomy!$B$2:$T$695, 9, FALSE)","v":" Conoidasida"},{"$f":"VLOOKUP($A6, taxonomy!$B$2:$T$695, 10, FALSE)","v":" Gregarinasina"},{"$f":"VLOOKUP($A6, taxonomy!$B$2:$T$695, 11, FALSE)","v":"Eugregarinorida"},{"$f":"VLOOKUP($A6, taxonomy!$B$2:$T$695, 12, FALSE)","v":" Gregarinidae"},{"$f":"VLOOKUP($A6, taxonomy!$B$2:$T$695, 13, FALSE)","v":" Gregarina."},{"$f":"VLOOKUP($A6, taxonomy!$B$2:$T$695, 14, FALSE)","v":0},{"$f":"VLOOKUP($A6, taxonomy!$B$2:$T$695, 15, FALSE)","v":0},{"$f":"VLOOKUP($A6, taxonomy!$B$2:$T$695, 16, FALSE)","v":0},{"$f":"VLOOKUP($A6, taxonomy!$B$2:$T$695, 17, FALSE)","v":0}]
["A0A026W7M0",{"$f":" VLOOKUP(A7, architecture!D$2:E$73, 2, FALSE)","v":{"$error":"#N/A"}},{"$f":"VLOOKUP(A7, 'PF14702'!B7:C2687, 2, FALSE)","v":1968},{"$f":"VLOOKUP($A7, taxonomy!$B$2:$T$695, 6, FALSE)","v":"Eukaryota"},{"$f":"VLOOKUP($A7, taxonomy!$B$2:$T$695, 7, FALSE)","v":" Metazoa"},{"$f":"VLOOKUP($A7, taxonomy!$B$2:$T$695, 8, FALSE)","v":" Ecdysozoa"},{"$f":"VLOOKUP($A7, taxonomy!$B$2:$T$695, 9, FALSE)","v":" Arthropoda"},{"$f":"VLOOKUP($A7, taxonomy!$B$2:$T$695, 10, FALSE)","v":" Hexapoda"},{"$f":"VLOOKUP($A7, taxonomy!$B$2:$T$695, 11, FALSE)","v":" Insecta"},{"$f":"VLOOKUP($A7, taxonomy!$B$2:$T$695, 12, FALSE)","v":"Pterygota"},{"$f":"VLOOKUP($A7, taxonomy!$B$2:$T$695, 13, FALSE)","v":" Neoptera"},{"$f":"VLOOKUP($A7, taxonomy!$B$2:$T$695, 14, FALSE)","v":" Holometabola"},{"$f":"VLOOKUP($A7, taxonomy!$B$2:$T$695, 15, FALSE)","v":" Hymenoptera"},{"$f":"VLOOKUP($A7, taxonomy!$B$2:$T$695, 16, FALSE)","v":" Apocrita"},{"$f":"VLOOKUP($A7, taxonomy!$B$2:$T$695, 17, FALSE)","v":" Aculeata"}]
["A0A044QLY7",{"$f":" VLOOKUP(A8, architecture!D$2:E$73, 2, FALSE)","v":1},{"$f":"VLOOKUP(A8, 'PF14702'!B8:C2688, 2, FALSE)","v":1497},{"$f":"VLOOKUP($A8, taxonomy!$B$2:$T$695, 6, FALSE)","v":"Eukaryota"},{"$f":"VLOOKUP($A8, taxonomy!$B$2:$T$695, 7, FALSE)","v":" Metazoa"},{"$f":"VLOOKUP($A8, taxonomy!$B$2:$T$695, 8, FALSE)","v":" Ecdysozoa"},{"$f":"VLOOKUP($A8, taxonomy!$B$2:$T$695, 9, FALSE)","v":" Nematoda"},{"$f":"VLOOKUP($A8, taxonomy!$B$2:$T$695, 10, FALSE)","v":" Chromadorea"},{"$f":"VLOOKUP($A8, taxonomy!$B$2:$T$695, 11, FALSE)","v":" Spirurida"},{"$f":"VLOOKUP($A8, taxonomy!$B$2:$T$695, 12, FALSE)","v":"Spiruromorpha"},{"$f":"VLOOKUP($A8, taxonomy!$B$2:$T$695, 13, FALSE)","v":" Filarioidea"},{"$f":"VLOOKUP($A8, taxonomy!$B$2:$T$695, 14, FALSE)","v":" Onchocercidae"},{"$f":"VLOOKUP($A8, taxonomy!$B$2:$T$695, 15, FALSE)","v":" Onchocerca."},{"$f":"VLOOKUP($A8, taxonomy!$B$2:$T$695, 16, FALSE)","v":0},{"$f":"VLOOKUP($A8, taxonomy!$B$2:$T$695, 17, FALSE)","v":0}]
["A0A058Z1Q6",{"$f":" VLOOKUP(A9, architecture!D$2:E$73, 2, FALSE)","v":{"$error":"#N/A"}},{"$f":"VLOOKUP(A9, 'PF14702'!B9:C2689, 2, FALSE)","v":2944},{"$f":"VLOOKUP($A9, taxonomy!$B$2:$T$695, 6, FALSE)","v":"Eukaryota"},{"$f":"VLOOKUP($A9, taxonomy!$B$2:$T$695, 7, FALSE)","v":" Nucleariidae and Fonticula group"},{"$f":"VLOOKUP($A9, taxonomy!$B$2:$T$695, 8, FALSE)","v":" Fonticula."},{"$f":"VLOOKUP($A9, taxonomy!$B$2:$T$695, 9, FALSE)","v":0},{"$f":"VLOOKUP($A9, taxonomy!$B$2:$T$695, 10, FALSE)","v":0},{"$f":"VLOOKUP($A9, taxonomy!$B$2:$T$695, 11, FALSE)","v":0},{"$f":"VLOOKUP($A9, taxonomy!$B$2:$T$695, 12, FALSE)","v":0},{"$f":"VLOOKUP($A9, taxonomy!$B$2:$T$695, 13, FALSE)","v":0},{"$f":"VLOOKUP($A9, taxonomy!$B$2:$T$695, 14, FALSE)","v":0},{"$f":"VLOOKUP($A9, taxonomy!$B$2:$T$695, 15, FALSE)","v":0},{"$f":"VLOOKUP($A9, taxonomy!$B$2:$T$695, 16, FALSE)","v":0},{"$f":"VLOOKUP($A9, taxonomy!$B$2:$T$695, 17, FALSE)","v":0}]
["A0A059JG84",{"$f":" VLOOKUP(A10, architecture!D$2:E$73, 2, FALSE)","v":{"$error":"#N/A"}},{"$f":"VLOOKUP(A10, 'PF14702'!B10:C2690, 2, FALSE)","v":1523},{"$f":"VLOOKUP($A10, taxonomy!$B$2:$T$695, 6, FALSE)","v":"Eukaryota"},{"$f":"VLOOKUP($A10, taxonomy!$B$2:$T$695, 7, FALSE)","v":" Fungi"},{"$f":"VLOOKUP($A10, taxonomy!$B$2:$T$695, 8, FALSE)","v":" Dikarya"},{"$f":"VLOOKUP($A10, taxonomy!$B$2:$T$695, 9, FALSE)","v":" Ascomycota"},{"$f":"VLOOKUP($A10, taxonomy!$B$2:$T$695, 10, FALSE)","v":" Pezizomycotina"},{"$f":"VLOOKUP($A10, taxonomy!$B$2:$T$695, 11, FALSE)","v":" Eurotiomycetes"},{"$f":"VLOOKUP($A10, taxonomy!$B$2:$T$695, 12, FALSE)","v":"Eurotiomycetidae"},{"$f":"VLOOKUP($A10, taxonomy!$B$2:$T$695, 13, FALSE)","v":" Onygenales"},{"$f":"VLOOKUP($A10, taxonomy!$B$2:$T$695, 14, FALSE)","v":" Arthrodermataceae"},{"$f":"VLOOKUP($A10, taxonomy!$B$2:$T$695, 15, FALSE)","v":" Trichophyton."},{"$f":"VLOOKUP($A10, taxonomy!$B$2:$T$695, 16, FALSE)","v":0},{"$f":"VLOOKUP($A10, taxonomy!$B$2:$T$695, 17, FALSE)","v":0}]
["A0A060SM73",{"$f":" VLOOKUP(A11, architecture!D$2:E$73, 2, FALSE)","v":{"$error":"#N/A"}},{"$f":"VLOOKUP(A11, 'PF14702'!B11:C2691, 2, FALSE)","v":1597},{"$f":"VLOOKUP($A11, taxonomy!$B$2:$T$695, 6, FALSE)","v":"Eukaryota"},{"$f":"VLOOKUP($A11, taxonomy!$B$2:$T$695, 7, FALSE)","v":" Fungi"},{"$f":"VLOOKUP($A11, taxonomy!$B$2:$T$695, 8, FALSE)","v":" Dikarya"},{"$f":"VLOOKUP($A11, taxonomy!$B$2:$T$695, 9, FALSE)","v":" Basidiomycota"},{"$f":"VLOOKUP($A11, taxonomy!$B$2:$T$695, 10, FALSE)","v":" Agaricomycotina"},{"$f":"VLOOKUP($A11, taxonomy!$B$2:$T$695, 11, FALSE)","v":"Agaricomycetes"},{"$f":"VLOOKUP($A11, taxonomy!$B$2:$T$695, 12, FALSE)","v":" Polyporales"},{"$f":"VLOOKUP($A11, taxonomy!$B$2:$T$695, 13, FALSE)","v":" Polyporaceae"},{"$f":"VLOOKUP($A11, taxonomy!$B$2:$T$695, 14, FALSE)","v":" Trametes."},{"$f":"VLOOKUP($A11, taxonomy!$B$2:$T$695, 15, FALSE)","v":0},{"$f":"VLOOKUP($A11, taxonomy!$B$2:$T$695, 16, FALSE)","v":0},{"$f":"VLOOKUP($A11, taxonomy!$B$2:$T$695, 17, FALSE)","v":0}]
["A0A061HK78",{"$f":" VLOOKUP(A12, architecture!D$2:E$73, 2, FALSE)","v":{"$error":"#N/A"}},{"$f":"VLOOKUP(A12, 'PF14702'!B12:C2692, 2, FALSE)","v":1558},{"$f":"VLOOKUP($A12, taxonomy!$B$2:$T$695, 6, FALSE)","v":"Eukaryota"},{"$f":"VLOOKUP($A12, taxonomy!$B$2:$T$695, 7, FALSE)","v":" Fungi"},{"$f":"VLOOKUP($A12, taxonomy!$B$2:$T$695, 8, FALSE)","v":" Dikarya"},{"$f":"VLOOKUP($A12, taxonomy!$B$2:$T$695, 9, FALSE)","v":" Ascomycota"},{"$f":"VLOOKUP($A12, taxonomy!$B$2:$T$695, 10, FALSE)","v":" Pezizomycotina"},{"$f":"VLOOKUP($A12, taxonomy!$B$2:$T$695, 11, FALSE)","v":" Leotiomycetes"},{"$f":"VLOOKUP($A12, taxonomy!$B$2:$T$695, 12, FALSE)","v":"Erysiphales"},{"$f":"VLOOKUP($A12, taxonomy!$B$2:$T$695, 13, FALSE)","v":" Erysiphaceae"},{"$f":"VLOOKUP($A12, taxonomy!$B$2:$T$695, 14, FALSE)","v":" Blumeria."},{"$f":"VLOOKUP($A12, taxonomy!$B$2:$T$695, 15, FALSE)","v":0},{"$f":"VLOOKUP($A12, taxonomy!$B$2:$T$695, 16, FALSE)","v":0},{"$f":"VLOOKUP($A12, taxonomy!$B$2:$T$695, 17, FALSE)","v":0}]
["A0A063C724",{"$f":" VLOOKUP(A13, architecture!D$2:E$73, 2, FALSE)","v":{"$error":"#N/A"}},{"$f":"VLOOKUP(A13, 'PF14702'!B13:C2693, 2, FALSE)","v":1582},{"$f":"VLOOKUP($A13, taxonomy!$B$2:$T$695, 6, FALSE)","v":"Eukaryota"},{"$f":"VLOOKUP($A13, taxonomy!$B$2:$T$695, 7, FALSE)","v":" Fungi"},{"$f":"VLOOKUP($A13, taxonomy!$B$2:$T$695, 8, FALSE)","v":" Dikarya"},{"$f":"VLOOKUP($A13, taxonomy!$B$2:$T$695, 9, FALSE)","v":" Ascomycota"},{"$f":"VLOOKUP($A13, taxonomy!$B$2:$T$695, 10, FALSE)","v":" Pezizomycotina"},{"$f":"VLOOKUP($A13, taxonomy!$B$2:$T$695, 11, FALSE)","v":"Sordariomycetes"},{"$f":"VLOOKUP($A13, taxonomy!$B$2:$T$695, 12, FALSE)","v":" Hypocreomycetidae"},{"$f":"VLOOKUP($A13, taxonomy!$B$2:$T$695, 13, FALSE)","v":" Hypocreales"},{"$f":"VLOOKUP($A13, taxonomy!$B$2:$T$695, 14, FALSE)","v":"Hypocreales incertae sedis"},{"$f":"VLOOKUP($A13, taxonomy!$B$2:$T$695, 15, FALSE)","v":" Ustilaginoidea."},{"$f":"VLOOKUP($A13, taxonomy!$B$2:$T$695, 16, FALSE)","v":0},{"$f":"VLOOKUP($A13, taxonomy!$B$2:$T$695, 17, FALSE)","v":0}]
["A0A066VMY2",{"$f":" VLOOKUP(A14, architecture!D$2:E$73, 2, FALSE)","v":{"$error":"#N/A"}},{"$f":"VLOOKUP(A14, 'PF14702'!B14:C2694, 2, FALSE)","v":1552},{"$f":"VLOOKUP($A14, taxonomy!$B$2:$T$695, 6, FALSE)","v":"Eukaryota"},{"$f":"VLOOKUP($A14, taxonomy!$B$2:$T$695, 7, FALSE)","v":" Fungi"},{"$f":"VLOOKUP($A14, taxonomy!$B$2:$T$695, 8, FALSE)","v":" Dikarya"},{"$f":"VLOOKUP($A14, taxonomy!$B$2:$T$695, 9, FALSE)","v":" Basidiomycota"},{"$f":"VLOOKUP($A14, taxonomy!$B$2:$T$695, 10, FALSE)","v":" Agaricomycotina"},{"$f":"VLOOKUP($A14, taxonomy!$B$2:$T$695, 11, FALSE)","v":"Agaricomycetes"},{"$f":"VLOOKUP($A14, taxonomy!$B$2:$T$695, 12, FALSE)","v":" Cantharellales"},{"$f":"VLOOKUP($A14, taxonomy!$B$2:$T$695, 13, FALSE)","v":" Ceratobasidiaceae"},{"$f":"VLOOKUP($A14, taxonomy!$B$2:$T$695, 14, FALSE)","v":" Rhizoctonia."},{"$f":"VLOOKUP($A14, taxonomy!$B$2:$T$695, 15, FALSE)","v":0},{"$f":"VLOOKUP($A14, taxonomy!$B$2:$T$695, 16, FALSE)","v":0},{"$f":"VLOOKUP($A14, taxonomy!$B$2:$T$695, 17, FALSE)","v":0}]
["A0A066VPH2",{"$f":" VLOOKUP(A15, architecture!D$2:E$73, 2, FALSE)","v":{"$error":"#N/A"}},{"$f":"VLOOKUP(A15, 'PF14702'!B15:C2695, 2, FALSE)","v":1557},{"$f":"VLOOKUP($A15, taxonomy!$B$2:$T$695, 6, FALSE)","v":"Eukaryota"},{"$f":"VLOOKUP($A15, taxonomy!$B$2:$T$695, 7, FALSE)","v":" Fungi"},{"$f":"VLOOKUP($A15, taxonomy!$B$2:$T$695, 8, FALSE)","v":" Dikarya"},{"$f":"VLOOKUP($A15, taxonomy!$B$2:$T$695, 9, FALSE)","v":" Basidiomycota"},{"$f":"VLOOKUP($A15, taxonomy!$B$2:$T$695, 10, FALSE)","v":" Ustilaginomycotina"},{"$f":"VLOOKUP($A15, taxonomy!$B$2:$T$695, 11, FALSE)","v":"Exobasidiomycetes"},{"$f":"VLOOKUP($A15, taxonomy!$B$2:$T$695, 12, FALSE)","v":" Georgefischeriales"},{"$f":"VLOOKUP($A15, taxonomy!$B$2:$T$695, 13, FALSE)","v":" Tilletiariaceae"},{"$f":"VLOOKUP($A15, taxonomy!$B$2:$T$695, 14, FALSE)","v":" Tilletiaria."},{"$f":"VLOOKUP($A15, taxonomy!$B$2:$T$695, 15, FALSE)","v":0},{"$f":"VLOOKUP($A15, taxonomy!$B$2:$T$695, 16, FALSE)","v":0},{"$f":"VLOOKUP($A15, taxonomy!$B$2:$T$695, 17, FALSE)","v":0}]
["A0A066XER0",{"$f":" VLOOKUP(A16, architecture!D$2:E$73, 2, FALSE)","v":{"$error":"#N/A"}},{"$f":"VLOOKUP(A16, 'PF14702'!B16:C2696, 2, FALSE)","v":1568},{"$f":"VLOOKUP($A16, taxonomy!$B$2:$T$695, 6, FALSE)","v":"Eukaryota"},{"$f":"VLOOKUP($A16, taxonomy!$B$2:$T$695, 7, FALSE)","v":" Fungi"},{"$f":"VLOOKUP($A16, taxonomy!$B$2:$T$695, 8, FALSE)","v":" Dikarya"},{"$f":"VLOOKUP($A16, taxonomy!$B$2:$T$695, 9, FALSE)","v":" Ascomycota"},{"$f":"VLOOKUP($A16, taxonomy!$B$2:$T$695, 10, FALSE)","v":" Pezizomycotina"},{"$f":"VLOOKUP($A16, taxonomy!$B$2:$T$695, 11, FALSE)","v":"Sordariomycetes"},{"$f":"VLOOKUP($A16, taxonomy!$B$2:$T$695, 12, FALSE)","v":" Hypocreomycetidae"},{"$f":"VLOOKUP($A16, taxonomy!$B$2:$T$695, 13, FALSE)","v":" Glomerellales"},{"$f":"VLOOKUP($A16, taxonomy!$B$2:$T$695, 14, FALSE)","v":" Glomerellaceae"},{"$f":"VLOOKUP($A16, taxonomy!$B$2:$T$695, 15, FALSE)","v":"Colletotrichum."},{"$f":"VLOOKUP($A16, taxonomy!$B$2:$T$695, 16, FALSE)","v":0},{"$f":"VLOOKUP($A16, taxonomy!$B$2:$T$695, 17, FALSE)","v":0}]
["A0A067MEC5",{"$f":" VLOOKUP(A17, architecture!D$2:E$73, 2, FALSE)","v":{"$error":"#N/A"}},{"$f":"VLOOKUP(A17, 'PF14702'!B17:C2697, 2, FALSE)","v":1597},{"$f":"VLOOKUP($A17, taxonomy!$B$2:$T$695, 6, FALSE)","v":"Eukaryota"},{"$f":"VLOOKUP($A17, taxonomy!$B$2:$T$695, 7, FALSE)","v":" Fungi"},{"$f":"VLOOKUP($A17, taxonomy!$B$2:$T$695, 8, FALSE)","v":" Dikarya"},{"$f":"VLOOKUP($A17, taxonomy!$B$2:$T$695, 9, FALSE)","v":" Basidiomycota"},{"$f":"VLOOKUP($A17, taxonomy!$B$2:$T$695, 10, FALSE)","v":" Agaricomycotina"},{"$f":"VLOOKUP($A17, taxonomy!$B$2:$T$695, 11, FALSE)","v":"Agaricomycetes"},{"$f":"VLOOKUP($A17, taxonomy!$B$2:$T$695, 12, FALSE)","v":" Cantharellales"},{"$f":"VLOOKUP($A17, taxonomy!$B$2:$T$695, 13, FALSE)","v":" Botryobasidiaceae"},{"$f":"VLOOKUP($A17, taxonomy!$B$2:$T$695, 14, FALSE)","v":" Botryobasidium."},{"$f":"VLOOKUP($A17, taxonomy!$B$2:$T$695, 15, FALSE)","v":0},{"$f":"VLOOKUP($A17, taxonomy!$B$2:$T$695, 16, FALSE)","v":0},{"$f":"VLOOKUP($A17, taxonomy!$B$2:$T$695, 17, FALSE)","v":0}]
["A0A067NTR2",{"$f":" VLOOKUP(A18, architecture!D$2:E$73, 2, FALSE)","v":{"$error":"#N/A"}},{"$f":"VLOOKUP(A18, 'PF14702'!B18:C2698, 2, FALSE)","v":1591},{"$f":"VLOOKUP($A18, taxonomy!$B$2:$T$695, 6, FALSE)","v":"Eukaryota"},{"$f":"VLOOKUP($A18, taxonomy!$B$2:$T$695, 7, FALSE)","v":" Fungi"},{"$f":"VLOOKUP($A18, taxonomy!$B$2:$T$695, 8, FALSE)","v":" Dikarya"},{"$f":"VLOOKUP($A18, taxonomy!$B$2:$T$695, 9, FALSE)","v":" Basidiomycota"},{"$f":"VLOOKUP($A18, taxonomy!$B$2:$T$695, 10, FALSE)","v":" Agaricomycotina"},{"$f":"VLOOKUP($A18, taxonomy!$B$2:$T$695, 11, FALSE)","v":"Agaricomycetes"},{"$f":"VLOOKUP($A18, taxonomy!$B$2:$T$695, 12, FALSE)","v":" Agaricomycetidae"},{"$f":"VLOOKUP($A18, taxonomy!$B$2:$T$695, 13, FALSE)","v":" Agaricales"},{"$f":"VLOOKUP($A18, taxonomy!$B$2:$T$695, 14, FALSE)","v":" Pleurotaceae"},{"$f":"VLOOKUP($A18, taxonomy!$B$2:$T$695, 15, FALSE)","v":" Pleurotus."},{"$f":"VLOOKUP($A18, taxonomy!$B$2:$T$695, 16, FALSE)","v":0},{"$f":"VLOOKUP($A18, taxonomy!$B$2:$T$695, 17, FALSE)","v":0}]
["A0A067Q6F6",{"$f":" VLOOKUP(A19, architecture!D$2:E$73, 2, FALSE)","v":{"$error":"#N/A"}},{"$f":"VLOOKUP(A19, 'PF14702'!B19:C2699, 2, FALSE)","v":1608},{"$f":"VLOOKUP($A19, taxonomy!$B$2:$T$695, 6, FALSE)","v":"Eukaryota"},{"$f":"VLOOKUP($A19, taxonomy!$B$2:$T$695, 7, FALSE)","v":" Fungi"},{"$f":"VLOOKUP($A19, taxonomy!$B$2:$T$695, 8, FALSE)","v":" Dikarya"},{"$f":"VLOOKUP($A19, taxonomy!$B$2:$T$695, 9, FALSE)","v":" Basidiomycota"},{"$f":"VLOOKUP($A19, taxonomy!$B$2:$T$695, 10, FALSE)","v":" Agaricomycotina"},{"$f":"VLOOKUP($A19, taxonomy!$B$2:$T$695, 11, FALSE)","v":"Agaricomycetes"},{"$f":"VLOOKUP($A19, taxonomy!$B$2:$T$695, 12, FALSE)","v":" Agaricomycetidae"},{"$f":"VLOOKUP($A19, taxonomy!$B$2:$T$695, 13, FALSE)","v":" Jaapiales"},{"$f":"VLOOKUP($A19, taxonomy!$B$2:$T$695, 14, FALSE)","v":" Jaapiaceae"},{"$f":"VLOOKUP($A19, taxonomy!$B$2:$T$695, 15, FALSE)","v":" Jaapia."},{"$f":"VLOOKUP($A19, taxonomy!$B$2:$T$695, 16, FALSE)","v":0},{"$f":"VLOOKUP($A19, taxonomy!$B$2:$T$695, 17, FALSE)","v":0}]
["A0A067R0B7",{"$f":" VLOOKUP(A20, architecture!D$2:E$73, 2, FALSE)","v":{"$error":"#N/A"}},{"$f":"VLOOKUP(A20, 'PF14702'!B20:C2700, 2, FALSE)","v":1500},{"$f":"VLOOKUP($A20, taxonomy!$B$2:$T$695, 6, FALSE)","v":"Eukaryota"},{"$f":"VLOOKUP($A20, taxonomy!$B$2:$T$695, 7, FALSE)","v":" Metazoa"},{"$f":"VLOOKUP($A20, taxonomy!$B$2:$T$695, 8, FALSE)","v":" Ecdysozoa"},{"$f":"VLOOKUP($A20, taxonomy!$B$2:$T$695, 9, FALSE)","v":" Arthropoda"},{"$f":"VLOOKUP($A20, taxonomy!$B$2:$T$695, 10, FALSE)","v":" Hexapoda"},{"$f":"VLOOKUP($A20, taxonomy!$B$2:$T$695, 11, FALSE)","v":" Insecta"},{"$f":"VLOOKUP($A20, taxonomy!$B$2:$T$695, 12, FALSE)","v":"Pterygota"},{"$f":"VLOOKUP($A20, taxonomy!$B$2:$T$695, 13, FALSE)","v":" Neoptera"},{"$f":"VLOOKUP($A20, taxonomy!$B$2:$T$695, 14, FALSE)","v":" Polyneoptera"},{"$f":"VLOOKUP($A20, taxonomy!$B$2:$T$695, 15, FALSE)","v":" Dictyoptera"},{"$f":"VLOOKUP($A20, taxonomy!$B$2:$T$695, 16, FALSE)","v":" Blattodea"},{"$f":"VLOOKUP($A20, taxonomy!$B$2:$T$695, 17, FALSE)","v":" Blattoidea"}]
["A0A067S4G4",{"$f":" VLOOKUP(A21, architecture!D$2:E$73, 2, FALSE)","v":{"$error":"#N/A"}},{"$f":"VLOOKUP(A21, 'PF14702'!B21:C2701, 2, FALSE)","v":1593},{"$f":"VLOOKUP($A21, taxonomy!$B$2:$T$695, 6, FALSE)","v":"Eukaryota"},{"$f":"VLOOKUP($A21, taxonomy!$B$2:$T$695, 7, FALSE)","v":" Fungi"},{"$f":"VLOOKUP($A21, taxonomy!$B$2:$T$695, 8, FALSE)","v":" Dikarya"},{"$f":"VLOOKUP($A21, taxonomy!$B$2:$T$695, 9, FALSE)","v":" Basidiomycota"},{"$f":"VLOOKUP($A21, taxonomy!$B$2:$T$695, 10, FALSE)","v":" Agaricomycotina"},{"$f":"VLOOKUP($A21, taxonomy!$B$2:$T$695, 11, FALSE)","v":"Agaricomycetes"},{"$f":"VLOOKUP($A21, taxonomy!$B$2:$T$695, 12, FALSE)","v":" Agaricomycetidae"},{"$f":"VLOOKUP($A21, taxonomy!$B$2:$T$695, 13, FALSE)","v":" Agaricales"},{"$f":"VLOOKUP($A21, taxonomy!$B$2:$T$695, 14, FALSE)","v":" Strophariaceae"},{"$f":"VLOOKUP($A21, taxonomy!$B$2:$T$695, 15, FALSE)","v":"Galerina."},{"$f":"VLOOKUP($A21, taxonomy!$B$2:$T$695, 16, FALSE)","v":0},{"$f":"VLOOKUP($A21, taxonomy!$B$2:$T$695, 17, FALSE)","v":0}]
["A0A068S7K8",{"$f":" VLOOKUP(A22, architecture!D$2:E$73, 2, FALSE)","v":{"$error":"#N/A"}},{"$f":"VLOOKUP(A22, 'PF14702'!B22:C2702, 2, FALSE)","v":1533},{"$f":"VLOOKUP($A22, taxonomy!$B$2:$T$695, 6, FALSE)","v":"Eukaryota"},{"$f":"VLOOKUP($A22, taxonomy!$B$2:$T$695, 7, FALSE)","v":" Fungi"},{"$f":"VLOOKUP($A22, taxonomy!$B$2:$T$695, 8, FALSE)","v":" Mucoromycota"},{"$f":"VLOOKUP($A22, taxonomy!$B$2:$T$695, 9, FALSE)","v":" Mucoromycotina"},{"$f":"VLOOKUP($A22, taxonomy!$B$2:$T$695, 10, FALSE)","v":" Mucorales"},{"$f":"VLOOKUP($A22, taxonomy!$B$2:$T$695, 11, FALSE)","v":"Lichtheimiaceae"},{"$f":"VLOOKUP($A22, taxonomy!$B$2:$T$695, 12, FALSE)","v":" Lichtheimia."},{"$f":"VLOOKUP($A22, taxonomy!$B$2:$T$695, 13, FALSE)","v":0},{"$f":"VLOOKUP($A22, taxonomy!$B$2:$T$695, 14, FALSE)","v":0},{"$f":"VLOOKUP($A22, taxonomy!$B$2:$T$695, 15, FALSE)","v":0},{"$f":"VLOOKUP($A22, taxonomy!$B$2:$T$695, 16, FALSE)","v":0},{"$f":"VLOOKUP($A22, taxonomy!$B$2:$T$695, 17, FALSE)","v":0}]
["A0A068S963",{"$f":" VLOOKUP(A23, architecture!D$2:E$73, 2, FALSE)","v":{"$error":"#N/A"}},{"$f":"VLOOKUP(A23, 'PF14702'!B23:C2703, 2, FALSE)","v":1501},{"$f":"VLOOKUP($A23, taxonomy!$B$2:$T$695, 6, FALSE)","v":"Eukaryota"},{"$f":"VLOOKUP($A23, taxonomy!$B$2:$T$695, 7, FALSE)","v":" Fungi"},{"$f":"VLOOKUP($A23, taxonomy!$B$2:$T$695, 8, FALSE)","v":" Mucoromycota"},{"$f":"VLOOKUP($A23, taxonomy!$B$2:$T$695, 9, FALSE)","v":" Mucoromycotina"},{"$f":"VLOOKUP($A23, taxonomy!$B$2:$T$695, 10, FALSE)","v":" Mucorales"},{"$f":"VLOOKUP($A23, taxonomy!$B$2:$T$695, 11, FALSE)","v":"Lichtheimiaceae"},{"$f":"VLOOKUP($A23, taxonomy!$B$2:$T$695, 12, FALSE)","v":" Lichtheimia."},{"$f":"VLOOKUP($A23, taxonomy!$B$2:$T$695, 13, FALSE)","v":0},{"$f":"VLOOKUP($A23, taxonomy!$B$2:$T$695, 14, FALSE)","v":0},{"$f":"VLOOKUP($A23, taxonomy!$B$2:$T$695, 15, FALSE)","v":0},{"$f":"VLOOKUP($A23, taxonomy!$B$2:$T$695, 16, FALSE)","v":0},{"$f":"VLOOKUP($A23, taxonomy!$B$2:$T$695, 17, FALSE)","v":0}]
["A0A068X5G4",{"$f":" VLOOKUP(A24, architecture!D$2:E$73, 2, FALSE)","v":{"$error":"#N/A"}},{"$f":"VLOOKUP(A24, 'PF14702'!B24:C2704, 2, FALSE)","v":1667},{"$f":"VLOOKUP($A24, taxonomy!$B$2:$T$695, 6, FALSE)","v":"Eukaryota"},{"$f":"VLOOKUP($A24, taxonomy!$B$2:$T$695, 7, FALSE)","v":" Metazoa"},{"$f":"VLOOKUP($A24, taxonomy!$B$2:$T$695, 8, FALSE)","v":" Platyhelminthes"},{"$f":"VLOOKUP($A24, taxonomy!$B$2:$T$695, 9, FALSE)","v":" Cestoda"},{"$f":"VLOOKUP($A24, taxonomy!$B$2:$T$695, 10, FALSE)","v":" Eucestoda"},{"$f":"VLOOKUP($A24, taxonomy!$B$2:$T$695, 11, FALSE)","v":"Cyclophyllidea"},{"$f":"VLOOKUP($A24, taxonomy!$B$2:$T$695, 12, FALSE)","v":" Hymenolepididae"},{"$f":"VLOOKUP($A24, taxonomy!$B$2:$T$695, 13, FALSE)","v":" Hymenolepis."},{"$f":"VLOOKUP($A24, taxonomy!$B$2:$T$695, 14, FALSE)","v":0},{"$f":"VLOOKUP($A24, taxonomy!$B$2:$T$695, 15, FALSE)","v":0},{"$f":"VLOOKUP($A24, taxonomy!$B$2:$T$695, 16, FALSE)","v":0},{"$f":"VLOOKUP($A24, taxonomy!$B$2:$T$695, 17, FALSE)","v":0}]
["A0A068Y9Z0",{"$f":" VLOOKUP(A25, architecture!D$2:E$73, 2, FALSE)","v":1},{"$f":"VLOOKUP(A25, 'PF14702'!B25:C2705, 2, FALSE)","v":1565},{"$f":"VLOOKUP($A25, taxonomy!$B$2:$T$695, 6, FALSE)","v":"Eukaryota"},{"$f":"VLOOKUP($A25, taxonomy!$B$2:$T$695, 7, FALSE)","v":" Metazoa"},{"$f":"VLOOKUP($A25, taxonomy!$B$2:$T$695, 8, FALSE)","v":" Platyhelminthes"},{"$f":"VLOOKUP($A25, taxonomy!$B$2:$T$695, 9, FALSE)","v":" Cestoda"},{"$f":"VLOOKUP($A25, taxonomy!$B$2:$T$695, 10, FALSE)","v":" Eucestoda"},{"$f":"VLOOKUP($A25, taxonomy!$B$2:$T$695, 11, FALSE)","v":"Cyclophyllidea"},{"$f":"VLOOKUP($A25, taxonomy!$B$2:$T$695, 12, FALSE)","v":" Taeniidae"},{"$f":"VLOOKUP($A25, taxonomy!$B$2:$T$695, 13, FALSE)","v":" Echinococcus."},{"$f":"VLOOKUP($A25, taxonomy!$B$2:$T$695, 14, FALSE)","v":0},{"$f":"VLOOKUP($A25, taxonomy!$B$2:$T$695, 15, FALSE)","v":0},{"$f":"VLOOKUP($A25, taxonomy!$B$2:$T$695, 16, FALSE)","v":0},{"$f":"VLOOKUP($A25, taxonomy!$B$2:$T$695, 17, FALSE)","v":0}]
["A0A072P3F0",{"$f":" VLOOKUP(A26, architecture!D$2:E$73, 2, FALSE)","v":{"$error":"#N/A"}},{"$f":"VLOOKUP(A26, 'PF14702'!B26:C2706, 2, FALSE)","v":1553},{"$f":"VLOOKUP($A26, taxonomy!$B$2:$T$695, 6, FALSE)","v":"Eukaryota"},{"$f":"VLOOKUP($A26, taxonomy!$B$2:$T$695, 7, FALSE)","v":" Fungi"},{"$f":"VLOOKUP($A26, taxonomy!$B$2:$T$695, 8, FALSE)","v":" Dikarya"},{"$f":"VLOOKUP($A26, taxonomy!$B$2:$T$695, 9, FALSE)","v":" Ascomycota"},{"$f":"VLOOKUP($A26, taxonomy!$B$2:$T$695, 10, FALSE)","v":" Pezizomycotina"},{"$f":"VLOOKUP($A26, taxonomy!$B$2:$T$695, 11, FALSE)","v":" Eurotiomycetes"},{"$f":"VLOOKUP($A26, taxonomy!$B$2:$T$695, 12, FALSE)","v":"Chaetothyriomycetidae"},{"$f":"VLOOKUP($A26, taxonomy!$B$2:$T$695, 13, FALSE)","v":" Chaetothyriales"},{"$f":"VLOOKUP($A26, taxonomy!$B$2:$T$695, 14, FALSE)","v":" Herpotrichiellaceae"},{"$f":"VLOOKUP($A26, taxonomy!$B$2:$T$695, 15, FALSE)","v":"Exophiala."},{"$f":"VLOOKUP($A26, taxonomy!$B$2:$T$695, 16, FALSE)","v":0},{"$f":"VLOOKUP($A26, taxonomy!$B$2:$T$695, 17, FALSE)","v":0}]
["A0A074SCB3",{"$f":" VLOOKUP(A27, architecture!D$2:E$73, 2, FALSE)","v":{"$error":"#N/A"}},{"$f":"VLOOKUP(A27, 'PF14702'!B27:C2707, 2, FALSE)","v":1609},{"$f":"VLOOKUP($A27, taxonomy!$B$2:$T$695, 6, FALSE)","v":"Eukaryota"},{"$f":"VLOOKUP($A27, taxonomy!$B$2:$T$695, 7, FALSE)","v":" Fungi"},{"$f":"VLOOKUP($A27, taxonomy!$B$2:$T$695, 8, FALSE)","v":" Dikarya"},{"$f":"VLOOKUP($A27, taxonomy!$B$2:$T$695, 9, FALSE)","v":" Basidiomycota"},{"$f":"VLOOKUP($A27, taxonomy!$B$2:$T$695, 10, FALSE)","v":" Agaricomycotina"},{"$f":"VLOOKUP($A27, taxonomy!$B$2:$T$695, 11, FALSE)","v":"Agaricomycetes"},{"$f":"VLOOKUP($A27, taxonomy!$B$2:$T$695, 12, FALSE)","v":" Cantharellales"},{"$f":"VLOOKUP($A27, taxonomy!$B$2:$T$695, 13, FALSE)","v":" Ceratobasidiaceae"},{"$f":"VLOOKUP($A27, taxonomy!$B$2:$T$695, 14, FALSE)","v":" Rhizoctonia."},{"$f":"VLOOKUP($A27, taxonomy!$B$2:$T$695, 15, FALSE)","v":0},{"$f":"VLOOKUP($A27, taxonomy!$B$2:$T$695, 16, FALSE)","v":0},{"$f":"VLOOKUP($A27, taxonomy!$B$2:$T$695, 17, FALSE)","v":0}]
["A0A074TF13",{"$f":" VLOOKUP(A28, architecture!D$2:E$73, 2, FALSE)","v":{"$error":"#N/A"}},{"$f":"VLOOKUP(A28, 'PF14702'!B28:C2708, 2, FALSE)","v":1877},{"$f":"VLOOKUP($A28, taxonomy!$B$2:$T$695, 6, FALSE)","v":"Eukaryota"},{"$f":"VLOOKUP($A28, taxonomy!$B$2:$T$695, 7, FALSE)","v":" Alveolata"},{"$f":"VLOOKUP($A28, taxonomy!$B$2:$T$695, 8, FALSE)","v":" Apicomplexa"},{"$f":"VLOOKUP($A28, taxonomy!$B$2:$T$695, 9, FALSE)","v":" Conoidasida"},{"$f":"VLOOKUP($A28, taxonomy!$B$2:$T$695, 10, FALSE)","v":" Coccidia"},{"$f":"VLOOKUP($A28, taxonomy!$B$2:$T$695, 11, FALSE)","v":"Eucoccidiorida"},{"$f":"VLOOKUP($A28, taxonomy!$B$2:$T$695, 12, FALSE)","v":" Eimeriorina"},{"$f":"VLOOKUP($A28, taxonomy!$B$2:$T$695, 13, FALSE)","v":" Sarcocystidae"},{"$f":"VLOOKUP($A28, taxonomy!$B$2:$T$695, 14, FALSE)","v":" Hammondia."},{"$f":"VLOOKUP($A28, taxonomy!$B$2:$T$695, 15, FALSE)","v":0},{"$f":"VLOOKUP($A28, taxonomy!$B$2:$T$695, 16, FALSE)","v":0},{"$f":"VLOOKUP($A28, taxonomy!$B$2:$T$695, 17, FALSE)","v":0}]
["A0A074WED3",{"$f":" VLOOKUP(A29, architecture!D$2:E$73, 2, FALSE)","v":{"$error":"#N/A"}},{"$f":"VLOOKUP(A29, 'PF14702'!B29:C2709, 2, FALSE)","v":1541},{"$f":"VLOOKUP($A29, taxonomy!$B$2:$T$695, 6, FALSE)","v":"Eukaryota"},{"$f":"VLOOKUP($A29, taxonomy!$B$2:$T$695, 7, FALSE)","v":" Fungi"},{"$f":"VLOOKUP($A29, taxonomy!$B$2:$T$695, 8, FALSE)","v":" Dikarya"},{"$f":"VLOOKUP($A29, taxonomy!$B$2:$T$695, 9, FALSE)","v":" Ascomycota"},{"$f":"VLOOKUP($A29, taxonomy!$B$2:$T$695, 10, FALSE)","v":" Pezizomycotina"},{"$f":"VLOOKUP($A29, taxonomy!$B$2:$T$695, 11, FALSE)","v":"Dothideomycetes"},{"$f":"VLOOKUP($A29, taxonomy!$B$2:$T$695, 12, FALSE)","v":" Dothideomycetidae"},{"$f":"VLOOKUP($A29, taxonomy!$B$2:$T$695, 13, FALSE)","v":" Dothideales"},{"$f":"VLOOKUP($A29, taxonomy!$B$2:$T$695, 14, FALSE)","v":" Saccotheciaceae"},{"$f":"VLOOKUP($A29, taxonomy!$B$2:$T$695, 15, FALSE)","v":"Aureobasidium."},{"$f":"VLOOKUP($A29, taxonomy!$B$2:$T$695, 16, FALSE)","v":0},{"$f":"VLOOKUP($A29, taxonomy!$B$2:$T$695, 17, FALSE)","v":0}]
["A0A074X1S4",{"$f":" VLOOKUP(A30, architecture!D$2:E$73, 2, FALSE)","v":{"$error":"#N/A"}},{"$f":"VLOOKUP(A30, 'PF14702'!B30:C2710, 2, FALSE)","v":1541},{"$f":"VLOOKUP($A30, taxonomy!$B$2:$T$695, 6, FALSE)","v":"Eukaryota"},{"$f":"VLOOKUP($A30, taxonomy!$B$2:$T$695, 7, FALSE)","v":" Fungi"},{"$f":"VLOOKUP($A30, taxonomy!$B$2:$T$695, 8, FALSE)","v":" Dikarya"},{"$f":"VLOOKUP($A30, taxonomy!$B$2:$T$695, 9, FALSE)","v":" Ascomycota"},{"$f":"VLOOKUP($A30, taxonomy!$B$2:$T$695, 10, FALSE)","v":" Pezizomycotina"},{"$f":"VLOOKUP($A30, taxonomy!$B$2:$T$695, 11, FALSE)","v":"Dothideomycetes"},{"$f":"VLOOKUP($A30, taxonomy!$B$2:$T$695, 12, FALSE)","v":" Dothideomycetidae"},{"$f":"VLOOKUP($A30, taxonomy!$B$2:$T$695, 13, FALSE)","v":" Dothideales"},{"$f":"VLOOKUP($A30, taxonomy!$B$2:$T$695, 14, FALSE)","v":" Saccotheciaceae"},{"$f":"VLOOKUP($A30, taxonomy!$B$2:$T$695, 15, FALSE)","v":"Aureobasidium."},{"$f":"VLOOKUP($A30, taxonomy!$B$2:$T$695, 16, FALSE)","v":0},{"$f":"VLOOKUP($A30, taxonomy!$B$2:$T$695, 17, FALSE)","v":0}]
["A0A074Y8R4",{"$f":" VLOOKUP(A31, architecture!D$2:E$73, 2, FALSE)","v":{"$error":"#N/A"}},{"$f":"VLOOKUP(A31, 'PF14702'!B31:C2711, 2, FALSE)","v":1541},{"$f":"VLOOKUP($A31, taxonomy!$B$2:$T$695, 6, FALSE)","v":"Eukaryota"},{"$f":"VLOOKUP($A31, taxonomy!$B$2:$T$695, 7, FALSE)","v":" Fungi"},{"$f":"VLOOKUP($A31, taxonomy!$B$2:$T$695, 8, FALSE)","v":" Dikarya"},{"$f":"VLOOKUP($A31, taxonomy!$B$2:$T$695, 9, FALSE)","v":" Ascomycota"},{"$f":"VLOOKUP($A31, taxonomy!$B$2:$T$695, 10, FALSE)","v":" Pezizomycotina"},{"$f":"VLOOKUP($A31, taxonomy!$B$2:$T$695, 11, FALSE)","v":"Dothideomycetes"},{"$f":"VLOOKUP($A31, taxonomy!$B$2:$T$695, 12, FALSE)","v":" Dothideomycetidae"},{"$f":"VLOOKUP($A31, taxonomy!$B$2:$T$695, 13, FALSE)","v":" Dothideales"},{"$f":"VLOOKUP($A31, taxonomy!$B$2:$T$695, 14, FALSE)","v":" Saccotheciaceae"},{"$f":"VLOOKUP($A31, taxonomy!$B$2:$T$695, 15, FALSE)","v":"Aureobasidium."},{"$f":"VLOOKUP($A31, taxonomy!$B$2:$T$695, 16, FALSE)","v":0},{"$f":"VLOOKUP($A31, taxonomy!$B$2:$T$695, 17, FALSE)","v":0}]
["A0A074YD67",{"$f":" VLOOKUP(A32, architecture!D$2:E$73, 2, FALSE)","v":{"$error":"#N/A"}},{"$f":"VLOOKUP(A32, 'PF14702'!B32:C2712, 2, FALSE)","v":1541},{"$f":"VLOOKUP($A32, taxonomy!$B$2:$T$695, 6, FALSE)","v":"Eukaryota"},{"$f":"VLOOKUP($A32, taxonomy!$B$2:$T$695, 7, FALSE)","v":" Fungi"},{"$f":"VLOOKUP($A32, taxonomy!$B$2:$T$695, 8, FALSE)","v":" Dikarya"},{"$f":"VLOOKUP($A32, taxonomy!$B$2:$T$695, 9, FALSE)","v":" Ascomycota"},{"$f":"VLOOKUP($A32, taxonomy!$B$2:$T$695, 10, FALSE)","v":" Pezizomycotina"},{"$f":"VLOOKUP($A32, taxonomy!$B$2:$T$695, 11, FALSE)","v":"Dothideomycetes"},{"$f":"VLOOKUP($A32, taxonomy!$B$2:$T$695, 12, FALSE)","v":" Dothideomycetidae"},{"$f":"VLOOKUP($A32, taxonomy!$B$2:$T$695, 13, FALSE)","v":" Dothideales"},{"$f":"VLOOKUP($A32, taxonomy!$B$2:$T$695, 14, FALSE)","v":" Saccotheciaceae"},{"$f":"VLOOKUP($A32, taxonomy!$B$2:$T$695, 15, FALSE)","v":"Aureobasidium."},{"$f":"VLOOKUP($A32, taxonomy!$B$2:$T$695, 16, FALSE)","v":0},{"$f":"VLOOKUP($A32, taxonomy!$B$2:$T$695, 17, FALSE)","v":0}]
["A0A075A357",{"$f":" VLOOKUP(A33, architecture!D$2:E$73, 2, FALSE)","v":{"$error":"#N/A"}},{"$f":"VLOOKUP(A33, 'PF14702'!B33:C2713, 2, FALSE)","v":1693},{"$f":"VLOOKUP($A33, taxonomy!$B$2:$T$695, 6, FALSE)","v":"Eukaryota"},{"$f":"VLOOKUP($A33, taxonomy!$B$2:$T$695, 7, FALSE)","v":" Metazoa"},{"$f":"VLOOKUP($A33, taxonomy!$B$2:$T$695, 8, FALSE)","v":" Platyhelminthes"},{"$f":"VLOOKUP($A33, taxonomy!$B$2:$T$695, 9, FALSE)","v":" Trematoda"},{"$f":"VLOOKUP($A33, taxonomy!$B$2:$T$695, 10, FALSE)","v":" Digenea"},{"$f":"VLOOKUP($A33, taxonomy!$B$2:$T$695, 11, FALSE)","v":"Opisthorchiida"},{"$f":"VLOOKUP($A33, taxonomy!$B$2:$T$695, 12, FALSE)","v":" Opisthorchiata"},{"$f":"VLOOKUP($A33, taxonomy!$B$2:$T$695, 13, FALSE)","v":" Opisthorchiidae"},{"$f":"VLOOKUP($A33, taxonomy!$B$2:$T$695, 14, FALSE)","v":" Opisthorchis."},{"$f":"VLOOKUP($A33, taxonomy!$B$2:$T$695, 15, FALSE)","v":0},{"$f":"VLOOKUP($A33, taxonomy!$B$2:$T$695, 16, FALSE)","v":0},{"$f":"VLOOKUP($A33, taxonomy!$B$2:$T$695, 17, FALSE)","v":0}]
["A0A075AYU9",{"$f":" VLOOKUP(A34, architecture!D$2:E$73, 2, FALSE)","v":{"$error":"#N/A"}},{"$f":"VLOOKUP(A34, 'PF14702'!B34:C2714, 2, FALSE)","v":1618},{"$f":"VLOOKUP($A34, taxonomy!$B$2:$T$695, 6, FALSE)","v":"Eukaryota"},{"$f":"VLOOKUP($A34, taxonomy!$B$2:$T$695, 7, FALSE)","v":" Fungi"},{"$f":"VLOOKUP($A34, taxonomy!$B$2:$T$695, 8, FALSE)","v":" Cryptomycota"},{"$f":"VLOOKUP($A34, taxonomy!$B$2:$T$695, 9, FALSE)","v":" Rozella."},{"$f":"VLOOKUP($A34, taxonomy!$B$2:$T$695, 10, FALSE)","v":0},{"$f":"VLOOKUP($A34, taxonomy!$B$2:$T$695, 11, FALSE)","v":0},{"$f":"VLOOKUP($A34, taxonomy!$B$2:$T$695, 12, FALSE)","v":0},{"$f":"VLOOKUP($A34, taxonomy!$B$2:$T$695, 13, FALSE)","v":0},{"$f":"VLOOKUP($A34, taxonomy!$B$2:$T$695, 14, FALSE)","v":0},{"$f":"VLOOKUP($A34, taxonomy!$B$2:$T$695, 15, FALSE)","v":0},{"$f":"VLOOKUP($A34, taxonomy!$B$2:$T$695, 16, FALSE)","v":0},{"$f":"VLOOKUP($A34, taxonomy!$B$2:$T$695, 17, FALSE)","v":0}]
["A0A077YY88",{"$f":" VLOOKUP(A35, architecture!D$2:E$73, 2, FALSE)","v":1},{"$f":"VLOOKUP(A35, 'PF14702'!B35:C2715, 2, FALSE)","v":1583},{"$f":"VLOOKUP($A35, taxonomy!$B$2:$T$695, 6, FALSE)","v":"Eukaryota"},{"$f":"VLOOKUP($A35, taxonomy!$B$2:$T$695, 7, FALSE)","v":" Metazoa"},{"$f":"VLOOKUP($A35, taxonomy!$B$2:$T$695, 8, FALSE)","v":" Ecdysozoa"},{"$f":"VLOOKUP($A35, taxonomy!$B$2:$T$695, 9, FALSE)","v":" Nematoda"},{"$f":"VLOOKUP($A35, taxonomy!$B$2:$T$695, 10, FALSE)","v":" Enoplea"},{"$f":"VLOOKUP($A35, taxonomy!$B$2:$T$695, 11, FALSE)","v":" Dorylaimia"},{"$f":"VLOOKUP($A35, taxonomy!$B$2:$T$695, 12, FALSE)","v":"Trichinellida"},{"$f":"VLOOKUP($A35, taxonomy!$B$2:$T$695, 13, FALSE)","v":" Trichuridae"},{"$f":"VLOOKUP($A35, taxonomy!$B$2:$T$695, 14, FALSE)","v":" Trichuris."},{"$f":"VLOOKUP($A35, taxonomy!$B$2:$T$695, 15, FALSE)","v":0},{"$f":"VLOOKUP($A35, taxonomy!$B$2:$T$695, 16, FALSE)","v":0},{"$f":"VLOOKUP($A35, taxonomy!$B$2:$T$695, 17, FALSE)","v":0}]
["A0A077Z661",{"$f":" VLOOKUP(A36, architecture!D$2:E$73, 2, FALSE)","v":{"$error":"#N/A"}},{"$f":"VLOOKUP(A36, 'PF14702'!B36:C2716, 2, FALSE)","v":1538},{"$f":"VLOOKUP($A36, taxonomy!$B$2:$T$695, 6, FALSE)","v":"Eukaryota"},{"$f":"VLOOKUP($A36, taxonomy!$B$2:$T$695, 7, FALSE)","v":" Metazoa"},{"$f":"VLOOKUP($A36, taxonomy!$B$2:$T$695, 8, FALSE)","v":" Ecdysozoa"},{"$f":"VLOOKUP($A36, taxonomy!$B$2:$T$695, 9, FALSE)","v":" Nematoda"},{"$f":"VLOOKUP($A36, taxonomy!$B$2:$T$695, 10, FALSE)","v":" Enoplea"},{"$f":"VLOOKUP($A36, taxonomy!$B$2:$T$695, 11, FALSE)","v":" Dorylaimia"},{"$f":"VLOOKUP($A36, taxonomy!$B$2:$T$695, 12, FALSE)","v":"Trichinellida"},{"$f":"VLOOKUP($A36, taxonomy!$B$2:$T$695, 13, FALSE)","v":" Trichuridae"},{"$f":"VLOOKUP($A36, taxonomy!$B$2:$T$695, 14, FALSE)","v":" Trichuris."},{"$f":"VLOOKUP($A36, taxonomy!$B$2:$T$695, 15, FALSE)","v":0},{"$f":"VLOOKUP($A36, taxonomy!$B$2:$T$695, 16, FALSE)","v":0},{"$f":"VLOOKUP($A36, taxonomy!$B$2:$T$695, 17, FALSE)","v":0}]
["A0A078A3A7",{"$f":" VLOOKUP(A37, architecture!D$2:E$73, 2, FALSE)","v":{"$error":"#N/A"}},{"$f":"VLOOKUP(A37, 'PF14702'!B37:C2717, 2, FALSE)","v":1661},{"$f":"VLOOKUP($A37, taxonomy!$B$2:$T$695, 6, FALSE)","v":"Eukaryota"},{"$f":"VLOOKUP($A37, taxonomy!$B$2:$T$695, 7, FALSE)","v":" Alveolata"},{"$f":"VLOOKUP($A37, taxonomy!$B$2:$T$695, 8, FALSE)","v":" Ciliophora"},{"$f":"VLOOKUP($A37, taxonomy!$B$2:$T$695, 9, FALSE)","v":" Intramacronucleata"},{"$f":"VLOOKUP($A37, taxonomy!$B$2:$T$695, 10, FALSE)","v":" Spirotrichea"},{"$f":"VLOOKUP($A37, taxonomy!$B$2:$T$695, 11, FALSE)","v":"Stichotrichia"},{"$f":"VLOOKUP($A37, taxonomy!$B$2:$T$695, 12, FALSE)","v":" Sporadotrichida"},{"$f":"VLOOKUP($A37, taxonomy!$B$2:$T$695, 13, FALSE)","v":" Oxytrichidae"},{"$f":"VLOOKUP($A37, taxonomy!$B$2:$T$695, 14, FALSE)","v":" Stylonychinae"},{"$f":"VLOOKUP($A37, taxonomy!$B$2:$T$695, 15, FALSE)","v":"Stylonychia."},{"$f":"VLOOKUP($A37, taxonomy!$B$2:$T$695, 16, FALSE)","v":0},{"$f":"VLOOKUP($A37, taxonomy!$B$2:$T$695, 17, FALSE)","v":0}]
["A0A078AI91",{"$f":" VLOOKUP(A38, architecture!D$2:E$73, 2, FALSE)","v":{"$error":"#N/A"}},{"$f":"VLOOKUP(A38, 'PF14702'!B38:C2718, 2, FALSE)","v":816},{"$f":"VLOOKUP($A38, taxonomy!$B$2:$T$695, 6, FALSE)","v":"Eukaryota"},{"$f":"VLOOKUP($A38, taxonomy!$B$2:$T$695, 7, FALSE)","v":" Alveolata"},{"$f":"VLOOKUP($A38, taxonomy!$B$2:$T$695, 8, FALSE)","v":" Ciliophora"},{"$f":"VLOOKUP($A38, taxonomy!$B$2:$T$695, 9, FALSE)","v":" Intramacronucleata"},{"$f":"VLOOKUP($A38, taxonomy!$B$2:$T$695, 10, FALSE)","v":" Spirotrichea"},{"$f":"VLOOKUP($A38, taxonomy!$B$2:$T$695, 11, FALSE)","v":"Stichotrichia"},{"$f":"VLOOKUP($A38, taxonomy!$B$2:$T$695, 12, FALSE)","v":" Sporadotrichida"},{"$f":"VLOOKUP($A38, taxonomy!$B$2:$T$695, 13, FALSE)","v":" Oxytrichidae"},{"$f":"VLOOKUP($A38, taxonomy!$B$2:$T$695, 14, FALSE)","v":" Stylonychinae"},{"$f":"VLOOKUP($A38, taxonomy!$B$2:$T$695, 15, FALSE)","v":"Stylonychia."},{"$f":"VLOOKUP($A38, taxonomy!$B$2:$T$695, 16, FALSE)","v":0},{"$f":"VLOOKUP($A38, taxonomy!$B$2:$T$695, 17, FALSE)","v":0}]
["A0A081CN43",{"$f":" VLOOKUP(A39, architecture!D$2:E$73, 2, FALSE)","v":{"$error":"#N/A"}},{"$f":"VLOOKUP(A39, 'PF14702'!B39:C2719, 2, FALSE)","v":1628},{"$f":"VLOOKUP($A39, taxonomy!$B$2:$T$695, 6, FALSE)","v":"Eukaryota"},{"$f":"VLOOKUP($A39, taxonomy!$B$2:$T$695, 7, FALSE)","v":" Fungi"},{"$f":"VLOOKUP($A39, taxonomy!$B$2:$T$695, 8, FALSE)","v":" Dikarya"},{"$f":"VLOOKUP($A39, taxonomy!$B$2:$T$695, 9, FALSE)","v":" Basidiomycota"},{"$f":"VLOOKUP($A39, taxonomy!$B$2:$T$695, 10, FALSE)","v":" Ustilaginomycotina"},{"$f":"VLOOKUP($A39, taxonomy!$B$2:$T$695, 11, FALSE)","v":"Ustilaginomycetes"},{"$f":"VLOOKUP($A39, taxonomy!$B$2:$T$695, 12, FALSE)","v":" Ustilaginales"},{"$f":"VLOOKUP($A39, taxonomy!$B$2:$T$695, 13, FALSE)","v":" Ustilaginaceae"},{"$f":"VLOOKUP($A39, taxonomy!$B$2:$T$695, 14, FALSE)","v":" Moesziomyces."},{"$f":"VLOOKUP($A39, taxonomy!$B$2:$T$695, 15, FALSE)","v":0},{"$f":"VLOOKUP($A39, taxonomy!$B$2:$T$695, 16, FALSE)","v":0},{"$f":"VLOOKUP($A39, taxonomy!$B$2:$T$695, 17, FALSE)","v":0}]
["A0A084GGA7",{"$f":" VLOOKUP(A40, architecture!D$2:E$73, 2, FALSE)","v":{"$error":"#N/A"}},{"$f":"VLOOKUP(A40, 'PF14702'!B40:C2720, 2, FALSE)","v":1566},{"$f":"VLOOKUP($A40, taxonomy!$B$2:$T$695, 6, FALSE)","v":"Eukaryota"},{"$f":"VLOOKUP($A40, taxonomy!$B$2:$T$695, 7, FALSE)","v":" Fungi"},{"$f":"VLOOKUP($A40, taxonomy!$B$2:$T$695, 8, FALSE)","v":" Dikarya"},{"$f":"VLOOKUP($A40, taxonomy!$B$2:$T$695, 9, FALSE)","v":" Ascomycota"},{"$f":"VLOOKUP($A40, taxonomy!$B$2:$T$695, 10, FALSE)","v":" Pezizomycotina"},{"$f":"VLOOKUP($A40, taxonomy!$B$2:$T$695, 11, FALSE)","v":"Sordariomycetes"},{"$f":"VLOOKUP($A40, taxonomy!$B$2:$T$695, 12, FALSE)","v":" Hypocreomycetidae"},{"$f":"VLOOKUP($A40, taxonomy!$B$2:$T$695, 13, FALSE)","v":" Microascales"},{"$f":"VLOOKUP($A40, taxonomy!$B$2:$T$695, 14, FALSE)","v":" Microascaceae"},{"$f":"VLOOKUP($A40, taxonomy!$B$2:$T$695, 15, FALSE)","v":"Scedosporium."},{"$f":"VLOOKUP($A40, taxonomy!$B$2:$T$695, 16, FALSE)","v":0},{"$f":"VLOOKUP($A40, taxonomy!$B$2:$T$695, 17, FALSE)","v":0}]
["A0A084QI67",{"$f":" VLOOKUP(A41, architecture!D$2:E$73, 2, FALSE)","v":{"$error":"#N/A"}},{"$f":"VLOOKUP(A41, 'PF14702'!B41:C2721, 2, FALSE)","v":1563},{"$f":"VLOOKUP($A41, taxonomy!$B$2:$T$695, 6, FALSE)","v":"Eukaryota"},{"$f":"VLOOKUP($A41, taxonomy!$B$2:$T$695, 7, FALSE)","v":" Fungi"},{"$f":"VLOOKUP($A41, taxonomy!$B$2:$T$695, 8, FALSE)","v":" Dikarya"},{"$f":"VLOOKUP($A41, taxonomy!$B$2:$T$695, 9, FALSE)","v":" Ascomycota"},{"$f":"VLOOKUP($A41, taxonomy!$B$2:$T$695, 10, FALSE)","v":" Pezizomycotina"},{"$f":"VLOOKUP($A41, taxonomy!$B$2:$T$695, 11, FALSE)","v":"Sordariomycetes"},{"$f":"VLOOKUP($A41, taxonomy!$B$2:$T$695, 12, FALSE)","v":" Hypocreomycetidae"},{"$f":"VLOOKUP($A41, taxonomy!$B$2:$T$695, 13, FALSE)","v":" Hypocreales"},{"$f":"VLOOKUP($A41, taxonomy!$B$2:$T$695, 14, FALSE)","v":" Stachybotryaceae"},{"$f":"VLOOKUP($A41, taxonomy!$B$2:$T$695, 15, FALSE)","v":"Stachybotrys."},{"$f":"VLOOKUP($A41, taxonomy!$B$2:$T$695, 16, FALSE)","v":0},{"$f":"VLOOKUP($A41, taxonomy!$B$2:$T$695, 17, FALSE)","v":0}]
["A0A084W0C3",{"$f":" VLOOKUP(A42, architecture!D$2:E$73, 2, FALSE)","v":{"$error":"#N/A"}},{"$f":"VLOOKUP(A42, 'PF14702'!B42:C2722, 2, FALSE)","v":1558},{"$f":"VLOOKUP($A42, taxonomy!$B$2:$T$695, 6, FALSE)","v":"Eukaryota"},{"$f":"VLOOKUP($A42, taxonomy!$B$2:$T$695, 7, FALSE)","v":" Metazoa"},{"$f":"VLOOKUP($A42, taxonomy!$B$2:$T$695, 8, FALSE)","v":" Ecdysozoa"},{"$f":"VLOOKUP($A42, taxonomy!$B$2:$T$695, 9, FALSE)","v":" Arthropoda"},{"$f":"VLOOKUP($A42, taxonomy!$B$2:$T$695, 10, FALSE)","v":" Hexapoda"},{"$f":"VLOOKUP($A42, taxonomy!$B$2:$T$695, 11, FALSE)","v":" Insecta"},{"$f":"VLOOKUP($A42, taxonomy!$B$2:$T$695, 12, FALSE)","v":"Pterygota"},{"$f":"VLOOKUP($A42, taxonomy!$B$2:$T$695, 13, FALSE)","v":" Neoptera"},{"$f":"VLOOKUP($A42, taxonomy!$B$2:$T$695, 14, FALSE)","v":" Holometabola"},{"$f":"VLOOKUP($A42, taxonomy!$B$2:$T$695, 15, FALSE)","v":" Diptera"},{"$f":"VLOOKUP($A42, taxonomy!$B$2:$T$695, 16, FALSE)","v":" Nematocera"},{"$f":"VLOOKUP($A42, taxonomy!$B$2:$T$695, 17, FALSE)","v":" Culicoidea"}]
["A0A085NDC7",{"$f":" VLOOKUP(A43, architecture!D$2:E$73, 2, FALSE)","v":1},{"$f":"VLOOKUP(A43, 'PF14702'!B43:C2723, 2, FALSE)","v":1627},{"$f":"VLOOKUP($A43, taxonomy!$B$2:$T$695, 6, FALSE)","v":"Eukaryota"},{"$f":"VLOOKUP($A43, taxonomy!$B$2:$T$695, 7, FALSE)","v":" Metazoa"},{"$f":"VLOOKUP($A43, taxonomy!$B$2:$T$695, 8, FALSE)","v":" Ecdysozoa"},{"$f":"VLOOKUP($A43, taxonomy!$B$2:$T$695, 9, FALSE)","v":" Nematoda"},{"$f":"VLOOKUP($A43, taxonomy!$B$2:$T$695, 10, FALSE)","v":" Enoplea"},{"$f":"VLOOKUP($A43, taxonomy!$B$2:$T$695, 11, FALSE)","v":" Dorylaimia"},{"$f":"VLOOKUP($A43, taxonomy!$B$2:$T$695, 12, FALSE)","v":"Trichinellida"},{"$f":"VLOOKUP($A43, taxonomy!$B$2:$T$695, 13, FALSE)","v":" Trichuridae"},{"$f":"VLOOKUP($A43, taxonomy!$B$2:$T$695, 14, FALSE)","v":" Trichuris."},{"$f":"VLOOKUP($A43, taxonomy!$B$2:$T$695, 15, FALSE)","v":0},{"$f":"VLOOKUP($A43, taxonomy!$B$2:$T$695, 16, FALSE)","v":0},{"$f":"VLOOKUP($A43, taxonomy!$B$2:$T$695, 17, FALSE)","v":0}]
["A0A085NML0",{"$f":" VLOOKUP(A44, architecture!D$2:E$73, 2, FALSE)","v":1},{"$f":"VLOOKUP(A44, 'PF14702'!B44:C2724, 2, FALSE)","v":1716},{"$f":"VLOOKUP($A44, taxonomy!$B$2:$T$695, 6, FALSE)","v":"Eukaryota"},{"$f":"VLOOKUP($A44, taxonomy!$B$2:$T$695, 7, FALSE)","v":" Metazoa"},{"$f":"VLOOKUP($A44, taxonomy!$B$2:$T$695, 8, FALSE)","v":" Ecdysozoa"},{"$f":"VLOOKUP($A44, taxonomy!$B$2:$T$695, 9, FALSE)","v":" Nematoda"},{"$f":"VLOOKUP($A44, taxonomy!$B$2:$T$695, 10, FALSE)","v":" Enoplea"},{"$f":"VLOOKUP($A44, taxonomy!$B$2:$T$695, 11, FALSE)","v":" Dorylaimia"},{"$f":"VLOOKUP($A44, taxonomy!$B$2:$T$695, 12, FALSE)","v":"Trichinellida"},{"$f":"VLOOKUP($A44, taxonomy!$B$2:$T$695, 13, FALSE)","v":" Trichuridae"},{"$f":"VLOOKUP($A44, taxonomy!$B$2:$T$695, 14, FALSE)","v":" Trichuris."},{"$f":"VLOOKUP($A44, taxonomy!$B$2:$T$695, 15, FALSE)","v":0},{"$f":"VLOOKUP($A44, taxonomy!$B$2:$T$695, 16, FALSE)","v":0},{"$f":"VLOOKUP($A44, taxonomy!$B$2:$T$695, 17, FALSE)","v":0}]
["A0A086THF9",{"$f":" VLOOKUP(A45, architecture!D$2:E$73, 2, FALSE)","v":{"$error":"#N/A"}},{"$f":"VLOOKUP(A45, 'PF14702'!B45:C2725, 2, FALSE)","v":1561},{"$f":"VLOOKUP($A45, taxonomy!$B$2:$T$695, 6, FALSE)","v":"Eukaryota"},{"$f":"VLOOKUP($A45, taxonomy!$B$2:$T$695, 7, FALSE)","v":" Fungi"},{"$f":"VLOOKUP($A45, taxonomy!$B$2:$T$695, 8, FALSE)","v":" Dikarya"},{"$f":"VLOOKUP($A45, taxonomy!$B$2:$T$695, 9, FALSE)","v":" Ascomycota"},{"$f":"VLOOKUP($A45, taxonomy!$B$2:$T$695, 10, FALSE)","v":" Pezizomycotina"},{"$f":"VLOOKUP($A45, taxonomy!$B$2:$T$695, 11, FALSE)","v":"Sordariomycetes"},{"$f":"VLOOKUP($A45, taxonomy!$B$2:$T$695, 12, FALSE)","v":" Hypocreomycetidae"},{"$f":"VLOOKUP($A45, taxonomy!$B$2:$T$695, 13, FALSE)","v":" Hypocreales"},{"$f":"VLOOKUP($A45, taxonomy!$B$2:$T$695, 14, FALSE)","v":"Hypocreales incertae sedis"},{"$f":"VLOOKUP($A45, taxonomy!$B$2:$T$695, 15, FALSE)","v":" Acremonium."},{"$f":"VLOOKUP($A45, taxonomy!$B$2:$T$695, 16, FALSE)","v":0},{"$f":"VLOOKUP($A45, taxonomy!$B$2:$T$695, 17, FALSE)","v":0}]
["A0A087QMK8",{"$f":" VLOOKUP(A46, architecture!D$2:E$73, 2, FALSE)","v":{"$error":"#N/A"}},{"$f":"VLOOKUP(A46, 'PF14702'!B46:C2726, 2, FALSE)","v":1504},{"$f":"VLOOKUP($A46, taxonomy!$B$2:$T$695, 6, FALSE)","v":"Eukaryota"},{"$f":"VLOOKUP($A46, taxonomy!$B$2:$T$695, 7, FALSE)","v":" Metazoa"},{"$f":"VLOOKUP($A46, taxonomy!$B$2:$T$695, 8, FALSE)","v":" Chordata"},{"$f":"VLOOKUP($A46, taxonomy!$B$2:$T$695, 9, FALSE)","v":" Craniata"},{"$f":"VLOOKUP($A46, taxonomy!$B$2:$T$695, 10, FALSE)","v":" Vertebrata"},{"$f":"VLOOKUP($A46, taxonomy!$B$2:$T$695, 11, FALSE)","v":" Euteleostomi"},{"$f":"VLOOKUP($A46, taxonomy!$B$2:$T$695, 12, FALSE)","v":"Archelosauria"},{"$f":"VLOOKUP($A46, taxonomy!$B$2:$T$695, 13, FALSE)","v":" Archosauria"},{"$f":"VLOOKUP($A46, taxonomy!$B$2:$T$695, 14, FALSE)","v":" Dinosauria"},{"$f":"VLOOKUP($A46, taxonomy!$B$2:$T$695, 15, FALSE)","v":" Saurischia"},{"$f":"VLOOKUP($A46, taxonomy!$B$2:$T$695, 16, FALSE)","v":" Theropoda"},{"$f":"VLOOKUP($A46, taxonomy!$B$2:$T$695, 17, FALSE)","v":"Coelurosauria"}]
["A0A087U9R3",{"$f":" VLOOKUP(A47, architecture!D$2:E$73, 2, FALSE)","v":2},{"$f":"VLOOKUP(A47, 'PF14702'!B47:C2727, 2, FALSE)","v":74},{"$f":"VLOOKUP($A47, taxonomy!$B$2:$T$695, 6, FALSE)","v":"Eukaryota"},{"$f":"VLOOKUP($A47, taxonomy!$B$2:$T$695, 7, FALSE)","v":" Metazoa"},{"$f":"VLOOKUP($A47, taxonomy!$B$2:$T$695, 8, FALSE)","v":" Ecdysozoa"},{"$f":"VLOOKUP($A47, taxonomy!$B$2:$T$695, 9, FALSE)","v":" Arthropoda"},{"$f":"VLOOKUP($A47, taxonomy!$B$2:$T$695, 10, FALSE)","v":" Chelicerata"},{"$f":"VLOOKUP($A47, taxonomy!$B$2:$T$695, 11, FALSE)","v":" Arachnida"},{"$f":"VLOOKUP($A47, taxonomy!$B$2:$T$695, 12, FALSE)","v":"Araneae"},{"$f":"VLOOKUP($A47, taxonomy!$B$2:$T$695, 13, FALSE)","v":" Araneomorphae"},{"$f":"VLOOKUP($A47, taxonomy!$B$2:$T$695, 14, FALSE)","v":" Entelegynae"},{"$f":"VLOOKUP($A47, taxonomy!$B$2:$T$695, 15, FALSE)","v":" Eresoidea"},{"$f":"VLOOKUP($A47, taxonomy!$B$2:$T$695, 16, FALSE)","v":" Eresidae"},{"$f":"VLOOKUP($A47, taxonomy!$B$2:$T$695, 17, FALSE)","v":" Stegodyphus."}]
["A0A087U9R4",{"$f":" VLOOKUP(A48, architecture!D$2:E$73, 2, FALSE)","v":2},{"$f":"VLOOKUP(A48, 'PF14702'!B48:C2728, 2, FALSE)","v":152},{"$f":"VLOOKUP($A48, taxonomy!$B$2:$T$695, 6, FALSE)","v":"Eukaryota"},{"$f":"VLOOKUP($A48, taxonomy!$B$2:$T$695, 7, FALSE)","v":" Metazoa"},{"$f":"VLOOKUP($A48, taxonomy!$B$2:$T$695, 8, FALSE)","v":" Ecdysozoa"},{"$f":"VLOOKUP($A48, taxonomy!$B$2:$T$695, 9, FALSE)","v":" Arthropoda"},{"$f":"VLOOKUP($A48, taxonomy!$B$2:$T$695, 10, FALSE)","v":" Chelicerata"},{"$f":"VLOOKUP($A48, taxonomy!$B$2:$T$695, 11, FALSE)","v":" Arachnida"},{"$f":"VLOOKUP($A48, taxonomy!$B$2:$T$695, 12, FALSE)","v":"Araneae"},{"$f":"VLOOKUP($A48, taxonomy!$B$2:$T$695, 13, FALSE)","v":" Araneomorphae"},{"$f":"VLOOKUP($A48, taxonomy!$B$2:$T$695, 14, FALSE)","v":" Entelegynae"},{"$f":"VLOOKUP($A48, taxonomy!$B$2:$T$695, 15, FALSE)","v":" Eresoidea"},{"$f":"VLOOKUP($A48, taxonomy!$B$2:$T$695, 16, FALSE)","v":" Eresidae"},{"$f":"VLOOKUP($A48, taxonomy!$B$2:$T$695, 17, FALSE)","v":" Stegodyphus."}]
["A0A087X458",{"$f":" VLOOKUP(A49, architecture!D$2:E$73, 2, FALSE)","v":{"$error":"#N/A"}},{"$f":"VLOOKUP(A49, 'PF14702'!B49:C2729, 2, FALSE)","v":1534},{"$f":"VLOOKUP($A49, taxonomy!$B$2:$T$695, 6, FALSE)","v":"Eukaryota"},{"$f":"VLOOKUP($A49, taxonomy!$B$2:$T$695, 7, FALSE)","v":" Metazoa"},{"$f":"VLOOKUP($A49, taxonomy!$B$2:$T$695, 8, FALSE)","v":" Chordata"},{"$f":"VLOOKUP($A49, taxonomy!$B$2:$T$695, 9, FALSE)","v":" Craniata"},{"$f":"VLOOKUP($A49, taxonomy!$B$2:$T$695, 10, FALSE)","v":" Vertebrata"},{"$f":"VLOOKUP($A49, taxonomy!$B$2:$T$695, 11, FALSE)","v":" Euteleostomi"},{"$f":"VLOOKUP($A49, taxonomy!$B$2:$T$695, 12, FALSE)","v":"Actinopterygii"},{"$f":"VLOOKUP($A49, taxonomy!$B$2:$T$695, 13, FALSE)","v":" Neopterygii"},{"$f":"VLOOKUP($A49, taxonomy!$B$2:$T$695, 14, FALSE)","v":" Teleostei"},{"$f":"VLOOKUP($A49, taxonomy!$B$2:$T$695, 15, FALSE)","v":" Neoteleostei"},{"$f":"VLOOKUP($A49, taxonomy!$B$2:$T$695, 16, FALSE)","v":" Acanthomorphata"},{"$f":"VLOOKUP($A49, taxonomy!$B$2:$T$695, 17, FALSE)","v":"Ovalentaria"}]
["A0A088ALS8",{"$f":" VLOOKUP(A50, architecture!D$2:E$73, 2, FALSE)","v":{"$error":"#N/A"}},{"$f":"VLOOKUP(A50, 'PF14702'!B50:C2730, 2, FALSE)","v":1556},{"$f":"VLOOKUP($A50, taxonomy!$B$2:$T$695, 6, FALSE)","v":"Eukaryota"},{"$f":"VLOOKUP($A50, taxonomy!$B$2:$T$695, 7, FALSE)","v":" Metazoa"},{"$f":"VLOOKUP($A50, taxonomy!$B$2:$T$695, 8, FALSE)","v":" Ecdysozoa"},{"$f":"VLOOKUP($A50, taxonomy!$B$2:$T$695, 9, FALSE)","v":" Arthropoda"},{"$f":"VLOOKUP($A50, taxonomy!$B$2:$T$695, 10, FALSE)","v":" Hexapoda"},{"$f":"VLOOKUP($A50, taxonomy!$B$2:$T$695, 11, FALSE)","v":" Insecta"},{"$f":"VLOOKUP($A50, taxonomy!$B$2:$T$695, 12, FALSE)","v":"Pterygota"},{"$f":"VLOOKUP($A50, taxonomy!$B$2:$T$695, 13, FALSE)","v":" Neoptera"},{"$f":"VLOOKUP($A50, taxonomy!$B$2:$T$695, 14, FALSE)","v":" Holometabola"},{"$f":"VLOOKUP($A50, taxonomy!$B$2:$T$695, 15, FALSE)","v":" Hymenoptera"},{"$f":"VLOOKUP($A50, taxonomy!$B$2:$T$695, 16, FALSE)","v":" Apocrita"},{"$f":"VLOOKUP($A50, taxonomy!$B$2:$T$695, 17, FALSE)","v":" Aculeata"}]
["A0A090L6T4",{"$f":" VLOOKUP(A51, architecture!D$2:E$73, 2, FALSE)","v":1},{"$f":"VLOOKUP(A51, 'PF14702'!B51:C2731, 2, FALSE)","v":1486},{"$f":"VLOOKUP($A51, taxonomy!$B$2:$T$695, 6, FALSE)","v":"Eukaryota"},{"$f":"VLOOKUP($A51, taxonomy!$B$2:$T$695, 7, FALSE)","v":" Metazoa"},{"$f":"VLOOKUP($A51, taxonomy!$B$2:$T$695, 8, FALSE)","v":" Ecdysozoa"},{"$f":"VLOOKUP($A51, taxonomy!$B$2:$T$695, 9, FALSE)","v":" Nematoda"},{"$f":"VLOOKUP($A51, taxonomy!$B$2:$T$695, 10, FALSE)","v":" Chromadorea"},{"$f":"VLOOKUP($A51, taxonomy!$B$2:$T$695, 11, FALSE)","v":" Tylenchida"},{"$f":"VLOOKUP($A51, taxonomy!$B$2:$T$695, 12, FALSE)","v":"Panagrolaimomorpha"},{"$f":"VLOOKUP($A51, taxonomy!$B$2:$T$695, 13, FALSE)","v":" Strongyloidoidea"},{"$f":"VLOOKUP($A51, taxonomy!$B$2:$T$695, 14, FALSE)","v":" Strongyloididae"},{"$f":"VLOOKUP($A51, taxonomy!$B$2:$T$695, 15, FALSE)","v":" Strongyloides."},{"$f":"VLOOKUP($A51, taxonomy!$B$2:$T$695, 16, FALSE)","v":0},{"$f":"VLOOKUP($A51, taxonomy!$B$2:$T$695, 17, FALSE)","v":0}]
["A0A091D443",{"$f":" VLOOKUP(A52, architecture!D$2:E$73, 2, FALSE)","v":{"$error":"#N/A"}},{"$f":"VLOOKUP(A52, 'PF14702'!B52:C2732, 2, FALSE)","v":1351},{"$f":"VLOOKUP($A52, taxonomy!$B$2:$T$695, 6, FALSE)","v":"Eukaryota"},{"$f":"VLOOKUP($A52, taxonomy!$B$2:$T$695, 7, FALSE)","v":" Metazoa"},{"$f":"VLOOKUP($A52, taxonomy!$B$2:$T$695, 8, FALSE)","v":" Chordata"},{"$f":"VLOOKUP($A52, taxonomy!$B$2:$T$695, 9, FALSE)","v":" Craniata"},{"$f":"VLOOKUP($A52, taxonomy!$B$2:$T$695, 10, FALSE)","v":" Vertebrata"},{"$f":"VLOOKUP($A52, taxonomy!$B$2:$T$695, 11, FALSE)","v":" Euteleostomi"},{"$f":"VLOOKUP($A52, taxonomy!$B$2:$T$695, 12, FALSE)","v":"Mammalia"},{"$f":"VLOOKUP($A52, taxonomy!$B$2:$T$695, 13, FALSE)","v":" Eutheria"},{"$f":"VLOOKUP($A52, taxonomy!$B$2:$T$695, 14, FALSE)","v":" Euarchontoglires"},{"$f":"VLOOKUP($A52, taxonomy!$B$2:$T$695, 15, FALSE)","v":" Glires"},{"$f":"VLOOKUP($A52, taxonomy!$B$2:$T$695, 16, FALSE)","v":" Rodentia"},{"$f":"VLOOKUP($A52, taxonomy!$B$2:$T$695, 17, FALSE)","v":"Hystricomorpha"}]
["A0A091EIV1",{"$f":" VLOOKUP(A53, architecture!D$2:E$73, 2, FALSE)","v":{"$error":"#N/A"}},{"$f":"VLOOKUP(A53, 'PF14702'!B53:C2733, 2, FALSE)","v":1517},{"$f":"VLOOKUP($A53, taxonomy!$B$2:$T$695, 6, FALSE)","v":"Eukaryota"},{"$f":"VLOOKUP($A53, taxonomy!$B$2:$T$695, 7, FALSE)","v":" Metazoa"},{"$f":"VLOOKUP($A53, taxonomy!$B$2:$T$695, 8, FALSE)","v":" Chordata"},{"$f":"VLOOKUP($A53, taxonomy!$B$2:$T$695, 9, FALSE)","v":" Craniata"},{"$f":"VLOOKUP($A53, taxonomy!$B$2:$T$695, 10, FALSE)","v":" Vertebrata"},{"$f":"VLOOKUP($A53, taxonomy!$B$2:$T$695, 11, FALSE)","v":" Euteleostomi"},{"$f":"VLOOKUP($A53, taxonomy!$B$2:$T$695, 12, FALSE)","v":"Archelosauria"},{"$f":"VLOOKUP($A53, taxonomy!$B$2:$T$695, 13, FALSE)","v":" Archosauria"},{"$f":"VLOOKUP($A53, taxonomy!$B$2:$T$695, 14, FALSE)","v":" Dinosauria"},{"$f":"VLOOKUP($A53, taxonomy!$B$2:$T$695, 15, FALSE)","v":" Saurischia"},{"$f":"VLOOKUP($A53, taxonomy!$B$2:$T$695, 16, FALSE)","v":" Theropoda"},{"$f":"VLOOKUP($A53, taxonomy!$B$2:$T$695, 17, FALSE)","v":"Coelurosauria"}]
["A0A091G6W5",{"$f":" VLOOKUP(A54, architecture!D$2:E$73, 2, FALSE)","v":{"$error":"#N/A"}},{"$f":"VLOOKUP(A54, 'PF14702'!B54:C2734, 2, FALSE)","v":1502},{"$f":"VLOOKUP($A54, taxonomy!$B$2:$T$695, 6, FALSE)","v":"Eukaryota"},{"$f":"VLOOKUP($A54, taxonomy!$B$2:$T$695, 7, FALSE)","v":" Metazoa"},{"$f":"VLOOKUP($A54, taxonomy!$B$2:$T$695, 8, FALSE)","v":" Chordata"},{"$f":"VLOOKUP($A54, taxonomy!$B$2:$T$695, 9, FALSE)","v":" Craniata"},{"$f":"VLOOKUP($A54, taxonomy!$B$2:$T$695, 10, FALSE)","v":" Vertebrata"},{"$f":"VLOOKUP($A54, taxonomy!$B$2:$T$695, 11, FALSE)","v":" Euteleostomi"},{"$f":"VLOOKUP($A54, taxonomy!$B$2:$T$695, 12, FALSE)","v":"Archelosauria"},{"$f":"VLOOKUP($A54, taxonomy!$B$2:$T$695, 13, FALSE)","v":" Archosauria"},{"$f":"VLOOKUP($A54, taxonomy!$B$2:$T$695, 14, FALSE)","v":" Dinosauria"},{"$f":"VLOOKUP($A54, taxonomy!$B$2:$T$695, 15, FALSE)","v":" Saurischia"},{"$f":"VLOOKUP($A54, taxonomy!$B$2:$T$695, 16, FALSE)","v":" Theropoda"},{"$f":"VLOOKUP($A54, taxonomy!$B$2:$T$695, 17, FALSE)","v":"Coelurosauria"}]
["A0A091GQE9",{"$f":" VLOOKUP(A55, architecture!D$2:E$73, 2, FALSE)","v":{"$error":"#N/A"}},{"$f":"VLOOKUP(A55, 'PF14702'!B55:C2735, 2, FALSE)","v":1504},{"$f":"VLOOKUP($A55, taxonomy!$B$2:$T$695, 6, FALSE)","v":"Eukaryota"},{"$f":"VLOOKUP($A55, taxonomy!$B$2:$T$695, 7, FALSE)","v":" Metazoa"},{"$f":"VLOOKUP($A55, taxonomy!$B$2:$T$695, 8, FALSE)","v":" Chordata"},{"$f":"VLOOKUP($A55, taxonomy!$B$2:$T$695, 9, FALSE)","v":" Craniata"},{"$f":"VLOOKUP($A55, taxonomy!$B$2:$T$695, 10, FALSE)","v":" Vertebrata"},{"$f":"VLOOKUP($A55, taxonomy!$B$2:$T$695, 11, FALSE)","v":" Euteleostomi"},{"$f":"VLOOKUP($A55, taxonomy!$B$2:$T$695, 12, FALSE)","v":"Archelosauria"},{"$f":"VLOOKUP($A55, taxonomy!$B$2:$T$695, 13, FALSE)","v":" Archosauria"},{"$f":"VLOOKUP($A55, taxonomy!$B$2:$T$695, 14, FALSE)","v":" Dinosauria"},{"$f":"VLOOKUP($A55, taxonomy!$B$2:$T$695, 15, FALSE)","v":" Saurischia"},{"$f":"VLOOKUP($A55, taxonomy!$B$2:$T$695, 16, FALSE)","v":" Theropoda"},{"$f":"VLOOKUP($A55, taxonomy!$B$2:$T$695, 17, FALSE)","v":"Coelurosauria"}]
["A0A091HRX4",{"$f":" VLOOKUP(A56, architecture!D$2:E$73, 2, FALSE)","v":{"$error":"#N/A"}},{"$f":"VLOOKUP(A56, 'PF14702'!B56:C2736, 2, FALSE)","v":1512},{"$f":"VLOOKUP($A56, taxonomy!$B$2:$T$695, 6, FALSE)","v":"Eukaryota"},{"$f":"VLOOKUP($A56, taxonomy!$B$2:$T$695, 7, FALSE)","v":" Metazoa"},{"$f":"VLOOKUP($A56, taxonomy!$B$2:$T$695, 8, FALSE)","v":" Chordata"},{"$f":"VLOOKUP($A56, taxonomy!$B$2:$T$695, 9, FALSE)","v":" Craniata"},{"$f":"VLOOKUP($A56, taxonomy!$B$2:$T$695, 10, FALSE)","v":" Vertebrata"},{"$f":"VLOOKUP($A56, taxonomy!$B$2:$T$695, 11, FALSE)","v":" Euteleostomi"},{"$f":"VLOOKUP($A56, taxonomy!$B$2:$T$695, 12, FALSE)","v":"Archelosauria"},{"$f":"VLOOKUP($A56, taxonomy!$B$2:$T$695, 13, FALSE)","v":" Archosauria"},{"$f":"VLOOKUP($A56, taxonomy!$B$2:$T$695, 14, FALSE)","v":" Dinosauria"},{"$f":"VLOOKUP($A56, taxonomy!$B$2:$T$695, 15, FALSE)","v":" Saurischia"},{"$f":"VLOOKUP($A56, taxonomy!$B$2:$T$695, 16, FALSE)","v":" Theropoda"},{"$f":"VLOOKUP($A56, taxonomy!$B$2:$T$695, 17, FALSE)","v":"Coelurosauria"}]
["A0A091KHC9",{"$f":" VLOOKUP(A57, architecture!D$2:E$73, 2, FALSE)","v":{"$error":"#N/A"}},{"$f":"VLOOKUP(A57, 'PF14702'!B57:C2737, 2, FALSE)","v":1504},{"$f":"VLOOKUP($A57, taxonomy!$B$2:$T$695, 6, FALSE)","v":"Eukaryota"},{"$f":"VLOOKUP($A57, taxonomy!$B$2:$T$695, 7, FALSE)","v":" Metazoa"},{"$f":"VLOOKUP($A57, taxonomy!$B$2:$T$695, 8, FALSE)","v":" Chordata"},{"$f":"VLOOKUP($A57, taxonomy!$B$2:$T$695, 9, FALSE)","v":" Craniata"},{"$f":"VLOOKUP($A57, taxonomy!$B$2:$T$695, 10, FALSE)","v":" Vertebrata"},{"$f":"VLOOKUP($A57, taxonomy!$B$2:$T$695, 11, FALSE)","v":" Euteleostomi"},{"$f":"VLOOKUP($A57, taxonomy!$B$2:$T$695, 12, FALSE)","v":"Archelosauria"},{"$f":"VLOOKUP($A57, taxonomy!$B$2:$T$695, 13, FALSE)","v":" Archosauria"},{"$f":"VLOOKUP($A57, taxonomy!$B$2:$T$695, 14, FALSE)","v":" Dinosauria"},{"$f":"VLOOKUP($A57, taxonomy!$B$2:$T$695, 15, FALSE)","v":" Saurischia"},{"$f":"VLOOKUP($A57, taxonomy!$B$2:$T$695, 16, FALSE)","v":" Theropoda"},{"$f":"VLOOKUP($A57, taxonomy!$B$2:$T$695, 17, FALSE)","v":"Coelurosauria"}]
["A0A091KUT8",{"$f":" VLOOKUP(A58, architecture!D$2:E$73, 2, FALSE)","v":{"$error":"#N/A"}},{"$f":"VLOOKUP(A58, 'PF14702'!B58:C2738, 2, FALSE)","v":1504},{"$f":"VLOOKUP($A58, taxonomy!$B$2:$T$695, 6, FALSE)","v":"Eukaryota"},{"$f":"VLOOKUP($A58, taxonomy!$B$2:$T$695, 7, FALSE)","v":" Metazoa"},{"$f":"VLOOKUP($A58, taxonomy!$B$2:$T$695, 8, FALSE)","v":" Chordata"},{"$f":"VLOOKUP($A58, taxonomy!$B$2:$T$695, 9, FALSE)","v":" Craniata"},{"$f":"VLOOKUP($A58, taxonomy!$B$2:$T$695, 10, FALSE)","v":" Vertebrata"},{"$f":"VLOOKUP($A58, taxonomy!$B$2:$T$695, 11, FALSE)","v":" Euteleostomi"},{"$f":"VLOOKUP($A58, taxonomy!$B$2:$T$695, 12, FALSE)","v":"Archelosauria"},{"$f":"VLOOKUP($A58, taxonomy!$B$2:$T$695, 13, FALSE)","v":" Archosauria"},{"$f":"VLOOKUP($A58, taxonomy!$B$2:$T$695, 14, FALSE)","v":" Dinosauria"},{"$f":"VLOOKUP($A58, taxonomy!$B$2:$T$695, 15, FALSE)","v":" Saurischia"},{"$f":"VLOOKUP($A58, taxonomy!$B$2:$T$695, 16, FALSE)","v":" Theropoda"},{"$f":"VLOOKUP($A58, taxonomy!$B$2:$T$695, 17, FALSE)","v":"Coelurosauria"}]
["A0A091LLM9",{"$f":" VLOOKUP(A59, architecture!D$2:E$73, 2, FALSE)","v":{"$error":"#N/A"}},{"$f":"VLOOKUP(A59, 'PF14702'!B59:C2739, 2, FALSE)","v":1504},{"$f":"VLOOKUP($A59, taxonomy!$B$2:$T$695, 6, FALSE)","v":"Eukaryota"},{"$f":"VLOOKUP($A59, taxonomy!$B$2:$T$695, 7, FALSE)","v":" Metazoa"},{"$f":"VLOOKUP($A59, taxonomy!$B$2:$T$695, 8, FALSE)","v":" Chordata"},{"$f":"VLOOKUP($A59, taxonomy!$B$2:$T$695, 9, FALSE)","v":" Craniata"},{"$f":"VLOOKUP($A59, taxonomy!$B$2:$T$695, 10, FALSE)","v":" Vertebrata"},{"$f":"VLOOKUP($A59, taxonomy!$B$2:$T$695, 11, FALSE)","v":" Euteleostomi"},{"$f":"VLOOKUP($A59, taxonomy!$B$2:$T$695, 12, FALSE)","v":"Archelosauria"},{"$f":"VLOOKUP($A59, taxonomy!$B$2:$T$695, 13, FALSE)","v":" Archosauria"},{"$f":"VLOOKUP($A59, taxonomy!$B$2:$T$695, 14, FALSE)","v":" Dinosauria"},{"$f":"VLOOKUP($A59, taxonomy!$B$2:$T$695, 15, FALSE)","v":" Saurischia"},{"$f":"VLOOKUP($A59, taxonomy!$B$2:$T$695, 16, FALSE)","v":" Theropoda"},{"$f":"VLOOKUP($A59, taxonomy!$B$2:$T$695, 17, FALSE)","v":"Coelurosauria"}]
["A0A091MDQ5",{"$f":" VLOOKUP(A60, architecture!D$2:E$73, 2, FALSE)","v":{"$error":"#N/A"}},{"$f":"VLOOKUP(A60, 'PF14702'!B60:C2740, 2, FALSE)","v":1504},{"$f":"VLOOKUP($A60, taxonomy!$B$2:$T$695, 6, FALSE)","v":"Eukaryota"},{"$f":"VLOOKUP($A60, taxonomy!$B$2:$T$695, 7, FALSE)","v":" Metazoa"},{"$f":"VLOOKUP($A60, taxonomy!$B$2:$T$695, 8, FALSE)","v":" Chordata"},{"$f":"VLOOKUP($A60, taxonomy!$B$2:$T$695, 9, FALSE)","v":" Craniata"},{"$f":"VLOOKUP($A60, taxonomy!$B$2:$T$695, 10, FALSE)","v":" Vertebrata"},{"$f":"VLOOKUP($A60, taxonomy!$B$2:$T$695, 11, FALSE)","v":" Euteleostomi"},{"$f":"VLOOKUP($A60, taxonomy!$B$2:$T$695, 12, FALSE)","v":"Archelosauria"},{"$f":"VLOOKUP($A60, taxonomy!$B$2:$T$695, 13, FALSE)","v":" Archosauria"},{"$f":"VLOOKUP($A60, taxonomy!$B$2:$T$695, 14, FALSE)","v":" Dinosauria"},{"$f":"VLOOKUP($A60, taxonomy!$B$2:$T$695, 15, FALSE)","v":" Saurischia"},{"$f":"VLOOKUP($A60, taxonomy!$B$2:$T$695, 16, FALSE)","v":" Theropoda"},{"$f":"VLOOKUP($A60, taxonomy!$B$2:$T$695, 17, FALSE)","v":"Coelurosauria"}]
["A0A091NKW9",{"$f":" VLOOKUP(A61, architecture!D$2:E$73, 2, FALSE)","v":{"$error":"#N/A"}},{"$f":"VLOOKUP(A61, 'PF14702'!B61:C2741, 2, FALSE)","v":1504},{"$f":"VLOOKUP($A61, taxonomy!$B$2:$T$695, 6, FALSE)","v":"Eukaryota"},{"$f":"VLOOKUP($A61, taxonomy!$B$2:$T$695, 7, FALSE)","v":" Metazoa"},{"$f":"VLOOKUP($A61, taxonomy!$B$2:$T$695, 8, FALSE)","v":" Chordata"},{"$f":"VLOOKUP($A61, taxonomy!$B$2:$T$695, 9, FALSE)","v":" Craniata"},{"$f":"VLOOKUP($A61, taxonomy!$B$2:$T$695, 10, FALSE)","v":" Vertebrata"},{"$f":"VLOOKUP($A61, taxonomy!$B$2:$T$695, 11, FALSE)","v":" Euteleostomi"},{"$f":"VLOOKUP($A61, taxonomy!$B$2:$T$695, 12, FALSE)","v":"Archelosauria"},{"$f":"VLOOKUP($A61, taxonomy!$B$2:$T$695, 13, FALSE)","v":" Archosauria"},{"$f":"VLOOKUP($A61, taxonomy!$B$2:$T$695, 14, FALSE)","v":" Dinosauria"},{"$f":"VLOOKUP($A61, taxonomy!$B$2:$T$695, 15, FALSE)","v":" Saurischia"},{"$f":"VLOOKUP($A61, taxonomy!$B$2:$T$695, 16, FALSE)","v":" Theropoda"},{"$f":"VLOOKUP($A61, taxonomy!$B$2:$T$695, 17, FALSE)","v":"Coelurosauria"}]
["A0A091P1S7",{"$f":" VLOOKUP(A62, architecture!D$2:E$73, 2, FALSE)","v":{"$error":"#N/A"}},{"$f":"VLOOKUP(A62, 'PF14702'!B62:C2742, 2, FALSE)","v":1504},{"$f":"VLOOKUP($A62, taxonomy!$B$2:$T$695, 6, FALSE)","v":"Eukaryota"},{"$f":"VLOOKUP($A62, taxonomy!$B$2:$T$695, 7, FALSE)","v":" Metazoa"},{"$f":"VLOOKUP($A62, taxonomy!$B$2:$T$695, 8, FALSE)","v":" Chordata"},{"$f":"VLOOKUP($A62, taxonomy!$B$2:$T$695, 9, FALSE)","v":" Craniata"},{"$f":"VLOOKUP($A62, taxonomy!$B$2:$T$695, 10, FALSE)","v":" Vertebrata"},{"$f":"VLOOKUP($A62, taxonomy!$B$2:$T$695, 11, FALSE)","v":" Euteleostomi"},{"$f":"VLOOKUP($A62, taxonomy!$B$2:$T$695, 12, FALSE)","v":"Archelosauria"},{"$f":"VLOOKUP($A62, taxonomy!$B$2:$T$695, 13, FALSE)","v":" Archosauria"},{"$f":"VLOOKUP($A62, taxonomy!$B$2:$T$695, 14, FALSE)","v":" Dinosauria"},{"$f":"VLOOKUP($A62, taxonomy!$B$2:$T$695, 15, FALSE)","v":" Saurischia"},{"$f":"VLOOKUP($A62, taxonomy!$B$2:$T$695, 16, FALSE)","v":" Theropoda"},{"$f":"VLOOKUP($A62, taxonomy!$B$2:$T$695, 17, FALSE)","v":"Coelurosauria"}]
["A0A091QG56",{"$f":" VLOOKUP(A63, architecture!D$2:E$73, 2, FALSE)","v":{"$error":"#N/A"}},{"$f":"VLOOKUP(A63, 'PF14702'!B63:C2743, 2, FALSE)","v":1504},{"$f":"VLOOKUP($A63, taxonomy!$B$2:$T$695, 6, FALSE)","v":"Eukaryota"},{"$f":"VLOOKUP($A63, taxonomy!$B$2:$T$695, 7, FALSE)","v":" Metazoa"},{"$f":"VLOOKUP($A63, taxonomy!$B$2:$T$695, 8, FALSE)","v":" Chordata"},{"$f":"VLOOKUP($A63, taxonomy!$B$2:$T$695, 9, FALSE)","v":" Craniata"},{"$f":"VLOOKUP($A63, taxonomy!$B$2:$T$695, 10, FALSE)","v":" Vertebrata"},{"$f":"VLOOKUP($A63, taxonomy!$B$2:$T$695, 11, FALSE)","v":" Euteleostomi"},{"$f":"VLOOKUP($A63, taxonomy!$B$2:$T$695, 12, FALSE)","v":"Archelosauria"},{"$f":"VLOOKUP($A63, taxonomy!$B$2:$T$695, 13, FALSE)","v":" Archosauria"},{"$f":"VLOOKUP($A63, taxonomy!$B$2:$T$695, 14, FALSE)","v":" Dinosauria"},{"$f":"VLOOKUP($A63, taxonomy!$B$2:$T$695, 15, FALSE)","v":" Saurischia"},{"$f":"VLOOKUP($A63, taxonomy!$B$2:$T$695, 16, FALSE)","v":" Theropoda"},{"$f":"VLOOKUP($A63, taxonomy!$B$2:$T$695, 17, FALSE)","v":"Coelurosauria"}]
["A0A091RCN7",{"$f":" VLOOKUP(A64, architecture!D$2:E$73, 2, FALSE)","v":{"$error":"#N/A"}},{"$f":"VLOOKUP(A64, 'PF14702'!B64:C2744, 2, FALSE)","v":910},{"$f":"VLOOKUP($A64, taxonomy!$B$2:$T$695, 6, FALSE)","v":"Eukaryota"},{"$f":"VLOOKUP($A64, taxonomy!$B$2:$T$695, 7, FALSE)","v":" Metazoa"},{"$f":"VLOOKUP($A64, taxonomy!$B$2:$T$695, 8, FALSE)","v":" Chordata"},{"$f":"VLOOKUP($A64, taxonomy!$B$2:$T$695, 9, FALSE)","v":" Craniata"},{"$f":"VLOOKUP($A64, taxonomy!$B$2:$T$695, 10, FALSE)","v":" Vertebrata"},{"$f":"VLOOKUP($A64, taxonomy!$B$2:$T$695, 11, FALSE)","v":" Euteleostomi"},{"$f":"VLOOKUP($A64, taxonomy!$B$2:$T$695, 12, FALSE)","v":"Archelosauria"},{"$f":"VLOOKUP($A64, taxonomy!$B$2:$T$695, 13, FALSE)","v":" Archosauria"},{"$f":"VLOOKUP($A64, taxonomy!$B$2:$T$695, 14, FALSE)","v":" Dinosauria"},{"$f":"VLOOKUP($A64, taxonomy!$B$2:$T$695, 15, FALSE)","v":" Saurischia"},{"$f":"VLOOKUP($A64, taxonomy!$B$2:$T$695, 16, FALSE)","v":" Theropoda"},{"$f":"VLOOKUP($A64, taxonomy!$B$2:$T$695, 17, FALSE)","v":"Coelurosauria"}]
["A0A091T2P6",{"$f":" VLOOKUP(A65, architecture!D$2:E$73, 2, FALSE)","v":{"$error":"#N/A"}},{"$f":"VLOOKUP(A65, 'PF14702'!B65:C2745, 2, FALSE)","v":866},{"$f":"VLOOKUP($A65, taxonomy!$B$2:$T$695, 6, FALSE)","v":"Eukaryota"},{"$f":"VLOOKUP($A65, taxonomy!$B$2:$T$695, 7, FALSE)","v":" Metazoa"},{"$f":"VLOOKUP($A65, taxonomy!$B$2:$T$695, 8, FALSE)","v":" Chordata"},{"$f":"VLOOKUP($A65, taxonomy!$B$2:$T$695, 9, FALSE)","v":" Craniata"},{"$f":"VLOOKUP($A65, taxonomy!$B$2:$T$695, 10, FALSE)","v":" Vertebrata"},{"$f":"VLOOKUP($A65, taxonomy!$B$2:$T$695, 11, FALSE)","v":" Euteleostomi"},{"$f":"VLOOKUP($A65, taxonomy!$B$2:$T$695, 12, FALSE)","v":"Archelosauria"},{"$f":"VLOOKUP($A65, taxonomy!$B$2:$T$695, 13, FALSE)","v":" Archosauria"},{"$f":"VLOOKUP($A65, taxonomy!$B$2:$T$695, 14, FALSE)","v":" Dinosauria"},{"$f":"VLOOKUP($A65, taxonomy!$B$2:$T$695, 15, FALSE)","v":" Saurischia"},{"$f":"VLOOKUP($A65, taxonomy!$B$2:$T$695, 16, FALSE)","v":" Theropoda"},{"$f":"VLOOKUP($A65, taxonomy!$B$2:$T$695, 17, FALSE)","v":"Coelurosauria"}]
["A0A091TI76",{"$f":" VLOOKUP(A66, architecture!D$2:E$73, 2, FALSE)","v":{"$error":"#N/A"}},{"$f":"VLOOKUP(A66, 'PF14702'!B66:C2746, 2, FALSE)","v":1504},{"$f":"VLOOKUP($A66, taxonomy!$B$2:$T$695, 6, FALSE)","v":"Eukaryota"},{"$f":"VLOOKUP($A66, taxonomy!$B$2:$T$695, 7, FALSE)","v":" Metazoa"},{"$f":"VLOOKUP($A66, taxonomy!$B$2:$T$695, 8, FALSE)","v":" Chordata"},{"$f":"VLOOKUP($A66, taxonomy!$B$2:$T$695, 9, FALSE)","v":" Craniata"},{"$f":"VLOOKUP($A66, taxonomy!$B$2:$T$695, 10, FALSE)","v":" Vertebrata"},{"$f":"VLOOKUP($A66, taxonomy!$B$2:$T$695, 11, FALSE)","v":" Euteleostomi"},{"$f":"VLOOKUP($A66, taxonomy!$B$2:$T$695, 12, FALSE)","v":"Archelosauria"},{"$f":"VLOOKUP($A66, taxonomy!$B$2:$T$695, 13, FALSE)","v":" Archosauria"},{"$f":"VLOOKUP($A66, taxonomy!$B$2:$T$695, 14, FALSE)","v":" Dinosauria"},{"$f":"VLOOKUP($A66, taxonomy!$B$2:$T$695, 15, FALSE)","v":" Saurischia"},{"$f":"VLOOKUP($A66, taxonomy!$B$2:$T$695, 16, FALSE)","v":" Theropoda"},{"$f":"VLOOKUP($A66, taxonomy!$B$2:$T$695, 17, FALSE)","v":"Coelurosauria"}]
["A0A091TXK1",{"$f":" VLOOKUP(A67, architecture!D$2:E$73, 2, FALSE)","v":{"$error":"#N/A"}},{"$f":"VLOOKUP(A67, 'PF14702'!B67:C2747, 2, FALSE)","v":954},{"$f":"VLOOKUP($A67, taxonomy!$B$2:$T$695, 6, FALSE)","v":"Eukaryota"},{"$f":"VLOOKUP($A67, taxonomy!$B$2:$T$695, 7, FALSE)","v":" Metazoa"},{"$f":"VLOOKUP($A67, taxonomy!$B$2:$T$695, 8, FALSE)","v":" Chordata"},{"$f":"VLOOKUP($A67, taxonomy!$B$2:$T$695, 9, FALSE)","v":" Craniata"},{"$f":"VLOOKUP($A67, taxonomy!$B$2:$T$695, 10, FALSE)","v":" Vertebrata"},{"$f":"VLOOKUP($A67, taxonomy!$B$2:$T$695, 11, FALSE)","v":" Euteleostomi"},{"$f":"VLOOKUP($A67, taxonomy!$B$2:$T$695, 12, FALSE)","v":"Archelosauria"},{"$f":"VLOOKUP($A67, taxonomy!$B$2:$T$695, 13, FALSE)","v":" Archosauria"},{"$f":"VLOOKUP($A67, taxonomy!$B$2:$T$695, 14, FALSE)","v":" Dinosauria"},{"$f":"VLOOKUP($A67, taxonomy!$B$2:$T$695, 15, FALSE)","v":" Saurischia"},{"$f":"VLOOKUP($A67, taxonomy!$B$2:$T$695, 16, FALSE)","v":" Theropoda"},{"$f":"VLOOKUP($A67, taxonomy!$B$2:$T$695, 17, FALSE)","v":"Coelurosauria"}]
["A0A091UFK0",{"$f":" VLOOKUP(A68, architecture!D$2:E$73, 2, FALSE)","v":{"$error":"#N/A"}},{"$f":"VLOOKUP(A68, 'PF14702'!B68:C2748, 2, FALSE)","v":1504},{"$f":"VLOOKUP($A68, taxonomy!$B$2:$T$695, 6, FALSE)","v":"Eukaryota"},{"$f":"VLOOKUP($A68, taxonomy!$B$2:$T$695, 7, FALSE)","v":" Metazoa"},{"$f":"VLOOKUP($A68, taxonomy!$B$2:$T$695, 8, FALSE)","v":" Chordata"},{"$f":"VLOOKUP($A68, taxonomy!$B$2:$T$695, 9, FALSE)","v":" Craniata"},{"$f":"VLOOKUP($A68, taxonomy!$B$2:$T$695, 10, FALSE)","v":" Vertebrata"},{"$f":"VLOOKUP($A68, taxonomy!$B$2:$T$695, 11, FALSE)","v":" Euteleostomi"},{"$f":"VLOOKUP($A68, taxonomy!$B$2:$T$695, 12, FALSE)","v":"Archelosauria"},{"$f":"VLOOKUP($A68, taxonomy!$B$2:$T$695, 13, FALSE)","v":" Archosauria"},{"$f":"VLOOKUP($A68, taxonomy!$B$2:$T$695, 14, FALSE)","v":" Dinosauria"},{"$f":"VLOOKUP($A68, taxonomy!$B$2:$T$695, 15, FALSE)","v":" Saurischia"},{"$f":"VLOOKUP($A68, taxonomy!$B$2:$T$695, 16, FALSE)","v":" Theropoda"},{"$f":"VLOOKUP($A68, taxonomy!$B$2:$T$695, 17, FALSE)","v":"Coelurosauria"}]
["A0A091VAU0",{"$f":" VLOOKUP(A69, architecture!D$2:E$73, 2, FALSE)","v":{"$error":"#N/A"}},{"$f":"VLOOKUP(A69, 'PF14702'!B69:C2749, 2, FALSE)","v":1504},{"$f":"VLOOKUP($A69, taxonomy!$B$2:$T$695, 6, FALSE)","v":"Eukaryota"},{"$f":"VLOOKUP($A69, taxonomy!$B$2:$T$695, 7, FALSE)","v":" Metazoa"},{"$f":"VLOOKUP($A69, taxonomy!$B$2:$T$695, 8, FALSE)","v":" Chordata"},{"$f":"VLOOKUP($A69, taxonomy!$B$2:$T$695, 9, FALSE)","v":" Craniata"},{"$f":"VLOOKUP($A69, taxonomy!$B$2:$T$695, 10, FALSE)","v":" Vertebrata"},{"$f":"VLOOKUP($A69, taxonomy!$B$2:$T$695, 11, FALSE)","v":" Euteleostomi"},{"$f":"VLOOKUP($A69, taxonomy!$B$2:$T$695, 12, FALSE)","v":"Archelosauria"},{"$f":"VLOOKUP($A69, taxonomy!$B$2:$T$695, 13, FALSE)","v":" Archosauria"},{"$f":"VLOOKUP($A69, taxonomy!$B$2:$T$695, 14, FALSE)","v":" Dinosauria"},{"$f":"VLOOKUP($A69, taxonomy!$B$2:$T$695, 15, FALSE)","v":" Saurischia"},{"$f":"VLOOKUP($A69, taxonomy!$B$2:$T$695, 16, FALSE)","v":" Theropoda"},{"$f":"VLOOKUP($A69, taxonomy!$B$2:$T$695, 17, FALSE)","v":"Coelurosauria"}]
["A0A091XK00",{"$f":" VLOOKUP(A70, architecture!D$2:E$73, 2, FALSE)","v":{"$error":"#N/A"}},{"$f":"VLOOKUP(A70, 'PF14702'!B70:C2750, 2, FALSE)","v":1534},{"$f":"VLOOKUP($A70, taxonomy!$B$2:$T$695, 6, FALSE)","v":"Eukaryota"},{"$f":"VLOOKUP($A70, taxonomy!$B$2:$T$695, 7, FALSE)","v":" Metazoa"},{"$f":"VLOOKUP($A70, taxonomy!$B$2:$T$695, 8, FALSE)","v":" Chordata"},{"$f":"VLOOKUP($A70, taxonomy!$B$2:$T$695, 9, FALSE)","v":" Craniata"},{"$f":"VLOOKUP($A70, taxonomy!$B$2:$T$695, 10, FALSE)","v":" Vertebrata"},{"$f":"VLOOKUP($A70, taxonomy!$B$2:$T$695, 11, FALSE)","v":" Euteleostomi"},{"$f":"VLOOKUP($A70, taxonomy!$B$2:$T$695, 12, FALSE)","v":"Archelosauria"},{"$f":"VLOOKUP($A70, taxonomy!$B$2:$T$695, 13, FALSE)","v":" Archosauria"},{"$f":"VLOOKUP($A70, taxonomy!$B$2:$T$695, 14, FALSE)","v":" Dinosauria"},{"$f":"VLOOKUP($A70, taxonomy!$B$2:$T$695, 15, FALSE)","v":" Saurischia"},{"$f":"VLOOKUP($A70, taxonomy!$B$2:$T$695, 16, FALSE)","v":" Theropoda"},{"$f":"VLOOKUP($A70, taxonomy!$B$2:$T$695, 17, FALSE)","v":"Coelurosauria"}]
["A0A093CNC6",{"$f":" VLOOKUP(A71, architecture!D$2:E$73, 2, FALSE)","v":{"$error":"#N/A"}},{"$f":"VLOOKUP(A71, 'PF14702'!B71:C2751, 2, FALSE)","v":1504},{"$f":"VLOOKUP($A71, taxonomy!$B$2:$T$695, 6, FALSE)","v":"Eukaryota"},{"$f":"VLOOKUP($A71, taxonomy!$B$2:$T$695, 7, FALSE)","v":" Metazoa"},{"$f":"VLOOKUP($A71, taxonomy!$B$2:$T$695, 8, FALSE)","v":" Chordata"},{"$f":"VLOOKUP($A71, taxonomy!$B$2:$T$695, 9, FALSE)","v":" Craniata"},{"$f":"VLOOKUP($A71, taxonomy!$B$2:$T$695, 10, FALSE)","v":" Vertebrata"},{"$f":"VLOOKUP($A71, taxonomy!$B$2:$T$695, 11, FALSE)","v":" Euteleostomi"},{"$f":"VLOOKUP($A71, taxonomy!$B$2:$T$695, 12, FALSE)","v":"Archelosauria"},{"$f":"VLOOKUP($A71, taxonomy!$B$2:$T$695, 13, FALSE)","v":" Archosauria"},{"$f":"VLOOKUP($A71, taxonomy!$B$2:$T$695, 14, FALSE)","v":" Dinosauria"},{"$f":"VLOOKUP($A71, taxonomy!$B$2:$T$695, 15, FALSE)","v":" Saurischia"},{"$f":"VLOOKUP($A71, taxonomy!$B$2:$T$695, 16, FALSE)","v":" Theropoda"},{"$f":"VLOOKUP($A71, taxonomy!$B$2:$T$695, 17, FALSE)","v":"Coelurosauria"}]
["A0A093CQ14",{"$f":" VLOOKUP(A72, architecture!D$2:E$73, 2, FALSE)","v":{"$error":"#N/A"}},{"$f":"VLOOKUP(A72, 'PF14702'!B72:C2752, 2, FALSE)","v":1504},{"$f":"VLOOKUP($A72, taxonomy!$B$2:$T$695, 6, FALSE)","v":"Eukaryota"},{"$f":"VLOOKUP($A72, taxonomy!$B$2:$T$695, 7, FALSE)","v":" Metazoa"},{"$f":"VLOOKUP($A72, taxonomy!$B$2:$T$695, 8, FALSE)","v":" Chordata"},{"$f":"VLOOKUP($A72, taxonomy!$B$2:$T$695, 9, FALSE)","v":" Craniata"},{"$f":"VLOOKUP($A72, taxonomy!$B$2:$T$695, 10, FALSE)","v":" Vertebrata"},{"$f":"VLOOKUP($A72, taxonomy!$B$2:$T$695, 11, FALSE)","v":" Euteleostomi"},{"$f":"VLOOKUP($A72, taxonomy!$B$2:$T$695, 12, FALSE)","v":"Archelosauria"},{"$f":"VLOOKUP($A72, taxonomy!$B$2:$T$695, 13, FALSE)","v":" Archosauria"},{"$f":"VLOOKUP($A72, taxonomy!$B$2:$T$695, 14, FALSE)","v":" Dinosauria"},{"$f":"VLOOKUP($A72, taxonomy!$B$2:$T$695, 15, FALSE)","v":" Saurischia"},{"$f":"VLOOKUP($A72, taxonomy!$B$2:$T$695, 16, FALSE)","v":" Theropoda"},{"$f":"VLOOKUP($A72, taxonomy!$B$2:$T$695, 17, FALSE)","v":"Coelurosauria"}]
["A0A093EJE1",{"$f":" VLOOKUP(A73, architecture!D$2:E$73, 2, FALSE)","v":{"$error":"#N/A"}},{"$f":"VLOOKUP(A73, 'PF14702'!B73:C2753, 2, FALSE)","v":1499},{"$f":"VLOOKUP($A73, taxonomy!$B$2:$T$695, 6, FALSE)","v":"Eukaryota"},{"$f":"VLOOKUP($A73, taxonomy!$B$2:$T$695, 7, FALSE)","v":" Metazoa"},{"$f":"VLOOKUP($A73, taxonomy!$B$2:$T$695, 8, FALSE)","v":" Chordata"},{"$f":"VLOOKUP($A73, taxonomy!$B$2:$T$695, 9, FALSE)","v":" Craniata"},{"$f":"VLOOKUP($A73, taxonomy!$B$2:$T$695, 10, FALSE)","v":" Vertebrata"},{"$f":"VLOOKUP($A73, taxonomy!$B$2:$T$695, 11, FALSE)","v":" Euteleostomi"},{"$f":"VLOOKUP($A73, taxonomy!$B$2:$T$695, 12, FALSE)","v":"Archelosauria"},{"$f":"VLOOKUP($A73, taxonomy!$B$2:$T$695, 13, FALSE)","v":" Archosauria"},{"$f":"VLOOKUP($A73, taxonomy!$B$2:$T$695, 14, FALSE)","v":" Dinosauria"},{"$f":"VLOOKUP($A73, taxonomy!$B$2:$T$695, 15, FALSE)","v":" Saurischia"},{"$f":"VLOOKUP($A73, taxonomy!$B$2:$T$695, 16, FALSE)","v":" Theropoda"},{"$f":"VLOOKUP($A73, taxonomy!$B$2:$T$695, 17, FALSE)","v":"Coelurosauria"}]
["A0A093H545",{"$f":" VLOOKUP(A74, architecture!D$2:E$73, 2, FALSE)","v":{"$error":"#N/A"}},{"$f":"VLOOKUP(A74, 'PF14702'!B74:C2754, 2, FALSE)","v":1502},{"$f":"VLOOKUP($A74, taxonomy!$B$2:$T$695, 6, FALSE)","v":"Eukaryota"},{"$f":"VLOOKUP($A74, taxonomy!$B$2:$T$695, 7, FALSE)","v":" Metazoa"},{"$f":"VLOOKUP($A74, taxonomy!$B$2:$T$695, 8, FALSE)","v":" Chordata"},{"$f":"VLOOKUP($A74, taxonomy!$B$2:$T$695, 9, FALSE)","v":" Craniata"},{"$f":"VLOOKUP($A74, taxonomy!$B$2:$T$695, 10, FALSE)","v":" Vertebrata"},{"$f":"VLOOKUP($A74, taxonomy!$B$2:$T$695, 11, FALSE)","v":" Euteleostomi"},{"$f":"VLOOKUP($A74, taxonomy!$B$2:$T$695, 12, FALSE)","v":"Archelosauria"},{"$f":"VLOOKUP($A74, taxonomy!$B$2:$T$695, 13, FALSE)","v":" Archosauria"},{"$f":"VLOOKUP($A74, taxonomy!$B$2:$T$695, 14, FALSE)","v":" Dinosauria"},{"$f":"VLOOKUP($A74, taxonomy!$B$2:$T$695, 15, FALSE)","v":" Saurischia"},{"$f":"VLOOKUP($A74, taxonomy!$B$2:$T$695, 16, FALSE)","v":" Theropoda"},{"$f":"VLOOKUP($A74, taxonomy!$B$2:$T$695, 17, FALSE)","v":"Coelurosauria"}]
["A0A093J624",{"$f":" VLOOKUP(A75, architecture!D$2:E$73, 2, FALSE)","v":{"$error":"#N/A"}},{"$f":"VLOOKUP(A75, 'PF14702'!B75:C2755, 2, FALSE)","v":1502},{"$f":"VLOOKUP($A75, taxonomy!$B$2:$T$695, 6, FALSE)","v":"Eukaryota"},{"$f":"VLOOKUP($A75, taxonomy!$B$2:$T$695, 7, FALSE)","v":" Metazoa"},{"$f":"VLOOKUP($A75, taxonomy!$B$2:$T$695, 8, FALSE)","v":" Chordata"},{"$f":"VLOOKUP($A75, taxonomy!$B$2:$T$695, 9, FALSE)","v":" Craniata"},{"$f":"VLOOKUP($A75, taxonomy!$B$2:$T$695, 10, FALSE)","v":" Vertebrata"},{"$f":"VLOOKUP($A75, taxonomy!$B$2:$T$695, 11, FALSE)","v":" Euteleostomi"},{"$f":"VLOOKUP($A75, taxonomy!$B$2:$T$695, 12, FALSE)","v":"Archelosauria"},{"$f":"VLOOKUP($A75, taxonomy!$B$2:$T$695, 13, FALSE)","v":" Archosauria"},{"$f":"VLOOKUP($A75, taxonomy!$B$2:$T$695, 14, FALSE)","v":" Dinosauria"},{"$f":"VLOOKUP($A75, taxonomy!$B$2:$T$695, 15, FALSE)","v":" Saurischia"},{"$f":"VLOOKUP($A75, taxonomy!$B$2:$T$695, 16, FALSE)","v":" Theropoda"},{"$f":"VLOOKUP($A75, taxonomy!$B$2:$T$695, 17, FALSE)","v":"Coelurosauria"}]
["A0A093LME3",{"$f":" VLOOKUP(A76, architecture!D$2:E$73, 2, FALSE)","v":{"$error":"#N/A"}},{"$f":"VLOOKUP(A76, 'PF14702'!B76:C2756, 2, FALSE)","v":1504},{"$f":"VLOOKUP($A76, taxonomy!$B$2:$T$695, 6, FALSE)","v":"Eukaryota"},{"$f":"VLOOKUP($A76, taxonomy!$B$2:$T$695, 7, FALSE)","v":" Metazoa"},{"$f":"VLOOKUP($A76, taxonomy!$B$2:$T$695, 8, FALSE)","v":" Chordata"},{"$f":"VLOOKUP($A76, taxonomy!$B$2:$T$695, 9, FALSE)","v":" Craniata"},{"$f":"VLOOKUP($A76, taxonomy!$B$2:$T$695, 10, FALSE)","v":" Vertebrata"},{"$f":"VLOOKUP($A76, taxonomy!$B$2:$T$695, 11, FALSE)","v":" Euteleostomi"},{"$f":"VLOOKUP($A76, taxonomy!$B$2:$T$695, 12, FALSE)","v":"Archelosauria"},{"$f":"VLOOKUP($A76, taxonomy!$B$2:$T$695, 13, FALSE)","v":" Archosauria"},{"$f":"VLOOKUP($A76, taxonomy!$B$2:$T$695, 14, FALSE)","v":" Dinosauria"},{"$f":"VLOOKUP($A76, taxonomy!$B$2:$T$695, 15, FALSE)","v":" Saurischia"},{"$f":"VLOOKUP($A76, taxonomy!$B$2:$T$695, 16, FALSE)","v":" Theropoda"},{"$f":"VLOOKUP($A76, taxonomy!$B$2:$T$695, 17, FALSE)","v":"Coelurosauria"}]
["A0A093PRZ8",{"$f":" VLOOKUP(A77, architecture!D$2:E$73, 2, FALSE)","v":{"$error":"#N/A"}},{"$f":"VLOOKUP(A77, 'PF14702'!B77:C2757, 2, FALSE)","v":1533},{"$f":"VLOOKUP($A77, taxonomy!$B$2:$T$695, 6, FALSE)","v":"Eukaryota"},{"$f":"VLOOKUP($A77, taxonomy!$B$2:$T$695, 7, FALSE)","v":" Metazoa"},{"$f":"VLOOKUP($A77, taxonomy!$B$2:$T$695, 8, FALSE)","v":" Chordata"},{"$f":"VLOOKUP($A77, taxonomy!$B$2:$T$695, 9, FALSE)","v":" Craniata"},{"$f":"VLOOKUP($A77, taxonomy!$B$2:$T$695, 10, FALSE)","v":" Vertebrata"},{"$f":"VLOOKUP($A77, taxonomy!$B$2:$T$695, 11, FALSE)","v":" Euteleostomi"},{"$f":"VLOOKUP($A77, taxonomy!$B$2:$T$695, 12, FALSE)","v":"Archelosauria"},{"$f":"VLOOKUP($A77, taxonomy!$B$2:$T$695, 13, FALSE)","v":" Archosauria"},{"$f":"VLOOKUP($A77, taxonomy!$B$2:$T$695, 14, FALSE)","v":" Dinosauria"},{"$f":"VLOOKUP($A77, taxonomy!$B$2:$T$695, 15, FALSE)","v":" Saurischia"},{"$f":"VLOOKUP($A77, taxonomy!$B$2:$T$695, 16, FALSE)","v":" Theropoda"},{"$f":"VLOOKUP($A77, taxonomy!$B$2:$T$695, 17, FALSE)","v":"Coelurosauria"}]
["A0A093Y8C9",{"$f":" VLOOKUP(A78, architecture!D$2:E$73, 2, FALSE)","v":{"$error":"#N/A"}},{"$f":"VLOOKUP(A78, 'PF14702'!B78:C2758, 2, FALSE)","v":1539},{"$f":"VLOOKUP($A78, taxonomy!$B$2:$T$695, 6, FALSE)","v":"Eukaryota"},{"$f":"VLOOKUP($A78, taxonomy!$B$2:$T$695, 7, FALSE)","v":" Fungi"},{"$f":"VLOOKUP($A78, taxonomy!$B$2:$T$695, 8, FALSE)","v":" Dikarya"},{"$f":"VLOOKUP($A78, taxonomy!$B$2:$T$695, 9, FALSE)","v":" Ascomycota"},{"$f":"VLOOKUP($A78, taxonomy!$B$2:$T$695, 10, FALSE)","v":" Pezizomycotina"},{"$f":"VLOOKUP($A78, taxonomy!$B$2:$T$695, 11, FALSE)","v":" Leotiomycetes"},{"$f":"VLOOKUP($A78, taxonomy!$B$2:$T$695, 12, FALSE)","v":"Leotiomycetes incertae sedis"},{"$f":"VLOOKUP($A78, taxonomy!$B$2:$T$695, 13, FALSE)","v":" Pseudeurotiaceae"},{"$f":"VLOOKUP($A78, taxonomy!$B$2:$T$695, 14, FALSE)","v":" Pseudogymnoascus."},{"$f":"VLOOKUP($A78, taxonomy!$B$2:$T$695, 15, FALSE)","v":0},{"$f":"VLOOKUP($A78, taxonomy!$B$2:$T$695, 16, FALSE)","v":0},{"$f":"VLOOKUP($A78, taxonomy!$B$2:$T$695, 17, FALSE)","v":0}]
["A0A093Y8Z0",{"$f":" VLOOKUP(A79, architecture!D$2:E$73, 2, FALSE)","v":{"$error":"#N/A"}},{"$f":"VLOOKUP(A79, 'PF14702'!B79:C2759, 2, FALSE)","v":1539},{"$f":"VLOOKUP($A79, taxonomy!$B$2:$T$695, 6, FALSE)","v":"Eukaryota"},{"$f":"VLOOKUP($A79, taxonomy!$B$2:$T$695, 7, FALSE)","v":" Fungi"},{"$f":"VLOOKUP($A79, taxonomy!$B$2:$T$695, 8, FALSE)","v":" Dikarya"},{"$f":"VLOOKUP($A79, taxonomy!$B$2:$T$695, 9, FALSE)","v":" Ascomycota"},{"$f":"VLOOKUP($A79, taxonomy!$B$2:$T$695, 10, FALSE)","v":" Pezizomycotina"},{"$f":"VLOOKUP($A79, taxonomy!$B$2:$T$695, 11, FALSE)","v":" Leotiomycetes"},{"$f":"VLOOKUP($A79, taxonomy!$B$2:$T$695, 12, FALSE)","v":"Leotiomycetes incertae sedis"},{"$f":"VLOOKUP($A79, taxonomy!$B$2:$T$695, 13, FALSE)","v":" Pseudeurotiaceae"},{"$f":"VLOOKUP($A79, taxonomy!$B$2:$T$695, 14, FALSE)","v":" Pseudogymnoascus."},{"$f":"VLOOKUP($A79, taxonomy!$B$2:$T$695, 15, FALSE)","v":0},{"$f":"VLOOKUP($A79, taxonomy!$B$2:$T$695, 16, FALSE)","v":0},{"$f":"VLOOKUP($A79, taxonomy!$B$2:$T$695, 17, FALSE)","v":0}]
["A0A093ZDG4",{"$f":" VLOOKUP(A80, architecture!D$2:E$73, 2, FALSE)","v":{"$error":"#N/A"}},{"$f":"VLOOKUP(A80, 'PF14702'!B80:C2760, 2, FALSE)","v":1538},{"$f":"VLOOKUP($A80, taxonomy!$B$2:$T$695, 6, FALSE)","v":"Eukaryota"},{"$f":"VLOOKUP($A80, taxonomy!$B$2:$T$695, 7, FALSE)","v":" Fungi"},{"$f":"VLOOKUP($A80, taxonomy!$B$2:$T$695, 8, FALSE)","v":" Dikarya"},{"$f":"VLOOKUP($A80, taxonomy!$B$2:$T$695, 9, FALSE)","v":" Ascomycota"},{"$f":"VLOOKUP($A80, taxonomy!$B$2:$T$695, 10, FALSE)","v":" Pezizomycotina"},{"$f":"VLOOKUP($A80, taxonomy!$B$2:$T$695, 11, FALSE)","v":" Leotiomycetes"},{"$f":"VLOOKUP($A80, taxonomy!$B$2:$T$695, 12, FALSE)","v":"Leotiomycetes incertae sedis"},{"$f":"VLOOKUP($A80, taxonomy!$B$2:$T$695, 13, FALSE)","v":" Pseudeurotiaceae"},{"$f":"VLOOKUP($A80, taxonomy!$B$2:$T$695, 14, FALSE)","v":" Pseudogymnoascus."},{"$f":"VLOOKUP($A80, taxonomy!$B$2:$T$695, 15, FALSE)","v":0},{"$f":"VLOOKUP($A80, taxonomy!$B$2:$T$695, 16, FALSE)","v":0},{"$f":"VLOOKUP($A80, taxonomy!$B$2:$T$695, 17, FALSE)","v":0}]
["A0A094A6U6",{"$f":" VLOOKUP(A81, architecture!D$2:E$73, 2, FALSE)","v":{"$error":"#N/A"}},{"$f":"VLOOKUP(A81, 'PF14702'!B81:C2761, 2, FALSE)","v":1544},{"$f":"VLOOKUP($A81, taxonomy!$B$2:$T$695, 6, FALSE)","v":"Eukaryota"},{"$f":"VLOOKUP($A81, taxonomy!$B$2:$T$695, 7, FALSE)","v":" Fungi"},{"$f":"VLOOKUP($A81, taxonomy!$B$2:$T$695, 8, FALSE)","v":" Dikarya"},{"$f":"VLOOKUP($A81, taxonomy!$B$2:$T$695, 9, FALSE)","v":" Ascomycota"},{"$f":"VLOOKUP($A81, taxonomy!$B$2:$T$695, 10, FALSE)","v":" Pezizomycotina"},{"$f":"VLOOKUP($A81, taxonomy!$B$2:$T$695, 11, FALSE)","v":" Leotiomycetes"},{"$f":"VLOOKUP($A81, taxonomy!$B$2:$T$695, 12, FALSE)","v":"Leotiomycetes incertae sedis"},{"$f":"VLOOKUP($A81, taxonomy!$B$2:$T$695, 13, FALSE)","v":" Pseudeurotiaceae"},{"$f":"VLOOKUP($A81, taxonomy!$B$2:$T$695, 14, FALSE)","v":" Pseudogymnoascus."},{"$f":"VLOOKUP($A81, taxonomy!$B$2:$T$695, 15, FALSE)","v":0},{"$f":"VLOOKUP($A81, taxonomy!$B$2:$T$695, 16, FALSE)","v":0},{"$f":"VLOOKUP($A81, taxonomy!$B$2:$T$695, 17, FALSE)","v":0}]
["A0A094AGV0",{"$f":" VLOOKUP(A82, architecture!D$2:E$73, 2, FALSE)","v":{"$error":"#N/A"}},{"$f":"VLOOKUP(A82, 'PF14702'!B82:C2762, 2, FALSE)","v":1533},{"$f":"VLOOKUP($A82, taxonomy!$B$2:$T$695, 6, FALSE)","v":"Eukaryota"},{"$f":"VLOOKUP($A82, taxonomy!$B$2:$T$695, 7, FALSE)","v":" Fungi"},{"$f":"VLOOKUP($A82, taxonomy!$B$2:$T$695, 8, FALSE)","v":" Dikarya"},{"$f":"VLOOKUP($A82, taxonomy!$B$2:$T$695, 9, FALSE)","v":" Ascomycota"},{"$f":"VLOOKUP($A82, taxonomy!$B$2:$T$695, 10, FALSE)","v":" Pezizomycotina"},{"$f":"VLOOKUP($A82, taxonomy!$B$2:$T$695, 11, FALSE)","v":" Leotiomycetes"},{"$f":"VLOOKUP($A82, taxonomy!$B$2:$T$695, 12, FALSE)","v":"Leotiomycetes incertae sedis"},{"$f":"VLOOKUP($A82, taxonomy!$B$2:$T$695, 13, FALSE)","v":" Pseudeurotiaceae"},{"$f":"VLOOKUP($A82, taxonomy!$B$2:$T$695, 14, FALSE)","v":" Pseudogymnoascus."},{"$f":"VLOOKUP($A82, taxonomy!$B$2:$T$695, 15, FALSE)","v":0},{"$f":"VLOOKUP($A82, taxonomy!$B$2:$T$695, 16, FALSE)","v":0},{"$f":"VLOOKUP($A82, taxonomy!$B$2:$T$695, 17, FALSE)","v":0}]
["A0A094BZU4",{"$f":" VLOOKUP(A83, architecture!D$2:E$73, 2, FALSE)","v":{"$error":"#N/A"}},{"$f":"VLOOKUP(A83, 'PF14702'!B83:C2763, 2, FALSE)","v":1538},{"$f":"VLOOKUP($A83, taxonomy!$B$2:$T$695, 6, FALSE)","v":"Eukaryota"},{"$f":"VLOOKUP($A83, taxonomy!$B$2:$T$695, 7, FALSE)","v":" Fungi"},{"$f":"VLOOKUP($A83, taxonomy!$B$2:$T$695, 8, FALSE)","v":" Dikarya"},{"$f":"VLOOKUP($A83, taxonomy!$B$2:$T$695, 9, FALSE)","v":" Ascomycota"},{"$f":"VLOOKUP($A83, taxonomy!$B$2:$T$695, 10, FALSE)","v":" Pezizomycotina"},{"$f":"VLOOKUP($A83, taxonomy!$B$2:$T$695, 11, FALSE)","v":" Leotiomycetes"},{"$f":"VLOOKUP($A83, taxonomy!$B$2:$T$695, 12, FALSE)","v":"Leotiomycetes incertae sedis"},{"$f":"VLOOKUP($A83, taxonomy!$B$2:$T$695, 13, FALSE)","v":" Pseudeurotiaceae"},{"$f":"VLOOKUP($A83, taxonomy!$B$2:$T$695, 14, FALSE)","v":" Pseudogymnoascus."},{"$f":"VLOOKUP($A83, taxonomy!$B$2:$T$695, 15, FALSE)","v":0},{"$f":"VLOOKUP($A83, taxonomy!$B$2:$T$695, 16, FALSE)","v":0},{"$f":"VLOOKUP($A83, taxonomy!$B$2:$T$695, 17, FALSE)","v":0}]
["A0A094CBT3",{"$f":" VLOOKUP(A84, architecture!D$2:E$73, 2, FALSE)","v":{"$error":"#N/A"}},{"$f":"VLOOKUP(A84, 'PF14702'!B84:C2764, 2, FALSE)","v":1539},{"$f":"VLOOKUP($A84, taxonomy!$B$2:$T$695, 6, FALSE)","v":"Eukaryota"},{"$f":"VLOOKUP($A84, taxonomy!$B$2:$T$695, 7, FALSE)","v":" Fungi"},{"$f":"VLOOKUP($A84, taxonomy!$B$2:$T$695, 8, FALSE)","v":" Dikarya"},{"$f":"VLOOKUP($A84, taxonomy!$B$2:$T$695, 9, FALSE)","v":" Ascomycota"},{"$f":"VLOOKUP($A84, taxonomy!$B$2:$T$695, 10, FALSE)","v":" Pezizomycotina"},{"$f":"VLOOKUP($A84, taxonomy!$B$2:$T$695, 11, FALSE)","v":" Leotiomycetes"},{"$f":"VLOOKUP($A84, taxonomy!$B$2:$T$695, 12, FALSE)","v":"Leotiomycetes incertae sedis"},{"$f":"VLOOKUP($A84, taxonomy!$B$2:$T$695, 13, FALSE)","v":" Pseudeurotiaceae"},{"$f":"VLOOKUP($A84, taxonomy!$B$2:$T$695, 14, FALSE)","v":" Pseudogymnoascus."},{"$f":"VLOOKUP($A84, taxonomy!$B$2:$T$695, 15, FALSE)","v":0},{"$f":"VLOOKUP($A84, taxonomy!$B$2:$T$695, 16, FALSE)","v":0},{"$f":"VLOOKUP($A84, taxonomy!$B$2:$T$695, 17, FALSE)","v":0}]
["A0A094DFK1",{"$f":" VLOOKUP(A85, architecture!D$2:E$73, 2, FALSE)","v":{"$error":"#N/A"}},{"$f":"VLOOKUP(A85, 'PF14702'!B85:C2765, 2, FALSE)","v":1539},{"$f":"VLOOKUP($A85, taxonomy!$B$2:$T$695, 6, FALSE)","v":"Eukaryota"},{"$f":"VLOOKUP($A85, taxonomy!$B$2:$T$695, 7, FALSE)","v":" Fungi"},{"$f":"VLOOKUP($A85, taxonomy!$B$2:$T$695, 8, FALSE)","v":" Dikarya"},{"$f":"VLOOKUP($A85, taxonomy!$B$2:$T$695, 9, FALSE)","v":" Ascomycota"},{"$f":"VLOOKUP($A85, taxonomy!$B$2:$T$695, 10, FALSE)","v":" Pezizomycotina"},{"$f":"VLOOKUP($A85, taxonomy!$B$2:$T$695, 11, FALSE)","v":" Leotiomycetes"},{"$f":"VLOOKUP($A85, taxonomy!$B$2:$T$695, 12, FALSE)","v":"Leotiomycetes incertae sedis"},{"$f":"VLOOKUP($A85, taxonomy!$B$2:$T$695, 13, FALSE)","v":" Pseudeurotiaceae"},{"$f":"VLOOKUP($A85, taxonomy!$B$2:$T$695, 14, FALSE)","v":" Pseudogymnoascus."},{"$f":"VLOOKUP($A85, taxonomy!$B$2:$T$695, 15, FALSE)","v":0},{"$f":"VLOOKUP($A85, taxonomy!$B$2:$T$695, 16, FALSE)","v":0},{"$f":"VLOOKUP($A85, taxonomy!$B$2:$T$695, 17, FALSE)","v":0}]
["A0A094EPV8",{"$f":" VLOOKUP(A86, architecture!D$2:E$73, 2, FALSE)","v":{"$error":"#N/A"}},{"$f":"VLOOKUP(A86, 'PF14702'!B86:C2766, 2, FALSE)","v":1538},{"$f":"VLOOKUP($A86, taxonomy!$B$2:$T$695, 6, FALSE)","v":"Eukaryota"},{"$f":"VLOOKUP($A86, taxonomy!$B$2:$T$695, 7, FALSE)","v":" Fungi"},{"$f":"VLOOKUP($A86, taxonomy!$B$2:$T$695, 8, FALSE)","v":" Dikarya"},{"$f":"VLOOKUP($A86, taxonomy!$B$2:$T$695, 9, FALSE)","v":" Ascomycota"},{"$f":"VLOOKUP($A86, taxonomy!$B$2:$T$695, 10, FALSE)","v":" Pezizomycotina"},{"$f":"VLOOKUP($A86, taxonomy!$B$2:$T$695, 11, FALSE)","v":" Leotiomycetes"},{"$f":"VLOOKUP($A86, taxonomy!$B$2:$T$695, 12, FALSE)","v":"Leotiomycetes incertae sedis"},{"$f":"VLOOKUP($A86, taxonomy!$B$2:$T$695, 13, FALSE)","v":" Pseudeurotiaceae"},{"$f":"VLOOKUP($A86, taxonomy!$B$2:$T$695, 14, FALSE)","v":" Pseudogymnoascus."},{"$f":"VLOOKUP($A86, taxonomy!$B$2:$T$695, 15, FALSE)","v":0},{"$f":"VLOOKUP($A86, taxonomy!$B$2:$T$695, 16, FALSE)","v":0},{"$f":"VLOOKUP($A86, taxonomy!$B$2:$T$695, 17, FALSE)","v":0}]
["A0A094FZP8",{"$f":" VLOOKUP(A87, architecture!D$2:E$73, 2, FALSE)","v":{"$error":"#N/A"}},{"$f":"VLOOKUP(A87, 'PF14702'!B87:C2767, 2, FALSE)","v":1544},{"$f":"VLOOKUP($A87, taxonomy!$B$2:$T$695, 6, FALSE)","v":"Eukaryota"},{"$f":"VLOOKUP($A87, taxonomy!$B$2:$T$695, 7, FALSE)","v":" Fungi"},{"$f":"VLOOKUP($A87, taxonomy!$B$2:$T$695, 8, FALSE)","v":" Dikarya"},{"$f":"VLOOKUP($A87, taxonomy!$B$2:$T$695, 9, FALSE)","v":" Ascomycota"},{"$f":"VLOOKUP($A87, taxonomy!$B$2:$T$695, 10, FALSE)","v":" Pezizomycotina"},{"$f":"VLOOKUP($A87, taxonomy!$B$2:$T$695, 11, FALSE)","v":" Leotiomycetes"},{"$f":"VLOOKUP($A87, taxonomy!$B$2:$T$695, 12, FALSE)","v":"Leotiomycetes incertae sedis"},{"$f":"VLOOKUP($A87, taxonomy!$B$2:$T$695, 13, FALSE)","v":" Pseudeurotiaceae"},{"$f":"VLOOKUP($A87, taxonomy!$B$2:$T$695, 14, FALSE)","v":" Pseudogymnoascus."},{"$f":"VLOOKUP($A87, taxonomy!$B$2:$T$695, 15, FALSE)","v":0},{"$f":"VLOOKUP($A87, taxonomy!$B$2:$T$695, 16, FALSE)","v":0},{"$f":"VLOOKUP($A87, taxonomy!$B$2:$T$695, 17, FALSE)","v":0}]
["A0A094GBR2",{"$f":" VLOOKUP(A88, architecture!D$2:E$73, 2, FALSE)","v":{"$error":"#N/A"}},{"$f":"VLOOKUP(A88, 'PF14702'!B88:C2768, 2, FALSE)","v":1539},{"$f":"VLOOKUP($A88, taxonomy!$B$2:$T$695, 6, FALSE)","v":"Eukaryota"},{"$f":"VLOOKUP($A88, taxonomy!$B$2:$T$695, 7, FALSE)","v":" Fungi"},{"$f":"VLOOKUP($A88, taxonomy!$B$2:$T$695, 8, FALSE)","v":" Dikarya"},{"$f":"VLOOKUP($A88, taxonomy!$B$2:$T$695, 9, FALSE)","v":" Ascomycota"},{"$f":"VLOOKUP($A88, taxonomy!$B$2:$T$695, 10, FALSE)","v":" Pezizomycotina"},{"$f":"VLOOKUP($A88, taxonomy!$B$2:$T$695, 11, FALSE)","v":" Leotiomycetes"},{"$f":"VLOOKUP($A88, taxonomy!$B$2:$T$695, 12, FALSE)","v":"Leotiomycetes incertae sedis"},{"$f":"VLOOKUP($A88, taxonomy!$B$2:$T$695, 13, FALSE)","v":" Pseudeurotiaceae"},{"$f":"VLOOKUP($A88, taxonomy!$B$2:$T$695, 14, FALSE)","v":" Pseudogymnoascus."},{"$f":"VLOOKUP($A88, taxonomy!$B$2:$T$695, 15, FALSE)","v":0},{"$f":"VLOOKUP($A88, taxonomy!$B$2:$T$695, 16, FALSE)","v":0},{"$f":"VLOOKUP($A88, taxonomy!$B$2:$T$695, 17, FALSE)","v":0}]
["A0A094H8A7",{"$f":" VLOOKUP(A89, architecture!D$2:E$73, 2, FALSE)","v":{"$error":"#N/A"}},{"$f":"VLOOKUP(A89, 'PF14702'!B89:C2769, 2, FALSE)","v":1544},{"$f":"VLOOKUP($A89, taxonomy!$B$2:$T$695, 6, FALSE)","v":"Eukaryota"},{"$f":"VLOOKUP($A89, taxonomy!$B$2:$T$695, 7, FALSE)","v":" Fungi"},{"$f":"VLOOKUP($A89, taxonomy!$B$2:$T$695, 8, FALSE)","v":" Dikarya"},{"$f":"VLOOKUP($A89, taxonomy!$B$2:$T$695, 9, FALSE)","v":" Ascomycota"},{"$f":"VLOOKUP($A89, taxonomy!$B$2:$T$695, 10, FALSE)","v":" Pezizomycotina"},{"$f":"VLOOKUP($A89, taxonomy!$B$2:$T$695, 11, FALSE)","v":" Leotiomycetes"},{"$f":"VLOOKUP($A89, taxonomy!$B$2:$T$695, 12, FALSE)","v":"Leotiomycetes incertae sedis"},{"$f":"VLOOKUP($A89, taxonomy!$B$2:$T$695, 13, FALSE)","v":" Pseudeurotiaceae"},{"$f":"VLOOKUP($A89, taxonomy!$B$2:$T$695, 14, FALSE)","v":" Pseudogymnoascus."},{"$f":"VLOOKUP($A89, taxonomy!$B$2:$T$695, 15, FALSE)","v":0},{"$f":"VLOOKUP($A89, taxonomy!$B$2:$T$695, 16, FALSE)","v":0},{"$f":"VLOOKUP($A89, taxonomy!$B$2:$T$695, 17, FALSE)","v":0}]
["A0A094JA99",{"$f":" VLOOKUP(A90, architecture!D$2:E$73, 2, FALSE)","v":{"$error":"#N/A"}},{"$f":"VLOOKUP(A90, 'PF14702'!B90:C2770, 2, FALSE)","v":1538},{"$f":"VLOOKUP($A90, taxonomy!$B$2:$T$695, 6, FALSE)","v":"Eukaryota"},{"$f":"VLOOKUP($A90, taxonomy!$B$2:$T$695, 7, FALSE)","v":" Fungi"},{"$f":"VLOOKUP($A90, taxonomy!$B$2:$T$695, 8, FALSE)","v":" Dikarya"},{"$f":"VLOOKUP($A90, taxonomy!$B$2:$T$695, 9, FALSE)","v":" Ascomycota"},{"$f":"VLOOKUP($A90, taxonomy!$B$2:$T$695, 10, FALSE)","v":" Pezizomycotina"},{"$f":"VLOOKUP($A90, taxonomy!$B$2:$T$695, 11, FALSE)","v":" Leotiomycetes"},{"$f":"VLOOKUP($A90, taxonomy!$B$2:$T$695, 12, FALSE)","v":"Leotiomycetes incertae sedis"},{"$f":"VLOOKUP($A90, taxonomy!$B$2:$T$695, 13, FALSE)","v":" Pseudeurotiaceae"},{"$f":"VLOOKUP($A90, taxonomy!$B$2:$T$695, 14, FALSE)","v":" Pseudogymnoascus."},{"$f":"VLOOKUP($A90, taxonomy!$B$2:$T$695, 15, FALSE)","v":0},{"$f":"VLOOKUP($A90, taxonomy!$B$2:$T$695, 16, FALSE)","v":0},{"$f":"VLOOKUP($A90, taxonomy!$B$2:$T$695, 17, FALSE)","v":0}]
["A0A094ZFT4",{"$f":" VLOOKUP(A91, architecture!D$2:E$73, 2, FALSE)","v":{"$error":"#N/A"}},{"$f":"VLOOKUP(A91, 'PF14702'!B91:C2771, 2, FALSE)","v":1588},{"$f":"VLOOKUP($A91, taxonomy!$B$2:$T$695, 6, FALSE)","v":"Eukaryota"},{"$f":"VLOOKUP($A91, taxonomy!$B$2:$T$695, 7, FALSE)","v":" Metazoa"},{"$f":"VLOOKUP($A91, taxonomy!$B$2:$T$695, 8, FALSE)","v":" Platyhelminthes"},{"$f":"VLOOKUP($A91, taxonomy!$B$2:$T$695, 9, FALSE)","v":" Trematoda"},{"$f":"VLOOKUP($A91, taxonomy!$B$2:$T$695, 10, FALSE)","v":" Digenea"},{"$f":"VLOOKUP($A91, taxonomy!$B$2:$T$695, 11, FALSE)","v":" Strigeidida"},{"$f":"VLOOKUP($A91, taxonomy!$B$2:$T$695, 12, FALSE)","v":"Schistosomatoidea"},{"$f":"VLOOKUP($A91, taxonomy!$B$2:$T$695, 13, FALSE)","v":" Schistosomatidae"},{"$f":"VLOOKUP($A91, taxonomy!$B$2:$T$695, 14, FALSE)","v":" Schistosoma."},{"$f":"VLOOKUP($A91, taxonomy!$B$2:$T$695, 15, FALSE)","v":0},{"$f":"VLOOKUP($A91, taxonomy!$B$2:$T$695, 16, FALSE)","v":0},{"$f":"VLOOKUP($A91, taxonomy!$B$2:$T$695, 17, FALSE)","v":0}]
["A0A095DHE2",{"$f":" VLOOKUP(A92, architecture!D$2:E$73, 2, FALSE)","v":{"$error":"#N/A"}},{"$f":"VLOOKUP(A92, 'PF14702'!B92:C2772, 2, FALSE)","v":1593},{"$f":"VLOOKUP($A92, taxonomy!$B$2:$T$695, 6, FALSE)","v":"Eukaryota"},{"$f":"VLOOKUP($A92, taxonomy!$B$2:$T$695, 7, FALSE)","v":" Fungi"},{"$f":"VLOOKUP($A92, taxonomy!$B$2:$T$695, 8, FALSE)","v":" Dikarya"},{"$f":"VLOOKUP($A92, taxonomy!$B$2:$T$695, 9, FALSE)","v":" Basidiomycota"},{"$f":"VLOOKUP($A92, taxonomy!$B$2:$T$695, 10, FALSE)","v":" Agaricomycotina"},{"$f":"VLOOKUP($A92, taxonomy!$B$2:$T$695, 11, FALSE)","v":"Tremellomycetes"},{"$f":"VLOOKUP($A92, taxonomy!$B$2:$T$695, 12, FALSE)","v":" Tremellales"},{"$f":"VLOOKUP($A92, taxonomy!$B$2:$T$695, 13, FALSE)","v":" Cryptococcaceae"},{"$f":"VLOOKUP($A92, taxonomy!$B$2:$T$695, 14, FALSE)","v":" Cryptococcus"},{"$f":"VLOOKUP($A92, taxonomy!$B$2:$T$695, 15, FALSE)","v":"Cryptococcus gattii species complex."},{"$f":"VLOOKUP($A92, taxonomy!$B$2:$T$695, 16, FALSE)","v":0},{"$f":"VLOOKUP($A92, taxonomy!$B$2:$T$695, 17, FALSE)","v":0}]
["A0A096N6Q6",{"$f":" VLOOKUP(A93, architecture!D$2:E$73, 2, FALSE)","v":{"$error":"#N/A"}},{"$f":"VLOOKUP(A93, 'PF14702'!B93:C2773, 2, FALSE)","v":1526},{"$f":"VLOOKUP($A93, taxonomy!$B$2:$T$695, 6, FALSE)","v":"Eukaryota"},{"$f":"VLOOKUP($A93, taxonomy!$B$2:$T$695, 7, FALSE)","v":" Metazoa"},{"$f":"VLOOKUP($A93, taxonomy!$B$2:$T$695, 8, FALSE)","v":" Chordata"},{"$f":"VLOOKUP($A93, taxonomy!$B$2:$T$695, 9, FALSE)","v":" Craniata"},{"$f":"VLOOKUP($A93, taxonomy!$B$2:$T$695, 10, FALSE)","v":" Vertebrata"},{"$f":"VLOOKUP($A93, taxonomy!$B$2:$T$695, 11, FALSE)","v":" Euteleostomi"},{"$f":"VLOOKUP($A93, taxonomy!$B$2:$T$695, 12, FALSE)","v":"Mammalia"},{"$f":"VLOOKUP($A93, taxonomy!$B$2:$T$695, 13, FALSE)","v":" Eutheria"},{"$f":"VLOOKUP($A93, taxonomy!$B$2:$T$695, 14, FALSE)","v":" Euarchontoglires"},{"$f":"VLOOKUP($A93, taxonomy!$B$2:$T$695, 15, FALSE)","v":" Primates"},{"$f":"VLOOKUP($A93, taxonomy!$B$2:$T$695, 16, FALSE)","v":" Haplorrhini"},{"$f":"VLOOKUP($A93, taxonomy!$B$2:$T$695, 17, FALSE)","v":"Catarrhini"}]
["A0A099P130",{"$f":" VLOOKUP(A94, architecture!D$2:E$73, 2, FALSE)","v":{"$error":"#N/A"}},{"$f":"VLOOKUP(A94, 'PF14702'!B94:C2774, 2, FALSE)","v":1535},{"$f":"VLOOKUP($A94, taxonomy!$B$2:$T$695, 6, FALSE)","v":"Eukaryota"},{"$f":"VLOOKUP($A94, taxonomy!$B$2:$T$695, 7, FALSE)","v":" Fungi"},{"$f":"VLOOKUP($A94, taxonomy!$B$2:$T$695, 8, FALSE)","v":" Dikarya"},{"$f":"VLOOKUP($A94, taxonomy!$B$2:$T$695, 9, FALSE)","v":" Ascomycota"},{"$f":"VLOOKUP($A94, taxonomy!$B$2:$T$695, 10, FALSE)","v":" Saccharomycotina"},{"$f":"VLOOKUP($A94, taxonomy!$B$2:$T$695, 11, FALSE)","v":"Saccharomycetes"},{"$f":"VLOOKUP($A94, taxonomy!$B$2:$T$695, 12, FALSE)","v":" Saccharomycetales"},{"$f":"VLOOKUP($A94, taxonomy!$B$2:$T$695, 13, FALSE)","v":" Pichiaceae"},{"$f":"VLOOKUP($A94, taxonomy!$B$2:$T$695, 14, FALSE)","v":" Pichia."},{"$f":"VLOOKUP($A94, taxonomy!$B$2:$T$695, 15, FALSE)","v":0},{"$f":"VLOOKUP($A94, taxonomy!$B$2:$T$695, 16, FALSE)","v":0},{"$f":"VLOOKUP($A94, taxonomy!$B$2:$T$695, 17, FALSE)","v":0}]
["A0A0A0AG33",{"$f":" VLOOKUP(A95, architecture!D$2:E$73, 2, FALSE)","v":{"$error":"#N/A"}},{"$f":"VLOOKUP(A95, 'PF14702'!B95:C2775, 2, FALSE)","v":1531},{"$f":"VLOOKUP($A95, taxonomy!$B$2:$T$695, 6, FALSE)","v":"Eukaryota"},{"$f":"VLOOKUP($A95, taxonomy!$B$2:$T$695, 7, FALSE)","v":" Metazoa"},{"$f":"VLOOKUP($A95, taxonomy!$B$2:$T$695, 8, FALSE)","v":" Chordata"},{"$f":"VLOOKUP($A95, taxonomy!$B$2:$T$695, 9, FALSE)","v":" Craniata"},{"$f":"VLOOKUP($A95, taxonomy!$B$2:$T$695, 10, FALSE)","v":" Vertebrata"},{"$f":"VLOOKUP($A95, taxonomy!$B$2:$T$695, 11, FALSE)","v":" Euteleostomi"},{"$f":"VLOOKUP($A95, taxonomy!$B$2:$T$695, 12, FALSE)","v":"Archelosauria"},{"$f":"VLOOKUP($A95, taxonomy!$B$2:$T$695, 13, FALSE)","v":" Archosauria"},{"$f":"VLOOKUP($A95, taxonomy!$B$2:$T$695, 14, FALSE)","v":" Dinosauria"},{"$f":"VLOOKUP($A95, taxonomy!$B$2:$T$695, 15, FALSE)","v":" Saurischia"},{"$f":"VLOOKUP($A95, taxonomy!$B$2:$T$695, 16, FALSE)","v":" Theropoda"},{"$f":"VLOOKUP($A95, taxonomy!$B$2:$T$695, 17, FALSE)","v":"Coelurosauria"}]
["A0A0A1NX13",{"$f":" VLOOKUP(A96, architecture!D$2:E$73, 2, FALSE)","v":{"$error":"#N/A"}},{"$f":"VLOOKUP(A96, 'PF14702'!B96:C2776, 2, FALSE)","v":764},{"$f":"VLOOKUP($A96, taxonomy!$B$2:$T$695, 6, FALSE)","v":"Eukaryota"},{"$f":"VLOOKUP($A96, taxonomy!$B$2:$T$695, 7, FALSE)","v":" Fungi"},{"$f":"VLOOKUP($A96, taxonomy!$B$2:$T$695, 8, FALSE)","v":" Mucoromycota"},{"$f":"VLOOKUP($A96, taxonomy!$B$2:$T$695, 9, FALSE)","v":" Mucoromycotina"},{"$f":"VLOOKUP($A96, taxonomy!$B$2:$T$695, 10, FALSE)","v":" Mucorales"},{"$f":"VLOOKUP($A96, taxonomy!$B$2:$T$695, 11, FALSE)","v":" Mucorineae"},{"$f":"VLOOKUP($A96, taxonomy!$B$2:$T$695, 12, FALSE)","v":"Rhizopodaceae"},{"$f":"VLOOKUP($A96, taxonomy!$B$2:$T$695, 13, FALSE)","v":" Rhizopus."},{"$f":"VLOOKUP($A96, taxonomy!$B$2:$T$695, 14, FALSE)","v":0},{"$f":"VLOOKUP($A96, taxonomy!$B$2:$T$695, 15, FALSE)","v":0},{"$f":"VLOOKUP($A96, taxonomy!$B$2:$T$695, 16, FALSE)","v":0},{"$f":"VLOOKUP($A96, taxonomy!$B$2:$T$695, 17, FALSE)","v":0}]
["A0A0A1P236",{"$f":" VLOOKUP(A97, architecture!D$2:E$73, 2, FALSE)","v":{"$error":"#N/A"}},{"$f":"VLOOKUP(A97, 'PF14702'!B97:C2777, 2, FALSE)","v":764},{"$f":"VLOOKUP($A97, taxonomy!$B$2:$T$695, 6, FALSE)","v":"Eukaryota"},{"$f":"VLOOKUP($A97, taxonomy!$B$2:$T$695, 7, FALSE)","v":" Fungi"},{"$f":"VLOOKUP($A97, taxonomy!$B$2:$T$695, 8, FALSE)","v":" Mucoromycota"},{"$f":"VLOOKUP($A97, taxonomy!$B$2:$T$695, 9, FALSE)","v":" Mucoromycotina"},{"$f":"VLOOKUP($A97, taxonomy!$B$2:$T$695, 10, FALSE)","v":" Mucorales"},{"$f":"VLOOKUP($A97, taxonomy!$B$2:$T$695, 11, FALSE)","v":" Mucorineae"},{"$f":"VLOOKUP($A97, taxonomy!$B$2:$T$695, 12, FALSE)","v":"Rhizopodaceae"},{"$f":"VLOOKUP($A97, taxonomy!$B$2:$T$695, 13, FALSE)","v":" Rhizopus."},{"$f":"VLOOKUP($A97, taxonomy!$B$2:$T$695, 14, FALSE)","v":0},{"$f":"VLOOKUP($A97, taxonomy!$B$2:$T$695, 15, FALSE)","v":0},{"$f":"VLOOKUP($A97, taxonomy!$B$2:$T$695, 16, FALSE)","v":0},{"$f":"VLOOKUP($A97, taxonomy!$B$2:$T$695, 17, FALSE)","v":0}]
["A0A0A1TRF2",{"$f":" VLOOKUP(A98, architecture!D$2:E$73, 2, FALSE)","v":{"$error":"#N/A"}},{"$f":"VLOOKUP(A98, 'PF14702'!B98:C2778, 2, FALSE)","v":1553},{"$f":"VLOOKUP($A98, taxonomy!$B$2:$T$695, 6, FALSE)","v":"Eukaryota"},{"$f":"VLOOKUP($A98, taxonomy!$B$2:$T$695, 7, FALSE)","v":" Fungi"},{"$f":"VLOOKUP($A98, taxonomy!$B$2:$T$695, 8, FALSE)","v":" Dikarya"},{"$f":"VLOOKUP($A98, taxonomy!$B$2:$T$695, 9, FALSE)","v":" Ascomycota"},{"$f":"VLOOKUP($A98, taxonomy!$B$2:$T$695, 10, FALSE)","v":" Pezizomycotina"},{"$f":"VLOOKUP($A98, taxonomy!$B$2:$T$695, 11, FALSE)","v":"Sordariomycetes"},{"$f":"VLOOKUP($A98, taxonomy!$B$2:$T$695, 12, FALSE)","v":" Hypocreomycetidae"},{"$f":"VLOOKUP($A98, taxonomy!$B$2:$T$695, 13, FALSE)","v":" Hypocreales"},{"$f":"VLOOKUP($A98, taxonomy!$B$2:$T$695, 14, FALSE)","v":" Clavicipitaceae"},{"$f":"VLOOKUP($A98, taxonomy!$B$2:$T$695, 15, FALSE)","v":"Torrubiella."},{"$f":"VLOOKUP($A98, taxonomy!$B$2:$T$695, 16, FALSE)","v":0},{"$f":"VLOOKUP($A98, taxonomy!$B$2:$T$695, 17, FALSE)","v":0}]
["A0A0A1U014",{"$f":" VLOOKUP(A99, architecture!D$2:E$73, 2, FALSE)","v":1},{"$f":"VLOOKUP(A99, 'PF14702'!B99:C2779, 2, FALSE)","v":1426},{"$f":"VLOOKUP($A99, taxonomy!$B$2:$T$695, 6, FALSE)","v":"Eukaryota"},{"$f":"VLOOKUP($A99, taxonomy!$B$2:$T$695, 7, FALSE)","v":" Amoebozoa"},{"$f":"VLOOKUP($A99, taxonomy!$B$2:$T$695, 8, FALSE)","v":" Archamoebae"},{"$f":"VLOOKUP($A99, taxonomy!$B$2:$T$695, 9, FALSE)","v":" Entamoebidae"},{"$f":"VLOOKUP($A99, taxonomy!$B$2:$T$695, 10, FALSE)","v":" Entamoeba."},{"$f":"VLOOKUP($A99, taxonomy!$B$2:$T$695, 11, FALSE)","v":0},{"$f":"VLOOKUP($A99, taxonomy!$B$2:$T$695, 12, FALSE)","v":0},{"$f":"VLOOKUP($A99, taxonomy!$B$2:$T$695, 13, FALSE)","v":0},{"$f":"VLOOKUP($A99, taxonomy!$B$2:$T$695, 14, FALSE)","v":0},{"$f":"VLOOKUP($A99, taxonomy!$B$2:$T$695, 15, FALSE)","v":0},{"$f":"VLOOKUP($A99, taxonomy!$B$2:$T$695, 16, FALSE)","v":0},{"$f":"VLOOKUP($A99, taxonomy!$B$2:$T$695, 17, FALSE)","v":0}]
["A0A0A1UPQ1",{"$f":" VLOOKUP(A100, architecture!D$2:E$73, 2, FALSE)","v":{"$error":"#N/A"}},{"$f":"VLOOKUP(A100, 'PF14702'!B100:C2780, 2, FALSE)","v":1541},{"$f":"VLOOKUP($A100, taxonomy!$B$2:$T$695, 6, FALSE)","v":"Eukaryota"},{"$f":"VLOOKUP($A100, taxonomy!$B$2:$T$695, 7, FALSE)","v":" Fungi"},{"$f":"VLOOKUP($A100, taxonomy!$B$2:$T$695, 8, FALSE)","v":" Dikarya"},{"$f":"VLOOKUP($A100, taxonomy!$B$2:$T$695, 9, FALSE)","v":" Ascomycota"},{"$f":"VLOOKUP($A100, taxonomy!$B$2:$T$695, 10, FALSE)","v":" Pezizomycotina"},{"$f":"VLOOKUP($A100, taxonomy!$B$2:$T$695, 11, FALSE)","v":"Sordariomycetes"},{"$f":"VLOOKUP($A100, taxonomy!$B$2:$T$695, 12, FALSE)","v":" Hypocreomycetidae"},{"$f":"VLOOKUP($A100, taxonomy!$B$2:$T$695, 13, FALSE)","v":" Hypocreales"},{"$f":"VLOOKUP($A100, taxonomy!$B$2:$T$695, 14, FALSE)","v":" Clavicipitaceae"},{"$f":"VLOOKUP($A100, taxonomy!$B$2:$T$695, 15, FALSE)","v":"Metarhizium."},{"$f":"VLOOKUP($A100, taxonomy!$B$2:$T$695, 16, FALSE)","v":0},{"$f":"VLOOKUP($A100, taxonomy!$B$2:$T$695, 17, FALSE)","v":0}]
["A0A0A2IUN1",{"$f":" VLOOKUP(A101, architecture!D$2:E$73, 2, FALSE)","v":{"$error":"#N/A"}},{"$f":"VLOOKUP(A101, 'PF14702'!B101:C2781, 2, FALSE)","v":1534},{"$f":"VLOOKUP($A101, taxonomy!$B$2:$T$695, 6, FALSE)","v":"Eukaryota"},{"$f":"VLOOKUP($A101, taxonomy!$B$2:$T$695, 7, FALSE)","v":" Fungi"},{"$f":"VLOOKUP($A101, taxonomy!$B$2:$T$695, 8, FALSE)","v":" Dikarya"},{"$f":"VLOOKUP($A101, taxonomy!$B$2:$T$695, 9, FALSE)","v":" Ascomycota"},{"$f":"VLOOKUP($A101, taxonomy!$B$2:$T$695, 10, FALSE)","v":" Pezizomycotina"},{"$f":"VLOOKUP($A101, taxonomy!$B$2:$T$695, 11, FALSE)","v":" Eurotiomycetes"},{"$f":"VLOOKUP($A101, taxonomy!$B$2:$T$695, 12, FALSE)","v":"Eurotiomycetidae"},{"$f":"VLOOKUP($A101, taxonomy!$B$2:$T$695, 13, FALSE)","v":" Eurotiales"},{"$f":"VLOOKUP($A101, taxonomy!$B$2:$T$695, 14, FALSE)","v":" Aspergillaceae"},{"$f":"VLOOKUP($A101, taxonomy!$B$2:$T$695, 15, FALSE)","v":" Penicillium."},{"$f":"VLOOKUP($A101, taxonomy!$B$2:$T$695, 16, FALSE)","v":0},{"$f":"VLOOKUP($A101, taxonomy!$B$2:$T$695, 17, FALSE)","v":0}]
["A0A0A2LCV9",{"$f":" VLOOKUP(A102, architecture!D$2:E$73, 2, FALSE)","v":{"$error":"#N/A"}},{"$f":"VLOOKUP(A102, 'PF14702'!B102:C2782, 2, FALSE)","v":1534},{"$f":"VLOOKUP($A102, taxonomy!$B$2:$T$695, 6, FALSE)","v":"Eukaryota"},{"$f":"VLOOKUP($A102, taxonomy!$B$2:$T$695, 7, FALSE)","v":" Fungi"},{"$f":"VLOOKUP($A102, taxonomy!$B$2:$T$695, 8, FALSE)","v":" Dikarya"},{"$f":"VLOOKUP($A102, taxonomy!$B$2:$T$695, 9, FALSE)","v":" Ascomycota"},{"$f":"VLOOKUP($A102, taxonomy!$B$2:$T$695, 10, FALSE)","v":" Pezizomycotina"},{"$f":"VLOOKUP($A102, taxonomy!$B$2:$T$695, 11, FALSE)","v":" Eurotiomycetes"},{"$f":"VLOOKUP($A102, taxonomy!$B$2:$T$695, 12, FALSE)","v":"Eurotiomycetidae"},{"$f":"VLOOKUP($A102, taxonomy!$B$2:$T$695, 13, FALSE)","v":" Eurotiales"},{"$f":"VLOOKUP($A102, taxonomy!$B$2:$T$695, 14, FALSE)","v":" Aspergillaceae"},{"$f":"VLOOKUP($A102, taxonomy!$B$2:$T$695, 15, FALSE)","v":" Penicillium."},{"$f":"VLOOKUP($A102, taxonomy!$B$2:$T$695, 16, FALSE)","v":0},{"$f":"VLOOKUP($A102, taxonomy!$B$2:$T$695, 17, FALSE)","v":0}]
["A0A0A2UZZ1",{"$f":" VLOOKUP(A103, architecture!D$2:E$73, 2, FALSE)","v":{"$error":"#N/A"}},{"$f":"VLOOKUP(A103, 'PF14702'!B103:C2783, 2, FALSE)","v":1455},{"$f":"VLOOKUP($A103, taxonomy!$B$2:$T$695, 6, FALSE)","v":"Eukaryota"},{"$f":"VLOOKUP($A103, taxonomy!$B$2:$T$695, 7, FALSE)","v":" Fungi"},{"$f":"VLOOKUP($A103, taxonomy!$B$2:$T$695, 8, FALSE)","v":" Dikarya"},{"$f":"VLOOKUP($A103, taxonomy!$B$2:$T$695, 9, FALSE)","v":" Ascomycota"},{"$f":"VLOOKUP($A103, taxonomy!$B$2:$T$695, 10, FALSE)","v":" Pezizomycotina"},{"$f":"VLOOKUP($A103, taxonomy!$B$2:$T$695, 11, FALSE)","v":" Eurotiomycetes"},{"$f":"VLOOKUP($A103, taxonomy!$B$2:$T$695, 12, FALSE)","v":"Eurotiomycetidae"},{"$f":"VLOOKUP($A103, taxonomy!$B$2:$T$695, 13, FALSE)","v":" Onygenales"},{"$f":"VLOOKUP($A103, taxonomy!$B$2:$T$695, 14, FALSE)","v":" Onygenales incertae sedis"},{"$f":"VLOOKUP($A103, taxonomy!$B$2:$T$695, 15, FALSE)","v":"Paracoccidioides."},{"$f":"VLOOKUP($A103, taxonomy!$B$2:$T$695, 16, FALSE)","v":0},{"$f":"VLOOKUP($A103, taxonomy!$B$2:$T$695, 17, FALSE)","v":0}]
["A0A0A2VHZ6",{"$f":" VLOOKUP(A104, architecture!D$2:E$73, 2, FALSE)","v":{"$error":"#N/A"}},{"$f":"VLOOKUP(A104, 'PF14702'!B104:C2784, 2, FALSE)","v":1545},{"$f":"VLOOKUP($A104, taxonomy!$B$2:$T$695, 6, FALSE)","v":"Eukaryota"},{"$f":"VLOOKUP($A104, taxonomy!$B$2:$T$695, 7, FALSE)","v":" Fungi"},{"$f":"VLOOKUP($A104, taxonomy!$B$2:$T$695, 8, FALSE)","v":" Dikarya"},{"$f":"VLOOKUP($A104, taxonomy!$B$2:$T$695, 9, FALSE)","v":" Ascomycota"},{"$f":"VLOOKUP($A104, taxonomy!$B$2:$T$695, 10, FALSE)","v":" Pezizomycotina"},{"$f":"VLOOKUP($A104, taxonomy!$B$2:$T$695, 11, FALSE)","v":"Sordariomycetes"},{"$f":"VLOOKUP($A104, taxonomy!$B$2:$T$695, 12, FALSE)","v":" Hypocreomycetidae"},{"$f":"VLOOKUP($A104, taxonomy!$B$2:$T$695, 13, FALSE)","v":" Hypocreales"},{"$f":"VLOOKUP($A104, taxonomy!$B$2:$T$695, 14, FALSE)","v":" Cordycipitaceae"},{"$f":"VLOOKUP($A104, taxonomy!$B$2:$T$695, 15, FALSE)","v":"Beauveria."},{"$f":"VLOOKUP($A104, taxonomy!$B$2:$T$695, 16, FALSE)","v":0},{"$f":"VLOOKUP($A104, taxonomy!$B$2:$T$695, 17, FALSE)","v":0}]
["A0A0A8L004",{"$f":" VLOOKUP(A105, architecture!D$2:E$73, 2, FALSE)","v":{"$error":"#N/A"}},{"$f":"VLOOKUP(A105, 'PF14702'!B105:C2785, 2, FALSE)","v":1522},{"$f":"VLOOKUP($A105, taxonomy!$B$2:$T$695, 6, FALSE)","v":"Eukaryota"},{"$f":"VLOOKUP($A105, taxonomy!$B$2:$T$695, 7, FALSE)","v":" Fungi"},{"$f":"VLOOKUP($A105, taxonomy!$B$2:$T$695, 8, FALSE)","v":" Dikarya"},{"$f":"VLOOKUP($A105, taxonomy!$B$2:$T$695, 9, FALSE)","v":" Ascomycota"},{"$f":"VLOOKUP($A105, taxonomy!$B$2:$T$695, 10, FALSE)","v":" Saccharomycotina"},{"$f":"VLOOKUP($A105, taxonomy!$B$2:$T$695, 11, FALSE)","v":"Saccharomycetes"},{"$f":"VLOOKUP($A105, taxonomy!$B$2:$T$695, 12, FALSE)","v":" Saccharomycetales"},{"$f":"VLOOKUP($A105, taxonomy!$B$2:$T$695, 13, FALSE)","v":" Saccharomycetaceae"},{"$f":"VLOOKUP($A105, taxonomy!$B$2:$T$695, 14, FALSE)","v":" Kluyveromyces."},{"$f":"VLOOKUP($A105, taxonomy!$B$2:$T$695, 15, FALSE)","v":0},{"$f":"VLOOKUP($A105, taxonomy!$B$2:$T$695, 16, FALSE)","v":0},{"$f":"VLOOKUP($A105, taxonomy!$B$2:$T$695, 17, FALSE)","v":0}]
["A0A0B1P1J1",{"$f":" VLOOKUP(A106, architecture!D$2:E$73, 2, FALSE)","v":{"$error":"#N/A"}},{"$f":"VLOOKUP(A106, 'PF14702'!B106:C2786, 2, FALSE)","v":1555},{"$f":"VLOOKUP($A106, taxonomy!$B$2:$T$695, 6, FALSE)","v":"Eukaryota"},{"$f":"VLOOKUP($A106, taxonomy!$B$2:$T$695, 7, FALSE)","v":" Fungi"},{"$f":"VLOOKUP($A106, taxonomy!$B$2:$T$695, 8, FALSE)","v":" Dikarya"},{"$f":"VLOOKUP($A106, taxonomy!$B$2:$T$695, 9, FALSE)","v":" Ascomycota"},{"$f":"VLOOKUP($A106, taxonomy!$B$2:$T$695, 10, FALSE)","v":" Pezizomycotina"},{"$f":"VLOOKUP($A106, taxonomy!$B$2:$T$695, 11, FALSE)","v":" Leotiomycetes"},{"$f":"VLOOKUP($A106, taxonomy!$B$2:$T$695, 12, FALSE)","v":"Erysiphales"},{"$f":"VLOOKUP($A106, taxonomy!$B$2:$T$695, 13, FALSE)","v":" Erysiphaceae"},{"$f":"VLOOKUP($A106, taxonomy!$B$2:$T$695, 14, FALSE)","v":" Erysiphe."},{"$f":"VLOOKUP($A106, taxonomy!$B$2:$T$695, 15, FALSE)","v":0},{"$f":"VLOOKUP($A106, taxonomy!$B$2:$T$695, 16, FALSE)","v":0},{"$f":"VLOOKUP($A106, taxonomy!$B$2:$T$695, 17, FALSE)","v":0}]
["A0A0B1TUK7",{"$f":" VLOOKUP(A107, architecture!D$2:E$73, 2, FALSE)","v":{"$error":"#N/A"}},{"$f":"VLOOKUP(A107, 'PF14702'!B107:C2787, 2, FALSE)","v":690},{"$f":"VLOOKUP($A107, taxonomy!$B$2:$T$695, 6, FALSE)","v":"Eukaryota"},{"$f":"VLOOKUP($A107, taxonomy!$B$2:$T$695, 7, FALSE)","v":" Metazoa"},{"$f":"VLOOKUP($A107, taxonomy!$B$2:$T$695, 8, FALSE)","v":" Ecdysozoa"},{"$f":"VLOOKUP($A107, taxonomy!$B$2:$T$695, 9, FALSE)","v":" Nematoda"},{"$f":"VLOOKUP($A107, taxonomy!$B$2:$T$695, 10, FALSE)","v":" Chromadorea"},{"$f":"VLOOKUP($A107, taxonomy!$B$2:$T$695, 11, FALSE)","v":" Rhabditida"},{"$f":"VLOOKUP($A107, taxonomy!$B$2:$T$695, 12, FALSE)","v":"Strongylida"},{"$f":"VLOOKUP($A107, taxonomy!$B$2:$T$695, 13, FALSE)","v":" Strongyloidea"},{"$f":"VLOOKUP($A107, taxonomy!$B$2:$T$695, 14, FALSE)","v":" Cloacinidae"},{"$f":"VLOOKUP($A107, taxonomy!$B$2:$T$695, 15, FALSE)","v":" Oesophagostomum."},{"$f":"VLOOKUP($A107, taxonomy!$B$2:$T$695, 16, FALSE)","v":0},{"$f":"VLOOKUP($A107, taxonomy!$B$2:$T$695, 17, FALSE)","v":0}]
["A0A0B2V6Z8",{"$f":" VLOOKUP(A108, architecture!D$2:E$73, 2, FALSE)","v":1},{"$f":"VLOOKUP(A108, 'PF14702'!B108:C2788, 2, FALSE)","v":1096},{"$f":"VLOOKUP($A108, taxonomy!$B$2:$T$695, 6, FALSE)","v":"Eukaryota"},{"$f":"VLOOKUP($A108, taxonomy!$B$2:$T$695, 7, FALSE)","v":" Metazoa"},{"$f":"VLOOKUP($A108, taxonomy!$B$2:$T$695, 8, FALSE)","v":" Ecdysozoa"},{"$f":"VLOOKUP($A108, taxonomy!$B$2:$T$695, 9, FALSE)","v":" Nematoda"},{"$f":"VLOOKUP($A108, taxonomy!$B$2:$T$695, 10, FALSE)","v":" Chromadorea"},{"$f":"VLOOKUP($A108, taxonomy!$B$2:$T$695, 11, FALSE)","v":" Ascaridida"},{"$f":"VLOOKUP($A108, taxonomy!$B$2:$T$695, 12, FALSE)","v":"Ascaridoidea"},{"$f":"VLOOKUP($A108, taxonomy!$B$2:$T$695, 13, FALSE)","v":" Toxocaridae"},{"$f":"VLOOKUP($A108, taxonomy!$B$2:$T$695, 14, FALSE)","v":" Toxocara."},{"$f":"VLOOKUP($A108, taxonomy!$B$2:$T$695, 15, FALSE)","v":0},{"$f":"VLOOKUP($A108, taxonomy!$B$2:$T$695, 16, FALSE)","v":0},{"$f":"VLOOKUP($A108, taxonomy!$B$2:$T$695, 17, FALSE)","v":0}]
["A0A0B2VE34",{"$f":" VLOOKUP(A109, architecture!D$2:E$73, 2, FALSE)","v":{"$error":"#N/A"}},{"$f":"VLOOKUP(A109, 'PF14702'!B109:C2789, 2, FALSE)","v":575},{"$f":"VLOOKUP($A109, taxonomy!$B$2:$T$695, 6, FALSE)","v":"Eukaryota"},{"$f":"VLOOKUP($A109, taxonomy!$B$2:$T$695, 7, FALSE)","v":" Metazoa"},{"$f":"VLOOKUP($A109, taxonomy!$B$2:$T$695, 8, FALSE)","v":" Ecdysozoa"},{"$f":"VLOOKUP($A109, taxonomy!$B$2:$T$695, 9, FALSE)","v":" Nematoda"},{"$f":"VLOOKUP($A109, taxonomy!$B$2:$T$695, 10, FALSE)","v":" Chromadorea"},{"$f":"VLOOKUP($A109, taxonomy!$B$2:$T$695, 11, FALSE)","v":" Ascaridida"},{"$f":"VLOOKUP($A109, taxonomy!$B$2:$T$695, 12, FALSE)","v":"Ascaridoidea"},{"$f":"VLOOKUP($A109, taxonomy!$B$2:$T$695, 13, FALSE)","v":" Toxocaridae"},{"$f":"VLOOKUP($A109, taxonomy!$B$2:$T$695, 14, FALSE)","v":" Toxocara."},{"$f":"VLOOKUP($A109, taxonomy!$B$2:$T$695, 15, FALSE)","v":0},{"$f":"VLOOKUP($A109, taxonomy!$B$2:$T$695, 16, FALSE)","v":0},{"$f":"VLOOKUP($A109, taxonomy!$B$2:$T$695, 17, FALSE)","v":0}]
["A0A0B2WZE8",{"$f":" VLOOKUP(A110, architecture!D$2:E$73, 2, FALSE)","v":{"$error":"#N/A"}},{"$f":"VLOOKUP(A110, 'PF14702'!B110:C2790, 2, FALSE)","v":1555},{"$f":"VLOOKUP($A110, taxonomy!$B$2:$T$695, 6, FALSE)","v":"Eukaryota"},{"$f":"VLOOKUP($A110, taxonomy!$B$2:$T$695, 7, FALSE)","v":" Fungi"},{"$f":"VLOOKUP($A110, taxonomy!$B$2:$T$695, 8, FALSE)","v":" Dikarya"},{"$f":"VLOOKUP($A110, taxonomy!$B$2:$T$695, 9, FALSE)","v":" Ascomycota"},{"$f":"VLOOKUP($A110, taxonomy!$B$2:$T$695, 10, FALSE)","v":" Pezizomycotina"},{"$f":"VLOOKUP($A110, taxonomy!$B$2:$T$695, 11, FALSE)","v":"Sordariomycetes"},{"$f":"VLOOKUP($A110, taxonomy!$B$2:$T$695, 12, FALSE)","v":" Hypocreomycetidae"},{"$f":"VLOOKUP($A110, taxonomy!$B$2:$T$695, 13, FALSE)","v":" Hypocreales"},{"$f":"VLOOKUP($A110, taxonomy!$B$2:$T$695, 14, FALSE)","v":" Clavicipitaceae"},{"$f":"VLOOKUP($A110, taxonomy!$B$2:$T$695, 15, FALSE)","v":"Metarhizium."},{"$f":"VLOOKUP($A110, taxonomy!$B$2:$T$695, 16, FALSE)","v":0},{"$f":"VLOOKUP($A110, taxonomy!$B$2:$T$695, 17, FALSE)","v":0}]
["A0A0B4GUX9",{"$f":" VLOOKUP(A111, architecture!D$2:E$73, 2, FALSE)","v":{"$error":"#N/A"}},{"$f":"VLOOKUP(A111, 'PF14702'!B111:C2791, 2, FALSE)","v":1551},{"$f":"VLOOKUP($A111, taxonomy!$B$2:$T$695, 6, FALSE)","v":"Eukaryota"},{"$f":"VLOOKUP($A111, taxonomy!$B$2:$T$695, 7, FALSE)","v":" Fungi"},{"$f":"VLOOKUP($A111, taxonomy!$B$2:$T$695, 8, FALSE)","v":" Dikarya"},{"$f":"VLOOKUP($A111, taxonomy!$B$2:$T$695, 9, FALSE)","v":" Ascomycota"},{"$f":"VLOOKUP($A111, taxonomy!$B$2:$T$695, 10, FALSE)","v":" Pezizomycotina"},{"$f":"VLOOKUP($A111, taxonomy!$B$2:$T$695, 11, FALSE)","v":"Sordariomycetes"},{"$f":"VLOOKUP($A111, taxonomy!$B$2:$T$695, 12, FALSE)","v":" Hypocreomycetidae"},{"$f":"VLOOKUP($A111, taxonomy!$B$2:$T$695, 13, FALSE)","v":" Hypocreales"},{"$f":"VLOOKUP($A111, taxonomy!$B$2:$T$695, 14, FALSE)","v":" Clavicipitaceae"},{"$f":"VLOOKUP($A111, taxonomy!$B$2:$T$695, 15, FALSE)","v":"Metarhizium."},{"$f":"VLOOKUP($A111, taxonomy!$B$2:$T$695, 16, FALSE)","v":0},{"$f":"VLOOKUP($A111, taxonomy!$B$2:$T$695, 17, FALSE)","v":0}]
["A0A0B7N845",{"$f":" VLOOKUP(A112, architecture!D$2:E$73, 2, FALSE)","v":{"$error":"#N/A"}},{"$f":"VLOOKUP(A112, 'PF14702'!B112:C2792, 2, FALSE)","v":1521},{"$f":"VLOOKUP($A112, taxonomy!$B$2:$T$695, 6, FALSE)","v":"Eukaryota"},{"$f":"VLOOKUP($A112, taxonomy!$B$2:$T$695, 7, FALSE)","v":" Fungi"},{"$f":"VLOOKUP($A112, taxonomy!$B$2:$T$695, 8, FALSE)","v":" Mucoromycota"},{"$f":"VLOOKUP($A112, taxonomy!$B$2:$T$695, 9, FALSE)","v":" Mucoromycotina"},{"$f":"VLOOKUP($A112, taxonomy!$B$2:$T$695, 10, FALSE)","v":" Mucorales"},{"$f":"VLOOKUP($A112, taxonomy!$B$2:$T$695, 11, FALSE)","v":" Mucorineae"},{"$f":"VLOOKUP($A112, taxonomy!$B$2:$T$695, 12, FALSE)","v":"Mucoraceae"},{"$f":"VLOOKUP($A112, taxonomy!$B$2:$T$695, 13, FALSE)","v":" Parasitella."},{"$f":"VLOOKUP($A112, taxonomy!$B$2:$T$695, 14, FALSE)","v":0},{"$f":"VLOOKUP($A112, taxonomy!$B$2:$T$695, 15, FALSE)","v":0},{"$f":"VLOOKUP($A112, taxonomy!$B$2:$T$695, 16, FALSE)","v":0},{"$f":"VLOOKUP($A112, taxonomy!$B$2:$T$695, 17, FALSE)","v":0}]
["A0A0B8N525",{"$f":" VLOOKUP(A113, architecture!D$2:E$73, 2, FALSE)","v":{"$error":"#N/A"}},{"$f":"VLOOKUP(A113, 'PF14702'!B113:C2793, 2, FALSE)","v":1524},{"$f":"VLOOKUP($A113, taxonomy!$B$2:$T$695, 6, FALSE)","v":"Eukaryota"},{"$f":"VLOOKUP($A113, taxonomy!$B$2:$T$695, 7, FALSE)","v":" Fungi"},{"$f":"VLOOKUP($A113, taxonomy!$B$2:$T$695, 8, FALSE)","v":" Dikarya"},{"$f":"VLOOKUP($A113, taxonomy!$B$2:$T$695, 9, FALSE)","v":" Ascomycota"},{"$f":"VLOOKUP($A113, taxonomy!$B$2:$T$695, 10, FALSE)","v":" Pezizomycotina"},{"$f":"VLOOKUP($A113, taxonomy!$B$2:$T$695, 11, FALSE)","v":" Eurotiomycetes"},{"$f":"VLOOKUP($A113, taxonomy!$B$2:$T$695, 12, FALSE)","v":"Eurotiomycetidae"},{"$f":"VLOOKUP($A113, taxonomy!$B$2:$T$695, 13, FALSE)","v":" Eurotiales"},{"$f":"VLOOKUP($A113, taxonomy!$B$2:$T$695, 14, FALSE)","v":" Trichocomaceae"},{"$f":"VLOOKUP($A113, taxonomy!$B$2:$T$695, 15, FALSE)","v":" Talaromyces."},{"$f":"VLOOKUP($A113, taxonomy!$B$2:$T$695, 16, FALSE)","v":0},{"$f":"VLOOKUP($A113, taxonomy!$B$2:$T$695, 17, FALSE)","v":0}]
["A0A0C2GKR7",{"$f":" VLOOKUP(A114, architecture!D$2:E$73, 2, FALSE)","v":2},{"$f":"VLOOKUP(A114, 'PF14702'!B114:C2794, 2, FALSE)","v":105},{"$f":"VLOOKUP($A114, taxonomy!$B$2:$T$695, 6, FALSE)","v":"Eukaryota"},{"$f":"VLOOKUP($A114, taxonomy!$B$2:$T$695, 7, FALSE)","v":" Metazoa"},{"$f":"VLOOKUP($A114, taxonomy!$B$2:$T$695, 8, FALSE)","v":" Ecdysozoa"},{"$f":"VLOOKUP($A114, taxonomy!$B$2:$T$695, 9, FALSE)","v":" Nematoda"},{"$f":"VLOOKUP($A114, taxonomy!$B$2:$T$695, 10, FALSE)","v":" Chromadorea"},{"$f":"VLOOKUP($A114, taxonomy!$B$2:$T$695, 11, FALSE)","v":" Rhabditida"},{"$f":"VLOOKUP($A114, taxonomy!$B$2:$T$695, 12, FALSE)","v":"Strongylida"},{"$f":"VLOOKUP($A114, taxonomy!$B$2:$T$695, 13, FALSE)","v":" Ancylostomatoidea"},{"$f":"VLOOKUP($A114, taxonomy!$B$2:$T$695, 14, FALSE)","v":" Ancylostomatidae"},{"$f":"VLOOKUP($A114, taxonomy!$B$2:$T$695, 15, FALSE)","v":" Ancylostomatinae"},{"$f":"VLOOKUP($A114, taxonomy!$B$2:$T$695, 16, FALSE)","v":"Ancylostoma."},{"$f":"VLOOKUP($A114, taxonomy!$B$2:$T$695, 17, FALSE)","v":0}]
["A0A0C2M3A6",{"$f":" VLOOKUP(A115, architecture!D$2:E$73, 2, FALSE)","v":2},{"$f":"VLOOKUP(A115, 'PF14702'!B115:C2795, 2, FALSE)","v":188},{"$f":"VLOOKUP($A115, taxonomy!$B$2:$T$695, 6, FALSE)","v":"Eukaryota"},{"$f":"VLOOKUP($A115, taxonomy!$B$2:$T$695, 7, FALSE)","v":" Metazoa"},{"$f":"VLOOKUP($A115, taxonomy!$B$2:$T$695, 8, FALSE)","v":" Cnidaria"},{"$f":"VLOOKUP($A115, taxonomy!$B$2:$T$695, 9, FALSE)","v":" Myxozoa"},{"$f":"VLOOKUP($A115, taxonomy!$B$2:$T$695, 10, FALSE)","v":" Myxosporea"},{"$f":"VLOOKUP($A115, taxonomy!$B$2:$T$695, 11, FALSE)","v":" Bivalvulida"},{"$f":"VLOOKUP($A115, taxonomy!$B$2:$T$695, 12, FALSE)","v":"Platysporina"},{"$f":"VLOOKUP($A115, taxonomy!$B$2:$T$695, 13, FALSE)","v":" Myxobolidae"},{"$f":"VLOOKUP($A115, taxonomy!$B$2:$T$695, 14, FALSE)","v":" Thelohanellus."},{"$f":"VLOOKUP($A115, taxonomy!$B$2:$T$695, 15, FALSE)","v":0},{"$f":"VLOOKUP($A115, taxonomy!$B$2:$T$695, 16, FALSE)","v":0},{"$f":"VLOOKUP($A115, taxonomy!$B$2:$T$695, 17, FALSE)","v":0}]
["A0A0C2MJT8",{"$f":" VLOOKUP(A116, architecture!D$2:E$73, 2, FALSE)","v":2},{"$f":"VLOOKUP(A116, 'PF14702'!B116:C2796, 2, FALSE)","v":234},{"$f":"VLOOKUP($A116, taxonomy!$B$2:$T$695, 6, FALSE)","v":"Eukaryota"},{"$f":"VLOOKUP($A116, taxonomy!$B$2:$T$695, 7, FALSE)","v":" Metazoa"},{"$f":"VLOOKUP($A116, taxonomy!$B$2:$T$695, 8, FALSE)","v":" Cnidaria"},{"$f":"VLOOKUP($A116, taxonomy!$B$2:$T$695, 9, FALSE)","v":" Myxozoa"},{"$f":"VLOOKUP($A116, taxonomy!$B$2:$T$695, 10, FALSE)","v":" Myxosporea"},{"$f":"VLOOKUP($A116, taxonomy!$B$2:$T$695, 11, FALSE)","v":" Bivalvulida"},{"$f":"VLOOKUP($A116, taxonomy!$B$2:$T$695, 12, FALSE)","v":"Platysporina"},{"$f":"VLOOKUP($A116, taxonomy!$B$2:$T$695, 13, FALSE)","v":" Myxobolidae"},{"$f":"VLOOKUP($A116, taxonomy!$B$2:$T$695, 14, FALSE)","v":" Thelohanellus."},{"$f":"VLOOKUP($A116, taxonomy!$B$2:$T$695, 15, FALSE)","v":0},{"$f":"VLOOKUP($A116, taxonomy!$B$2:$T$695, 16, FALSE)","v":0},{"$f":"VLOOKUP($A116, taxonomy!$B$2:$T$695, 17, FALSE)","v":0}]
["A0A0C2X5E2",{"$f":" VLOOKUP(A117, architecture!D$2:E$73, 2, FALSE)","v":{"$error":"#N/A"}},{"$f":"VLOOKUP(A117, 'PF14702'!B117:C2797, 2, FALSE)","v":1598},{"$f":"VLOOKUP($A117, taxonomy!$B$2:$T$695, 6, FALSE)","v":"Eukaryota"},{"$f":"VLOOKUP($A117, taxonomy!$B$2:$T$695, 7, FALSE)","v":" Fungi"},{"$f":"VLOOKUP($A117, taxonomy!$B$2:$T$695, 8, FALSE)","v":" Dikarya"},{"$f":"VLOOKUP($A117, taxonomy!$B$2:$T$695, 9, FALSE)","v":" Basidiomycota"},{"$f":"VLOOKUP($A117, taxonomy!$B$2:$T$695, 10, FALSE)","v":" Agaricomycotina"},{"$f":"VLOOKUP($A117, taxonomy!$B$2:$T$695, 11, FALSE)","v":"Agaricomycetes"},{"$f":"VLOOKUP($A117, taxonomy!$B$2:$T$695, 12, FALSE)","v":" Agaricomycetidae"},{"$f":"VLOOKUP($A117, taxonomy!$B$2:$T$695, 13, FALSE)","v":" Agaricales"},{"$f":"VLOOKUP($A117, taxonomy!$B$2:$T$695, 14, FALSE)","v":" Amanitaceae"},{"$f":"VLOOKUP($A117, taxonomy!$B$2:$T$695, 15, FALSE)","v":" Amanita."},{"$f":"VLOOKUP($A117, taxonomy!$B$2:$T$695, 16, FALSE)","v":0},{"$f":"VLOOKUP($A117, taxonomy!$B$2:$T$695, 17, FALSE)","v":0}]
["A0A0C2YVD8",{"$f":" VLOOKUP(A118, architecture!D$2:E$73, 2, FALSE)","v":{"$error":"#N/A"}},{"$f":"VLOOKUP(A118, 'PF14702'!B118:C2798, 2, FALSE)","v":1594},{"$f":"VLOOKUP($A118, taxonomy!$B$2:$T$695, 6, FALSE)","v":"Eukaryota"},{"$f":"VLOOKUP($A118, taxonomy!$B$2:$T$695, 7, FALSE)","v":" Fungi"},{"$f":"VLOOKUP($A118, taxonomy!$B$2:$T$695, 8, FALSE)","v":" Dikarya"},{"$f":"VLOOKUP($A118, taxonomy!$B$2:$T$695, 9, FALSE)","v":" Basidiomycota"},{"$f":"VLOOKUP($A118, taxonomy!$B$2:$T$695, 10, FALSE)","v":" Agaricomycotina"},{"$f":"VLOOKUP($A118, taxonomy!$B$2:$T$695, 11, FALSE)","v":"Agaricomycetes"},{"$f":"VLOOKUP($A118, taxonomy!$B$2:$T$695, 12, FALSE)","v":" Agaricomycetidae"},{"$f":"VLOOKUP($A118, taxonomy!$B$2:$T$695, 13, FALSE)","v":" Agaricales"},{"$f":"VLOOKUP($A118, taxonomy!$B$2:$T$695, 14, FALSE)","v":" Cortinariaceae"},{"$f":"VLOOKUP($A118, taxonomy!$B$2:$T$695, 15, FALSE)","v":"Hebeloma."},{"$f":"VLOOKUP($A118, taxonomy!$B$2:$T$695, 16, FALSE)","v":0},{"$f":"VLOOKUP($A118, taxonomy!$B$2:$T$695, 17, FALSE)","v":0}]
["A0A0C3ACH9",{"$f":" VLOOKUP(A119, architecture!D$2:E$73, 2, FALSE)","v":{"$error":"#N/A"}},{"$f":"VLOOKUP(A119, 'PF14702'!B119:C2799, 2, FALSE)","v":939},{"$f":"VLOOKUP($A119, taxonomy!$B$2:$T$695, 6, FALSE)","v":"Eukaryota"},{"$f":"VLOOKUP($A119, taxonomy!$B$2:$T$695, 7, FALSE)","v":" Fungi"},{"$f":"VLOOKUP($A119, taxonomy!$B$2:$T$695, 8, FALSE)","v":" Dikarya"},{"$f":"VLOOKUP($A119, taxonomy!$B$2:$T$695, 9, FALSE)","v":" Basidiomycota"},{"$f":"VLOOKUP($A119, taxonomy!$B$2:$T$695, 10, FALSE)","v":" Agaricomycotina"},{"$f":"VLOOKUP($A119, taxonomy!$B$2:$T$695, 11, FALSE)","v":"Agaricomycetes"},{"$f":"VLOOKUP($A119, taxonomy!$B$2:$T$695, 12, FALSE)","v":" Agaricomycetidae"},{"$f":"VLOOKUP($A119, taxonomy!$B$2:$T$695, 13, FALSE)","v":" Boletales"},{"$f":"VLOOKUP($A119, taxonomy!$B$2:$T$695, 14, FALSE)","v":" Sclerodermatineae"},{"$f":"VLOOKUP($A119, taxonomy!$B$2:$T$695, 15, FALSE)","v":"Sclerodermataceae"},{"$f":"VLOOKUP($A119, taxonomy!$B$2:$T$695, 16, FALSE)","v":" Scleroderma."},{"$f":"VLOOKUP($A119, taxonomy!$B$2:$T$695, 17, FALSE)","v":0}]
["A0A0C3BSZ1",{"$f":" VLOOKUP(A120, architecture!D$2:E$73, 2, FALSE)","v":{"$error":"#N/A"}},{"$f":"VLOOKUP(A120, 'PF14702'!B120:C2800, 2, FALSE)","v":1595},{"$f":"VLOOKUP($A120, taxonomy!$B$2:$T$695, 6, FALSE)","v":"Eukaryota"},{"$f":"VLOOKUP($A120, taxonomy!$B$2:$T$695, 7, FALSE)","v":" Fungi"},{"$f":"VLOOKUP($A120, taxonomy!$B$2:$T$695, 8, FALSE)","v":" Dikarya"},{"$f":"VLOOKUP($A120, taxonomy!$B$2:$T$695, 9, FALSE)","v":" Basidiomycota"},{"$f":"VLOOKUP($A120, taxonomy!$B$2:$T$695, 10, FALSE)","v":" Agaricomycotina"},{"$f":"VLOOKUP($A120, taxonomy!$B$2:$T$695, 11, FALSE)","v":"Agaricomycetes"},{"$f":"VLOOKUP($A120, taxonomy!$B$2:$T$695, 12, FALSE)","v":" Sebacinales"},{"$f":"VLOOKUP($A120, taxonomy!$B$2:$T$695, 13, FALSE)","v":" Serendipitaceae"},{"$f":"VLOOKUP($A120, taxonomy!$B$2:$T$695, 14, FALSE)","v":" Serendipita."},{"$f":"VLOOKUP($A120, taxonomy!$B$2:$T$695, 15, FALSE)","v":0},{"$f":"VLOOKUP($A120, taxonomy!$B$2:$T$695, 16, FALSE)","v":0},{"$f":"VLOOKUP($A120, taxonomy!$B$2:$T$695, 17, FALSE)","v":0}]
["A0A0C3FWV3",{"$f":" VLOOKUP(A121, architecture!D$2:E$73, 2, FALSE)","v":{"$error":"#N/A"}},{"$f":"VLOOKUP(A121, 'PF14702'!B121:C2801, 2, FALSE)","v":1583},{"$f":"VLOOKUP($A121, taxonomy!$B$2:$T$695, 6, FALSE)","v":"Eukaryota"},{"$f":"VLOOKUP($A121, taxonomy!$B$2:$T$695, 7, FALSE)","v":" Fungi"},{"$f":"VLOOKUP($A121, taxonomy!$B$2:$T$695, 8, FALSE)","v":" Dikarya"},{"$f":"VLOOKUP($A121, taxonomy!$B$2:$T$695, 9, FALSE)","v":" Basidiomycota"},{"$f":"VLOOKUP($A121, taxonomy!$B$2:$T$695, 10, FALSE)","v":" Agaricomycotina"},{"$f":"VLOOKUP($A121, taxonomy!$B$2:$T$695, 11, FALSE)","v":"Agaricomycetes"},{"$f":"VLOOKUP($A121, taxonomy!$B$2:$T$695, 12, FALSE)","v":" Agaricomycetidae"},{"$f":"VLOOKUP($A121, taxonomy!$B$2:$T$695, 13, FALSE)","v":" Atheliales"},{"$f":"VLOOKUP($A121, taxonomy!$B$2:$T$695, 14, FALSE)","v":" Atheliaceae"},{"$f":"VLOOKUP($A121, taxonomy!$B$2:$T$695, 15, FALSE)","v":" Piloderma."},{"$f":"VLOOKUP($A121, taxonomy!$B$2:$T$695, 16, FALSE)","v":0},{"$f":"VLOOKUP($A121, taxonomy!$B$2:$T$695, 17, FALSE)","v":0}]
["A0A0C3HLL3",{"$f":" VLOOKUP(A122, architecture!D$2:E$73, 2, FALSE)","v":{"$error":"#N/A"}},{"$f":"VLOOKUP(A122, 'PF14702'!B122:C2802, 2, FALSE)","v":1551},{"$f":"VLOOKUP($A122, taxonomy!$B$2:$T$695, 6, FALSE)","v":"Eukaryota"},{"$f":"VLOOKUP($A122, taxonomy!$B$2:$T$695, 7, FALSE)","v":" Fungi"},{"$f":"VLOOKUP($A122, taxonomy!$B$2:$T$695, 8, FALSE)","v":" Dikarya"},{"$f":"VLOOKUP($A122, taxonomy!$B$2:$T$695, 9, FALSE)","v":" Ascomycota"},{"$f":"VLOOKUP($A122, taxonomy!$B$2:$T$695, 10, FALSE)","v":" Pezizomycotina"},{"$f":"VLOOKUP($A122, taxonomy!$B$2:$T$695, 11, FALSE)","v":" Leotiomycetes"},{"$f":"VLOOKUP($A122, taxonomy!$B$2:$T$695, 12, FALSE)","v":"Leotiomycetes incertae sedis"},{"$f":"VLOOKUP($A122, taxonomy!$B$2:$T$695, 13, FALSE)","v":" Myxotrichaceae"},{"$f":"VLOOKUP($A122, taxonomy!$B$2:$T$695, 14, FALSE)","v":" Oidiodendron."},{"$f":"VLOOKUP($A122, taxonomy!$B$2:$T$695, 15, FALSE)","v":0},{"$f":"VLOOKUP($A122, taxonomy!$B$2:$T$695, 16, FALSE)","v":0},{"$f":"VLOOKUP($A122, taxonomy!$B$2:$T$695, 17, FALSE)","v":0}]
["A0A0C3L9K1",{"$f":" VLOOKUP(A123, architecture!D$2:E$73, 2, FALSE)","v":{"$error":"#N/A"}},{"$f":"VLOOKUP(A123, 'PF14702'!B123:C2803, 2, FALSE)","v":1609},{"$f":"VLOOKUP($A123, taxonomy!$B$2:$T$695, 6, FALSE)","v":"Eukaryota"},{"$f":"VLOOKUP($A123, taxonomy!$B$2:$T$695, 7, FALSE)","v":" Fungi"},{"$f":"VLOOKUP($A123, taxonomy!$B$2:$T$695, 8, FALSE)","v":" Dikarya"},{"$f":"VLOOKUP($A123, taxonomy!$B$2:$T$695, 9, FALSE)","v":" Basidiomycota"},{"$f":"VLOOKUP($A123, taxonomy!$B$2:$T$695, 10, FALSE)","v":" Agaricomycotina"},{"$f":"VLOOKUP($A123, taxonomy!$B$2:$T$695, 11, FALSE)","v":"Agaricomycetes"},{"$f":"VLOOKUP($A123, taxonomy!$B$2:$T$695, 12, FALSE)","v":" Cantharellales"},{"$f":"VLOOKUP($A123, taxonomy!$B$2:$T$695, 13, FALSE)","v":" Tulasnellaceae"},{"$f":"VLOOKUP($A123, taxonomy!$B$2:$T$695, 14, FALSE)","v":" Tulasnella."},{"$f":"VLOOKUP($A123, taxonomy!$B$2:$T$695, 15, FALSE)","v":0},{"$f":"VLOOKUP($A123, taxonomy!$B$2:$T$695, 16, FALSE)","v":0},{"$f":"VLOOKUP($A123, taxonomy!$B$2:$T$695, 17, FALSE)","v":0}]
["A0A0C3PQW6",{"$f":" VLOOKUP(A124, architecture!D$2:E$73, 2, FALSE)","v":{"$error":"#N/A"}},{"$f":"VLOOKUP(A124, 'PF14702'!B124:C2804, 2, FALSE)","v":1596},{"$f":"VLOOKUP($A124, taxonomy!$B$2:$T$695, 6, FALSE)","v":"Eukaryota"},{"$f":"VLOOKUP($A124, taxonomy!$B$2:$T$695, 7, FALSE)","v":" Fungi"},{"$f":"VLOOKUP($A124, taxonomy!$B$2:$T$695, 8, FALSE)","v":" Dikarya"},{"$f":"VLOOKUP($A124, taxonomy!$B$2:$T$695, 9, FALSE)","v":" Basidiomycota"},{"$f":"VLOOKUP($A124, taxonomy!$B$2:$T$695, 10, FALSE)","v":" Agaricomycotina"},{"$f":"VLOOKUP($A124, taxonomy!$B$2:$T$695, 11, FALSE)","v":"Agaricomycetes"},{"$f":"VLOOKUP($A124, taxonomy!$B$2:$T$695, 12, FALSE)","v":" Agaricomycetidae"},{"$f":"VLOOKUP($A124, taxonomy!$B$2:$T$695, 13, FALSE)","v":" Boletales"},{"$f":"VLOOKUP($A124, taxonomy!$B$2:$T$695, 14, FALSE)","v":" Sclerodermatineae"},{"$f":"VLOOKUP($A124, taxonomy!$B$2:$T$695, 15, FALSE)","v":"Pisolithaceae"},{"$f":"VLOOKUP($A124, taxonomy!$B$2:$T$695, 16, FALSE)","v":" Pisolithus."},{"$f":"VLOOKUP($A124, taxonomy!$B$2:$T$695, 17, FALSE)","v":0}]
["A0A0C3SDX7",{"$f":" VLOOKUP(A125, architecture!D$2:E$73, 2, FALSE)","v":{"$error":"#N/A"}},{"$f":"VLOOKUP(A125, 'PF14702'!B125:C2805, 2, FALSE)","v":1590},{"$f":"VLOOKUP($A125, taxonomy!$B$2:$T$695, 6, FALSE)","v":"Eukaryota"},{"$f":"VLOOKUP($A125, taxonomy!$B$2:$T$695, 7, FALSE)","v":" Fungi"},{"$f":"VLOOKUP($A125, taxonomy!$B$2:$T$695, 8, FALSE)","v":" Dikarya"},{"$f":"VLOOKUP($A125, taxonomy!$B$2:$T$695, 9, FALSE)","v":" Basidiomycota"},{"$f":"VLOOKUP($A125, taxonomy!$B$2:$T$695, 10, FALSE)","v":" Agaricomycotina"},{"$f":"VLOOKUP($A125, taxonomy!$B$2:$T$695, 11, FALSE)","v":"Agaricomycetes"},{"$f":"VLOOKUP($A125, taxonomy!$B$2:$T$695, 12, FALSE)","v":" Polyporales"},{"$f":"VLOOKUP($A125, taxonomy!$B$2:$T$695, 13, FALSE)","v":" Phanerochaetaceae"},{"$f":"VLOOKUP($A125, taxonomy!$B$2:$T$695, 14, FALSE)","v":" Phlebiopsis."},{"$f":"VLOOKUP($A125, taxonomy!$B$2:$T$695, 15, FALSE)","v":0},{"$f":"VLOOKUP($A125, taxonomy!$B$2:$T$695, 16, FALSE)","v":0},{"$f":"VLOOKUP($A125, taxonomy!$B$2:$T$695, 17, FALSE)","v":0}]
["A0A0C4EF57",{"$f":" VLOOKUP(A126, architecture!D$2:E$73, 2, FALSE)","v":{"$error":"#N/A"}},{"$f":"VLOOKUP(A126, 'PF14702'!B126:C2806, 2, FALSE)","v":1577},{"$f":"VLOOKUP($A126, taxonomy!$B$2:$T$695, 6, FALSE)","v":"Eukaryota"},{"$f":"VLOOKUP($A126, taxonomy!$B$2:$T$695, 7, FALSE)","v":" Fungi"},{"$f":"VLOOKUP($A126, taxonomy!$B$2:$T$695, 8, FALSE)","v":" Dikarya"},{"$f":"VLOOKUP($A126, taxonomy!$B$2:$T$695, 9, FALSE)","v":" Ascomycota"},{"$f":"VLOOKUP($A126, taxonomy!$B$2:$T$695, 10, FALSE)","v":" Pezizomycotina"},{"$f":"VLOOKUP($A126, taxonomy!$B$2:$T$695, 11, FALSE)","v":"Sordariomycetes"},{"$f":"VLOOKUP($A126, taxonomy!$B$2:$T$695, 12, FALSE)","v":" Sordariomycetidae"},{"$f":"VLOOKUP($A126, taxonomy!$B$2:$T$695, 13, FALSE)","v":" Magnaporthales"},{"$f":"VLOOKUP($A126, taxonomy!$B$2:$T$695, 14, FALSE)","v":" Magnaporthaceae"},{"$f":"VLOOKUP($A126, taxonomy!$B$2:$T$695, 15, FALSE)","v":"Magnaporthiopsis."},{"$f":"VLOOKUP($A126, taxonomy!$B$2:$T$695, 16, FALSE)","v":0},{"$f":"VLOOKUP($A126, taxonomy!$B$2:$T$695, 17, FALSE)","v":0}]
["A0A0C7N3C4",{"$f":" VLOOKUP(A127, architecture!D$2:E$73, 2, FALSE)","v":{"$error":"#N/A"}},{"$f":"VLOOKUP(A127, 'PF14702'!B127:C2807, 2, FALSE)","v":1521},{"$f":"VLOOKUP($A127, taxonomy!$B$2:$T$695, 6, FALSE)","v":"Eukaryota"},{"$f":"VLOOKUP($A127, taxonomy!$B$2:$T$695, 7, FALSE)","v":" Fungi"},{"$f":"VLOOKUP($A127, taxonomy!$B$2:$T$695, 8, FALSE)","v":" Dikarya"},{"$f":"VLOOKUP($A127, taxonomy!$B$2:$T$695, 9, FALSE)","v":" Ascomycota"},{"$f":"VLOOKUP($A127, taxonomy!$B$2:$T$695, 10, FALSE)","v":" Saccharomycotina"},{"$f":"VLOOKUP($A127, taxonomy!$B$2:$T$695, 11, FALSE)","v":"Saccharomycetes"},{"$f":"VLOOKUP($A127, taxonomy!$B$2:$T$695, 12, FALSE)","v":" Saccharomycetales"},{"$f":"VLOOKUP($A127, taxonomy!$B$2:$T$695, 13, FALSE)","v":" Saccharomycetaceae"},{"$f":"VLOOKUP($A127, taxonomy!$B$2:$T$695, 14, FALSE)","v":" Lachancea."},{"$f":"VLOOKUP($A127, taxonomy!$B$2:$T$695, 15, FALSE)","v":0},{"$f":"VLOOKUP($A127, taxonomy!$B$2:$T$695, 16, FALSE)","v":0},{"$f":"VLOOKUP($A127, taxonomy!$B$2:$T$695, 17, FALSE)","v":0}]
["A0A0C9LWN1",{"$f":" VLOOKUP(A128, architecture!D$2:E$73, 2, FALSE)","v":{"$error":"#N/A"}},{"$f":"VLOOKUP(A128, 'PF14702'!B128:C2808, 2, FALSE)","v":1500},{"$f":"VLOOKUP($A128, taxonomy!$B$2:$T$695, 6, FALSE)","v":"Eukaryota"},{"$f":"VLOOKUP($A128, taxonomy!$B$2:$T$695, 7, FALSE)","v":" Fungi"},{"$f":"VLOOKUP($A128, taxonomy!$B$2:$T$695, 8, FALSE)","v":" Mucoromycota"},{"$f":"VLOOKUP($A128, taxonomy!$B$2:$T$695, 9, FALSE)","v":" Mucoromycotina"},{"$f":"VLOOKUP($A128, taxonomy!$B$2:$T$695, 10, FALSE)","v":" Mucorales"},{"$f":"VLOOKUP($A128, taxonomy!$B$2:$T$695, 11, FALSE)","v":" Mucorineae"},{"$f":"VLOOKUP($A128, taxonomy!$B$2:$T$695, 12, FALSE)","v":"Mucoraceae"},{"$f":"VLOOKUP($A128, taxonomy!$B$2:$T$695, 13, FALSE)","v":" Mucor."},{"$f":"VLOOKUP($A128, taxonomy!$B$2:$T$695, 14, FALSE)","v":0},{"$f":"VLOOKUP($A128, taxonomy!$B$2:$T$695, 15, FALSE)","v":0},{"$f":"VLOOKUP($A128, taxonomy!$B$2:$T$695, 16, FALSE)","v":0},{"$f":"VLOOKUP($A128, taxonomy!$B$2:$T$695, 17, FALSE)","v":0}]
["A0A0C9WFV0",{"$f":" VLOOKUP(A129, architecture!D$2:E$73, 2, FALSE)","v":{"$error":"#N/A"}},{"$f":"VLOOKUP(A129, 'PF14702'!B129:C2809, 2, FALSE)","v":1596},{"$f":"VLOOKUP($A129, taxonomy!$B$2:$T$695, 6, FALSE)","v":"Eukaryota"},{"$f":"VLOOKUP($A129, taxonomy!$B$2:$T$695, 7, FALSE)","v":" Fungi"},{"$f":"VLOOKUP($A129, taxonomy!$B$2:$T$695, 8, FALSE)","v":" Dikarya"},{"$f":"VLOOKUP($A129, taxonomy!$B$2:$T$695, 9, FALSE)","v":" Basidiomycota"},{"$f":"VLOOKUP($A129, taxonomy!$B$2:$T$695, 10, FALSE)","v":" Agaricomycotina"},{"$f":"VLOOKUP($A129, taxonomy!$B$2:$T$695, 11, FALSE)","v":"Agaricomycetes"},{"$f":"VLOOKUP($A129, taxonomy!$B$2:$T$695, 12, FALSE)","v":" Agaricomycetidae"},{"$f":"VLOOKUP($A129, taxonomy!$B$2:$T$695, 13, FALSE)","v":" Boletales"},{"$f":"VLOOKUP($A129, taxonomy!$B$2:$T$695, 14, FALSE)","v":" Paxilineae"},{"$f":"VLOOKUP($A129, taxonomy!$B$2:$T$695, 15, FALSE)","v":" Paxillaceae"},{"$f":"VLOOKUP($A129, taxonomy!$B$2:$T$695, 16, FALSE)","v":"Hydnomerulius."},{"$f":"VLOOKUP($A129, taxonomy!$B$2:$T$695, 17, FALSE)","v":0}]
["A0A0C9X698",{"$f":" VLOOKUP(A130, architecture!D$2:E$73, 2, FALSE)","v":{"$error":"#N/A"}},{"$f":"VLOOKUP(A130, 'PF14702'!B130:C2810, 2, FALSE)","v":1596},{"$f":"VLOOKUP($A130, taxonomy!$B$2:$T$695, 6, FALSE)","v":"Eukaryota"},{"$f":"VLOOKUP($A130, taxonomy!$B$2:$T$695, 7, FALSE)","v":" Fungi"},{"$f":"VLOOKUP($A130, taxonomy!$B$2:$T$695, 8, FALSE)","v":" Dikarya"},{"$f":"VLOOKUP($A130, taxonomy!$B$2:$T$695, 9, FALSE)","v":" Basidiomycota"},{"$f":"VLOOKUP($A130, taxonomy!$B$2:$T$695, 10, FALSE)","v":" Agaricomycotina"},{"$f":"VLOOKUP($A130, taxonomy!$B$2:$T$695, 11, FALSE)","v":"Agaricomycetes"},{"$f":"VLOOKUP($A130, taxonomy!$B$2:$T$695, 12, FALSE)","v":" Agaricomycetidae"},{"$f":"VLOOKUP($A130, taxonomy!$B$2:$T$695, 13, FALSE)","v":" Agaricales"},{"$f":"VLOOKUP($A130, taxonomy!$B$2:$T$695, 14, FALSE)","v":" Tricholomataceae"},{"$f":"VLOOKUP($A130, taxonomy!$B$2:$T$695, 15, FALSE)","v":"Laccaria."},{"$f":"VLOOKUP($A130, taxonomy!$B$2:$T$695, 16, FALSE)","v":0},{"$f":"VLOOKUP($A130, taxonomy!$B$2:$T$695, 17, FALSE)","v":0}]
["A0A0C9Z1J0",{"$f":" VLOOKUP(A131, architecture!D$2:E$73, 2, FALSE)","v":{"$error":"#N/A"}},{"$f":"VLOOKUP(A131, 'PF14702'!B131:C2811, 2, FALSE)","v":1594},{"$f":"VLOOKUP($A131, taxonomy!$B$2:$T$695, 6, FALSE)","v":"Eukaryota"},{"$f":"VLOOKUP($A131, taxonomy!$B$2:$T$695, 7, FALSE)","v":" Fungi"},{"$f":"VLOOKUP($A131, taxonomy!$B$2:$T$695, 8, FALSE)","v":" Dikarya"},{"$f":"VLOOKUP($A131, taxonomy!$B$2:$T$695, 9, FALSE)","v":" Basidiomycota"},{"$f":"VLOOKUP($A131, taxonomy!$B$2:$T$695, 10, FALSE)","v":" Agaricomycotina"},{"$f":"VLOOKUP($A131, taxonomy!$B$2:$T$695, 11, FALSE)","v":"Agaricomycetes"},{"$f":"VLOOKUP($A131, taxonomy!$B$2:$T$695, 12, FALSE)","v":" Agaricomycetidae"},{"$f":"VLOOKUP($A131, taxonomy!$B$2:$T$695, 13, FALSE)","v":" Boletales"},{"$f":"VLOOKUP($A131, taxonomy!$B$2:$T$695, 14, FALSE)","v":" Sclerodermatineae"},{"$f":"VLOOKUP($A131, taxonomy!$B$2:$T$695, 15, FALSE)","v":"Pisolithaceae"},{"$f":"VLOOKUP($A131, taxonomy!$B$2:$T$695, 16, FALSE)","v":" Pisolithus."},{"$f":"VLOOKUP($A131, taxonomy!$B$2:$T$695, 17, FALSE)","v":0}]
["A0A0D0A959",{"$f":" VLOOKUP(A132, architecture!D$2:E$73, 2, FALSE)","v":{"$error":"#N/A"}},{"$f":"VLOOKUP(A132, 'PF14702'!B132:C2812, 2, FALSE)","v":1601},{"$f":"VLOOKUP($A132, taxonomy!$B$2:$T$695, 6, FALSE)","v":"Eukaryota"},{"$f":"VLOOKUP($A132, taxonomy!$B$2:$T$695, 7, FALSE)","v":" Fungi"},{"$f":"VLOOKUP($A132, taxonomy!$B$2:$T$695, 8, FALSE)","v":" Dikarya"},{"$f":"VLOOKUP($A132, taxonomy!$B$2:$T$695, 9, FALSE)","v":" Basidiomycota"},{"$f":"VLOOKUP($A132, taxonomy!$B$2:$T$695, 10, FALSE)","v":" Agaricomycotina"},{"$f":"VLOOKUP($A132, taxonomy!$B$2:$T$695, 11, FALSE)","v":"Agaricomycetes"},{"$f":"VLOOKUP($A132, taxonomy!$B$2:$T$695, 12, FALSE)","v":" Agaricomycetidae"},{"$f":"VLOOKUP($A132, taxonomy!$B$2:$T$695, 13, FALSE)","v":" Boletales"},{"$f":"VLOOKUP($A132, taxonomy!$B$2:$T$695, 14, FALSE)","v":" Suillineae"},{"$f":"VLOOKUP($A132, taxonomy!$B$2:$T$695, 15, FALSE)","v":" Suillaceae"},{"$f":"VLOOKUP($A132, taxonomy!$B$2:$T$695, 16, FALSE)","v":"Suillus."},{"$f":"VLOOKUP($A132, taxonomy!$B$2:$T$695, 17, FALSE)","v":0}]
["A0A0D0CW47",{"$f":" VLOOKUP(A133, architecture!D$2:E$73, 2, FALSE)","v":{"$error":"#N/A"}},{"$f":"VLOOKUP(A133, 'PF14702'!B133:C2813, 2, FALSE)","v":1593},{"$f":"VLOOKUP($A133, taxonomy!$B$2:$T$695, 6, FALSE)","v":"Eukaryota"},{"$f":"VLOOKUP($A133, taxonomy!$B$2:$T$695, 7, FALSE)","v":" Fungi"},{"$f":"VLOOKUP($A133, taxonomy!$B$2:$T$695, 8, FALSE)","v":" Dikarya"},{"$f":"VLOOKUP($A133, taxonomy!$B$2:$T$695, 9, FALSE)","v":" Basidiomycota"},{"$f":"VLOOKUP($A133, taxonomy!$B$2:$T$695, 10, FALSE)","v":" Agaricomycotina"},{"$f":"VLOOKUP($A133, taxonomy!$B$2:$T$695, 11, FALSE)","v":"Agaricomycetes"},{"$f":"VLOOKUP($A133, taxonomy!$B$2:$T$695, 12, FALSE)","v":" Agaricomycetidae"},{"$f":"VLOOKUP($A133, taxonomy!$B$2:$T$695, 13, FALSE)","v":" Agaricales"},{"$f":"VLOOKUP($A133, taxonomy!$B$2:$T$695, 14, FALSE)","v":" Omphalotaceae"},{"$f":"VLOOKUP($A133, taxonomy!$B$2:$T$695, 15, FALSE)","v":" Gymnopus."},{"$f":"VLOOKUP($A133, taxonomy!$B$2:$T$695, 16, FALSE)","v":0},{"$f":"VLOOKUP($A133, taxonomy!$B$2:$T$695, 17, FALSE)","v":0}]
["A0A0D0ECG9",{"$f":" VLOOKUP(A134, architecture!D$2:E$73, 2, FALSE)","v":{"$error":"#N/A"}},{"$f":"VLOOKUP(A134, 'PF14702'!B134:C2814, 2, FALSE)","v":1593},{"$f":"VLOOKUP($A134, taxonomy!$B$2:$T$695, 6, FALSE)","v":"Eukaryota"},{"$f":"VLOOKUP($A134, taxonomy!$B$2:$T$695, 7, FALSE)","v":" Fungi"},{"$f":"VLOOKUP($A134, taxonomy!$B$2:$T$695, 8, FALSE)","v":" Dikarya"},{"$f":"VLOOKUP($A134, taxonomy!$B$2:$T$695, 9, FALSE)","v":" Basidiomycota"},{"$f":"VLOOKUP($A134, taxonomy!$B$2:$T$695, 10, FALSE)","v":" Agaricomycotina"},{"$f":"VLOOKUP($A134, taxonomy!$B$2:$T$695, 11, FALSE)","v":"Agaricomycetes"},{"$f":"VLOOKUP($A134, taxonomy!$B$2:$T$695, 12, FALSE)","v":" Agaricomycetidae"},{"$f":"VLOOKUP($A134, taxonomy!$B$2:$T$695, 13, FALSE)","v":" Boletales"},{"$f":"VLOOKUP($A134, taxonomy!$B$2:$T$695, 14, FALSE)","v":" Paxilineae"},{"$f":"VLOOKUP($A134, taxonomy!$B$2:$T$695, 15, FALSE)","v":" Paxillaceae"},{"$f":"VLOOKUP($A134, taxonomy!$B$2:$T$695, 16, FALSE)","v":"Paxillus."},{"$f":"VLOOKUP($A134, taxonomy!$B$2:$T$695, 17, FALSE)","v":0}]
["A0A0D1DW40",{"$f":" VLOOKUP(A135, architecture!D$2:E$73, 2, FALSE)","v":{"$error":"#N/A"}},{"$f":"VLOOKUP(A135, 'PF14702'!B135:C2815, 2, FALSE)","v":1568},{"$f":"VLOOKUP($A135, taxonomy!$B$2:$T$695, 6, FALSE)","v":"Eukaryota"},{"$f":"VLOOKUP($A135, taxonomy!$B$2:$T$695, 7, FALSE)","v":" Fungi"},{"$f":"VLOOKUP($A135, taxonomy!$B$2:$T$695, 8, FALSE)","v":" Dikarya"},{"$f":"VLOOKUP($A135, taxonomy!$B$2:$T$695, 9, FALSE)","v":" Basidiomycota"},{"$f":"VLOOKUP($A135, taxonomy!$B$2:$T$695, 10, FALSE)","v":" Ustilaginomycotina"},{"$f":"VLOOKUP($A135, taxonomy!$B$2:$T$695, 11, FALSE)","v":"Ustilaginomycetes"},{"$f":"VLOOKUP($A135, taxonomy!$B$2:$T$695, 12, FALSE)","v":" Ustilaginales"},{"$f":"VLOOKUP($A135, taxonomy!$B$2:$T$695, 13, FALSE)","v":" Ustilaginaceae"},{"$f":"VLOOKUP($A135, taxonomy!$B$2:$T$695, 14, FALSE)","v":" Ustilago."},{"$f":"VLOOKUP($A135, taxonomy!$B$2:$T$695, 15, FALSE)","v":0},{"$f":"VLOOKUP($A135, taxonomy!$B$2:$T$695, 16, FALSE)","v":0},{"$f":"VLOOKUP($A135, taxonomy!$B$2:$T$695, 17, FALSE)","v":0}]
["A0A0D1Y1X4",{"$f":" VLOOKUP(A136, architecture!D$2:E$73, 2, FALSE)","v":{"$error":"#N/A"}},{"$f":"VLOOKUP(A136, 'PF14702'!B136:C2816, 2, FALSE)","v":1552},{"$f":"VLOOKUP($A136, taxonomy!$B$2:$T$695, 6, FALSE)","v":"Eukaryota"},{"$f":"VLOOKUP($A136, taxonomy!$B$2:$T$695, 7, FALSE)","v":" Fungi"},{"$f":"VLOOKUP($A136, taxonomy!$B$2:$T$695, 8, FALSE)","v":" Dikarya"},{"$f":"VLOOKUP($A136, taxonomy!$B$2:$T$695, 9, FALSE)","v":" Ascomycota"},{"$f":"VLOOKUP($A136, taxonomy!$B$2:$T$695, 10, FALSE)","v":" Pezizomycotina"},{"$f":"VLOOKUP($A136, taxonomy!$B$2:$T$695, 11, FALSE)","v":" Eurotiomycetes"},{"$f":"VLOOKUP($A136, taxonomy!$B$2:$T$695, 12, FALSE)","v":"Chaetothyriomycetidae"},{"$f":"VLOOKUP($A136, taxonomy!$B$2:$T$695, 13, FALSE)","v":" Chaetothyriales"},{"$f":"VLOOKUP($A136, taxonomy!$B$2:$T$695, 14, FALSE)","v":" Herpotrichiellaceae"},{"$f":"VLOOKUP($A136, taxonomy!$B$2:$T$695, 15, FALSE)","v":"Exophiala."},{"$f":"VLOOKUP($A136, taxonomy!$B$2:$T$695, 16, FALSE)","v":0},{"$f":"VLOOKUP($A136, taxonomy!$B$2:$T$695, 17, FALSE)","v":0}]
["A0A0D1YTW6",{"$f":" VLOOKUP(A137, architecture!D$2:E$73, 2, FALSE)","v":{"$error":"#N/A"}},{"$f":"VLOOKUP(A137, 'PF14702'!B137:C2817, 2, FALSE)","v":1551},{"$f":"VLOOKUP($A137, taxonomy!$B$2:$T$695, 6, FALSE)","v":"Eukaryota"},{"$f":"VLOOKUP($A137, taxonomy!$B$2:$T$695, 7, FALSE)","v":" Fungi"},{"$f":"VLOOKUP($A137, taxonomy!$B$2:$T$695, 8, FALSE)","v":" Dikarya"},{"$f":"VLOOKUP($A137, taxonomy!$B$2:$T$695, 9, FALSE)","v":" Ascomycota"},{"$f":"VLOOKUP($A137, taxonomy!$B$2:$T$695, 10, FALSE)","v":" Pezizomycotina"},{"$f":"VLOOKUP($A137, taxonomy!$B$2:$T$695, 11, FALSE)","v":" Eurotiomycetes"},{"$f":"VLOOKUP($A137, taxonomy!$B$2:$T$695, 12, FALSE)","v":"Chaetothyriomycetidae"},{"$f":"VLOOKUP($A137, taxonomy!$B$2:$T$695, 13, FALSE)","v":" Chaetothyriales"},{"$f":"VLOOKUP($A137, taxonomy!$B$2:$T$695, 14, FALSE)","v":" Herpotrichiellaceae"},{"$f":"VLOOKUP($A137, taxonomy!$B$2:$T$695, 15, FALSE)","v":"Exophiala."},{"$f":"VLOOKUP($A137, taxonomy!$B$2:$T$695, 16, FALSE)","v":0},{"$f":"VLOOKUP($A137, taxonomy!$B$2:$T$695, 17, FALSE)","v":0}]
["A0A0D1ZYM2",{"$f":" VLOOKUP(A138, architecture!D$2:E$73, 2, FALSE)","v":{"$error":"#N/A"}},{"$f":"VLOOKUP(A138, 'PF14702'!B138:C2818, 2, FALSE)","v":1554},{"$f":"VLOOKUP($A138, taxonomy!$B$2:$T$695, 6, FALSE)","v":"Eukaryota"},{"$f":"VLOOKUP($A138, taxonomy!$B$2:$T$695, 7, FALSE)","v":" Fungi"},{"$f":"VLOOKUP($A138, taxonomy!$B$2:$T$695, 8, FALSE)","v":" Dikarya"},{"$f":"VLOOKUP($A138, taxonomy!$B$2:$T$695, 9, FALSE)","v":" Ascomycota"},{"$f":"VLOOKUP($A138, taxonomy!$B$2:$T$695, 10, FALSE)","v":" Pezizomycotina"},{"$f":"VLOOKUP($A138, taxonomy!$B$2:$T$695, 11, FALSE)","v":" Eurotiomycetes"},{"$f":"VLOOKUP($A138, taxonomy!$B$2:$T$695, 12, FALSE)","v":"Chaetothyriomycetidae"},{"$f":"VLOOKUP($A138, taxonomy!$B$2:$T$695, 13, FALSE)","v":" Chaetothyriales"},{"$f":"VLOOKUP($A138, taxonomy!$B$2:$T$695, 14, FALSE)","v":" Herpotrichiellaceae"},{"$f":"VLOOKUP($A138, taxonomy!$B$2:$T$695, 15, FALSE)","v":"Exophiala."},{"$f":"VLOOKUP($A138, taxonomy!$B$2:$T$695, 16, FALSE)","v":0},{"$f":"VLOOKUP($A138, taxonomy!$B$2:$T$695, 17, FALSE)","v":0}]
["A0A0D2A5A0",{"$f":" VLOOKUP(A139, architecture!D$2:E$73, 2, FALSE)","v":{"$error":"#N/A"}},{"$f":"VLOOKUP(A139, 'PF14702'!B139:C2819, 2, FALSE)","v":1562},{"$f":"VLOOKUP($A139, taxonomy!$B$2:$T$695, 6, FALSE)","v":"Eukaryota"},{"$f":"VLOOKUP($A139, taxonomy!$B$2:$T$695, 7, FALSE)","v":" Fungi"},{"$f":"VLOOKUP($A139, taxonomy!$B$2:$T$695, 8, FALSE)","v":" Dikarya"},{"$f":"VLOOKUP($A139, taxonomy!$B$2:$T$695, 9, FALSE)","v":" Ascomycota"},{"$f":"VLOOKUP($A139, taxonomy!$B$2:$T$695, 10, FALSE)","v":" Pezizomycotina"},{"$f":"VLOOKUP($A139, taxonomy!$B$2:$T$695, 11, FALSE)","v":"Dothideomycetes"},{"$f":"VLOOKUP($A139, taxonomy!$B$2:$T$695, 12, FALSE)","v":" Dothideomycetes incertae sedis"},{"$f":"VLOOKUP($A139, taxonomy!$B$2:$T$695, 13, FALSE)","v":" Venturiales"},{"$f":"VLOOKUP($A139, taxonomy!$B$2:$T$695, 14, FALSE)","v":"Sympoventuriaceae"},{"$f":"VLOOKUP($A139, taxonomy!$B$2:$T$695, 15, FALSE)","v":" Verruconis."},{"$f":"VLOOKUP($A139, taxonomy!$B$2:$T$695, 16, FALSE)","v":0},{"$f":"VLOOKUP($A139, taxonomy!$B$2:$T$695, 17, FALSE)","v":0}]
["A0A0D2AR99",{"$f":" VLOOKUP(A140, architecture!D$2:E$73, 2, FALSE)","v":{"$error":"#N/A"}},{"$f":"VLOOKUP(A140, 'PF14702'!B140:C2820, 2, FALSE)","v":1537},{"$f":"VLOOKUP($A140, taxonomy!$B$2:$T$695, 6, FALSE)","v":"Eukaryota"},{"$f":"VLOOKUP($A140, taxonomy!$B$2:$T$695, 7, FALSE)","v":" Fungi"},{"$f":"VLOOKUP($A140, taxonomy!$B$2:$T$695, 8, FALSE)","v":" Dikarya"},{"$f":"VLOOKUP($A140, taxonomy!$B$2:$T$695, 9, FALSE)","v":" Ascomycota"},{"$f":"VLOOKUP($A140, taxonomy!$B$2:$T$695, 10, FALSE)","v":" Pezizomycotina"},{"$f":"VLOOKUP($A140, taxonomy!$B$2:$T$695, 11, FALSE)","v":" Eurotiomycetes"},{"$f":"VLOOKUP($A140, taxonomy!$B$2:$T$695, 12, FALSE)","v":"Chaetothyriomycetidae"},{"$f":"VLOOKUP($A140, taxonomy!$B$2:$T$695, 13, FALSE)","v":" Chaetothyriales"},{"$f":"VLOOKUP($A140, taxonomy!$B$2:$T$695, 14, FALSE)","v":" Herpotrichiellaceae"},{"$f":"VLOOKUP($A140, taxonomy!$B$2:$T$695, 15, FALSE)","v":"Exophiala."},{"$f":"VLOOKUP($A140, taxonomy!$B$2:$T$695, 16, FALSE)","v":0},{"$f":"VLOOKUP($A140, taxonomy!$B$2:$T$695, 17, FALSE)","v":0}]
["A0A0D2CKN8",{"$f":" VLOOKUP(A141, architecture!D$2:E$73, 2, FALSE)","v":{"$error":"#N/A"}},{"$f":"VLOOKUP(A141, 'PF14702'!B141:C2821, 2, FALSE)","v":1561},{"$f":"VLOOKUP($A141, taxonomy!$B$2:$T$695, 6, FALSE)","v":"Eukaryota"},{"$f":"VLOOKUP($A141, taxonomy!$B$2:$T$695, 7, FALSE)","v":" Fungi"},{"$f":"VLOOKUP($A141, taxonomy!$B$2:$T$695, 8, FALSE)","v":" Dikarya"},{"$f":"VLOOKUP($A141, taxonomy!$B$2:$T$695, 9, FALSE)","v":" Ascomycota"},{"$f":"VLOOKUP($A141, taxonomy!$B$2:$T$695, 10, FALSE)","v":" Pezizomycotina"},{"$f":"VLOOKUP($A141, taxonomy!$B$2:$T$695, 11, FALSE)","v":" Eurotiomycetes"},{"$f":"VLOOKUP($A141, taxonomy!$B$2:$T$695, 12, FALSE)","v":"Chaetothyriomycetidae"},{"$f":"VLOOKUP($A141, taxonomy!$B$2:$T$695, 13, FALSE)","v":" Chaetothyriales"},{"$f":"VLOOKUP($A141, taxonomy!$B$2:$T$695, 14, FALSE)","v":" Herpotrichiellaceae"},{"$f":"VLOOKUP($A141, taxonomy!$B$2:$T$695, 15, FALSE)","v":"Cladophialophora."},{"$f":"VLOOKUP($A141, taxonomy!$B$2:$T$695, 16, FALSE)","v":0},{"$f":"VLOOKUP($A141, taxonomy!$B$2:$T$695, 17, FALSE)","v":0}]
["A0A0D2DJ28",{"$f":" VLOOKUP(A142, architecture!D$2:E$73, 2, FALSE)","v":{"$error":"#N/A"}},{"$f":"VLOOKUP(A142, 'PF14702'!B142:C2822, 2, FALSE)","v":1554},{"$f":"VLOOKUP($A142, taxonomy!$B$2:$T$695, 6, FALSE)","v":"Eukaryota"},{"$f":"VLOOKUP($A142, taxonomy!$B$2:$T$695, 7, FALSE)","v":" Fungi"},{"$f":"VLOOKUP($A142, taxonomy!$B$2:$T$695, 8, FALSE)","v":" Dikarya"},{"$f":"VLOOKUP($A142, taxonomy!$B$2:$T$695, 9, FALSE)","v":" Ascomycota"},{"$f":"VLOOKUP($A142, taxonomy!$B$2:$T$695, 10, FALSE)","v":" Pezizomycotina"},{"$f":"VLOOKUP($A142, taxonomy!$B$2:$T$695, 11, FALSE)","v":" Eurotiomycetes"},{"$f":"VLOOKUP($A142, taxonomy!$B$2:$T$695, 12, FALSE)","v":"Chaetothyriomycetidae"},{"$f":"VLOOKUP($A142, taxonomy!$B$2:$T$695, 13, FALSE)","v":" Chaetothyriales"},{"$f":"VLOOKUP($A142, taxonomy!$B$2:$T$695, 14, FALSE)","v":" Herpotrichiellaceae"},{"$f":"VLOOKUP($A142, taxonomy!$B$2:$T$695, 15, FALSE)","v":"Exophiala."},{"$f":"VLOOKUP($A142, taxonomy!$B$2:$T$695, 16, FALSE)","v":0},{"$f":"VLOOKUP($A142, taxonomy!$B$2:$T$695, 17, FALSE)","v":0}]
["A0A0D2E8D8",{"$f":" VLOOKUP(A143, architecture!D$2:E$73, 2, FALSE)","v":{"$error":"#N/A"}},{"$f":"VLOOKUP(A143, 'PF14702'!B143:C2823, 2, FALSE)","v":1554},{"$f":"VLOOKUP($A143, taxonomy!$B$2:$T$695, 6, FALSE)","v":"Eukaryota"},{"$f":"VLOOKUP($A143, taxonomy!$B$2:$T$695, 7, FALSE)","v":" Fungi"},{"$f":"VLOOKUP($A143, taxonomy!$B$2:$T$695, 8, FALSE)","v":" Dikarya"},{"$f":"VLOOKUP($A143, taxonomy!$B$2:$T$695, 9, FALSE)","v":" Ascomycota"},{"$f":"VLOOKUP($A143, taxonomy!$B$2:$T$695, 10, FALSE)","v":" Pezizomycotina"},{"$f":"VLOOKUP($A143, taxonomy!$B$2:$T$695, 11, FALSE)","v":" Eurotiomycetes"},{"$f":"VLOOKUP($A143, taxonomy!$B$2:$T$695, 12, FALSE)","v":"Chaetothyriomycetidae"},{"$f":"VLOOKUP($A143, taxonomy!$B$2:$T$695, 13, FALSE)","v":" Chaetothyriales"},{"$f":"VLOOKUP($A143, taxonomy!$B$2:$T$695, 14, FALSE)","v":" Herpotrichiellaceae"},{"$f":"VLOOKUP($A143, taxonomy!$B$2:$T$695, 15, FALSE)","v":"Exophiala."},{"$f":"VLOOKUP($A143, taxonomy!$B$2:$T$695, 16, FALSE)","v":0},{"$f":"VLOOKUP($A143, taxonomy!$B$2:$T$695, 17, FALSE)","v":0}]
["A0A0D2G1H9",{"$f":" VLOOKUP(A144, architecture!D$2:E$73, 2, FALSE)","v":{"$error":"#N/A"}},{"$f":"VLOOKUP(A144, 'PF14702'!B144:C2824, 2, FALSE)","v":1552},{"$f":"VLOOKUP($A144, taxonomy!$B$2:$T$695, 6, FALSE)","v":"Eukaryota"},{"$f":"VLOOKUP($A144, taxonomy!$B$2:$T$695, 7, FALSE)","v":" Fungi"},{"$f":"VLOOKUP($A144, taxonomy!$B$2:$T$695, 8, FALSE)","v":" Dikarya"},{"$f":"VLOOKUP($A144, taxonomy!$B$2:$T$695, 9, FALSE)","v":" Ascomycota"},{"$f":"VLOOKUP($A144, taxonomy!$B$2:$T$695, 10, FALSE)","v":" Pezizomycotina"},{"$f":"VLOOKUP($A144, taxonomy!$B$2:$T$695, 11, FALSE)","v":" Eurotiomycetes"},{"$f":"VLOOKUP($A144, taxonomy!$B$2:$T$695, 12, FALSE)","v":"Chaetothyriomycetidae"},{"$f":"VLOOKUP($A144, taxonomy!$B$2:$T$695, 13, FALSE)","v":" Chaetothyriales"},{"$f":"VLOOKUP($A144, taxonomy!$B$2:$T$695, 14, FALSE)","v":" Herpotrichiellaceae"},{"$f":"VLOOKUP($A144, taxonomy!$B$2:$T$695, 15, FALSE)","v":"Phialophora."},{"$f":"VLOOKUP($A144, taxonomy!$B$2:$T$695, 16, FALSE)","v":0},{"$f":"VLOOKUP($A144, taxonomy!$B$2:$T$695, 17, FALSE)","v":0}]
["A0A0D2HJE3",{"$f":" VLOOKUP(A145, architecture!D$2:E$73, 2, FALSE)","v":{"$error":"#N/A"}},{"$f":"VLOOKUP(A145, 'PF14702'!B145:C2825, 2, FALSE)","v":1917},{"$f":"VLOOKUP($A145, taxonomy!$B$2:$T$695, 6, FALSE)","v":"Eukaryota"},{"$f":"VLOOKUP($A145, taxonomy!$B$2:$T$695, 7, FALSE)","v":" Fungi"},{"$f":"VLOOKUP($A145, taxonomy!$B$2:$T$695, 8, FALSE)","v":" Dikarya"},{"$f":"VLOOKUP($A145, taxonomy!$B$2:$T$695, 9, FALSE)","v":" Ascomycota"},{"$f":"VLOOKUP($A145, taxonomy!$B$2:$T$695, 10, FALSE)","v":" Pezizomycotina"},{"$f":"VLOOKUP($A145, taxonomy!$B$2:$T$695, 11, FALSE)","v":" Eurotiomycetes"},{"$f":"VLOOKUP($A145, taxonomy!$B$2:$T$695, 12, FALSE)","v":"Chaetothyriomycetidae"},{"$f":"VLOOKUP($A145, taxonomy!$B$2:$T$695, 13, FALSE)","v":" Chaetothyriales"},{"$f":"VLOOKUP($A145, taxonomy!$B$2:$T$695, 14, FALSE)","v":" Herpotrichiellaceae"},{"$f":"VLOOKUP($A145, taxonomy!$B$2:$T$695, 15, FALSE)","v":"Fonsecaea."},{"$f":"VLOOKUP($A145, taxonomy!$B$2:$T$695, 16, FALSE)","v":0},{"$f":"VLOOKUP($A145, taxonomy!$B$2:$T$695, 17, FALSE)","v":0}]
["A0A0D2I322",{"$f":" VLOOKUP(A146, architecture!D$2:E$73, 2, FALSE)","v":{"$error":"#N/A"}},{"$f":"VLOOKUP(A146, 'PF14702'!B146:C2826, 2, FALSE)","v":1534},{"$f":"VLOOKUP($A146, taxonomy!$B$2:$T$695, 6, FALSE)","v":"Eukaryota"},{"$f":"VLOOKUP($A146, taxonomy!$B$2:$T$695, 7, FALSE)","v":" Fungi"},{"$f":"VLOOKUP($A146, taxonomy!$B$2:$T$695, 8, FALSE)","v":" Dikarya"},{"$f":"VLOOKUP($A146, taxonomy!$B$2:$T$695, 9, FALSE)","v":" Ascomycota"},{"$f":"VLOOKUP($A146, taxonomy!$B$2:$T$695, 10, FALSE)","v":" Pezizomycotina"},{"$f":"VLOOKUP($A146, taxonomy!$B$2:$T$695, 11, FALSE)","v":" Eurotiomycetes"},{"$f":"VLOOKUP($A146, taxonomy!$B$2:$T$695, 12, FALSE)","v":"Chaetothyriomycetidae"},{"$f":"VLOOKUP($A146, taxonomy!$B$2:$T$695, 13, FALSE)","v":" Chaetothyriales"},{"$f":"VLOOKUP($A146, taxonomy!$B$2:$T$695, 14, FALSE)","v":" Herpotrichiellaceae"},{"$f":"VLOOKUP($A146, taxonomy!$B$2:$T$695, 15, FALSE)","v":"Rhinocladiella."},{"$f":"VLOOKUP($A146, taxonomy!$B$2:$T$695, 16, FALSE)","v":0},{"$f":"VLOOKUP($A146, taxonomy!$B$2:$T$695, 17, FALSE)","v":0}]
["A0A0D2KAA1",{"$f":" VLOOKUP(A147, architecture!D$2:E$73, 2, FALSE)","v":{"$error":"#N/A"}},{"$f":"VLOOKUP(A147, 'PF14702'!B147:C2827, 2, FALSE)","v":1538},{"$f":"VLOOKUP($A147, taxonomy!$B$2:$T$695, 6, FALSE)","v":"Eukaryota"},{"$f":"VLOOKUP($A147, taxonomy!$B$2:$T$695, 7, FALSE)","v":" Fungi"},{"$f":"VLOOKUP($A147, taxonomy!$B$2:$T$695, 8, FALSE)","v":" Dikarya"},{"$f":"VLOOKUP($A147, taxonomy!$B$2:$T$695, 9, FALSE)","v":" Ascomycota"},{"$f":"VLOOKUP($A147, taxonomy!$B$2:$T$695, 10, FALSE)","v":" Pezizomycotina"},{"$f":"VLOOKUP($A147, taxonomy!$B$2:$T$695, 11, FALSE)","v":" Eurotiomycetes"},{"$f":"VLOOKUP($A147, taxonomy!$B$2:$T$695, 12, FALSE)","v":"Chaetothyriomycetidae"},{"$f":"VLOOKUP($A147, taxonomy!$B$2:$T$695, 13, FALSE)","v":" Chaetothyriales"},{"$f":"VLOOKUP($A147, taxonomy!$B$2:$T$695, 14, FALSE)","v":" Herpotrichiellaceae"},{"$f":"VLOOKUP($A147, taxonomy!$B$2:$T$695, 15, FALSE)","v":"Fonsecaea."},{"$f":"VLOOKUP($A147, taxonomy!$B$2:$T$695, 16, FALSE)","v":0},{"$f":"VLOOKUP($A147, taxonomy!$B$2:$T$695, 17, FALSE)","v":0}]
["A0A0D2NY00",{"$f":" VLOOKUP(A148, architecture!D$2:E$73, 2, FALSE)","v":{"$error":"#N/A"}},{"$f":"VLOOKUP(A148, 'PF14702'!B148:C2828, 2, FALSE)","v":1591},{"$f":"VLOOKUP($A148, taxonomy!$B$2:$T$695, 6, FALSE)","v":"Eukaryota"},{"$f":"VLOOKUP($A148, taxonomy!$B$2:$T$695, 7, FALSE)","v":" Fungi"},{"$f":"VLOOKUP($A148, taxonomy!$B$2:$T$695, 8, FALSE)","v":" Dikarya"},{"$f":"VLOOKUP($A148, taxonomy!$B$2:$T$695, 9, FALSE)","v":" Basidiomycota"},{"$f":"VLOOKUP($A148, taxonomy!$B$2:$T$695, 10, FALSE)","v":" Agaricomycotina"},{"$f":"VLOOKUP($A148, taxonomy!$B$2:$T$695, 11, FALSE)","v":"Agaricomycetes"},{"$f":"VLOOKUP($A148, taxonomy!$B$2:$T$695, 12, FALSE)","v":" Agaricomycetidae"},{"$f":"VLOOKUP($A148, taxonomy!$B$2:$T$695, 13, FALSE)","v":" Agaricales"},{"$f":"VLOOKUP($A148, taxonomy!$B$2:$T$695, 14, FALSE)","v":" Strophariaceae"},{"$f":"VLOOKUP($A148, taxonomy!$B$2:$T$695, 15, FALSE)","v":"Hypholoma."},{"$f":"VLOOKUP($A148, taxonomy!$B$2:$T$695, 16, FALSE)","v":0},{"$f":"VLOOKUP($A148, taxonomy!$B$2:$T$695, 17, FALSE)","v":0}]
["A0A0D2X4G8",{"$f":" VLOOKUP(A149, architecture!D$2:E$73, 2, FALSE)","v":{"$error":"#N/A"}},{"$f":"VLOOKUP(A149, 'PF14702'!B149:C2829, 2, FALSE)","v":1949},{"$f":"VLOOKUP($A149, taxonomy!$B$2:$T$695, 6, FALSE)","v":"Eukaryota"},{"$f":"VLOOKUP($A149, taxonomy!$B$2:$T$695, 7, FALSE)","v":" Ichthyosporea"},{"$f":"VLOOKUP($A149, taxonomy!$B$2:$T$695, 8, FALSE)","v":" Capsaspora."},{"$f":"VLOOKUP($A149, taxonomy!$B$2:$T$695, 9, FALSE)","v":0},{"$f":"VLOOKUP($A149, taxonomy!$B$2:$T$695, 10, FALSE)","v":0},{"$f":"VLOOKUP($A149, taxonomy!$B$2:$T$695, 11, FALSE)","v":0},{"$f":"VLOOKUP($A149, taxonomy!$B$2:$T$695, 12, FALSE)","v":0},{"$f":"VLOOKUP($A149, taxonomy!$B$2:$T$695, 13, FALSE)","v":0},{"$f":"VLOOKUP($A149, taxonomy!$B$2:$T$695, 14, FALSE)","v":0},{"$f":"VLOOKUP($A149, taxonomy!$B$2:$T$695, 15, FALSE)","v":0},{"$f":"VLOOKUP($A149, taxonomy!$B$2:$T$695, 16, FALSE)","v":0},{"$f":"VLOOKUP($A149, taxonomy!$B$2:$T$695, 17, FALSE)","v":0}]
["A0A0D2XWJ8",{"$f":" VLOOKUP(A150, architecture!D$2:E$73, 2, FALSE)","v":{"$error":"#N/A"}},{"$f":"VLOOKUP(A150, 'PF14702'!B150:C2830, 2, FALSE)","v":1556},{"$f":"VLOOKUP($A150, taxonomy!$B$2:$T$695, 6, FALSE)","v":"Eukaryota"},{"$f":"VLOOKUP($A150, taxonomy!$B$2:$T$695, 7, FALSE)","v":" Fungi"},{"$f":"VLOOKUP($A150, taxonomy!$B$2:$T$695, 8, FALSE)","v":" Dikarya"},{"$f":"VLOOKUP($A150, taxonomy!$B$2:$T$695, 9, FALSE)","v":" Ascomycota"},{"$f":"VLOOKUP($A150, taxonomy!$B$2:$T$695, 10, FALSE)","v":" Pezizomycotina"},{"$f":"VLOOKUP($A150, taxonomy!$B$2:$T$695, 11, FALSE)","v":"Sordariomycetes"},{"$f":"VLOOKUP($A150, taxonomy!$B$2:$T$695, 12, FALSE)","v":" Hypocreomycetidae"},{"$f":"VLOOKUP($A150, taxonomy!$B$2:$T$695, 13, FALSE)","v":" Hypocreales"},{"$f":"VLOOKUP($A150, taxonomy!$B$2:$T$695, 14, FALSE)","v":" Nectriaceae"},{"$f":"VLOOKUP($A150, taxonomy!$B$2:$T$695, 15, FALSE)","v":"Fusarium"},{"$f":"VLOOKUP($A150, taxonomy!$B$2:$T$695, 16, FALSE)","v":" Fusarium oxysporum species complex."},{"$f":"VLOOKUP($A150, taxonomy!$B$2:$T$695, 17, FALSE)","v":0}]
["A0A0D7AM24",{"$f":" VLOOKUP(A151, architecture!D$2:E$73, 2, FALSE)","v":{"$error":"#N/A"}},{"$f":"VLOOKUP(A151, 'PF14702'!B151:C2831, 2, FALSE)","v":1585},{"$f":"VLOOKUP($A151, taxonomy!$B$2:$T$695, 6, FALSE)","v":"Eukaryota"},{"$f":"VLOOKUP($A151, taxonomy!$B$2:$T$695, 7, FALSE)","v":" Fungi"},{"$f":"VLOOKUP($A151, taxonomy!$B$2:$T$695, 8, FALSE)","v":" Dikarya"},{"$f":"VLOOKUP($A151, taxonomy!$B$2:$T$695, 9, FALSE)","v":" Basidiomycota"},{"$f":"VLOOKUP($A151, taxonomy!$B$2:$T$695, 10, FALSE)","v":" Agaricomycotina"},{"$f":"VLOOKUP($A151, taxonomy!$B$2:$T$695, 11, FALSE)","v":"Agaricomycetes"},{"$f":"VLOOKUP($A151, taxonomy!$B$2:$T$695, 12, FALSE)","v":" Agaricomycetidae"},{"$f":"VLOOKUP($A151, taxonomy!$B$2:$T$695, 13, FALSE)","v":" Agaricales"},{"$f":"VLOOKUP($A151, taxonomy!$B$2:$T$695, 14, FALSE)","v":" Fistulinaceae"},{"$f":"VLOOKUP($A151, taxonomy!$B$2:$T$695, 15, FALSE)","v":"Fistulina."},{"$f":"VLOOKUP($A151, taxonomy!$B$2:$T$695, 16, FALSE)","v":0},{"$f":"VLOOKUP($A151, taxonomy!$B$2:$T$695, 17, FALSE)","v":0}]
["A0A0D7BL27",{"$f":" VLOOKUP(A152, architecture!D$2:E$73, 2, FALSE)","v":{"$error":"#N/A"}},{"$f":"VLOOKUP(A152, 'PF14702'!B152:C2832, 2, FALSE)","v":1575},{"$f":"VLOOKUP($A152, taxonomy!$B$2:$T$695, 6, FALSE)","v":"Eukaryota"},{"$f":"VLOOKUP($A152, taxonomy!$B$2:$T$695, 7, FALSE)","v":" Fungi"},{"$f":"VLOOKUP($A152, taxonomy!$B$2:$T$695, 8, FALSE)","v":" Dikarya"},{"$f":"VLOOKUP($A152, taxonomy!$B$2:$T$695, 9, FALSE)","v":" Basidiomycota"},{"$f":"VLOOKUP($A152, taxonomy!$B$2:$T$695, 10, FALSE)","v":" Agaricomycotina"},{"$f":"VLOOKUP($A152, taxonomy!$B$2:$T$695, 11, FALSE)","v":"Agaricomycetes"},{"$f":"VLOOKUP($A152, taxonomy!$B$2:$T$695, 12, FALSE)","v":" Agaricomycetidae"},{"$f":"VLOOKUP($A152, taxonomy!$B$2:$T$695, 13, FALSE)","v":" Agaricales"},{"$f":"VLOOKUP($A152, taxonomy!$B$2:$T$695, 14, FALSE)","v":" Physalacriaceae"},{"$f":"VLOOKUP($A152, taxonomy!$B$2:$T$695, 15, FALSE)","v":"Cylindrobasidium."},{"$f":"VLOOKUP($A152, taxonomy!$B$2:$T$695, 16, FALSE)","v":0},{"$f":"VLOOKUP($A152, taxonomy!$B$2:$T$695, 17, FALSE)","v":0}]
["A0A0D8Y173",{"$f":" VLOOKUP(A153, architecture!D$2:E$73, 2, FALSE)","v":{"$error":"#N/A"}},{"$f":"VLOOKUP(A153, 'PF14702'!B153:C2833, 2, FALSE)","v":1440},{"$f":"VLOOKUP($A153, taxonomy!$B$2:$T$695, 6, FALSE)","v":"Eukaryota"},{"$f":"VLOOKUP($A153, taxonomy!$B$2:$T$695, 7, FALSE)","v":" Metazoa"},{"$f":"VLOOKUP($A153, taxonomy!$B$2:$T$695, 8, FALSE)","v":" Ecdysozoa"},{"$f":"VLOOKUP($A153, taxonomy!$B$2:$T$695, 9, FALSE)","v":" Nematoda"},{"$f":"VLOOKUP($A153, taxonomy!$B$2:$T$695, 10, FALSE)","v":" Chromadorea"},{"$f":"VLOOKUP($A153, taxonomy!$B$2:$T$695, 11, FALSE)","v":" Rhabditida"},{"$f":"VLOOKUP($A153, taxonomy!$B$2:$T$695, 12, FALSE)","v":"Strongylida"},{"$f":"VLOOKUP($A153, taxonomy!$B$2:$T$695, 13, FALSE)","v":" Trichostrongyloidea"},{"$f":"VLOOKUP($A153, taxonomy!$B$2:$T$695, 14, FALSE)","v":" Dictyocaulidae"},{"$f":"VLOOKUP($A153, taxonomy!$B$2:$T$695, 15, FALSE)","v":" Dictyocaulinae"},{"$f":"VLOOKUP($A153, taxonomy!$B$2:$T$695, 16, FALSE)","v":"Dictyocaulus."},{"$f":"VLOOKUP($A153, taxonomy!$B$2:$T$695, 17, FALSE)","v":0}]
["A0A0D9N9Z1",{"$f":" VLOOKUP(A154, architecture!D$2:E$73, 2, FALSE)","v":{"$error":"#N/A"}},{"$f":"VLOOKUP(A154, 'PF14702'!B154:C2834, 2, FALSE)","v":1518},{"$f":"VLOOKUP($A154, taxonomy!$B$2:$T$695, 6, FALSE)","v":"Eukaryota"},{"$f":"VLOOKUP($A154, taxonomy!$B$2:$T$695, 7, FALSE)","v":" Fungi"},{"$f":"VLOOKUP($A154, taxonomy!$B$2:$T$695, 8, FALSE)","v":" Dikarya"},{"$f":"VLOOKUP($A154, taxonomy!$B$2:$T$695, 9, FALSE)","v":" Ascomycota"},{"$f":"VLOOKUP($A154, taxonomy!$B$2:$T$695, 10, FALSE)","v":" Pezizomycotina"},{"$f":"VLOOKUP($A154, taxonomy!$B$2:$T$695, 11, FALSE)","v":" Eurotiomycetes"},{"$f":"VLOOKUP($A154, taxonomy!$B$2:$T$695, 12, FALSE)","v":"Eurotiomycetidae"},{"$f":"VLOOKUP($A154, taxonomy!$B$2:$T$695, 13, FALSE)","v":" Eurotiales"},{"$f":"VLOOKUP($A154, taxonomy!$B$2:$T$695, 14, FALSE)","v":" Aspergillaceae"},{"$f":"VLOOKUP($A154, taxonomy!$B$2:$T$695, 15, FALSE)","v":" Aspergillus."},{"$f":"VLOOKUP($A154, taxonomy!$B$2:$T$695, 16, FALSE)","v":0},{"$f":"VLOOKUP($A154, taxonomy!$B$2:$T$695, 17, FALSE)","v":0}]
["A0A0D9S6N5",{"$f":" VLOOKUP(A155, architecture!D$2:E$73, 2, FALSE)","v":{"$error":"#N/A"}},{"$f":"VLOOKUP(A155, 'PF14702'!B155:C2835, 2, FALSE)","v":1532},{"$f":"VLOOKUP($A155, taxonomy!$B$2:$T$695, 6, FALSE)","v":"Eukaryota"},{"$f":"VLOOKUP($A155, taxonomy!$B$2:$T$695, 7, FALSE)","v":" Metazoa"},{"$f":"VLOOKUP($A155, taxonomy!$B$2:$T$695, 8, FALSE)","v":" Chordata"},{"$f":"VLOOKUP($A155, taxonomy!$B$2:$T$695, 9, FALSE)","v":" Craniata"},{"$f":"VLOOKUP($A155, taxonomy!$B$2:$T$695, 10, FALSE)","v":" Vertebrata"},{"$f":"VLOOKUP($A155, taxonomy!$B$2:$T$695, 11, FALSE)","v":" Euteleostomi"},{"$f":"VLOOKUP($A155, taxonomy!$B$2:$T$695, 12, FALSE)","v":"Mammalia"},{"$f":"VLOOKUP($A155, taxonomy!$B$2:$T$695, 13, FALSE)","v":" Eutheria"},{"$f":"VLOOKUP($A155, taxonomy!$B$2:$T$695, 14, FALSE)","v":" Euarchontoglires"},{"$f":"VLOOKUP($A155, taxonomy!$B$2:$T$695, 15, FALSE)","v":" Primates"},{"$f":"VLOOKUP($A155, taxonomy!$B$2:$T$695, 16, FALSE)","v":" Haplorrhini"},{"$f":"VLOOKUP($A155, taxonomy!$B$2:$T$695, 17, FALSE)","v":"Catarrhini"}]
["A0A0E1RUZ2",{"$f":" VLOOKUP(A156, architecture!D$2:E$73, 2, FALSE)","v":{"$error":"#N/A"}},{"$f":"VLOOKUP(A156, 'PF14702'!B156:C2836, 2, FALSE)","v":1605},{"$f":"VLOOKUP($A156, taxonomy!$B$2:$T$695, 6, FALSE)","v":"Eukaryota"},{"$f":"VLOOKUP($A156, taxonomy!$B$2:$T$695, 7, FALSE)","v":" Fungi"},{"$f":"VLOOKUP($A156, taxonomy!$B$2:$T$695, 8, FALSE)","v":" Dikarya"},{"$f":"VLOOKUP($A156, taxonomy!$B$2:$T$695, 9, FALSE)","v":" Ascomycota"},{"$f":"VLOOKUP($A156, taxonomy!$B$2:$T$695, 10, FALSE)","v":" Pezizomycotina"},{"$f":"VLOOKUP($A156, taxonomy!$B$2:$T$695, 11, FALSE)","v":" Eurotiomycetes"},{"$f":"VLOOKUP($A156, taxonomy!$B$2:$T$695, 12, FALSE)","v":"Eurotiomycetidae"},{"$f":"VLOOKUP($A156, taxonomy!$B$2:$T$695, 13, FALSE)","v":" Onygenales"},{"$f":"VLOOKUP($A156, taxonomy!$B$2:$T$695, 14, FALSE)","v":" Onygenales incertae sedis"},{"$f":"VLOOKUP($A156, taxonomy!$B$2:$T$695, 15, FALSE)","v":" Coccidioides."},{"$f":"VLOOKUP($A156, taxonomy!$B$2:$T$695, 16, FALSE)","v":0},{"$f":"VLOOKUP($A156, taxonomy!$B$2:$T$695, 17, FALSE)","v":0}]
["A0A0E9NAY6",{"$f":" VLOOKUP(A157, architecture!D$2:E$73, 2, FALSE)","v":{"$error":"#N/A"}},{"$f":"VLOOKUP(A157, 'PF14702'!B157:C2837, 2, FALSE)","v":1594},{"$f":"VLOOKUP($A157, taxonomy!$B$2:$T$695, 6, FALSE)","v":"Eukaryota"},{"$f":"VLOOKUP($A157, taxonomy!$B$2:$T$695, 7, FALSE)","v":" Fungi"},{"$f":"VLOOKUP($A157, taxonomy!$B$2:$T$695, 8, FALSE)","v":" Dikarya"},{"$f":"VLOOKUP($A157, taxonomy!$B$2:$T$695, 9, FALSE)","v":" Ascomycota"},{"$f":"VLOOKUP($A157, taxonomy!$B$2:$T$695, 10, FALSE)","v":" Taphrinomycotina"},{"$f":"VLOOKUP($A157, taxonomy!$B$2:$T$695, 11, FALSE)","v":"Taphrinomycotina incertae sedis"},{"$f":"VLOOKUP($A157, taxonomy!$B$2:$T$695, 12, FALSE)","v":" Saitoella."},{"$f":"VLOOKUP($A157, taxonomy!$B$2:$T$695, 13, FALSE)","v":0},{"$f":"VLOOKUP($A157, taxonomy!$B$2:$T$695, 14, FALSE)","v":0},{"$f":"VLOOKUP($A157, taxonomy!$B$2:$T$695, 15, FALSE)","v":0},{"$f":"VLOOKUP($A157, taxonomy!$B$2:$T$695, 16, FALSE)","v":0},{"$f":"VLOOKUP($A157, taxonomy!$B$2:$T$695, 17, FALSE)","v":0}]
["A0A0F0I5P1",{"$f":" VLOOKUP(A158, architecture!D$2:E$73, 2, FALSE)","v":{"$error":"#N/A"}},{"$f":"VLOOKUP(A158, 'PF14702'!B158:C2838, 2, FALSE)","v":1518},{"$f":"VLOOKUP($A158, taxonomy!$B$2:$T$695, 6, FALSE)","v":"Eukaryota"},{"$f":"VLOOKUP($A158, taxonomy!$B$2:$T$695, 7, FALSE)","v":" Fungi"},{"$f":"VLOOKUP($A158, taxonomy!$B$2:$T$695, 8, FALSE)","v":" Dikarya"},{"$f":"VLOOKUP($A158, taxonomy!$B$2:$T$695, 9, FALSE)","v":" Ascomycota"},{"$f":"VLOOKUP($A158, taxonomy!$B$2:$T$695, 10, FALSE)","v":" Pezizomycotina"},{"$f":"VLOOKUP($A158, taxonomy!$B$2:$T$695, 11, FALSE)","v":" Eurotiomycetes"},{"$f":"VLOOKUP($A158, taxonomy!$B$2:$T$695, 12, FALSE)","v":"Eurotiomycetidae"},{"$f":"VLOOKUP($A158, taxonomy!$B$2:$T$695, 13, FALSE)","v":" Eurotiales"},{"$f":"VLOOKUP($A158, taxonomy!$B$2:$T$695, 14, FALSE)","v":" Aspergillaceae"},{"$f":"VLOOKUP($A158, taxonomy!$B$2:$T$695, 15, FALSE)","v":" Aspergillus."},{"$f":"VLOOKUP($A158, taxonomy!$B$2:$T$695, 16, FALSE)","v":0},{"$f":"VLOOKUP($A158, taxonomy!$B$2:$T$695, 17, FALSE)","v":0}]
["A0A0F4GBS7",{"$f":" VLOOKUP(A159, architecture!D$2:E$73, 2, FALSE)","v":{"$error":"#N/A"}},{"$f":"VLOOKUP(A159, 'PF14702'!B159:C2839, 2, FALSE)","v":1549},{"$f":"VLOOKUP($A159, taxonomy!$B$2:$T$695, 6, FALSE)","v":"Eukaryota"},{"$f":"VLOOKUP($A159, taxonomy!$B$2:$T$695, 7, FALSE)","v":" Fungi"},{"$f":"VLOOKUP($A159, taxonomy!$B$2:$T$695, 8, FALSE)","v":" Dikarya"},{"$f":"VLOOKUP($A159, taxonomy!$B$2:$T$695, 9, FALSE)","v":" Ascomycota"},{"$f":"VLOOKUP($A159, taxonomy!$B$2:$T$695, 10, FALSE)","v":" Pezizomycotina"},{"$f":"VLOOKUP($A159, taxonomy!$B$2:$T$695, 11, FALSE)","v":"Dothideomycetes"},{"$f":"VLOOKUP($A159, taxonomy!$B$2:$T$695, 12, FALSE)","v":" Dothideomycetidae"},{"$f":"VLOOKUP($A159, taxonomy!$B$2:$T$695, 13, FALSE)","v":" Capnodiales"},{"$f":"VLOOKUP($A159, taxonomy!$B$2:$T$695, 14, FALSE)","v":" Mycosphaerellaceae"},{"$f":"VLOOKUP($A159, taxonomy!$B$2:$T$695, 15, FALSE)","v":"Zymoseptoria."},{"$f":"VLOOKUP($A159, taxonomy!$B$2:$T$695, 16, FALSE)","v":0},{"$f":"VLOOKUP($A159, taxonomy!$B$2:$T$695, 17, FALSE)","v":0}]
["A0A0F4YRT6",{"$f":" VLOOKUP(A160, architecture!D$2:E$73, 2, FALSE)","v":{"$error":"#N/A"}},{"$f":"VLOOKUP(A160, 'PF14702'!B160:C2840, 2, FALSE)","v":1543},{"$f":"VLOOKUP($A160, taxonomy!$B$2:$T$695, 6, FALSE)","v":"Eukaryota"},{"$f":"VLOOKUP($A160, taxonomy!$B$2:$T$695, 7, FALSE)","v":" Fungi"},{"$f":"VLOOKUP($A160, taxonomy!$B$2:$T$695, 8, FALSE)","v":" Dikarya"},{"$f":"VLOOKUP($A160, taxonomy!$B$2:$T$695, 9, FALSE)","v":" Ascomycota"},{"$f":"VLOOKUP($A160, taxonomy!$B$2:$T$695, 10, FALSE)","v":" Pezizomycotina"},{"$f":"VLOOKUP($A160, taxonomy!$B$2:$T$695, 11, FALSE)","v":" Eurotiomycetes"},{"$f":"VLOOKUP($A160, taxonomy!$B$2:$T$695, 12, FALSE)","v":"Eurotiomycetidae"},{"$f":"VLOOKUP($A160, taxonomy!$B$2:$T$695, 13, FALSE)","v":" Eurotiales"},{"$f":"VLOOKUP($A160, taxonomy!$B$2:$T$695, 14, FALSE)","v":" Trichocomaceae"},{"$f":"VLOOKUP($A160, taxonomy!$B$2:$T$695, 15, FALSE)","v":" Rasamsonia."},{"$f":"VLOOKUP($A160, taxonomy!$B$2:$T$695, 16, FALSE)","v":0},{"$f":"VLOOKUP($A160, taxonomy!$B$2:$T$695, 17, FALSE)","v":0}]
["A0A0F4ZGE2",{"$f":" VLOOKUP(A161, architecture!D$2:E$73, 2, FALSE)","v":{"$error":"#N/A"}},{"$f":"VLOOKUP(A161, 'PF14702'!B161:C2841, 2, FALSE)","v":1571},{"$f":"VLOOKUP($A161, taxonomy!$B$2:$T$695, 6, FALSE)","v":"Eukaryota"},{"$f":"VLOOKUP($A161, taxonomy!$B$2:$T$695, 7, FALSE)","v":" Fungi"},{"$f":"VLOOKUP($A161, taxonomy!$B$2:$T$695, 8, FALSE)","v":" Dikarya"},{"$f":"VLOOKUP($A161, taxonomy!$B$2:$T$695, 9, FALSE)","v":" Ascomycota"},{"$f":"VLOOKUP($A161, taxonomy!$B$2:$T$695, 10, FALSE)","v":" Pezizomycotina"},{"$f":"VLOOKUP($A161, taxonomy!$B$2:$T$695, 11, FALSE)","v":"Sordariomycetes"},{"$f":"VLOOKUP($A161, taxonomy!$B$2:$T$695, 12, FALSE)","v":" Hypocreomycetidae"},{"$f":"VLOOKUP($A161, taxonomy!$B$2:$T$695, 13, FALSE)","v":" Microascales"},{"$f":"VLOOKUP($A161, taxonomy!$B$2:$T$695, 14, FALSE)","v":" Ceratocystidaceae"},{"$f":"VLOOKUP($A161, taxonomy!$B$2:$T$695, 15, FALSE)","v":"Thielaviopsis."},{"$f":"VLOOKUP($A161, taxonomy!$B$2:$T$695, 16, FALSE)","v":0},{"$f":"VLOOKUP($A161, taxonomy!$B$2:$T$695, 17, FALSE)","v":0}]
["A0A0F7TMN7",{"$f":" VLOOKUP(A162, architecture!D$2:E$73, 2, FALSE)","v":{"$error":"#N/A"}},{"$f":"VLOOKUP(A162, 'PF14702'!B162:C2842, 2, FALSE)","v":1531},{"$f":"VLOOKUP($A162, taxonomy!$B$2:$T$695, 6, FALSE)","v":"Eukaryota"},{"$f":"VLOOKUP($A162, taxonomy!$B$2:$T$695, 7, FALSE)","v":" Fungi"},{"$f":"VLOOKUP($A162, taxonomy!$B$2:$T$695, 8, FALSE)","v":" Dikarya"},{"$f":"VLOOKUP($A162, taxonomy!$B$2:$T$695, 9, FALSE)","v":" Ascomycota"},{"$f":"VLOOKUP($A162, taxonomy!$B$2:$T$695, 10, FALSE)","v":" Pezizomycotina"},{"$f":"VLOOKUP($A162, taxonomy!$B$2:$T$695, 11, FALSE)","v":" Eurotiomycetes"},{"$f":"VLOOKUP($A162, taxonomy!$B$2:$T$695, 12, FALSE)","v":"Eurotiomycetidae"},{"$f":"VLOOKUP($A162, taxonomy!$B$2:$T$695, 13, FALSE)","v":" Eurotiales"},{"$f":"VLOOKUP($A162, taxonomy!$B$2:$T$695, 14, FALSE)","v":" Aspergillaceae"},{"$f":"VLOOKUP($A162, taxonomy!$B$2:$T$695, 15, FALSE)","v":" Penicillium."},{"$f":"VLOOKUP($A162, taxonomy!$B$2:$T$695, 16, FALSE)","v":0},{"$f":"VLOOKUP($A162, taxonomy!$B$2:$T$695, 17, FALSE)","v":0}]
["A0A0F8A3N1",{"$f":" VLOOKUP(A163, architecture!D$2:E$73, 2, FALSE)","v":{"$error":"#N/A"}},{"$f":"VLOOKUP(A163, 'PF14702'!B163:C2843, 2, FALSE)","v":1565},{"$f":"VLOOKUP($A163, taxonomy!$B$2:$T$695, 6, FALSE)","v":"Eukaryota"},{"$f":"VLOOKUP($A163, taxonomy!$B$2:$T$695, 7, FALSE)","v":" Fungi"},{"$f":"VLOOKUP($A163, taxonomy!$B$2:$T$695, 8, FALSE)","v":" Dikarya"},{"$f":"VLOOKUP($A163, taxonomy!$B$2:$T$695, 9, FALSE)","v":" Ascomycota"},{"$f":"VLOOKUP($A163, taxonomy!$B$2:$T$695, 10, FALSE)","v":" Pezizomycotina"},{"$f":"VLOOKUP($A163, taxonomy!$B$2:$T$695, 11, FALSE)","v":"Sordariomycetes"},{"$f":"VLOOKUP($A163, taxonomy!$B$2:$T$695, 12, FALSE)","v":" Hypocreomycetidae"},{"$f":"VLOOKUP($A163, taxonomy!$B$2:$T$695, 13, FALSE)","v":" Hypocreales"},{"$f":"VLOOKUP($A163, taxonomy!$B$2:$T$695, 14, FALSE)","v":" Ophiocordycipitaceae"},{"$f":"VLOOKUP($A163, taxonomy!$B$2:$T$695, 15, FALSE)","v":"Hirsutella."},{"$f":"VLOOKUP($A163, taxonomy!$B$2:$T$695, 16, FALSE)","v":0},{"$f":"VLOOKUP($A163, taxonomy!$B$2:$T$695, 17, FALSE)","v":0}]
["A0A0F8B4S6",{"$f":" VLOOKUP(A164, architecture!D$2:E$73, 2, FALSE)","v":{"$error":"#N/A"}},{"$f":"VLOOKUP(A164, 'PF14702'!B164:C2844, 2, FALSE)","v":1363},{"$f":"VLOOKUP($A164, taxonomy!$B$2:$T$695, 6, FALSE)","v":"Eukaryota"},{"$f":"VLOOKUP($A164, taxonomy!$B$2:$T$695, 7, FALSE)","v":" Fungi"},{"$f":"VLOOKUP($A164, taxonomy!$B$2:$T$695, 8, FALSE)","v":" Dikarya"},{"$f":"VLOOKUP($A164, taxonomy!$B$2:$T$695, 9, FALSE)","v":" Ascomycota"},{"$f":"VLOOKUP($A164, taxonomy!$B$2:$T$695, 10, FALSE)","v":" Pezizomycotina"},{"$f":"VLOOKUP($A164, taxonomy!$B$2:$T$695, 11, FALSE)","v":"Sordariomycetes"},{"$f":"VLOOKUP($A164, taxonomy!$B$2:$T$695, 12, FALSE)","v":" Hypocreomycetidae"},{"$f":"VLOOKUP($A164, taxonomy!$B$2:$T$695, 13, FALSE)","v":" Microascales"},{"$f":"VLOOKUP($A164, taxonomy!$B$2:$T$695, 14, FALSE)","v":" Ceratocystidaceae"},{"$f":"VLOOKUP($A164, taxonomy!$B$2:$T$695, 15, FALSE)","v":"Ceratocystis."},{"$f":"VLOOKUP($A164, taxonomy!$B$2:$T$695, 16, FALSE)","v":0},{"$f":"VLOOKUP($A164, taxonomy!$B$2:$T$695, 17, FALSE)","v":0}]
["A0A0F8UGN8",{"$f":" VLOOKUP(A165, architecture!D$2:E$73, 2, FALSE)","v":{"$error":"#N/A"}},{"$f":"VLOOKUP(A165, 'PF14702'!B165:C2845, 2, FALSE)","v":1537},{"$f":"VLOOKUP($A165, taxonomy!$B$2:$T$695, 6, FALSE)","v":"Eukaryota"},{"$f":"VLOOKUP($A165, taxonomy!$B$2:$T$695, 7, FALSE)","v":" Fungi"},{"$f":"VLOOKUP($A165, taxonomy!$B$2:$T$695, 8, FALSE)","v":" Dikarya"},{"$f":"VLOOKUP($A165, taxonomy!$B$2:$T$695, 9, FALSE)","v":" Ascomycota"},{"$f":"VLOOKUP($A165, taxonomy!$B$2:$T$695, 10, FALSE)","v":" Pezizomycotina"},{"$f":"VLOOKUP($A165, taxonomy!$B$2:$T$695, 11, FALSE)","v":" Eurotiomycetes"},{"$f":"VLOOKUP($A165, taxonomy!$B$2:$T$695, 12, FALSE)","v":"Eurotiomycetidae"},{"$f":"VLOOKUP($A165, taxonomy!$B$2:$T$695, 13, FALSE)","v":" Eurotiales"},{"$f":"VLOOKUP($A165, taxonomy!$B$2:$T$695, 14, FALSE)","v":" Aspergillaceae"},{"$f":"VLOOKUP($A165, taxonomy!$B$2:$T$695, 15, FALSE)","v":" Aspergillus."},{"$f":"VLOOKUP($A165, taxonomy!$B$2:$T$695, 16, FALSE)","v":0},{"$f":"VLOOKUP($A165, taxonomy!$B$2:$T$695, 17, FALSE)","v":0}]
["A0A0F9X9B6",{"$f":" VLOOKUP(A166, architecture!D$2:E$73, 2, FALSE)","v":{"$error":"#N/A"}},{"$f":"VLOOKUP(A166, 'PF14702'!B166:C2846, 2, FALSE)","v":1557},{"$f":"VLOOKUP($A166, taxonomy!$B$2:$T$695, 6, FALSE)","v":"Eukaryota"},{"$f":"VLOOKUP($A166, taxonomy!$B$2:$T$695, 7, FALSE)","v":" Fungi"},{"$f":"VLOOKUP($A166, taxonomy!$B$2:$T$695, 8, FALSE)","v":" Dikarya"},{"$f":"VLOOKUP($A166, taxonomy!$B$2:$T$695, 9, FALSE)","v":" Ascomycota"},{"$f":"VLOOKUP($A166, taxonomy!$B$2:$T$695, 10, FALSE)","v":" Pezizomycotina"},{"$f":"VLOOKUP($A166, taxonomy!$B$2:$T$695, 11, FALSE)","v":"Sordariomycetes"},{"$f":"VLOOKUP($A166, taxonomy!$B$2:$T$695, 12, FALSE)","v":" Hypocreomycetidae"},{"$f":"VLOOKUP($A166, taxonomy!$B$2:$T$695, 13, FALSE)","v":" Hypocreales"},{"$f":"VLOOKUP($A166, taxonomy!$B$2:$T$695, 14, FALSE)","v":" Hypocreaceae"},{"$f":"VLOOKUP($A166, taxonomy!$B$2:$T$695, 15, FALSE)","v":"Trichoderma."},{"$f":"VLOOKUP($A166, taxonomy!$B$2:$T$695, 16, FALSE)","v":0},{"$f":"VLOOKUP($A166, taxonomy!$B$2:$T$695, 17, FALSE)","v":0}]
["A0A0G2E4D9",{"$f":" VLOOKUP(A167, architecture!D$2:E$73, 2, FALSE)","v":{"$error":"#N/A"}},{"$f":"VLOOKUP(A167, 'PF14702'!B167:C2847, 2, FALSE)","v":1545},{"$f":"VLOOKUP($A167, taxonomy!$B$2:$T$695, 6, FALSE)","v":"Eukaryota"},{"$f":"VLOOKUP($A167, taxonomy!$B$2:$T$695, 7, FALSE)","v":" Fungi"},{"$f":"VLOOKUP($A167, taxonomy!$B$2:$T$695, 8, FALSE)","v":" Dikarya"},{"$f":"VLOOKUP($A167, taxonomy!$B$2:$T$695, 9, FALSE)","v":" Ascomycota"},{"$f":"VLOOKUP($A167, taxonomy!$B$2:$T$695, 10, FALSE)","v":" Pezizomycotina"},{"$f":"VLOOKUP($A167, taxonomy!$B$2:$T$695, 11, FALSE)","v":"Dothideomycetes"},{"$f":"VLOOKUP($A167, taxonomy!$B$2:$T$695, 12, FALSE)","v":" Dothideomycetes incertae sedis"},{"$f":"VLOOKUP($A167, taxonomy!$B$2:$T$695, 13, FALSE)","v":" Botryosphaeriales"},{"$f":"VLOOKUP($A167, taxonomy!$B$2:$T$695, 14, FALSE)","v":"Botryosphaeriaceae"},{"$f":"VLOOKUP($A167, taxonomy!$B$2:$T$695, 15, FALSE)","v":" Diplodia."},{"$f":"VLOOKUP($A167, taxonomy!$B$2:$T$695, 16, FALSE)","v":0},{"$f":"VLOOKUP($A167, taxonomy!$B$2:$T$695, 17, FALSE)","v":0}]
["A0A0G2F9N9",{"$f":" VLOOKUP(A168, architecture!D$2:E$73, 2, FALSE)","v":{"$error":"#N/A"}},{"$f":"VLOOKUP(A168, 'PF14702'!B168:C2848, 2, FALSE)","v":1556},{"$f":"VLOOKUP($A168, taxonomy!$B$2:$T$695, 6, FALSE)","v":"Eukaryota"},{"$f":"VLOOKUP($A168, taxonomy!$B$2:$T$695, 7, FALSE)","v":" Fungi"},{"$f":"VLOOKUP($A168, taxonomy!$B$2:$T$695, 8, FALSE)","v":" Dikarya"},{"$f":"VLOOKUP($A168, taxonomy!$B$2:$T$695, 9, FALSE)","v":" Ascomycota"},{"$f":"VLOOKUP($A168, taxonomy!$B$2:$T$695, 10, FALSE)","v":" Pezizomycotina"},{"$f":"VLOOKUP($A168, taxonomy!$B$2:$T$695, 11, FALSE)","v":"Sordariomycetes"},{"$f":"VLOOKUP($A168, taxonomy!$B$2:$T$695, 12, FALSE)","v":" Sordariomycetidae"},{"$f":"VLOOKUP($A168, taxonomy!$B$2:$T$695, 13, FALSE)","v":" Diaporthales"},{"$f":"VLOOKUP($A168, taxonomy!$B$2:$T$695, 14, FALSE)","v":" Diaporthaceae"},{"$f":"VLOOKUP($A168, taxonomy!$B$2:$T$695, 15, FALSE)","v":"Diaporthe."},{"$f":"VLOOKUP($A168, taxonomy!$B$2:$T$695, 16, FALSE)","v":0},{"$f":"VLOOKUP($A168, taxonomy!$B$2:$T$695, 17, FALSE)","v":0}]
["A0A0G2FU03",{"$f":" VLOOKUP(A169, architecture!D$2:E$73, 2, FALSE)","v":{"$error":"#N/A"}},{"$f":"VLOOKUP(A169, 'PF14702'!B169:C2849, 2, FALSE)","v":1920},{"$f":"VLOOKUP($A169, taxonomy!$B$2:$T$695, 6, FALSE)","v":"Eukaryota"},{"$f":"VLOOKUP($A169, taxonomy!$B$2:$T$695, 7, FALSE)","v":" Fungi"},{"$f":"VLOOKUP($A169, taxonomy!$B$2:$T$695, 8, FALSE)","v":" Dikarya"},{"$f":"VLOOKUP($A169, taxonomy!$B$2:$T$695, 9, FALSE)","v":" Ascomycota"},{"$f":"VLOOKUP($A169, taxonomy!$B$2:$T$695, 10, FALSE)","v":" Pezizomycotina"},{"$f":"VLOOKUP($A169, taxonomy!$B$2:$T$695, 11, FALSE)","v":" Eurotiomycetes"},{"$f":"VLOOKUP($A169, taxonomy!$B$2:$T$695, 12, FALSE)","v":"Chaetothyriomycetidae"},{"$f":"VLOOKUP($A169, taxonomy!$B$2:$T$695, 13, FALSE)","v":" Phaeomoniellales"},{"$f":"VLOOKUP($A169, taxonomy!$B$2:$T$695, 14, FALSE)","v":"Phaeomoniellales incertae sedis"},{"$f":"VLOOKUP($A169, taxonomy!$B$2:$T$695, 15, FALSE)","v":" Phaeomoniella."},{"$f":"VLOOKUP($A169, taxonomy!$B$2:$T$695, 16, FALSE)","v":0},{"$f":"VLOOKUP($A169, taxonomy!$B$2:$T$695, 17, FALSE)","v":0}]
["A0A0G2I3T6",{"$f":" VLOOKUP(A170, architecture!D$2:E$73, 2, FALSE)","v":{"$error":"#N/A"}},{"$f":"VLOOKUP(A170, 'PF14702'!B170:C2850, 2, FALSE)","v":1573},{"$f":"VLOOKUP($A170, taxonomy!$B$2:$T$695, 6, FALSE)","v":"Eukaryota"},{"$f":"VLOOKUP($A170, taxonomy!$B$2:$T$695, 7, FALSE)","v":" Fungi"},{"$f":"VLOOKUP($A170, taxonomy!$B$2:$T$695, 8, FALSE)","v":" Dikarya"},{"$f":"VLOOKUP($A170, taxonomy!$B$2:$T$695, 9, FALSE)","v":" Ascomycota"},{"$f":"VLOOKUP($A170, taxonomy!$B$2:$T$695, 10, FALSE)","v":" Pezizomycotina"},{"$f":"VLOOKUP($A170, taxonomy!$B$2:$T$695, 11, FALSE)","v":" Eurotiomycetes"},{"$f":"VLOOKUP($A170, taxonomy!$B$2:$T$695, 12, FALSE)","v":"Eurotiomycetidae"},{"$f":"VLOOKUP($A170, taxonomy!$B$2:$T$695, 13, FALSE)","v":" Onygenales"},{"$f":"VLOOKUP($A170, taxonomy!$B$2:$T$695, 14, FALSE)","v":" Ajellomycetaceae"},{"$f":"VLOOKUP($A170, taxonomy!$B$2:$T$695, 15, FALSE)","v":" Emmonsia."},{"$f":"VLOOKUP($A170, taxonomy!$B$2:$T$695, 16, FALSE)","v":0},{"$f":"VLOOKUP($A170, taxonomy!$B$2:$T$695, 17, FALSE)","v":0}]
["A0A0G2JGI9",{"$f":" VLOOKUP(A171, architecture!D$2:E$73, 2, FALSE)","v":{"$error":"#N/A"}},{"$f":"VLOOKUP(A171, 'PF14702'!B171:C2851, 2, FALSE)","v":1279},{"$f":"VLOOKUP($A171, taxonomy!$B$2:$T$695, 6, FALSE)","v":"Eukaryota"},{"$f":"VLOOKUP($A171, taxonomy!$B$2:$T$695, 7, FALSE)","v":" Metazoa"},{"$f":"VLOOKUP($A171, taxonomy!$B$2:$T$695, 8, FALSE)","v":" Chordata"},{"$f":"VLOOKUP($A171, taxonomy!$B$2:$T$695, 9, FALSE)","v":" Craniata"},{"$f":"VLOOKUP($A171, taxonomy!$B$2:$T$695, 10, FALSE)","v":" Vertebrata"},{"$f":"VLOOKUP($A171, taxonomy!$B$2:$T$695, 11, FALSE)","v":" Euteleostomi"},{"$f":"VLOOKUP($A171, taxonomy!$B$2:$T$695, 12, FALSE)","v":"Mammalia"},{"$f":"VLOOKUP($A171, taxonomy!$B$2:$T$695, 13, FALSE)","v":" Eutheria"},{"$f":"VLOOKUP($A171, taxonomy!$B$2:$T$695, 14, FALSE)","v":" Euarchontoglires"},{"$f":"VLOOKUP($A171, taxonomy!$B$2:$T$695, 15, FALSE)","v":" Glires"},{"$f":"VLOOKUP($A171, taxonomy!$B$2:$T$695, 16, FALSE)","v":" Rodentia"},{"$f":"VLOOKUP($A171, taxonomy!$B$2:$T$695, 17, FALSE)","v":" Myomorpha"}]
["A0A0G4G102",{"$f":" VLOOKUP(A172, architecture!D$2:E$73, 2, FALSE)","v":{"$error":"#N/A"}},{"$f":"VLOOKUP(A172, 'PF14702'!B172:C2852, 2, FALSE)","v":1743},{"$f":"VLOOKUP($A172, taxonomy!$B$2:$T$695, 6, FALSE)","v":"Eukaryota"},{"$f":"VLOOKUP($A172, taxonomy!$B$2:$T$695, 7, FALSE)","v":" Alveolata"},{"$f":"VLOOKUP($A172, taxonomy!$B$2:$T$695, 8, FALSE)","v":" Chromerida"},{"$f":"VLOOKUP($A172, taxonomy!$B$2:$T$695, 9, FALSE)","v":" Vitrella."},{"$f":"VLOOKUP($A172, taxonomy!$B$2:$T$695, 10, FALSE)","v":0},{"$f":"VLOOKUP($A172, taxonomy!$B$2:$T$695, 11, FALSE)","v":0},{"$f":"VLOOKUP($A172, taxonomy!$B$2:$T$695, 12, FALSE)","v":0},{"$f":"VLOOKUP($A172, taxonomy!$B$2:$T$695, 13, FALSE)","v":0},{"$f":"VLOOKUP($A172, taxonomy!$B$2:$T$695, 14, FALSE)","v":0},{"$f":"VLOOKUP($A172, taxonomy!$B$2:$T$695, 15, FALSE)","v":0},{"$f":"VLOOKUP($A172, taxonomy!$B$2:$T$695, 16, FALSE)","v":0},{"$f":"VLOOKUP($A172, taxonomy!$B$2:$T$695, 17, FALSE)","v":0}]
["A0A0G4KZD0",{"$f":" VLOOKUP(A173, architecture!D$2:E$73, 2, FALSE)","v":{"$error":"#N/A"}},{"$f":"VLOOKUP(A173, 'PF14702'!B173:C2853, 2, FALSE)","v":162},{"$f":"VLOOKUP($A173, taxonomy!$B$2:$T$695, 6, FALSE)","v":"Eukaryota"},{"$f":"VLOOKUP($A173, taxonomy!$B$2:$T$695, 7, FALSE)","v":" Fungi"},{"$f":"VLOOKUP($A173, taxonomy!$B$2:$T$695, 8, FALSE)","v":" Dikarya"},{"$f":"VLOOKUP($A173, taxonomy!$B$2:$T$695, 9, FALSE)","v":" Ascomycota"},{"$f":"VLOOKUP($A173, taxonomy!$B$2:$T$695, 10, FALSE)","v":" Pezizomycotina"},{"$f":"VLOOKUP($A173, taxonomy!$B$2:$T$695, 11, FALSE)","v":"Sordariomycetes"},{"$f":"VLOOKUP($A173, taxonomy!$B$2:$T$695, 12, FALSE)","v":" Hypocreomycetidae"},{"$f":"VLOOKUP($A173, taxonomy!$B$2:$T$695, 13, FALSE)","v":" Glomerellales"},{"$f":"VLOOKUP($A173, taxonomy!$B$2:$T$695, 14, FALSE)","v":"Plectosphaerellaceae"},{"$f":"VLOOKUP($A173, taxonomy!$B$2:$T$695, 15, FALSE)","v":" Verticillium."},{"$f":"VLOOKUP($A173, taxonomy!$B$2:$T$695, 16, FALSE)","v":0},{"$f":"VLOOKUP($A173, taxonomy!$B$2:$T$695, 17, FALSE)","v":0}]
["A0A0G4LQK9",{"$f":" VLOOKUP(A174, architecture!D$2:E$73, 2, FALSE)","v":{"$error":"#N/A"}},{"$f":"VLOOKUP(A174, 'PF14702'!B174:C2854, 2, FALSE)","v":1548},{"$f":"VLOOKUP($A174, taxonomy!$B$2:$T$695, 6, FALSE)","v":"Eukaryota"},{"$f":"VLOOKUP($A174, taxonomy!$B$2:$T$695, 7, FALSE)","v":" Fungi"},{"$f":"VLOOKUP($A174, taxonomy!$B$2:$T$695, 8, FALSE)","v":" Dikarya"},{"$f":"VLOOKUP($A174, taxonomy!$B$2:$T$695, 9, FALSE)","v":" Ascomycota"},{"$f":"VLOOKUP($A174, taxonomy!$B$2:$T$695, 10, FALSE)","v":" Pezizomycotina"},{"$f":"VLOOKUP($A174, taxonomy!$B$2:$T$695, 11, FALSE)","v":"Sordariomycetes"},{"$f":"VLOOKUP($A174, taxonomy!$B$2:$T$695, 12, FALSE)","v":" Hypocreomycetidae"},{"$f":"VLOOKUP($A174, taxonomy!$B$2:$T$695, 13, FALSE)","v":" Glomerellales"},{"$f":"VLOOKUP($A174, taxonomy!$B$2:$T$695, 14, FALSE)","v":"Plectosphaerellaceae"},{"$f":"VLOOKUP($A174, taxonomy!$B$2:$T$695, 15, FALSE)","v":" Verticillium."},{"$f":"VLOOKUP($A174, taxonomy!$B$2:$T$695, 16, FALSE)","v":0},{"$f":"VLOOKUP($A174, taxonomy!$B$2:$T$695, 17, FALSE)","v":0}]
["A0A0G4MAL6",{"$f":" VLOOKUP(A175, architecture!D$2:E$73, 2, FALSE)","v":{"$error":"#N/A"}},{"$f":"VLOOKUP(A175, 'PF14702'!B175:C2855, 2, FALSE)","v":1525},{"$f":"VLOOKUP($A175, taxonomy!$B$2:$T$695, 6, FALSE)","v":"Eukaryota"},{"$f":"VLOOKUP($A175, taxonomy!$B$2:$T$695, 7, FALSE)","v":" Fungi"},{"$f":"VLOOKUP($A175, taxonomy!$B$2:$T$695, 8, FALSE)","v":" Dikarya"},{"$f":"VLOOKUP($A175, taxonomy!$B$2:$T$695, 9, FALSE)","v":" Ascomycota"},{"$f":"VLOOKUP($A175, taxonomy!$B$2:$T$695, 10, FALSE)","v":" Pezizomycotina"},{"$f":"VLOOKUP($A175, taxonomy!$B$2:$T$695, 11, FALSE)","v":"Sordariomycetes"},{"$f":"VLOOKUP($A175, taxonomy!$B$2:$T$695, 12, FALSE)","v":" Hypocreomycetidae"},{"$f":"VLOOKUP($A175, taxonomy!$B$2:$T$695, 13, FALSE)","v":" Glomerellales"},{"$f":"VLOOKUP($A175, taxonomy!$B$2:$T$695, 14, FALSE)","v":"Plectosphaerellaceae"},{"$f":"VLOOKUP($A175, taxonomy!$B$2:$T$695, 15, FALSE)","v":" Verticillium."},{"$f":"VLOOKUP($A175, taxonomy!$B$2:$T$695, 16, FALSE)","v":0},{"$f":"VLOOKUP($A175, taxonomy!$B$2:$T$695, 17, FALSE)","v":0}]
["A0A0G4NW80",{"$f":" VLOOKUP(A176, architecture!D$2:E$73, 2, FALSE)","v":{"$error":"#N/A"}},{"$f":"VLOOKUP(A176, 'PF14702'!B176:C2856, 2, FALSE)","v":1534},{"$f":"VLOOKUP($A176, taxonomy!$B$2:$T$695, 6, FALSE)","v":"Eukaryota"},{"$f":"VLOOKUP($A176, taxonomy!$B$2:$T$695, 7, FALSE)","v":" Fungi"},{"$f":"VLOOKUP($A176, taxonomy!$B$2:$T$695, 8, FALSE)","v":" Dikarya"},{"$f":"VLOOKUP($A176, taxonomy!$B$2:$T$695, 9, FALSE)","v":" Ascomycota"},{"$f":"VLOOKUP($A176, taxonomy!$B$2:$T$695, 10, FALSE)","v":" Pezizomycotina"},{"$f":"VLOOKUP($A176, taxonomy!$B$2:$T$695, 11, FALSE)","v":" Eurotiomycetes"},{"$f":"VLOOKUP($A176, taxonomy!$B$2:$T$695, 12, FALSE)","v":"Eurotiomycetidae"},{"$f":"VLOOKUP($A176, taxonomy!$B$2:$T$695, 13, FALSE)","v":" Eurotiales"},{"$f":"VLOOKUP($A176, taxonomy!$B$2:$T$695, 14, FALSE)","v":" Aspergillaceae"},{"$f":"VLOOKUP($A176, taxonomy!$B$2:$T$695, 15, FALSE)","v":" Penicillium."},{"$f":"VLOOKUP($A176, taxonomy!$B$2:$T$695, 16, FALSE)","v":0},{"$f":"VLOOKUP($A176, taxonomy!$B$2:$T$695, 17, FALSE)","v":0}]
["A0A0H1B6U3",{"$f":" VLOOKUP(A177, architecture!D$2:E$73, 2, FALSE)","v":{"$error":"#N/A"}},{"$f":"VLOOKUP(A177, 'PF14702'!B177:C2857, 2, FALSE)","v":1579},{"$f":"VLOOKUP($A177, taxonomy!$B$2:$T$695, 6, FALSE)","v":"Eukaryota"},{"$f":"VLOOKUP($A177, taxonomy!$B$2:$T$695, 7, FALSE)","v":" Fungi"},{"$f":"VLOOKUP($A177, taxonomy!$B$2:$T$695, 8, FALSE)","v":" Dikarya"},{"$f":"VLOOKUP($A177, taxonomy!$B$2:$T$695, 9, FALSE)","v":" Ascomycota"},{"$f":"VLOOKUP($A177, taxonomy!$B$2:$T$695, 10, FALSE)","v":" Pezizomycotina"},{"$f":"VLOOKUP($A177, taxonomy!$B$2:$T$695, 11, FALSE)","v":" Eurotiomycetes"},{"$f":"VLOOKUP($A177, taxonomy!$B$2:$T$695, 12, FALSE)","v":"Eurotiomycetidae"},{"$f":"VLOOKUP($A177, taxonomy!$B$2:$T$695, 13, FALSE)","v":" Onygenales"},{"$f":"VLOOKUP($A177, taxonomy!$B$2:$T$695, 14, FALSE)","v":" Ajellomycetaceae"},{"$f":"VLOOKUP($A177, taxonomy!$B$2:$T$695, 15, FALSE)","v":" Emmonsia."},{"$f":"VLOOKUP($A177, taxonomy!$B$2:$T$695, 16, FALSE)","v":0},{"$f":"VLOOKUP($A177, taxonomy!$B$2:$T$695, 17, FALSE)","v":0}]
["A0A0H2RII2",{"$f":" VLOOKUP(A178, architecture!D$2:E$73, 2, FALSE)","v":{"$error":"#N/A"}},{"$f":"VLOOKUP(A178, 'PF14702'!B178:C2858, 2, FALSE)","v":1619},{"$f":"VLOOKUP($A178, taxonomy!$B$2:$T$695, 6, FALSE)","v":"Eukaryota"},{"$f":"VLOOKUP($A178, taxonomy!$B$2:$T$695, 7, FALSE)","v":" Fungi"},{"$f":"VLOOKUP($A178, taxonomy!$B$2:$T$695, 8, FALSE)","v":" Dikarya"},{"$f":"VLOOKUP($A178, taxonomy!$B$2:$T$695, 9, FALSE)","v":" Basidiomycota"},{"$f":"VLOOKUP($A178, taxonomy!$B$2:$T$695, 10, FALSE)","v":" Agaricomycotina"},{"$f":"VLOOKUP($A178, taxonomy!$B$2:$T$695, 11, FALSE)","v":"Agaricomycetes"},{"$f":"VLOOKUP($A178, taxonomy!$B$2:$T$695, 12, FALSE)","v":" Hymenochaetales"},{"$f":"VLOOKUP($A178, taxonomy!$B$2:$T$695, 13, FALSE)","v":" Schizoporaceae"},{"$f":"VLOOKUP($A178, taxonomy!$B$2:$T$695, 14, FALSE)","v":" Schizopora."},{"$f":"VLOOKUP($A178, taxonomy!$B$2:$T$695, 15, FALSE)","v":0},{"$f":"VLOOKUP($A178, taxonomy!$B$2:$T$695, 16, FALSE)","v":0},{"$f":"VLOOKUP($A178, taxonomy!$B$2:$T$695, 17, FALSE)","v":0}]
["A0A0H5C1A1",{"$f":" VLOOKUP(A179, architecture!D$2:E$73, 2, FALSE)","v":{"$error":"#N/A"}},{"$f":"VLOOKUP(A179, 'PF14702'!B179:C2859, 2, FALSE)","v":798},{"$f":"VLOOKUP($A179, taxonomy!$B$2:$T$695, 6, FALSE)","v":"Eukaryota"},{"$f":"VLOOKUP($A179, taxonomy!$B$2:$T$695, 7, FALSE)","v":" Fungi"},{"$f":"VLOOKUP($A179, taxonomy!$B$2:$T$695, 8, FALSE)","v":" Dikarya"},{"$f":"VLOOKUP($A179, taxonomy!$B$2:$T$695, 9, FALSE)","v":" Ascomycota"},{"$f":"VLOOKUP($A179, taxonomy!$B$2:$T$695, 10, FALSE)","v":" Saccharomycotina"},{"$f":"VLOOKUP($A179, taxonomy!$B$2:$T$695, 11, FALSE)","v":"Saccharomycetes"},{"$f":"VLOOKUP($A179, taxonomy!$B$2:$T$695, 12, FALSE)","v":" Saccharomycetales"},{"$f":"VLOOKUP($A179, taxonomy!$B$2:$T$695, 13, FALSE)","v":" Phaffomycetaceae"},{"$f":"VLOOKUP($A179, taxonomy!$B$2:$T$695, 14, FALSE)","v":" Cyberlindnera."},{"$f":"VLOOKUP($A179, taxonomy!$B$2:$T$695, 15, FALSE)","v":0},{"$f":"VLOOKUP($A179, taxonomy!$B$2:$T$695, 16, FALSE)","v":0},{"$f":"VLOOKUP($A179, taxonomy!$B$2:$T$695, 17, FALSE)","v":0}]
["A0A0J0XP15",{"$f":" VLOOKUP(A180, architecture!D$2:E$73, 2, FALSE)","v":{"$error":"#N/A"}},{"$f":"VLOOKUP(A180, 'PF14702'!B180:C2860, 2, FALSE)","v":1602},{"$f":"VLOOKUP($A180, taxonomy!$B$2:$T$695, 6, FALSE)","v":"Eukaryota"},{"$f":"VLOOKUP($A180, taxonomy!$B$2:$T$695, 7, FALSE)","v":" Fungi"},{"$f":"VLOOKUP($A180, taxonomy!$B$2:$T$695, 8, FALSE)","v":" Dikarya"},{"$f":"VLOOKUP($A180, taxonomy!$B$2:$T$695, 9, FALSE)","v":" Basidiomycota"},{"$f":"VLOOKUP($A180, taxonomy!$B$2:$T$695, 10, FALSE)","v":" Agaricomycotina"},{"$f":"VLOOKUP($A180, taxonomy!$B$2:$T$695, 11, FALSE)","v":"Tremellomycetes"},{"$f":"VLOOKUP($A180, taxonomy!$B$2:$T$695, 12, FALSE)","v":" Trichosporonales"},{"$f":"VLOOKUP($A180, taxonomy!$B$2:$T$695, 13, FALSE)","v":" Trichosporonaceae"},{"$f":"VLOOKUP($A180, taxonomy!$B$2:$T$695, 14, FALSE)","v":"Cutaneotrichosporon."},{"$f":"VLOOKUP($A180, taxonomy!$B$2:$T$695, 15, FALSE)","v":0},{"$f":"VLOOKUP($A180, taxonomy!$B$2:$T$695, 16, FALSE)","v":0},{"$f":"VLOOKUP($A180, taxonomy!$B$2:$T$695, 17, FALSE)","v":0}]
["A0A0J7BGE2",{"$f":" VLOOKUP(A181, architecture!D$2:E$73, 2, FALSE)","v":{"$error":"#N/A"}},{"$f":"VLOOKUP(A181, 'PF14702'!B181:C2861, 2, FALSE)","v":1512},{"$f":"VLOOKUP($A181, taxonomy!$B$2:$T$695, 6, FALSE)","v":"Eukaryota"},{"$f":"VLOOKUP($A181, taxonomy!$B$2:$T$695, 7, FALSE)","v":" Fungi"},{"$f":"VLOOKUP($A181, taxonomy!$B$2:$T$695, 8, FALSE)","v":" Dikarya"},{"$f":"VLOOKUP($A181, taxonomy!$B$2:$T$695, 9, FALSE)","v":" Ascomycota"},{"$f":"VLOOKUP($A181, taxonomy!$B$2:$T$695, 10, FALSE)","v":" Pezizomycotina"},{"$f":"VLOOKUP($A181, taxonomy!$B$2:$T$695, 11, FALSE)","v":" Eurotiomycetes"},{"$f":"VLOOKUP($A181, taxonomy!$B$2:$T$695, 12, FALSE)","v":"Eurotiomycetidae"},{"$f":"VLOOKUP($A181, taxonomy!$B$2:$T$695, 13, FALSE)","v":" Onygenales"},{"$f":"VLOOKUP($A181, taxonomy!$B$2:$T$695, 14, FALSE)","v":" Onygenales incertae sedis"},{"$f":"VLOOKUP($A181, taxonomy!$B$2:$T$695, 15, FALSE)","v":" Coccidioides."},{"$f":"VLOOKUP($A181, taxonomy!$B$2:$T$695, 16, FALSE)","v":0},{"$f":"VLOOKUP($A181, taxonomy!$B$2:$T$695, 17, FALSE)","v":0}]
["A0A0J7NAZ8",{"$f":" VLOOKUP(A182, architecture!D$2:E$73, 2, FALSE)","v":{"$error":"#N/A"}},{"$f":"VLOOKUP(A182, 'PF14702'!B182:C2862, 2, FALSE)","v":946},{"$f":"VLOOKUP($A182, taxonomy!$B$2:$T$695, 6, FALSE)","v":"Eukaryota"},{"$f":"VLOOKUP($A182, taxonomy!$B$2:$T$695, 7, FALSE)","v":" Metazoa"},{"$f":"VLOOKUP($A182, taxonomy!$B$2:$T$695, 8, FALSE)","v":" Ecdysozoa"},{"$f":"VLOOKUP($A182, taxonomy!$B$2:$T$695, 9, FALSE)","v":" Arthropoda"},{"$f":"VLOOKUP($A182, taxonomy!$B$2:$T$695, 10, FALSE)","v":" Hexapoda"},{"$f":"VLOOKUP($A182, taxonomy!$B$2:$T$695, 11, FALSE)","v":" Insecta"},{"$f":"VLOOKUP($A182, taxonomy!$B$2:$T$695, 12, FALSE)","v":"Pterygota"},{"$f":"VLOOKUP($A182, taxonomy!$B$2:$T$695, 13, FALSE)","v":" Neoptera"},{"$f":"VLOOKUP($A182, taxonomy!$B$2:$T$695, 14, FALSE)","v":" Holometabola"},{"$f":"VLOOKUP($A182, taxonomy!$B$2:$T$695, 15, FALSE)","v":" Hymenoptera"},{"$f":"VLOOKUP($A182, taxonomy!$B$2:$T$695, 16, FALSE)","v":" Apocrita"},{"$f":"VLOOKUP($A182, taxonomy!$B$2:$T$695, 17, FALSE)","v":" Aculeata"}]
["A0A0J8TWI9",{"$f":" VLOOKUP(A183, architecture!D$2:E$73, 2, FALSE)","v":{"$error":"#N/A"}},{"$f":"VLOOKUP(A183, 'PF14702'!B183:C2863, 2, FALSE)","v":1605},{"$f":"VLOOKUP($A183, taxonomy!$B$2:$T$695, 6, FALSE)","v":"Eukaryota"},{"$f":"VLOOKUP($A183, taxonomy!$B$2:$T$695, 7, FALSE)","v":" Fungi"},{"$f":"VLOOKUP($A183, taxonomy!$B$2:$T$695, 8, FALSE)","v":" Dikarya"},{"$f":"VLOOKUP($A183, taxonomy!$B$2:$T$695, 9, FALSE)","v":" Ascomycota"},{"$f":"VLOOKUP($A183, taxonomy!$B$2:$T$695, 10, FALSE)","v":" Pezizomycotina"},{"$f":"VLOOKUP($A183, taxonomy!$B$2:$T$695, 11, FALSE)","v":" Eurotiomycetes"},{"$f":"VLOOKUP($A183, taxonomy!$B$2:$T$695, 12, FALSE)","v":"Eurotiomycetidae"},{"$f":"VLOOKUP($A183, taxonomy!$B$2:$T$695, 13, FALSE)","v":" Onygenales"},{"$f":"VLOOKUP($A183, taxonomy!$B$2:$T$695, 14, FALSE)","v":" Onygenales incertae sedis"},{"$f":"VLOOKUP($A183, taxonomy!$B$2:$T$695, 15, FALSE)","v":" Coccidioides."},{"$f":"VLOOKUP($A183, taxonomy!$B$2:$T$695, 16, FALSE)","v":0},{"$f":"VLOOKUP($A183, taxonomy!$B$2:$T$695, 17, FALSE)","v":0}]
["A0A0J9V7A0",{"$f":" VLOOKUP(A184, architecture!D$2:E$73, 2, FALSE)","v":1},{"$f":"VLOOKUP(A184, 'PF14702'!B184:C2864, 2, FALSE)","v":1396},{"$f":"VLOOKUP($A184, taxonomy!$B$2:$T$695, 6, FALSE)","v":"Eukaryota"},{"$f":"VLOOKUP($A184, taxonomy!$B$2:$T$695, 7, FALSE)","v":" Fungi"},{"$f":"VLOOKUP($A184, taxonomy!$B$2:$T$695, 8, FALSE)","v":" Dikarya"},{"$f":"VLOOKUP($A184, taxonomy!$B$2:$T$695, 9, FALSE)","v":" Ascomycota"},{"$f":"VLOOKUP($A184, taxonomy!$B$2:$T$695, 10, FALSE)","v":" Pezizomycotina"},{"$f":"VLOOKUP($A184, taxonomy!$B$2:$T$695, 11, FALSE)","v":"Sordariomycetes"},{"$f":"VLOOKUP($A184, taxonomy!$B$2:$T$695, 12, FALSE)","v":" Hypocreomycetidae"},{"$f":"VLOOKUP($A184, taxonomy!$B$2:$T$695, 13, FALSE)","v":" Hypocreales"},{"$f":"VLOOKUP($A184, taxonomy!$B$2:$T$695, 14, FALSE)","v":" Nectriaceae"},{"$f":"VLOOKUP($A184, taxonomy!$B$2:$T$695, 15, FALSE)","v":"Fusarium"},{"$f":"VLOOKUP($A184, taxonomy!$B$2:$T$695, 16, FALSE)","v":" Fusarium oxysporum species complex."},{"$f":"VLOOKUP($A184, taxonomy!$B$2:$T$695, 17, FALSE)","v":0}]
["A0A0K0E803",{"$f":" VLOOKUP(A185, architecture!D$2:E$73, 2, FALSE)","v":1},{"$f":"VLOOKUP(A185, 'PF14702'!B185:C2865, 2, FALSE)","v":1474},{"$f":"VLOOKUP($A185, taxonomy!$B$2:$T$695, 6, FALSE)","v":"Eukaryota"},{"$f":"VLOOKUP($A185, taxonomy!$B$2:$T$695, 7, FALSE)","v":" Metazoa"},{"$f":"VLOOKUP($A185, taxonomy!$B$2:$T$695, 8, FALSE)","v":" Ecdysozoa"},{"$f":"VLOOKUP($A185, taxonomy!$B$2:$T$695, 9, FALSE)","v":" Nematoda"},{"$f":"VLOOKUP($A185, taxonomy!$B$2:$T$695, 10, FALSE)","v":" Chromadorea"},{"$f":"VLOOKUP($A185, taxonomy!$B$2:$T$695, 11, FALSE)","v":" Tylenchida"},{"$f":"VLOOKUP($A185, taxonomy!$B$2:$T$695, 12, FALSE)","v":"Panagrolaimomorpha"},{"$f":"VLOOKUP($A185, taxonomy!$B$2:$T$695, 13, FALSE)","v":" Strongyloidoidea"},{"$f":"VLOOKUP($A185, taxonomy!$B$2:$T$695, 14, FALSE)","v":" Strongyloididae"},{"$f":"VLOOKUP($A185, taxonomy!$B$2:$T$695, 15, FALSE)","v":" Strongyloides."},{"$f":"VLOOKUP($A185, taxonomy!$B$2:$T$695, 16, FALSE)","v":0},{"$f":"VLOOKUP($A185, taxonomy!$B$2:$T$695, 17, FALSE)","v":0}]
["A0A0K0FGL4",{"$f":" VLOOKUP(A186, architecture!D$2:E$73, 2, FALSE)","v":1},{"$f":"VLOOKUP(A186, 'PF14702'!B186:C2866, 2, FALSE)","v":1476},{"$f":"VLOOKUP($A186, taxonomy!$B$2:$T$695, 6, FALSE)","v":"Eukaryota"},{"$f":"VLOOKUP($A186, taxonomy!$B$2:$T$695, 7, FALSE)","v":" Metazoa"},{"$f":"VLOOKUP($A186, taxonomy!$B$2:$T$695, 8, FALSE)","v":" Ecdysozoa"},{"$f":"VLOOKUP($A186, taxonomy!$B$2:$T$695, 9, FALSE)","v":" Nematoda"},{"$f":"VLOOKUP($A186, taxonomy!$B$2:$T$695, 10, FALSE)","v":" Chromadorea"},{"$f":"VLOOKUP($A186, taxonomy!$B$2:$T$695, 11, FALSE)","v":" Tylenchida"},{"$f":"VLOOKUP($A186, taxonomy!$B$2:$T$695, 12, FALSE)","v":"Panagrolaimomorpha"},{"$f":"VLOOKUP($A186, taxonomy!$B$2:$T$695, 13, FALSE)","v":" Strongyloidoidea"},{"$f":"VLOOKUP($A186, taxonomy!$B$2:$T$695, 14, FALSE)","v":" Strongyloididae"},{"$f":"VLOOKUP($A186, taxonomy!$B$2:$T$695, 15, FALSE)","v":" Strongyloides."},{"$f":"VLOOKUP($A186, taxonomy!$B$2:$T$695, 16, FALSE)","v":0},{"$f":"VLOOKUP($A186, taxonomy!$B$2:$T$695, 17, FALSE)","v":0}]
["A0A0K6GIF6",{"$f":" VLOOKUP(A187, architecture!D$2:E$73, 2, FALSE)","v":{"$error":"#N/A"}},{"$f":"VLOOKUP(A187, 'PF14702'!B187:C2867, 2, FALSE)","v":1609},{"$f":"VLOOKUP($A187, taxonomy!$B$2:$T$695, 6, FALSE)","v":"Eukaryota"},{"$f":"VLOOKUP($A187, taxonomy!$B$2:$T$695, 7, FALSE)","v":" Fungi"},{"$f":"VLOOKUP($A187, taxonomy!$B$2:$T$695, 8, FALSE)","v":" Dikarya"},{"$f":"VLOOKUP($A187, taxonomy!$B$2:$T$695, 9, FALSE)","v":" Basidiomycota"},{"$f":"VLOOKUP($A187, taxonomy!$B$2:$T$695, 10, FALSE)","v":" Agaricomycotina"},{"$f":"VLOOKUP($A187, taxonomy!$B$2:$T$695, 11, FALSE)","v":"Agaricomycetes"},{"$f":"VLOOKUP($A187, taxonomy!$B$2:$T$695, 12, FALSE)","v":" Cantharellales"},{"$f":"VLOOKUP($A187, taxonomy!$B$2:$T$695, 13, FALSE)","v":" Ceratobasidiaceae"},{"$f":"VLOOKUP($A187, taxonomy!$B$2:$T$695, 14, FALSE)","v":" Rhizoctonia."},{"$f":"VLOOKUP($A187, taxonomy!$B$2:$T$695, 15, FALSE)","v":0},{"$f":"VLOOKUP($A187, taxonomy!$B$2:$T$695, 16, FALSE)","v":0},{"$f":"VLOOKUP($A187, taxonomy!$B$2:$T$695, 17, FALSE)","v":0}]
["A0A0K8LPV6",{"$f":" VLOOKUP(A188, architecture!D$2:E$73, 2, FALSE)","v":{"$error":"#N/A"}},{"$f":"VLOOKUP(A188, 'PF14702'!B188:C2868, 2, FALSE)","v":2382},{"$f":"VLOOKUP($A188, taxonomy!$B$2:$T$695, 6, FALSE)","v":"Eukaryota"},{"$f":"VLOOKUP($A188, taxonomy!$B$2:$T$695, 7, FALSE)","v":" Fungi"},{"$f":"VLOOKUP($A188, taxonomy!$B$2:$T$695, 8, FALSE)","v":" Dikarya"},{"$f":"VLOOKUP($A188, taxonomy!$B$2:$T$695, 9, FALSE)","v":" Ascomycota"},{"$f":"VLOOKUP($A188, taxonomy!$B$2:$T$695, 10, FALSE)","v":" Pezizomycotina"},{"$f":"VLOOKUP($A188, taxonomy!$B$2:$T$695, 11, FALSE)","v":" Eurotiomycetes"},{"$f":"VLOOKUP($A188, taxonomy!$B$2:$T$695, 12, FALSE)","v":"Eurotiomycetidae"},{"$f":"VLOOKUP($A188, taxonomy!$B$2:$T$695, 13, FALSE)","v":" Eurotiales"},{"$f":"VLOOKUP($A188, taxonomy!$B$2:$T$695, 14, FALSE)","v":" Aspergillaceae"},{"$f":"VLOOKUP($A188, taxonomy!$B$2:$T$695, 15, FALSE)","v":" Aspergillus."},{"$f":"VLOOKUP($A188, taxonomy!$B$2:$T$695, 16, FALSE)","v":0},{"$f":"VLOOKUP($A188, taxonomy!$B$2:$T$695, 17, FALSE)","v":0}]
["A0A0L0BUP1",{"$f":" VLOOKUP(A189, architecture!D$2:E$73, 2, FALSE)","v":{"$error":"#N/A"}},{"$f":"VLOOKUP(A189, 'PF14702'!B189:C2869, 2, FALSE)","v":1322},{"$f":"VLOOKUP($A189, taxonomy!$B$2:$T$695, 6, FALSE)","v":"Eukaryota"},{"$f":"VLOOKUP($A189, taxonomy!$B$2:$T$695, 7, FALSE)","v":" Metazoa"},{"$f":"VLOOKUP($A189, taxonomy!$B$2:$T$695, 8, FALSE)","v":" Ecdysozoa"},{"$f":"VLOOKUP($A189, taxonomy!$B$2:$T$695, 9, FALSE)","v":" Arthropoda"},{"$f":"VLOOKUP($A189, taxonomy!$B$2:$T$695, 10, FALSE)","v":" Hexapoda"},{"$f":"VLOOKUP($A189, taxonomy!$B$2:$T$695, 11, FALSE)","v":" Insecta"},{"$f":"VLOOKUP($A189, taxonomy!$B$2:$T$695, 12, FALSE)","v":"Pterygota"},{"$f":"VLOOKUP($A189, taxonomy!$B$2:$T$695, 13, FALSE)","v":" Neoptera"},{"$f":"VLOOKUP($A189, taxonomy!$B$2:$T$695, 14, FALSE)","v":" Holometabola"},{"$f":"VLOOKUP($A189, taxonomy!$B$2:$T$695, 15, FALSE)","v":" Diptera"},{"$f":"VLOOKUP($A189, taxonomy!$B$2:$T$695, 16, FALSE)","v":" Brachycera"},{"$f":"VLOOKUP($A189, taxonomy!$B$2:$T$695, 17, FALSE)","v":" Muscomorpha"}]
["A0A0L0D597",{"$f":" VLOOKUP(A190, architecture!D$2:E$73, 2, FALSE)","v":1},{"$f":"VLOOKUP(A190, 'PF14702'!B190:C2870, 2, FALSE)","v":1413},{"$f":"VLOOKUP($A190, taxonomy!$B$2:$T$695, 6, FALSE)","v":"Eukaryota"},{"$f":"VLOOKUP($A190, taxonomy!$B$2:$T$695, 7, FALSE)","v":" Apusozoa"},{"$f":"VLOOKUP($A190, taxonomy!$B$2:$T$695, 8, FALSE)","v":" Apusomonadidae"},{"$f":"VLOOKUP($A190, taxonomy!$B$2:$T$695, 9, FALSE)","v":" Thecamonas."},{"$f":"VLOOKUP($A190, taxonomy!$B$2:$T$695, 10, FALSE)","v":0},{"$f":"VLOOKUP($A190, taxonomy!$B$2:$T$695, 11, FALSE)","v":0},{"$f":"VLOOKUP($A190, taxonomy!$B$2:$T$695, 12, FALSE)","v":0},{"$f":"VLOOKUP($A190, taxonomy!$B$2:$T$695, 13, FALSE)","v":0},{"$f":"VLOOKUP($A190, taxonomy!$B$2:$T$695, 14, FALSE)","v":0},{"$f":"VLOOKUP($A190, taxonomy!$B$2:$T$695, 15, FALSE)","v":0},{"$f":"VLOOKUP($A190, taxonomy!$B$2:$T$695, 16, FALSE)","v":0},{"$f":"VLOOKUP($A190, taxonomy!$B$2:$T$695, 17, FALSE)","v":0}]
["A0A0L0FY95",{"$f":" VLOOKUP(A191, architecture!D$2:E$73, 2, FALSE)","v":{"$error":"#N/A"}},{"$f":"VLOOKUP(A191, 'PF14702'!B191:C2871, 2, FALSE)","v":897},{"$f":"VLOOKUP($A191, taxonomy!$B$2:$T$695, 6, FALSE)","v":"Eukaryota"},{"$f":"VLOOKUP($A191, taxonomy!$B$2:$T$695, 7, FALSE)","v":" Ichthyosporea"},{"$f":"VLOOKUP($A191, taxonomy!$B$2:$T$695, 8, FALSE)","v":" Ichthyophonida"},{"$f":"VLOOKUP($A191, taxonomy!$B$2:$T$695, 9, FALSE)","v":" Sphaeroforma."},{"$f":"VLOOKUP($A191, taxonomy!$B$2:$T$695, 10, FALSE)","v":0},{"$f":"VLOOKUP($A191, taxonomy!$B$2:$T$695, 11, FALSE)","v":0},{"$f":"VLOOKUP($A191, taxonomy!$B$2:$T$695, 12, FALSE)","v":0},{"$f":"VLOOKUP($A191, taxonomy!$B$2:$T$695, 13, FALSE)","v":0},{"$f":"VLOOKUP($A191, taxonomy!$B$2:$T$695, 14, FALSE)","v":0},{"$f":"VLOOKUP($A191, taxonomy!$B$2:$T$695, 15, FALSE)","v":0},{"$f":"VLOOKUP($A191, taxonomy!$B$2:$T$695, 16, FALSE)","v":0},{"$f":"VLOOKUP($A191, taxonomy!$B$2:$T$695, 17, FALSE)","v":0}]
["A0A0L0HGW7",{"$f":" VLOOKUP(A192, architecture!D$2:E$73, 2, FALSE)","v":{"$error":"#N/A"}},{"$f":"VLOOKUP(A192, 'PF14702'!B192:C2872, 2, FALSE)","v":1741},{"$f":"VLOOKUP($A192, taxonomy!$B$2:$T$695, 6, FALSE)","v":"Eukaryota"},{"$f":"VLOOKUP($A192, taxonomy!$B$2:$T$695, 7, FALSE)","v":" Fungi"},{"$f":"VLOOKUP($A192, taxonomy!$B$2:$T$695, 8, FALSE)","v":" Chytridiomycota"},{"$f":"VLOOKUP($A192, taxonomy!$B$2:$T$695, 9, FALSE)","v":" Chytridiomycetes"},{"$f":"VLOOKUP($A192, taxonomy!$B$2:$T$695, 10, FALSE)","v":"Spizellomycetales"},{"$f":"VLOOKUP($A192, taxonomy!$B$2:$T$695, 11, FALSE)","v":" Spizellomycetaceae"},{"$f":"VLOOKUP($A192, taxonomy!$B$2:$T$695, 12, FALSE)","v":" Spizellomyces."},{"$f":"VLOOKUP($A192, taxonomy!$B$2:$T$695, 13, FALSE)","v":0},{"$f":"VLOOKUP($A192, taxonomy!$B$2:$T$695, 14, FALSE)","v":0},{"$f":"VLOOKUP($A192, taxonomy!$B$2:$T$695, 15, FALSE)","v":0},{"$f":"VLOOKUP($A192, taxonomy!$B$2:$T$695, 16, FALSE)","v":0},{"$f":"VLOOKUP($A192, taxonomy!$B$2:$T$695, 17, FALSE)","v":0}]
["A0A0L0N7E7",{"$f":" VLOOKUP(A193, architecture!D$2:E$73, 2, FALSE)","v":{"$error":"#N/A"}},{"$f":"VLOOKUP(A193, 'PF14702'!B193:C2873, 2, FALSE)","v":1560},{"$f":"VLOOKUP($A193, taxonomy!$B$2:$T$695, 6, FALSE)","v":"Eukaryota"},{"$f":"VLOOKUP($A193, taxonomy!$B$2:$T$695, 7, FALSE)","v":" Fungi"},{"$f":"VLOOKUP($A193, taxonomy!$B$2:$T$695, 8, FALSE)","v":" Dikarya"},{"$f":"VLOOKUP($A193, taxonomy!$B$2:$T$695, 9, FALSE)","v":" Ascomycota"},{"$f":"VLOOKUP($A193, taxonomy!$B$2:$T$695, 10, FALSE)","v":" Pezizomycotina"},{"$f":"VLOOKUP($A193, taxonomy!$B$2:$T$695, 11, FALSE)","v":"Sordariomycetes"},{"$f":"VLOOKUP($A193, taxonomy!$B$2:$T$695, 12, FALSE)","v":" Hypocreomycetidae"},{"$f":"VLOOKUP($A193, taxonomy!$B$2:$T$695, 13, FALSE)","v":" Hypocreales"},{"$f":"VLOOKUP($A193, taxonomy!$B$2:$T$695, 14, FALSE)","v":" Ophiocordycipitaceae"},{"$f":"VLOOKUP($A193, taxonomy!$B$2:$T$695, 15, FALSE)","v":"Tolypocladium."},{"$f":"VLOOKUP($A193, taxonomy!$B$2:$T$695, 16, FALSE)","v":0},{"$f":"VLOOKUP($A193, taxonomy!$B$2:$T$695, 17, FALSE)","v":0}]
["A0A0L0P4J2",{"$f":" VLOOKUP(A194, architecture!D$2:E$73, 2, FALSE)","v":{"$error":"#N/A"}},{"$f":"VLOOKUP(A194, 'PF14702'!B194:C2874, 2, FALSE)","v":1514},{"$f":"VLOOKUP($A194, taxonomy!$B$2:$T$695, 6, FALSE)","v":"Eukaryota"},{"$f":"VLOOKUP($A194, taxonomy!$B$2:$T$695, 7, FALSE)","v":" Fungi"},{"$f":"VLOOKUP($A194, taxonomy!$B$2:$T$695, 8, FALSE)","v":" Dikarya"},{"$f":"VLOOKUP($A194, taxonomy!$B$2:$T$695, 9, FALSE)","v":" Ascomycota"},{"$f":"VLOOKUP($A194, taxonomy!$B$2:$T$695, 10, FALSE)","v":" Saccharomycotina"},{"$f":"VLOOKUP($A194, taxonomy!$B$2:$T$695, 11, FALSE)","v":"Saccharomycetes"},{"$f":"VLOOKUP($A194, taxonomy!$B$2:$T$695, 12, FALSE)","v":" Saccharomycetales"},{"$f":"VLOOKUP($A194, taxonomy!$B$2:$T$695, 13, FALSE)","v":" Metschnikowiaceae"},{"$f":"VLOOKUP($A194, taxonomy!$B$2:$T$695, 14, FALSE)","v":" Clavispora"},{"$f":"VLOOKUP($A194, taxonomy!$B$2:$T$695, 15, FALSE)","v":"Clavispora/Candida clade."},{"$f":"VLOOKUP($A194, taxonomy!$B$2:$T$695, 16, FALSE)","v":0},{"$f":"VLOOKUP($A194, taxonomy!$B$2:$T$695, 17, FALSE)","v":0}]
["A0A0L0TEU8",{"$f":" VLOOKUP(A195, architecture!D$2:E$73, 2, FALSE)","v":{"$error":"#N/A"}},{"$f":"VLOOKUP(A195, 'PF14702'!B195:C2875, 2, FALSE)","v":1651},{"$f":"VLOOKUP($A195, taxonomy!$B$2:$T$695, 6, FALSE)","v":"Eukaryota"},{"$f":"VLOOKUP($A195, taxonomy!$B$2:$T$695, 7, FALSE)","v":" Fungi"},{"$f":"VLOOKUP($A195, taxonomy!$B$2:$T$695, 8, FALSE)","v":" Blastocladiomycota"},{"$f":"VLOOKUP($A195, taxonomy!$B$2:$T$695, 9, FALSE)","v":" Blastocladiomycetes"},{"$f":"VLOOKUP($A195, taxonomy!$B$2:$T$695, 10, FALSE)","v":"Blastocladiales"},{"$f":"VLOOKUP($A195, taxonomy!$B$2:$T$695, 11, FALSE)","v":" Blastocladiaceae"},{"$f":"VLOOKUP($A195, taxonomy!$B$2:$T$695, 12, FALSE)","v":" Allomyces."},{"$f":"VLOOKUP($A195, taxonomy!$B$2:$T$695, 13, FALSE)","v":0},{"$f":"VLOOKUP($A195, taxonomy!$B$2:$T$695, 14, FALSE)","v":0},{"$f":"VLOOKUP($A195, taxonomy!$B$2:$T$695, 15, FALSE)","v":0},{"$f":"VLOOKUP($A195, taxonomy!$B$2:$T$695, 16, FALSE)","v":0},{"$f":"VLOOKUP($A195, taxonomy!$B$2:$T$695, 17, FALSE)","v":0}]
["A0A0L0TF30",{"$f":" VLOOKUP(A196, architecture!D$2:E$73, 2, FALSE)","v":{"$error":"#N/A"}},{"$f":"VLOOKUP(A196, 'PF14702'!B196:C2876, 2, FALSE)","v":1402},{"$f":"VLOOKUP($A196, taxonomy!$B$2:$T$695, 6, FALSE)","v":"Eukaryota"},{"$f":"VLOOKUP($A196, taxonomy!$B$2:$T$695, 7, FALSE)","v":" Fungi"},{"$f":"VLOOKUP($A196, taxonomy!$B$2:$T$695, 8, FALSE)","v":" Blastocladiomycota"},{"$f":"VLOOKUP($A196, taxonomy!$B$2:$T$695, 9, FALSE)","v":" Blastocladiomycetes"},{"$f":"VLOOKUP($A196, taxonomy!$B$2:$T$695, 10, FALSE)","v":"Blastocladiales"},{"$f":"VLOOKUP($A196, taxonomy!$B$2:$T$695, 11, FALSE)","v":" Blastocladiaceae"},{"$f":"VLOOKUP($A196, taxonomy!$B$2:$T$695, 12, FALSE)","v":" Allomyces."},{"$f":"VLOOKUP($A196, taxonomy!$B$2:$T$695, 13, FALSE)","v":0},{"$f":"VLOOKUP($A196, taxonomy!$B$2:$T$695, 14, FALSE)","v":0},{"$f":"VLOOKUP($A196, taxonomy!$B$2:$T$695, 15, FALSE)","v":0},{"$f":"VLOOKUP($A196, taxonomy!$B$2:$T$695, 16, FALSE)","v":0},{"$f":"VLOOKUP($A196, taxonomy!$B$2:$T$695, 17, FALSE)","v":0}]
["A0A0L0VQ97",{"$f":" VLOOKUP(A197, architecture!D$2:E$73, 2, FALSE)","v":{"$error":"#N/A"}},{"$f":"VLOOKUP(A197, 'PF14702'!B197:C2877, 2, FALSE)","v":1628},{"$f":"VLOOKUP($A197, taxonomy!$B$2:$T$695, 6, FALSE)","v":"Eukaryota"},{"$f":"VLOOKUP($A197, taxonomy!$B$2:$T$695, 7, FALSE)","v":" Fungi"},{"$f":"VLOOKUP($A197, taxonomy!$B$2:$T$695, 8, FALSE)","v":" Dikarya"},{"$f":"VLOOKUP($A197, taxonomy!$B$2:$T$695, 9, FALSE)","v":" Basidiomycota"},{"$f":"VLOOKUP($A197, taxonomy!$B$2:$T$695, 10, FALSE)","v":" Pucciniomycotina"},{"$f":"VLOOKUP($A197, taxonomy!$B$2:$T$695, 11, FALSE)","v":"Pucciniomycetes"},{"$f":"VLOOKUP($A197, taxonomy!$B$2:$T$695, 12, FALSE)","v":" Pucciniales"},{"$f":"VLOOKUP($A197, taxonomy!$B$2:$T$695, 13, FALSE)","v":" Pucciniaceae"},{"$f":"VLOOKUP($A197, taxonomy!$B$2:$T$695, 14, FALSE)","v":" Puccinia."},{"$f":"VLOOKUP($A197, taxonomy!$B$2:$T$695, 15, FALSE)","v":0},{"$f":"VLOOKUP($A197, taxonomy!$B$2:$T$695, 16, FALSE)","v":0},{"$f":"VLOOKUP($A197, taxonomy!$B$2:$T$695, 17, FALSE)","v":0}]
["A0A0L1HSN2",{"$f":" VLOOKUP(A198, architecture!D$2:E$73, 2, FALSE)","v":{"$error":"#N/A"}},{"$f":"VLOOKUP(A198, 'PF14702'!B198:C2878, 2, FALSE)","v":2266},{"$f":"VLOOKUP($A198, taxonomy!$B$2:$T$695, 6, FALSE)","v":"Eukaryota"},{"$f":"VLOOKUP($A198, taxonomy!$B$2:$T$695, 7, FALSE)","v":" Fungi"},{"$f":"VLOOKUP($A198, taxonomy!$B$2:$T$695, 8, FALSE)","v":" Dikarya"},{"$f":"VLOOKUP($A198, taxonomy!$B$2:$T$695, 9, FALSE)","v":" Ascomycota"},{"$f":"VLOOKUP($A198, taxonomy!$B$2:$T$695, 10, FALSE)","v":" Pezizomycotina"},{"$f":"VLOOKUP($A198, taxonomy!$B$2:$T$695, 11, FALSE)","v":"Dothideomycetes"},{"$f":"VLOOKUP($A198, taxonomy!$B$2:$T$695, 12, FALSE)","v":" Pleosporomycetidae"},{"$f":"VLOOKUP($A198, taxonomy!$B$2:$T$695, 13, FALSE)","v":" Pleosporales"},{"$f":"VLOOKUP($A198, taxonomy!$B$2:$T$695, 14, FALSE)","v":" Pleosporineae"},{"$f":"VLOOKUP($A198, taxonomy!$B$2:$T$695, 15, FALSE)","v":"Pleosporaceae"},{"$f":"VLOOKUP($A198, taxonomy!$B$2:$T$695, 16, FALSE)","v":" Stemphylium."},{"$f":"VLOOKUP($A198, taxonomy!$B$2:$T$695, 17, FALSE)","v":0}]
["A0A0L1J5G2",{"$f":" VLOOKUP(A199, architecture!D$2:E$73, 2, FALSE)","v":{"$error":"#N/A"}},{"$f":"VLOOKUP(A199, 'PF14702'!B199:C2879, 2, FALSE)","v":2214},{"$f":"VLOOKUP($A199, taxonomy!$B$2:$T$695, 6, FALSE)","v":"Eukaryota"},{"$f":"VLOOKUP($A199, taxonomy!$B$2:$T$695, 7, FALSE)","v":" Fungi"},{"$f":"VLOOKUP($A199, taxonomy!$B$2:$T$695, 8, FALSE)","v":" Dikarya"},{"$f":"VLOOKUP($A199, taxonomy!$B$2:$T$695, 9, FALSE)","v":" Ascomycota"},{"$f":"VLOOKUP($A199, taxonomy!$B$2:$T$695, 10, FALSE)","v":" Pezizomycotina"},{"$f":"VLOOKUP($A199, taxonomy!$B$2:$T$695, 11, FALSE)","v":" Eurotiomycetes"},{"$f":"VLOOKUP($A199, taxonomy!$B$2:$T$695, 12, FALSE)","v":"Eurotiomycetidae"},{"$f":"VLOOKUP($A199, taxonomy!$B$2:$T$695, 13, FALSE)","v":" Eurotiales"},{"$f":"VLOOKUP($A199, taxonomy!$B$2:$T$695, 14, FALSE)","v":" Aspergillaceae"},{"$f":"VLOOKUP($A199, taxonomy!$B$2:$T$695, 15, FALSE)","v":" Aspergillus."},{"$f":"VLOOKUP($A199, taxonomy!$B$2:$T$695, 16, FALSE)","v":0},{"$f":"VLOOKUP($A199, taxonomy!$B$2:$T$695, 17, FALSE)","v":0}]
["A0A0L6UGP3",{"$f":" VLOOKUP(A200, architecture!D$2:E$73, 2, FALSE)","v":{"$error":"#N/A"}},{"$f":"VLOOKUP(A200, 'PF14702'!B200:C2880, 2, FALSE)","v":1642},{"$f":"VLOOKUP($A200, taxonomy!$B$2:$T$695, 6, FALSE)","v":"Eukaryota"},{"$f":"VLOOKUP($A200, taxonomy!$B$2:$T$695, 7, FALSE)","v":" Fungi"},{"$f":"VLOOKUP($A200, taxonomy!$B$2:$T$695, 8, FALSE)","v":" Dikarya"},{"$f":"VLOOKUP($A200, taxonomy!$B$2:$T$695, 9, FALSE)","v":" Basidiomycota"},{"$f":"VLOOKUP($A200, taxonomy!$B$2:$T$695, 10, FALSE)","v":" Pucciniomycotina"},{"$f":"VLOOKUP($A200, taxonomy!$B$2:$T$695, 11, FALSE)","v":"Pucciniomycetes"},{"$f":"VLOOKUP($A200, taxonomy!$B$2:$T$695, 12, FALSE)","v":" Pucciniales"},{"$f":"VLOOKUP($A200, taxonomy!$B$2:$T$695, 13, FALSE)","v":" Pucciniaceae"},{"$f":"VLOOKUP($A200, taxonomy!$B$2:$T$695, 14, FALSE)","v":" Puccinia."},{"$f":"VLOOKUP($A200, taxonomy!$B$2:$T$695, 15, FALSE)","v":0},{"$f":"VLOOKUP($A200, taxonomy!$B$2:$T$695, 16, FALSE)","v":0},{"$f":"VLOOKUP($A200, taxonomy!$B$2:$T$695, 17, FALSE)","v":0}]
["A0A0L6WZ71",{"$f":" VLOOKUP(A201, architecture!D$2:E$73, 2, FALSE)","v":{"$error":"#N/A"}},{"$f":"VLOOKUP(A201, 'PF14702'!B201:C2881, 2, FALSE)","v":1871},{"$f":"VLOOKUP($A201, taxonomy!$B$2:$T$695, 6, FALSE)","v":"Eukaryota"},{"$f":"VLOOKUP($A201, taxonomy!$B$2:$T$695, 7, FALSE)","v":" Fungi"},{"$f":"VLOOKUP($A201, taxonomy!$B$2:$T$695, 8, FALSE)","v":" Dikarya"},{"$f":"VLOOKUP($A201, taxonomy!$B$2:$T$695, 9, FALSE)","v":" Basidiomycota"},{"$f":"VLOOKUP($A201, taxonomy!$B$2:$T$695, 10, FALSE)","v":" Agaricomycotina"},{"$f":"VLOOKUP($A201, taxonomy!$B$2:$T$695, 11, FALSE)","v":"Agaricomycetes"},{"$f":"VLOOKUP($A201, taxonomy!$B$2:$T$695, 12, FALSE)","v":" Agaricomycetidae"},{"$f":"VLOOKUP($A201, taxonomy!$B$2:$T$695, 13, FALSE)","v":" Agaricales"},{"$f":"VLOOKUP($A201, taxonomy!$B$2:$T$695, 14, FALSE)","v":" Lyophyllaceae"},{"$f":"VLOOKUP($A201, taxonomy!$B$2:$T$695, 15, FALSE)","v":"Termitomyces."},{"$f":"VLOOKUP($A201, taxonomy!$B$2:$T$695, 16, FALSE)","v":0},{"$f":"VLOOKUP($A201, taxonomy!$B$2:$T$695, 17, FALSE)","v":0}]
["A0A0L7QQA0",{"$f":" VLOOKUP(A202, architecture!D$2:E$73, 2, FALSE)","v":{"$error":"#N/A"}},{"$f":"VLOOKUP(A202, 'PF14702'!B202:C2882, 2, FALSE)","v":1970},{"$f":"VLOOKUP($A202, taxonomy!$B$2:$T$695, 6, FALSE)","v":"Eukaryota"},{"$f":"VLOOKUP($A202, taxonomy!$B$2:$T$695, 7, FALSE)","v":" Metazoa"},{"$f":"VLOOKUP($A202, taxonomy!$B$2:$T$695, 8, FALSE)","v":" Ecdysozoa"},{"$f":"VLOOKUP($A202, taxonomy!$B$2:$T$695, 9, FALSE)","v":" Arthropoda"},{"$f":"VLOOKUP($A202, taxonomy!$B$2:$T$695, 10, FALSE)","v":" Hexapoda"},{"$f":"VLOOKUP($A202, taxonomy!$B$2:$T$695, 11, FALSE)","v":" Insecta"},{"$f":"VLOOKUP($A202, taxonomy!$B$2:$T$695, 12, FALSE)","v":"Pterygota"},{"$f":"VLOOKUP($A202, taxonomy!$B$2:$T$695, 13, FALSE)","v":" Neoptera"},{"$f":"VLOOKUP($A202, taxonomy!$B$2:$T$695, 14, FALSE)","v":" Holometabola"},{"$f":"VLOOKUP($A202, taxonomy!$B$2:$T$695, 15, FALSE)","v":" Hymenoptera"},{"$f":"VLOOKUP($A202, taxonomy!$B$2:$T$695, 16, FALSE)","v":" Apocrita"},{"$f":"VLOOKUP($A202, taxonomy!$B$2:$T$695, 17, FALSE)","v":" Aculeata"}]
["A0A0L8G6V0",{"$f":" VLOOKUP(A203, architecture!D$2:E$73, 2, FALSE)","v":1},{"$f":"VLOOKUP(A203, 'PF14702'!B203:C2883, 2, FALSE)","v":1407},{"$f":"VLOOKUP($A203, taxonomy!$B$2:$T$695, 6, FALSE)","v":"Eukaryota"},{"$f":"VLOOKUP($A203, taxonomy!$B$2:$T$695, 7, FALSE)","v":" Metazoa"},{"$f":"VLOOKUP($A203, taxonomy!$B$2:$T$695, 8, FALSE)","v":" Lophotrochozoa"},{"$f":"VLOOKUP($A203, taxonomy!$B$2:$T$695, 9, FALSE)","v":" Mollusca"},{"$f":"VLOOKUP($A203, taxonomy!$B$2:$T$695, 10, FALSE)","v":" Cephalopoda"},{"$f":"VLOOKUP($A203, taxonomy!$B$2:$T$695, 11, FALSE)","v":" Coleoidea"},{"$f":"VLOOKUP($A203, taxonomy!$B$2:$T$695, 12, FALSE)","v":"Neocoleoidea"},{"$f":"VLOOKUP($A203, taxonomy!$B$2:$T$695, 13, FALSE)","v":" Octopodiformes"},{"$f":"VLOOKUP($A203, taxonomy!$B$2:$T$695, 14, FALSE)","v":" Octopoda"},{"$f":"VLOOKUP($A203, taxonomy!$B$2:$T$695, 15, FALSE)","v":" Incirrata"},{"$f":"VLOOKUP($A203, taxonomy!$B$2:$T$695, 16, FALSE)","v":" Octopodidae"},{"$f":"VLOOKUP($A203, taxonomy!$B$2:$T$695, 17, FALSE)","v":"Octopus."}]
["A0A0L9T245",{"$f":" VLOOKUP(A204, architecture!D$2:E$73, 2, FALSE)","v":{"$error":"#N/A"}},{"$f":"VLOOKUP(A204, 'PF14702'!B204:C2884, 2, FALSE)","v":1568},{"$f":"VLOOKUP($A204, taxonomy!$B$2:$T$695, 6, FALSE)","v":{"$error":"#N/A"}},{"$f":"VLOOKUP($A204, taxonomy!$B$2:$T$695, 7, FALSE)","v":{"$error":"#N/A"}},{"$f":"VLOOKUP($A204, taxonomy!$B$2:$T$695, 8, FALSE)","v":{"$error":"#N/A"}},{"$f":"VLOOKUP($A204, taxonomy!$B$2:$T$695, 9, FALSE)","v":{"$error":"#N/A"}},{"$f":"VLOOKUP($A204, taxonomy!$B$2:$T$695, 10, FALSE)","v":{"$error":"#N/A"}},{"$f":"VLOOKUP($A204, taxonomy!$B$2:$T$695, 11, FALSE)","v":{"$error":"#N/A"}},{"$f":"VLOOKUP($A204, taxonomy!$B$2:$T$695, 12, FALSE)","v":{"$error":"#N/A"}},{"$f":"VLOOKUP($A204, taxonomy!$B$2:$T$695, 13, FALSE)","v":{"$error":"#N/A"}},{"$f":"VLOOKUP($A204, taxonomy!$B$2:$T$695, 14, FALSE)","v":{"$error":"#N/A"}},{"$f":"VLOOKUP($A204, taxonomy!$B$2:$T$695, 15, FALSE)","v":{"$error":"#N/A"}},{"$f":"VLOOKUP($A204, taxonomy!$B$2:$T$695, 16, FALSE)","v":{"$error":"#N/A"}},{"$f":"VLOOKUP($A204, taxonomy!$B$2:$T$695, 17, FALSE)","v":{"$error":"#N/A"}}]
["A0A0M8N0M3",{"$f":" VLOOKUP(A205, architecture!D$2:E$73, 2, FALSE)","v":{"$error":"#N/A"}},{"$f":"VLOOKUP(A205, 'PF14702'!B205:C2885, 2, FALSE)","v":1557},{"$f":"VLOOKUP($A205, taxonomy!$B$2:$T$695, 6, FALSE)","v":"Eukaryota"},{"$f":"VLOOKUP($A205, taxonomy!$B$2:$T$695, 7, FALSE)","v":" Fungi"},{"$f":"VLOOKUP($A205, taxonomy!$B$2:$T$695, 8, FALSE)","v":" Dikarya"},{"$f":"VLOOKUP($A205, taxonomy!$B$2:$T$695, 9, FALSE)","v":" Ascomycota"},{"$f":"VLOOKUP($A205, taxonomy!$B$2:$T$695, 10, FALSE)","v":" Pezizomycotina"},{"$f":"VLOOKUP($A205, taxonomy!$B$2:$T$695, 11, FALSE)","v":"Sordariomycetes"},{"$f":"VLOOKUP($A205, taxonomy!$B$2:$T$695, 12, FALSE)","v":" Hypocreomycetidae"},{"$f":"VLOOKUP($A205, taxonomy!$B$2:$T$695, 13, FALSE)","v":" Hypocreales"},{"$f":"VLOOKUP($A205, taxonomy!$B$2:$T$695, 14, FALSE)","v":" Hypocreaceae"},{"$f":"VLOOKUP($A205, taxonomy!$B$2:$T$695, 15, FALSE)","v":"Escovopsis."},{"$f":"VLOOKUP($A205, taxonomy!$B$2:$T$695, 16, FALSE)","v":0},{"$f":"VLOOKUP($A205, taxonomy!$B$2:$T$695, 17, FALSE)","v":0}]
["A0A0M9A074",{"$f":" VLOOKUP(A206, architecture!D$2:E$73, 2, FALSE)","v":{"$error":"#N/A"}},{"$f":"VLOOKUP(A206, 'PF14702'!B206:C2886, 2, FALSE)","v":1877},{"$f":"VLOOKUP($A206, taxonomy!$B$2:$T$695, 6, FALSE)","v":"Eukaryota"},{"$f":"VLOOKUP($A206, taxonomy!$B$2:$T$695, 7, FALSE)","v":" Metazoa"},{"$f":"VLOOKUP($A206, taxonomy!$B$2:$T$695, 8, FALSE)","v":" Ecdysozoa"},{"$f":"VLOOKUP($A206, taxonomy!$B$2:$T$695, 9, FALSE)","v":" Arthropoda"},{"$f":"VLOOKUP($A206, taxonomy!$B$2:$T$695, 10, FALSE)","v":" Hexapoda"},{"$f":"VLOOKUP($A206, taxonomy!$B$2:$T$695, 11, FALSE)","v":" Insecta"},{"$f":"VLOOKUP($A206, taxonomy!$B$2:$T$695, 12, FALSE)","v":"Pterygota"},{"$f":"VLOOKUP($A206, taxonomy!$B$2:$T$695, 13, FALSE)","v":" Neoptera"},{"$f":"VLOOKUP($A206, taxonomy!$B$2:$T$695, 14, FALSE)","v":" Holometabola"},{"$f":"VLOOKUP($A206, taxonomy!$B$2:$T$695, 15, FALSE)","v":" Hymenoptera"},{"$f":"VLOOKUP($A206, taxonomy!$B$2:$T$695, 16, FALSE)","v":" Apocrita"},{"$f":"VLOOKUP($A206, taxonomy!$B$2:$T$695, 17, FALSE)","v":" Aculeata"}]
["A0A0M9EXZ4",{"$f":" VLOOKUP(A207, architecture!D$2:E$73, 2, FALSE)","v":{"$error":"#N/A"}},{"$f":"VLOOKUP(A207, 'PF14702'!B207:C2887, 2, FALSE)","v":1553},{"$f":"VLOOKUP($A207, taxonomy!$B$2:$T$695, 6, FALSE)","v":"Eukaryota"},{"$f":"VLOOKUP($A207, taxonomy!$B$2:$T$695, 7, FALSE)","v":" Fungi"},{"$f":"VLOOKUP($A207, taxonomy!$B$2:$T$695, 8, FALSE)","v":" Dikarya"},{"$f":"VLOOKUP($A207, taxonomy!$B$2:$T$695, 9, FALSE)","v":" Ascomycota"},{"$f":"VLOOKUP($A207, taxonomy!$B$2:$T$695, 10, FALSE)","v":" Pezizomycotina"},{"$f":"VLOOKUP($A207, taxonomy!$B$2:$T$695, 11, FALSE)","v":"Sordariomycetes"},{"$f":"VLOOKUP($A207, taxonomy!$B$2:$T$695, 12, FALSE)","v":" Hypocreomycetidae"},{"$f":"VLOOKUP($A207, taxonomy!$B$2:$T$695, 13, FALSE)","v":" Hypocreales"},{"$f":"VLOOKUP($A207, taxonomy!$B$2:$T$695, 14, FALSE)","v":" Nectriaceae"},{"$f":"VLOOKUP($A207, taxonomy!$B$2:$T$695, 15, FALSE)","v":"Fusarium."},{"$f":"VLOOKUP($A207, taxonomy!$B$2:$T$695, 16, FALSE)","v":0},{"$f":"VLOOKUP($A207, taxonomy!$B$2:$T$695, 17, FALSE)","v":0}]
["A0A0M9WGZ0",{"$f":" VLOOKUP(A208, architecture!D$2:E$73, 2, FALSE)","v":{"$error":"#N/A"}},{"$f":"VLOOKUP(A208, 'PF14702'!B208:C2888, 2, FALSE)","v":1535},{"$f":"VLOOKUP($A208, taxonomy!$B$2:$T$695, 6, FALSE)","v":"Eukaryota"},{"$f":"VLOOKUP($A208, taxonomy!$B$2:$T$695, 7, FALSE)","v":" Fungi"},{"$f":"VLOOKUP($A208, taxonomy!$B$2:$T$695, 8, FALSE)","v":" Dikarya"},{"$f":"VLOOKUP($A208, taxonomy!$B$2:$T$695, 9, FALSE)","v":" Ascomycota"},{"$f":"VLOOKUP($A208, taxonomy!$B$2:$T$695, 10, FALSE)","v":" Pezizomycotina"},{"$f":"VLOOKUP($A208, taxonomy!$B$2:$T$695, 11, FALSE)","v":" Eurotiomycetes"},{"$f":"VLOOKUP($A208, taxonomy!$B$2:$T$695, 12, FALSE)","v":"Eurotiomycetidae"},{"$f":"VLOOKUP($A208, taxonomy!$B$2:$T$695, 13, FALSE)","v":" Eurotiales"},{"$f":"VLOOKUP($A208, taxonomy!$B$2:$T$695, 14, FALSE)","v":" Aspergillaceae"},{"$f":"VLOOKUP($A208, taxonomy!$B$2:$T$695, 15, FALSE)","v":" Penicillium."},{"$f":"VLOOKUP($A208, taxonomy!$B$2:$T$695, 16, FALSE)","v":0},{"$f":"VLOOKUP($A208, taxonomy!$B$2:$T$695, 17, FALSE)","v":0}]
["A0A0N0NS63",{"$f":" VLOOKUP(A209, architecture!D$2:E$73, 2, FALSE)","v":{"$error":"#N/A"}},{"$f":"VLOOKUP(A209, 'PF14702'!B209:C2889, 2, FALSE)","v":1538},{"$f":"VLOOKUP($A209, taxonomy!$B$2:$T$695, 6, FALSE)","v":"Eukaryota"},{"$f":"VLOOKUP($A209, taxonomy!$B$2:$T$695, 7, FALSE)","v":" Fungi"},{"$f":"VLOOKUP($A209, taxonomy!$B$2:$T$695, 8, FALSE)","v":" Dikarya"},{"$f":"VLOOKUP($A209, taxonomy!$B$2:$T$695, 9, FALSE)","v":" Ascomycota"},{"$f":"VLOOKUP($A209, taxonomy!$B$2:$T$695, 10, FALSE)","v":" Pezizomycotina"},{"$f":"VLOOKUP($A209, taxonomy!$B$2:$T$695, 11, FALSE)","v":" Eurotiomycetes"},{"$f":"VLOOKUP($A209, taxonomy!$B$2:$T$695, 12, FALSE)","v":"Chaetothyriomycetidae"},{"$f":"VLOOKUP($A209, taxonomy!$B$2:$T$695, 13, FALSE)","v":" Chaetothyriales"},{"$f":"VLOOKUP($A209, taxonomy!$B$2:$T$695, 14, FALSE)","v":" Herpotrichiellaceae"},{"$f":"VLOOKUP($A209, taxonomy!$B$2:$T$695, 15, FALSE)","v":"Phialophora."},{"$f":"VLOOKUP($A209, taxonomy!$B$2:$T$695, 16, FALSE)","v":0},{"$f":"VLOOKUP($A209, taxonomy!$B$2:$T$695, 17, FALSE)","v":0}]
["A0A0N4T439",{"$f":" VLOOKUP(A210, architecture!D$2:E$73, 2, FALSE)","v":{"$error":"#N/A"}},{"$f":"VLOOKUP(A210, 'PF14702'!B210:C2890, 2, FALSE)","v":827},{"$f":"VLOOKUP($A210, taxonomy!$B$2:$T$695, 6, FALSE)","v":"Eukaryota"},{"$f":"VLOOKUP($A210, taxonomy!$B$2:$T$695, 7, FALSE)","v":" Metazoa"},{"$f":"VLOOKUP($A210, taxonomy!$B$2:$T$695, 8, FALSE)","v":" Ecdysozoa"},{"$f":"VLOOKUP($A210, taxonomy!$B$2:$T$695, 9, FALSE)","v":" Nematoda"},{"$f":"VLOOKUP($A210, taxonomy!$B$2:$T$695, 10, FALSE)","v":" Chromadorea"},{"$f":"VLOOKUP($A210, taxonomy!$B$2:$T$695, 11, FALSE)","v":" Spirurida"},{"$f":"VLOOKUP($A210, taxonomy!$B$2:$T$695, 12, FALSE)","v":"Spiruromorpha"},{"$f":"VLOOKUP($A210, taxonomy!$B$2:$T$695, 13, FALSE)","v":" Filarioidea"},{"$f":"VLOOKUP($A210, taxonomy!$B$2:$T$695, 14, FALSE)","v":" Onchocercidae"},{"$f":"VLOOKUP($A210, taxonomy!$B$2:$T$695, 15, FALSE)","v":" Brugia."},{"$f":"VLOOKUP($A210, taxonomy!$B$2:$T$695, 16, FALSE)","v":0},{"$f":"VLOOKUP($A210, taxonomy!$B$2:$T$695, 17, FALSE)","v":0}]
["A0A0N4UM20",{"$f":" VLOOKUP(A211, architecture!D$2:E$73, 2, FALSE)","v":1},{"$f":"VLOOKUP(A211, 'PF14702'!B211:C2891, 2, FALSE)","v":1467},{"$f":"VLOOKUP($A211, taxonomy!$B$2:$T$695, 6, FALSE)","v":"Eukaryota"},{"$f":"VLOOKUP($A211, taxonomy!$B$2:$T$695, 7, FALSE)","v":" Metazoa"},{"$f":"VLOOKUP($A211, taxonomy!$B$2:$T$695, 8, FALSE)","v":" Ecdysozoa"},{"$f":"VLOOKUP($A211, taxonomy!$B$2:$T$695, 9, FALSE)","v":" Nematoda"},{"$f":"VLOOKUP($A211, taxonomy!$B$2:$T$695, 10, FALSE)","v":" Chromadorea"},{"$f":"VLOOKUP($A211, taxonomy!$B$2:$T$695, 11, FALSE)","v":" Spirurida"},{"$f":"VLOOKUP($A211, taxonomy!$B$2:$T$695, 12, FALSE)","v":"Spirurida incertae sedis"},{"$f":"VLOOKUP($A211, taxonomy!$B$2:$T$695, 13, FALSE)","v":" Dracunculoidea"},{"$f":"VLOOKUP($A211, taxonomy!$B$2:$T$695, 14, FALSE)","v":" Dracunculidae"},{"$f":"VLOOKUP($A211, taxonomy!$B$2:$T$695, 15, FALSE)","v":" Dracunculus."},{"$f":"VLOOKUP($A211, taxonomy!$B$2:$T$695, 16, FALSE)","v":0},{"$f":"VLOOKUP($A211, taxonomy!$B$2:$T$695, 17, FALSE)","v":0}]
["A0A0N4VFZ0",{"$f":" VLOOKUP(A212, architecture!D$2:E$73, 2, FALSE)","v":1},{"$f":"VLOOKUP(A212, 'PF14702'!B212:C2892, 2, FALSE)","v":1464},{"$f":"VLOOKUP($A212, taxonomy!$B$2:$T$695, 6, FALSE)","v":"Eukaryota"},{"$f":"VLOOKUP($A212, taxonomy!$B$2:$T$695, 7, FALSE)","v":" Metazoa"},{"$f":"VLOOKUP($A212, taxonomy!$B$2:$T$695, 8, FALSE)","v":" Ecdysozoa"},{"$f":"VLOOKUP($A212, taxonomy!$B$2:$T$695, 9, FALSE)","v":" Nematoda"},{"$f":"VLOOKUP($A212, taxonomy!$B$2:$T$695, 10, FALSE)","v":" Chromadorea"},{"$f":"VLOOKUP($A212, taxonomy!$B$2:$T$695, 11, FALSE)","v":" Oxyurida"},{"$f":"VLOOKUP($A212, taxonomy!$B$2:$T$695, 12, FALSE)","v":"Oxyuroidea"},{"$f":"VLOOKUP($A212, taxonomy!$B$2:$T$695, 13, FALSE)","v":" Oxyuridae"},{"$f":"VLOOKUP($A212, taxonomy!$B$2:$T$695, 14, FALSE)","v":" Enterobius."},{"$f":"VLOOKUP($A212, taxonomy!$B$2:$T$695, 15, FALSE)","v":0},{"$f":"VLOOKUP($A212, taxonomy!$B$2:$T$695, 16, FALSE)","v":0},{"$f":"VLOOKUP($A212, taxonomy!$B$2:$T$695, 17, FALSE)","v":0}]
["A0A0N4VVA2",{"$f":" VLOOKUP(A213, architecture!D$2:E$73, 2, FALSE)","v":{"$error":"#N/A"}},{"$f":"VLOOKUP(A213, 'PF14702'!B213:C2893, 2, FALSE)","v":194},{"$f":"VLOOKUP($A213, taxonomy!$B$2:$T$695, 6, FALSE)","v":"Eukaryota"},{"$f":"VLOOKUP($A213, taxonomy!$B$2:$T$695, 7, FALSE)","v":" Metazoa"},{"$f":"VLOOKUP($A213, taxonomy!$B$2:$T$695, 8, FALSE)","v":" Ecdysozoa"},{"$f":"VLOOKUP($A213, taxonomy!$B$2:$T$695, 9, FALSE)","v":" Nematoda"},{"$f":"VLOOKUP($A213, taxonomy!$B$2:$T$695, 10, FALSE)","v":" Chromadorea"},{"$f":"VLOOKUP($A213, taxonomy!$B$2:$T$695, 11, FALSE)","v":" Rhabditida"},{"$f":"VLOOKUP($A213, taxonomy!$B$2:$T$695, 12, FALSE)","v":"Strongylida"},{"$f":"VLOOKUP($A213, taxonomy!$B$2:$T$695, 13, FALSE)","v":" Trichostrongyloidea"},{"$f":"VLOOKUP($A213, taxonomy!$B$2:$T$695, 14, FALSE)","v":" Haemonchidae"},{"$f":"VLOOKUP($A213, taxonomy!$B$2:$T$695, 15, FALSE)","v":" Haemonchinae"},{"$f":"VLOOKUP($A213, taxonomy!$B$2:$T$695, 16, FALSE)","v":"Haemonchus."},{"$f":"VLOOKUP($A213, taxonomy!$B$2:$T$695, 17, FALSE)","v":0}]
["A0A0N4VY25",{"$f":" VLOOKUP(A214, architecture!D$2:E$73, 2, FALSE)","v":2},{"$f":"VLOOKUP(A214, 'PF14702'!B214:C2894, 2, FALSE)","v":210},{"$f":"VLOOKUP($A214, taxonomy!$B$2:$T$695, 6, FALSE)","v":"Eukaryota"},{"$f":"VLOOKUP($A214, taxonomy!$B$2:$T$695, 7, FALSE)","v":" Metazoa"},{"$f":"VLOOKUP($A214, taxonomy!$B$2:$T$695, 8, FALSE)","v":" Ecdysozoa"},{"$f":"VLOOKUP($A214, taxonomy!$B$2:$T$695, 9, FALSE)","v":" Nematoda"},{"$f":"VLOOKUP($A214, taxonomy!$B$2:$T$695, 10, FALSE)","v":" Chromadorea"},{"$f":"VLOOKUP($A214, taxonomy!$B$2:$T$695, 11, FALSE)","v":" Rhabditida"},{"$f":"VLOOKUP($A214, taxonomy!$B$2:$T$695, 12, FALSE)","v":"Strongylida"},{"$f":"VLOOKUP($A214, taxonomy!$B$2:$T$695, 13, FALSE)","v":" Trichostrongyloidea"},{"$f":"VLOOKUP($A214, taxonomy!$B$2:$T$695, 14, FALSE)","v":" Haemonchidae"},{"$f":"VLOOKUP($A214, taxonomy!$B$2:$T$695, 15, FALSE)","v":" Haemonchinae"},{"$f":"VLOOKUP($A214, taxonomy!$B$2:$T$695, 16, FALSE)","v":"Haemonchus."},{"$f":"VLOOKUP($A214, taxonomy!$B$2:$T$695, 17, FALSE)","v":0}]
["A0A0N4ZYY6",{"$f":" VLOOKUP(A215, architecture!D$2:E$73, 2, FALSE)","v":{"$error":"#N/A"}},{"$f":"VLOOKUP(A215, 'PF14702'!B215:C2895, 2, FALSE)","v":1476},{"$f":"VLOOKUP($A215, taxonomy!$B$2:$T$695, 6, FALSE)","v":"Eukaryota"},{"$f":"VLOOKUP($A215, taxonomy!$B$2:$T$695, 7, FALSE)","v":" Metazoa"},{"$f":"VLOOKUP($A215, taxonomy!$B$2:$T$695, 8, FALSE)","v":" Ecdysozoa"},{"$f":"VLOOKUP($A215, taxonomy!$B$2:$T$695, 9, FALSE)","v":" Nematoda"},{"$f":"VLOOKUP($A215, taxonomy!$B$2:$T$695, 10, FALSE)","v":" Chromadorea"},{"$f":"VLOOKUP($A215, taxonomy!$B$2:$T$695, 11, FALSE)","v":" Tylenchida"},{"$f":"VLOOKUP($A215, taxonomy!$B$2:$T$695, 12, FALSE)","v":"Panagrolaimomorpha"},{"$f":"VLOOKUP($A215, taxonomy!$B$2:$T$695, 13, FALSE)","v":" Strongyloidoidea"},{"$f":"VLOOKUP($A215, taxonomy!$B$2:$T$695, 14, FALSE)","v":" Strongyloididae"},{"$f":"VLOOKUP($A215, taxonomy!$B$2:$T$695, 15, FALSE)","v":"Parastrongyloides."},{"$f":"VLOOKUP($A215, taxonomy!$B$2:$T$695, 16, FALSE)","v":0},{"$f":"VLOOKUP($A215, taxonomy!$B$2:$T$695, 17, FALSE)","v":0}]
["A0A0N5AQW6",{"$f":" VLOOKUP(A216, architecture!D$2:E$73, 2, FALSE)","v":1},{"$f":"VLOOKUP(A216, 'PF14702'!B216:C2896, 2, FALSE)","v":1457},{"$f":"VLOOKUP($A216, taxonomy!$B$2:$T$695, 6, FALSE)","v":"Eukaryota"},{"$f":"VLOOKUP($A216, taxonomy!$B$2:$T$695, 7, FALSE)","v":" Metazoa"},{"$f":"VLOOKUP($A216, taxonomy!$B$2:$T$695, 8, FALSE)","v":" Ecdysozoa"},{"$f":"VLOOKUP($A216, taxonomy!$B$2:$T$695, 9, FALSE)","v":" Nematoda"},{"$f":"VLOOKUP($A216, taxonomy!$B$2:$T$695, 10, FALSE)","v":" Chromadorea"},{"$f":"VLOOKUP($A216, taxonomy!$B$2:$T$695, 11, FALSE)","v":" Oxyurida"},{"$f":"VLOOKUP($A216, taxonomy!$B$2:$T$695, 12, FALSE)","v":"Oxyuroidea"},{"$f":"VLOOKUP($A216, taxonomy!$B$2:$T$695, 13, FALSE)","v":" Oxyuridae"},{"$f":"VLOOKUP($A216, taxonomy!$B$2:$T$695, 14, FALSE)","v":" Syphacia."},{"$f":"VLOOKUP($A216, taxonomy!$B$2:$T$695, 15, FALSE)","v":0},{"$f":"VLOOKUP($A216, taxonomy!$B$2:$T$695, 16, FALSE)","v":0},{"$f":"VLOOKUP($A216, taxonomy!$B$2:$T$695, 17, FALSE)","v":0}]
["A0A0N5CB21",{"$f":" VLOOKUP(A217, architecture!D$2:E$73, 2, FALSE)","v":1},{"$f":"VLOOKUP(A217, 'PF14702'!B217:C2897, 2, FALSE)","v":1476},{"$f":"VLOOKUP($A217, taxonomy!$B$2:$T$695, 6, FALSE)","v":"Eukaryota"},{"$f":"VLOOKUP($A217, taxonomy!$B$2:$T$695, 7, FALSE)","v":" Metazoa"},{"$f":"VLOOKUP($A217, taxonomy!$B$2:$T$695, 8, FALSE)","v":" Ecdysozoa"},{"$f":"VLOOKUP($A217, taxonomy!$B$2:$T$695, 9, FALSE)","v":" Nematoda"},{"$f":"VLOOKUP($A217, taxonomy!$B$2:$T$695, 10, FALSE)","v":" Chromadorea"},{"$f":"VLOOKUP($A217, taxonomy!$B$2:$T$695, 11, FALSE)","v":" Tylenchida"},{"$f":"VLOOKUP($A217, taxonomy!$B$2:$T$695, 12, FALSE)","v":"Panagrolaimomorpha"},{"$f":"VLOOKUP($A217, taxonomy!$B$2:$T$695, 13, FALSE)","v":" Strongyloidoidea"},{"$f":"VLOOKUP($A217, taxonomy!$B$2:$T$695, 14, FALSE)","v":" Strongyloididae"},{"$f":"VLOOKUP($A217, taxonomy!$B$2:$T$695, 15, FALSE)","v":" Strongyloides."},{"$f":"VLOOKUP($A217, taxonomy!$B$2:$T$695, 16, FALSE)","v":0},{"$f":"VLOOKUP($A217, taxonomy!$B$2:$T$695, 17, FALSE)","v":0}]
["A0A0N5CNJ6",{"$f":" VLOOKUP(A218, architecture!D$2:E$73, 2, FALSE)","v":{"$error":"#N/A"}},{"$f":"VLOOKUP(A218, 'PF14702'!B218:C2898, 2, FALSE)","v":1448},{"$f":"VLOOKUP($A218, taxonomy!$B$2:$T$695, 6, FALSE)","v":"Eukaryota"},{"$f":"VLOOKUP($A218, taxonomy!$B$2:$T$695, 7, FALSE)","v":" Metazoa"},{"$f":"VLOOKUP($A218, taxonomy!$B$2:$T$695, 8, FALSE)","v":" Ecdysozoa"},{"$f":"VLOOKUP($A218, taxonomy!$B$2:$T$695, 9, FALSE)","v":" Nematoda"},{"$f":"VLOOKUP($A218, taxonomy!$B$2:$T$695, 10, FALSE)","v":" Chromadorea"},{"$f":"VLOOKUP($A218, taxonomy!$B$2:$T$695, 11, FALSE)","v":" Spirurida"},{"$f":"VLOOKUP($A218, taxonomy!$B$2:$T$695, 12, FALSE)","v":"Spiruromorpha"},{"$f":"VLOOKUP($A218, taxonomy!$B$2:$T$695, 13, FALSE)","v":" Thelazioidea"},{"$f":"VLOOKUP($A218, taxonomy!$B$2:$T$695, 14, FALSE)","v":" Thelaziidae"},{"$f":"VLOOKUP($A218, taxonomy!$B$2:$T$695, 15, FALSE)","v":" Thelazia."},{"$f":"VLOOKUP($A218, taxonomy!$B$2:$T$695, 16, FALSE)","v":0},{"$f":"VLOOKUP($A218, taxonomy!$B$2:$T$695, 17, FALSE)","v":0}]
["A0A0N5DQX3",{"$f":" VLOOKUP(A219, architecture!D$2:E$73, 2, FALSE)","v":1},{"$f":"VLOOKUP(A219, 'PF14702'!B219:C2899, 2, FALSE)","v":1777},{"$f":"VLOOKUP($A219, taxonomy!$B$2:$T$695, 6, FALSE)","v":"Eukaryota"},{"$f":"VLOOKUP($A219, taxonomy!$B$2:$T$695, 7, FALSE)","v":" Metazoa"},{"$f":"VLOOKUP($A219, taxonomy!$B$2:$T$695, 8, FALSE)","v":" Ecdysozoa"},{"$f":"VLOOKUP($A219, taxonomy!$B$2:$T$695, 9, FALSE)","v":" Nematoda"},{"$f":"VLOOKUP($A219, taxonomy!$B$2:$T$695, 10, FALSE)","v":" Enoplea"},{"$f":"VLOOKUP($A219, taxonomy!$B$2:$T$695, 11, FALSE)","v":" Dorylaimia"},{"$f":"VLOOKUP($A219, taxonomy!$B$2:$T$695, 12, FALSE)","v":"Trichinellida"},{"$f":"VLOOKUP($A219, taxonomy!$B$2:$T$695, 13, FALSE)","v":" Trichuridae"},{"$f":"VLOOKUP($A219, taxonomy!$B$2:$T$695, 14, FALSE)","v":" Trichuris."},{"$f":"VLOOKUP($A219, taxonomy!$B$2:$T$695, 15, FALSE)","v":0},{"$f":"VLOOKUP($A219, taxonomy!$B$2:$T$695, 16, FALSE)","v":0},{"$f":"VLOOKUP($A219, taxonomy!$B$2:$T$695, 17, FALSE)","v":0}]
["A0A0N5E2Y0",{"$f":" VLOOKUP(A220, architecture!D$2:E$73, 2, FALSE)","v":1},{"$f":"VLOOKUP(A220, 'PF14702'!B220:C2900, 2, FALSE)","v":1663},{"$f":"VLOOKUP($A220, taxonomy!$B$2:$T$695, 6, FALSE)","v":"Eukaryota"},{"$f":"VLOOKUP($A220, taxonomy!$B$2:$T$695, 7, FALSE)","v":" Metazoa"},{"$f":"VLOOKUP($A220, taxonomy!$B$2:$T$695, 8, FALSE)","v":" Ecdysozoa"},{"$f":"VLOOKUP($A220, taxonomy!$B$2:$T$695, 9, FALSE)","v":" Nematoda"},{"$f":"VLOOKUP($A220, taxonomy!$B$2:$T$695, 10, FALSE)","v":" Enoplea"},{"$f":"VLOOKUP($A220, taxonomy!$B$2:$T$695, 11, FALSE)","v":" Dorylaimia"},{"$f":"VLOOKUP($A220, taxonomy!$B$2:$T$695, 12, FALSE)","v":"Trichinellida"},{"$f":"VLOOKUP($A220, taxonomy!$B$2:$T$695, 13, FALSE)","v":" Trichuridae"},{"$f":"VLOOKUP($A220, taxonomy!$B$2:$T$695, 14, FALSE)","v":" Trichuris."},{"$f":"VLOOKUP($A220, taxonomy!$B$2:$T$695, 15, FALSE)","v":0},{"$f":"VLOOKUP($A220, taxonomy!$B$2:$T$695, 16, FALSE)","v":0},{"$f":"VLOOKUP($A220, taxonomy!$B$2:$T$695, 17, FALSE)","v":0}]
["A0A0P1BQ20",{"$f":" VLOOKUP(A221, architecture!D$2:E$73, 2, FALSE)","v":{"$error":"#N/A"}},{"$f":"VLOOKUP(A221, 'PF14702'!B221:C2901, 2, FALSE)","v":1601},{"$f":"VLOOKUP($A221, taxonomy!$B$2:$T$695, 6, FALSE)","v":"Eukaryota"},{"$f":"VLOOKUP($A221, taxonomy!$B$2:$T$695, 7, FALSE)","v":" Fungi"},{"$f":"VLOOKUP($A221, taxonomy!$B$2:$T$695, 8, FALSE)","v":" Dikarya"},{"$f":"VLOOKUP($A221, taxonomy!$B$2:$T$695, 9, FALSE)","v":" Basidiomycota"},{"$f":"VLOOKUP($A221, taxonomy!$B$2:$T$695, 10, FALSE)","v":" Ustilaginomycotina"},{"$f":"VLOOKUP($A221, taxonomy!$B$2:$T$695, 11, FALSE)","v":"Exobasidiomycetes"},{"$f":"VLOOKUP($A221, taxonomy!$B$2:$T$695, 12, FALSE)","v":" Ceraceosorales"},{"$f":"VLOOKUP($A221, taxonomy!$B$2:$T$695, 13, FALSE)","v":" Ceraceosoraceae"},{"$f":"VLOOKUP($A221, taxonomy!$B$2:$T$695, 14, FALSE)","v":" Ceraceosorus."},{"$f":"VLOOKUP($A221, taxonomy!$B$2:$T$695, 15, FALSE)","v":0},{"$f":"VLOOKUP($A221, taxonomy!$B$2:$T$695, 16, FALSE)","v":0},{"$f":"VLOOKUP($A221, taxonomy!$B$2:$T$695, 17, FALSE)","v":0}]
["A0A0P7BVC3",{"$f":" VLOOKUP(A222, architecture!D$2:E$73, 2, FALSE)","v":{"$error":"#N/A"}},{"$f":"VLOOKUP(A222, 'PF14702'!B222:C2902, 2, FALSE)","v":1553},{"$f":"VLOOKUP($A222, taxonomy!$B$2:$T$695, 6, FALSE)","v":"Eukaryota"},{"$f":"VLOOKUP($A222, taxonomy!$B$2:$T$695, 7, FALSE)","v":" Fungi"},{"$f":"VLOOKUP($A222, taxonomy!$B$2:$T$695, 8, FALSE)","v":" Dikarya"},{"$f":"VLOOKUP($A222, taxonomy!$B$2:$T$695, 9, FALSE)","v":" Ascomycota"},{"$f":"VLOOKUP($A222, taxonomy!$B$2:$T$695, 10, FALSE)","v":" Pezizomycotina"},{"$f":"VLOOKUP($A222, taxonomy!$B$2:$T$695, 11, FALSE)","v":"Sordariomycetes"},{"$f":"VLOOKUP($A222, taxonomy!$B$2:$T$695, 12, FALSE)","v":" Hypocreomycetidae"},{"$f":"VLOOKUP($A222, taxonomy!$B$2:$T$695, 13, FALSE)","v":" Hypocreales"},{"$f":"VLOOKUP($A222, taxonomy!$B$2:$T$695, 14, FALSE)","v":" Nectriaceae"},{"$f":"VLOOKUP($A222, taxonomy!$B$2:$T$695, 15, FALSE)","v":"Neonectria."},{"$f":"VLOOKUP($A222, taxonomy!$B$2:$T$695, 16, FALSE)","v":0},{"$f":"VLOOKUP($A222, taxonomy!$B$2:$T$695, 17, FALSE)","v":0}]
["A0A0P7USB6",{"$f":" VLOOKUP(A223, architecture!D$2:E$73, 2, FALSE)","v":{"$error":"#N/A"}},{"$f":"VLOOKUP(A223, 'PF14702'!B223:C2903, 2, FALSE)","v":1158},{"$f":"VLOOKUP($A223, taxonomy!$B$2:$T$695, 6, FALSE)","v":"Eukaryota"},{"$f":"VLOOKUP($A223, taxonomy!$B$2:$T$695, 7, FALSE)","v":" Metazoa"},{"$f":"VLOOKUP($A223, taxonomy!$B$2:$T$695, 8, FALSE)","v":" Chordata"},{"$f":"VLOOKUP($A223, taxonomy!$B$2:$T$695, 9, FALSE)","v":" Craniata"},{"$f":"VLOOKUP($A223, taxonomy!$B$2:$T$695, 10, FALSE)","v":" Vertebrata"},{"$f":"VLOOKUP($A223, taxonomy!$B$2:$T$695, 11, FALSE)","v":" Euteleostomi"},{"$f":"VLOOKUP($A223, taxonomy!$B$2:$T$695, 12, FALSE)","v":"Actinopterygii"},{"$f":"VLOOKUP($A223, taxonomy!$B$2:$T$695, 13, FALSE)","v":" Neopterygii"},{"$f":"VLOOKUP($A223, taxonomy!$B$2:$T$695, 14, FALSE)","v":" Teleostei"},{"$f":"VLOOKUP($A223, taxonomy!$B$2:$T$695, 15, FALSE)","v":" Osteoglossocephala"},{"$f":"VLOOKUP($A223, taxonomy!$B$2:$T$695, 16, FALSE)","v":"Osteoglossomorpha"},{"$f":"VLOOKUP($A223, taxonomy!$B$2:$T$695, 17, FALSE)","v":" Osteoglossiformes"}]
["A0A0P8XMZ1",{"$f":" VLOOKUP(A224, architecture!D$2:E$73, 2, FALSE)","v":{"$error":"#N/A"}},{"$f":"VLOOKUP(A224, 'PF14702'!B224:C2904, 2, FALSE)","v":1546},{"$f":"VLOOKUP($A224, taxonomy!$B$2:$T$695, 6, FALSE)","v":"Eukaryota"},{"$f":"VLOOKUP($A224, taxonomy!$B$2:$T$695, 7, FALSE)","v":" Metazoa"},{"$f":"VLOOKUP($A224, taxonomy!$B$2:$T$695, 8, FALSE)","v":" Ecdysozoa"},{"$f":"VLOOKUP($A224, taxonomy!$B$2:$T$695, 9, FALSE)","v":" Arthropoda"},{"$f":"VLOOKUP($A224, taxonomy!$B$2:$T$695, 10, FALSE)","v":" Hexapoda"},{"$f":"VLOOKUP($A224, taxonomy!$B$2:$T$695, 11, FALSE)","v":" Insecta"},{"$f":"VLOOKUP($A224, taxonomy!$B$2:$T$695, 12, FALSE)","v":"Pterygota"},{"$f":"VLOOKUP($A224, taxonomy!$B$2:$T$695, 13, FALSE)","v":" Neoptera"},{"$f":"VLOOKUP($A224, taxonomy!$B$2:$T$695, 14, FALSE)","v":" Holometabola"},{"$f":"VLOOKUP($A224, taxonomy!$B$2:$T$695, 15, FALSE)","v":" Diptera"},{"$f":"VLOOKUP($A224, taxonomy!$B$2:$T$695, 16, FALSE)","v":" Brachycera"},{"$f":"VLOOKUP($A224, taxonomy!$B$2:$T$695, 17, FALSE)","v":" Muscomorpha"}]
["A0A0P9AD98",{"$f":" VLOOKUP(A225, architecture!D$2:E$73, 2, FALSE)","v":{"$error":"#N/A"}},{"$f":"VLOOKUP(A225, 'PF14702'!B225:C2905, 2, FALSE)","v":1539},{"$f":"VLOOKUP($A225, taxonomy!$B$2:$T$695, 6, FALSE)","v":"Eukaryota"},{"$f":"VLOOKUP($A225, taxonomy!$B$2:$T$695, 7, FALSE)","v":" Metazoa"},{"$f":"VLOOKUP($A225, taxonomy!$B$2:$T$695, 8, FALSE)","v":" Ecdysozoa"},{"$f":"VLOOKUP($A225, taxonomy!$B$2:$T$695, 9, FALSE)","v":" Arthropoda"},{"$f":"VLOOKUP($A225, taxonomy!$B$2:$T$695, 10, FALSE)","v":" Hexapoda"},{"$f":"VLOOKUP($A225, taxonomy!$B$2:$T$695, 11, FALSE)","v":" Insecta"},{"$f":"VLOOKUP($A225, taxonomy!$B$2:$T$695, 12, FALSE)","v":"Pterygota"},{"$f":"VLOOKUP($A225, taxonomy!$B$2:$T$695, 13, FALSE)","v":" Neoptera"},{"$f":"VLOOKUP($A225, taxonomy!$B$2:$T$695, 14, FALSE)","v":" Holometabola"},{"$f":"VLOOKUP($A225, taxonomy!$B$2:$T$695, 15, FALSE)","v":" Diptera"},{"$f":"VLOOKUP($A225, taxonomy!$B$2:$T$695, 16, FALSE)","v":" Brachycera"},{"$f":"VLOOKUP($A225, taxonomy!$B$2:$T$695, 17, FALSE)","v":" Muscomorpha"}]
["A0A0Q3LTJ5",{"$f":" VLOOKUP(A226, architecture!D$2:E$73, 2, FALSE)","v":{"$error":"#N/A"}},{"$f":"VLOOKUP(A226, 'PF14702'!B226:C2906, 2, FALSE)","v":1530},{"$f":"VLOOKUP($A226, taxonomy!$B$2:$T$695, 6, FALSE)","v":"Eukaryota"},{"$f":"VLOOKUP($A226, taxonomy!$B$2:$T$695, 7, FALSE)","v":" Metazoa"},{"$f":"VLOOKUP($A226, taxonomy!$B$2:$T$695, 8, FALSE)","v":" Chordata"},{"$f":"VLOOKUP($A226, taxonomy!$B$2:$T$695, 9, FALSE)","v":" Craniata"},{"$f":"VLOOKUP($A226, taxonomy!$B$2:$T$695, 10, FALSE)","v":" Vertebrata"},{"$f":"VLOOKUP($A226, taxonomy!$B$2:$T$695, 11, FALSE)","v":" Euteleostomi"},{"$f":"VLOOKUP($A226, taxonomy!$B$2:$T$695, 12, FALSE)","v":"Archelosauria"},{"$f":"VLOOKUP($A226, taxonomy!$B$2:$T$695, 13, FALSE)","v":" Archosauria"},{"$f":"VLOOKUP($A226, taxonomy!$B$2:$T$695, 14, FALSE)","v":" Dinosauria"},{"$f":"VLOOKUP($A226, taxonomy!$B$2:$T$695, 15, FALSE)","v":" Saurischia"},{"$f":"VLOOKUP($A226, taxonomy!$B$2:$T$695, 16, FALSE)","v":" Theropoda"},{"$f":"VLOOKUP($A226, taxonomy!$B$2:$T$695, 17, FALSE)","v":"Coelurosauria"}]
["A0A0Q9W6A7",{"$f":" VLOOKUP(A227, architecture!D$2:E$73, 2, FALSE)","v":{"$error":"#N/A"}},{"$f":"VLOOKUP(A227, 'PF14702'!B227:C2907, 2, FALSE)","v":1572},{"$f":"VLOOKUP($A227, taxonomy!$B$2:$T$695, 6, FALSE)","v":"Eukaryota"},{"$f":"VLOOKUP($A227, taxonomy!$B$2:$T$695, 7, FALSE)","v":" Metazoa"},{"$f":"VLOOKUP($A227, taxonomy!$B$2:$T$695, 8, FALSE)","v":" Ecdysozoa"},{"$f":"VLOOKUP($A227, taxonomy!$B$2:$T$695, 9, FALSE)","v":" Arthropoda"},{"$f":"VLOOKUP($A227, taxonomy!$B$2:$T$695, 10, FALSE)","v":" Hexapoda"},{"$f":"VLOOKUP($A227, taxonomy!$B$2:$T$695, 11, FALSE)","v":" Insecta"},{"$f":"VLOOKUP($A227, taxonomy!$B$2:$T$695, 12, FALSE)","v":"Pterygota"},{"$f":"VLOOKUP($A227, taxonomy!$B$2:$T$695, 13, FALSE)","v":" Neoptera"},{"$f":"VLOOKUP($A227, taxonomy!$B$2:$T$695, 14, FALSE)","v":" Holometabola"},{"$f":"VLOOKUP($A227, taxonomy!$B$2:$T$695, 15, FALSE)","v":" Diptera"},{"$f":"VLOOKUP($A227, taxonomy!$B$2:$T$695, 16, FALSE)","v":" Brachycera"},{"$f":"VLOOKUP($A227, taxonomy!$B$2:$T$695, 17, FALSE)","v":" Muscomorpha"}]
["A0A0Q9WH87",{"$f":" VLOOKUP(A228, architecture!D$2:E$73, 2, FALSE)","v":{"$error":"#N/A"}},{"$f":"VLOOKUP(A228, 'PF14702'!B228:C2908, 2, FALSE)","v":1538},{"$f":"VLOOKUP($A228, taxonomy!$B$2:$T$695, 6, FALSE)","v":"Eukaryota"},{"$f":"VLOOKUP($A228, taxonomy!$B$2:$T$695, 7, FALSE)","v":" Metazoa"},{"$f":"VLOOKUP($A228, taxonomy!$B$2:$T$695, 8, FALSE)","v":" Ecdysozoa"},{"$f":"VLOOKUP($A228, taxonomy!$B$2:$T$695, 9, FALSE)","v":" Arthropoda"},{"$f":"VLOOKUP($A228, taxonomy!$B$2:$T$695, 10, FALSE)","v":" Hexapoda"},{"$f":"VLOOKUP($A228, taxonomy!$B$2:$T$695, 11, FALSE)","v":" Insecta"},{"$f":"VLOOKUP($A228, taxonomy!$B$2:$T$695, 12, FALSE)","v":"Pterygota"},{"$f":"VLOOKUP($A228, taxonomy!$B$2:$T$695, 13, FALSE)","v":" Neoptera"},{"$f":"VLOOKUP($A228, taxonomy!$B$2:$T$695, 14, FALSE)","v":" Holometabola"},{"$f":"VLOOKUP($A228, taxonomy!$B$2:$T$695, 15, FALSE)","v":" Diptera"},{"$f":"VLOOKUP($A228, taxonomy!$B$2:$T$695, 16, FALSE)","v":" Brachycera"},{"$f":"VLOOKUP($A228, taxonomy!$B$2:$T$695, 17, FALSE)","v":" Muscomorpha"}]
["A0A0Q9X8G5",{"$f":" VLOOKUP(A229, architecture!D$2:E$73, 2, FALSE)","v":{"$error":"#N/A"}},{"$f":"VLOOKUP(A229, 'PF14702'!B229:C2909, 2, FALSE)","v":1601},{"$f":"VLOOKUP($A229, taxonomy!$B$2:$T$695, 6, FALSE)","v":"Eukaryota"},{"$f":"VLOOKUP($A229, taxonomy!$B$2:$T$695, 7, FALSE)","v":" Metazoa"},{"$f":"VLOOKUP($A229, taxonomy!$B$2:$T$695, 8, FALSE)","v":" Ecdysozoa"},{"$f":"VLOOKUP($A229, taxonomy!$B$2:$T$695, 9, FALSE)","v":" Arthropoda"},{"$f":"VLOOKUP($A229, taxonomy!$B$2:$T$695, 10, FALSE)","v":" Hexapoda"},{"$f":"VLOOKUP($A229, taxonomy!$B$2:$T$695, 11, FALSE)","v":" Insecta"},{"$f":"VLOOKUP($A229, taxonomy!$B$2:$T$695, 12, FALSE)","v":"Pterygota"},{"$f":"VLOOKUP($A229, taxonomy!$B$2:$T$695, 13, FALSE)","v":" Neoptera"},{"$f":"VLOOKUP($A229, taxonomy!$B$2:$T$695, 14, FALSE)","v":" Holometabola"},{"$f":"VLOOKUP($A229, taxonomy!$B$2:$T$695, 15, FALSE)","v":" Diptera"},{"$f":"VLOOKUP($A229, taxonomy!$B$2:$T$695, 16, FALSE)","v":" Brachycera"},{"$f":"VLOOKUP($A229, taxonomy!$B$2:$T$695, 17, FALSE)","v":" Muscomorpha"}]
["A0A0Q9X9A0",{"$f":" VLOOKUP(A230, architecture!D$2:E$73, 2, FALSE)","v":{"$error":"#N/A"}},{"$f":"VLOOKUP(A230, 'PF14702'!B230:C2910, 2, FALSE)","v":1538},{"$f":"VLOOKUP($A230, taxonomy!$B$2:$T$695, 6, FALSE)","v":"Eukaryota"},{"$f":"VLOOKUP($A230, taxonomy!$B$2:$T$695, 7, FALSE)","v":" Metazoa"},{"$f":"VLOOKUP($A230, taxonomy!$B$2:$T$695, 8, FALSE)","v":" Ecdysozoa"},{"$f":"VLOOKUP($A230, taxonomy!$B$2:$T$695, 9, FALSE)","v":" Arthropoda"},{"$f":"VLOOKUP($A230, taxonomy!$B$2:$T$695, 10, FALSE)","v":" Hexapoda"},{"$f":"VLOOKUP($A230, taxonomy!$B$2:$T$695, 11, FALSE)","v":" Insecta"},{"$f":"VLOOKUP($A230, taxonomy!$B$2:$T$695, 12, FALSE)","v":"Pterygota"},{"$f":"VLOOKUP($A230, taxonomy!$B$2:$T$695, 13, FALSE)","v":" Neoptera"},{"$f":"VLOOKUP($A230, taxonomy!$B$2:$T$695, 14, FALSE)","v":" Holometabola"},{"$f":"VLOOKUP($A230, taxonomy!$B$2:$T$695, 15, FALSE)","v":" Diptera"},{"$f":"VLOOKUP($A230, taxonomy!$B$2:$T$695, 16, FALSE)","v":" Brachycera"},{"$f":"VLOOKUP($A230, taxonomy!$B$2:$T$695, 17, FALSE)","v":" Muscomorpha"}]
["A0A0Q9XL69",{"$f":" VLOOKUP(A231, architecture!D$2:E$73, 2, FALSE)","v":{"$error":"#N/A"}},{"$f":"VLOOKUP(A231, 'PF14702'!B231:C2911, 2, FALSE)","v":1580},{"$f":"VLOOKUP($A231, taxonomy!$B$2:$T$695, 6, FALSE)","v":"Eukaryota"},{"$f":"VLOOKUP($A231, taxonomy!$B$2:$T$695, 7, FALSE)","v":" Metazoa"},{"$f":"VLOOKUP($A231, taxonomy!$B$2:$T$695, 8, FALSE)","v":" Ecdysozoa"},{"$f":"VLOOKUP($A231, taxonomy!$B$2:$T$695, 9, FALSE)","v":" Arthropoda"},{"$f":"VLOOKUP($A231, taxonomy!$B$2:$T$695, 10, FALSE)","v":" Hexapoda"},{"$f":"VLOOKUP($A231, taxonomy!$B$2:$T$695, 11, FALSE)","v":" Insecta"},{"$f":"VLOOKUP($A231, taxonomy!$B$2:$T$695, 12, FALSE)","v":"Pterygota"},{"$f":"VLOOKUP($A231, taxonomy!$B$2:$T$695, 13, FALSE)","v":" Neoptera"},{"$f":"VLOOKUP($A231, taxonomy!$B$2:$T$695, 14, FALSE)","v":" Holometabola"},{"$f":"VLOOKUP($A231, taxonomy!$B$2:$T$695, 15, FALSE)","v":" Diptera"},{"$f":"VLOOKUP($A231, taxonomy!$B$2:$T$695, 16, FALSE)","v":" Brachycera"},{"$f":"VLOOKUP($A231, taxonomy!$B$2:$T$695, 17, FALSE)","v":" Muscomorpha"}]
["A0A0R3NSL8",{"$f":" VLOOKUP(A232, architecture!D$2:E$73, 2, FALSE)","v":{"$error":"#N/A"}},{"$f":"VLOOKUP(A232, 'PF14702'!B232:C2912, 2, FALSE)","v":1583},{"$f":"VLOOKUP($A232, taxonomy!$B$2:$T$695, 6, FALSE)","v":"Eukaryota"},{"$f":"VLOOKUP($A232, taxonomy!$B$2:$T$695, 7, FALSE)","v":" Metazoa"},{"$f":"VLOOKUP($A232, taxonomy!$B$2:$T$695, 8, FALSE)","v":" Ecdysozoa"},{"$f":"VLOOKUP($A232, taxonomy!$B$2:$T$695, 9, FALSE)","v":" Arthropoda"},{"$f":"VLOOKUP($A232, taxonomy!$B$2:$T$695, 10, FALSE)","v":" Hexapoda"},{"$f":"VLOOKUP($A232, taxonomy!$B$2:$T$695, 11, FALSE)","v":" Insecta"},{"$f":"VLOOKUP($A232, taxonomy!$B$2:$T$695, 12, FALSE)","v":"Pterygota"},{"$f":"VLOOKUP($A232, taxonomy!$B$2:$T$695, 13, FALSE)","v":" Neoptera"},{"$f":"VLOOKUP($A232, taxonomy!$B$2:$T$695, 14, FALSE)","v":" Holometabola"},{"$f":"VLOOKUP($A232, taxonomy!$B$2:$T$695, 15, FALSE)","v":" Diptera"},{"$f":"VLOOKUP($A232, taxonomy!$B$2:$T$695, 16, FALSE)","v":" Brachycera"},{"$f":"VLOOKUP($A232, taxonomy!$B$2:$T$695, 17, FALSE)","v":" Muscomorpha"}]
["A0A0R3PR76",{"$f":" VLOOKUP(A233, architecture!D$2:E$73, 2, FALSE)","v":{"$error":"#N/A"}},{"$f":"VLOOKUP(A233, 'PF14702'!B233:C2913, 2, FALSE)","v":1448},{"$f":"VLOOKUP($A233, taxonomy!$B$2:$T$695, 6, FALSE)","v":"Eukaryota"},{"$f":"VLOOKUP($A233, taxonomy!$B$2:$T$695, 7, FALSE)","v":" Metazoa"},{"$f":"VLOOKUP($A233, taxonomy!$B$2:$T$695, 8, FALSE)","v":" Ecdysozoa"},{"$f":"VLOOKUP($A233, taxonomy!$B$2:$T$695, 9, FALSE)","v":" Nematoda"},{"$f":"VLOOKUP($A233, taxonomy!$B$2:$T$695, 10, FALSE)","v":" Chromadorea"},{"$f":"VLOOKUP($A233, taxonomy!$B$2:$T$695, 11, FALSE)","v":" Rhabditida"},{"$f":"VLOOKUP($A233, taxonomy!$B$2:$T$695, 12, FALSE)","v":"Strongylida"},{"$f":"VLOOKUP($A233, taxonomy!$B$2:$T$695, 13, FALSE)","v":" Metastrongyloidea"},{"$f":"VLOOKUP($A233, taxonomy!$B$2:$T$695, 14, FALSE)","v":" Angiostrongylidae"},{"$f":"VLOOKUP($A233, taxonomy!$B$2:$T$695, 15, FALSE)","v":" Angiostrongylus."},{"$f":"VLOOKUP($A233, taxonomy!$B$2:$T$695, 16, FALSE)","v":0},{"$f":"VLOOKUP($A233, taxonomy!$B$2:$T$695, 17, FALSE)","v":0}]
["A0A0R3QD39",{"$f":" VLOOKUP(A234, architecture!D$2:E$73, 2, FALSE)","v":2},{"$f":"VLOOKUP(A234, 'PF14702'!B234:C2914, 2, FALSE)","v":198},{"$f":"VLOOKUP($A234, taxonomy!$B$2:$T$695, 6, FALSE)","v":"Eukaryota"},{"$f":"VLOOKUP($A234, taxonomy!$B$2:$T$695, 7, FALSE)","v":" Metazoa"},{"$f":"VLOOKUP($A234, taxonomy!$B$2:$T$695, 8, FALSE)","v":" Ecdysozoa"},{"$f":"VLOOKUP($A234, taxonomy!$B$2:$T$695, 9, FALSE)","v":" Nematoda"},{"$f":"VLOOKUP($A234, taxonomy!$B$2:$T$695, 10, FALSE)","v":" Chromadorea"},{"$f":"VLOOKUP($A234, taxonomy!$B$2:$T$695, 11, FALSE)","v":" Spirurida"},{"$f":"VLOOKUP($A234, taxonomy!$B$2:$T$695, 12, FALSE)","v":"Spiruromorpha"},{"$f":"VLOOKUP($A234, taxonomy!$B$2:$T$695, 13, FALSE)","v":" Filarioidea"},{"$f":"VLOOKUP($A234, taxonomy!$B$2:$T$695, 14, FALSE)","v":" Onchocercidae"},{"$f":"VLOOKUP($A234, taxonomy!$B$2:$T$695, 15, FALSE)","v":" Brugia."},{"$f":"VLOOKUP($A234, taxonomy!$B$2:$T$695, 16, FALSE)","v":0},{"$f":"VLOOKUP($A234, taxonomy!$B$2:$T$695, 17, FALSE)","v":0}]
["A0A0R3RCE9",{"$f":" VLOOKUP(A235, architecture!D$2:E$73, 2, FALSE)","v":{"$error":"#N/A"}},{"$f":"VLOOKUP(A235, 'PF14702'!B235:C2915, 2, FALSE)","v":257},{"$f":"VLOOKUP($A235, taxonomy!$B$2:$T$695, 6, FALSE)","v":"Eukaryota"},{"$f":"VLOOKUP($A235, taxonomy!$B$2:$T$695, 7, FALSE)","v":" Metazoa"},{"$f":"VLOOKUP($A235, taxonomy!$B$2:$T$695, 8, FALSE)","v":" Ecdysozoa"},{"$f":"VLOOKUP($A235, taxonomy!$B$2:$T$695, 9, FALSE)","v":" Nematoda"},{"$f":"VLOOKUP($A235, taxonomy!$B$2:$T$695, 10, FALSE)","v":" Chromadorea"},{"$f":"VLOOKUP($A235, taxonomy!$B$2:$T$695, 11, FALSE)","v":" Spirurida"},{"$f":"VLOOKUP($A235, taxonomy!$B$2:$T$695, 12, FALSE)","v":"Spiruromorpha"},{"$f":"VLOOKUP($A235, taxonomy!$B$2:$T$695, 13, FALSE)","v":" Filarioidea"},{"$f":"VLOOKUP($A235, taxonomy!$B$2:$T$695, 14, FALSE)","v":" Onchocercidae"},{"$f":"VLOOKUP($A235, taxonomy!$B$2:$T$695, 15, FALSE)","v":" Brugia."},{"$f":"VLOOKUP($A235, taxonomy!$B$2:$T$695, 16, FALSE)","v":0},{"$f":"VLOOKUP($A235, taxonomy!$B$2:$T$695, 17, FALSE)","v":0}]
["A0A0R3RER8",{"$f":" VLOOKUP(A236, architecture!D$2:E$73, 2, FALSE)","v":1},{"$f":"VLOOKUP(A236, 'PF14702'!B236:C2916, 2, FALSE)","v":1495},{"$f":"VLOOKUP($A236, taxonomy!$B$2:$T$695, 6, FALSE)","v":"Eukaryota"},{"$f":"VLOOKUP($A236, taxonomy!$B$2:$T$695, 7, FALSE)","v":" Metazoa"},{"$f":"VLOOKUP($A236, taxonomy!$B$2:$T$695, 8, FALSE)","v":" Ecdysozoa"},{"$f":"VLOOKUP($A236, taxonomy!$B$2:$T$695, 9, FALSE)","v":" Nematoda"},{"$f":"VLOOKUP($A236, taxonomy!$B$2:$T$695, 10, FALSE)","v":" Chromadorea"},{"$f":"VLOOKUP($A236, taxonomy!$B$2:$T$695, 11, FALSE)","v":" Spirurida"},{"$f":"VLOOKUP($A236, taxonomy!$B$2:$T$695, 12, FALSE)","v":"Spiruromorpha"},{"$f":"VLOOKUP($A236, taxonomy!$B$2:$T$695, 13, FALSE)","v":" Filarioidea"},{"$f":"VLOOKUP($A236, taxonomy!$B$2:$T$695, 14, FALSE)","v":" Onchocercidae"},{"$f":"VLOOKUP($A236, taxonomy!$B$2:$T$695, 15, FALSE)","v":" Brugia."},{"$f":"VLOOKUP($A236, taxonomy!$B$2:$T$695, 16, FALSE)","v":0},{"$f":"VLOOKUP($A236, taxonomy!$B$2:$T$695, 17, FALSE)","v":0}]
["A0A0R3S651",{"$f":" VLOOKUP(A237, architecture!D$2:E$73, 2, FALSE)","v":{"$error":"#N/A"}},{"$f":"VLOOKUP(A237, 'PF14702'!B237:C2917, 2, FALSE)","v":844},{"$f":"VLOOKUP($A237, taxonomy!$B$2:$T$695, 6, FALSE)","v":"Eukaryota"},{"$f":"VLOOKUP($A237, taxonomy!$B$2:$T$695, 7, FALSE)","v":" Metazoa"},{"$f":"VLOOKUP($A237, taxonomy!$B$2:$T$695, 8, FALSE)","v":" Ecdysozoa"},{"$f":"VLOOKUP($A237, taxonomy!$B$2:$T$695, 9, FALSE)","v":" Nematoda"},{"$f":"VLOOKUP($A237, taxonomy!$B$2:$T$695, 10, FALSE)","v":" Chromadorea"},{"$f":"VLOOKUP($A237, taxonomy!$B$2:$T$695, 11, FALSE)","v":" Spirurida"},{"$f":"VLOOKUP($A237, taxonomy!$B$2:$T$695, 12, FALSE)","v":"Spiruromorpha"},{"$f":"VLOOKUP($A237, taxonomy!$B$2:$T$695, 13, FALSE)","v":" Filarioidea"},{"$f":"VLOOKUP($A237, taxonomy!$B$2:$T$695, 14, FALSE)","v":" Onchocercidae"},{"$f":"VLOOKUP($A237, taxonomy!$B$2:$T$695, 15, FALSE)","v":" Elaeophora."},{"$f":"VLOOKUP($A237, taxonomy!$B$2:$T$695, 16, FALSE)","v":0},{"$f":"VLOOKUP($A237, taxonomy!$B$2:$T$695, 17, FALSE)","v":0}]
["A0A0R3SBE9",{"$f":" VLOOKUP(A238, architecture!D$2:E$73, 2, FALSE)","v":2},{"$f":"VLOOKUP(A238, 'PF14702'!B238:C2918, 2, FALSE)","v":144},{"$f":"VLOOKUP($A238, taxonomy!$B$2:$T$695, 6, FALSE)","v":"Eukaryota"},{"$f":"VLOOKUP($A238, taxonomy!$B$2:$T$695, 7, FALSE)","v":" Metazoa"},{"$f":"VLOOKUP($A238, taxonomy!$B$2:$T$695, 8, FALSE)","v":" Platyhelminthes"},{"$f":"VLOOKUP($A238, taxonomy!$B$2:$T$695, 9, FALSE)","v":" Cestoda"},{"$f":"VLOOKUP($A238, taxonomy!$B$2:$T$695, 10, FALSE)","v":" Eucestoda"},{"$f":"VLOOKUP($A238, taxonomy!$B$2:$T$695, 11, FALSE)","v":"Cyclophyllidea"},{"$f":"VLOOKUP($A238, taxonomy!$B$2:$T$695, 12, FALSE)","v":" Hymenolepididae"},{"$f":"VLOOKUP($A238, taxonomy!$B$2:$T$695, 13, FALSE)","v":" Hymenolepis."},{"$f":"VLOOKUP($A238, taxonomy!$B$2:$T$695, 14, FALSE)","v":0},{"$f":"VLOOKUP($A238, taxonomy!$B$2:$T$695, 15, FALSE)","v":0},{"$f":"VLOOKUP($A238, taxonomy!$B$2:$T$695, 16, FALSE)","v":0},{"$f":"VLOOKUP($A238, taxonomy!$B$2:$T$695, 17, FALSE)","v":0}]
["A0A0R3TSV0",{"$f":" VLOOKUP(A239, architecture!D$2:E$73, 2, FALSE)","v":{"$error":"#N/A"}},{"$f":"VLOOKUP(A239, 'PF14702'!B239:C2919, 2, FALSE)","v":1524},{"$f":"VLOOKUP($A239, taxonomy!$B$2:$T$695, 6, FALSE)","v":"Eukaryota"},{"$f":"VLOOKUP($A239, taxonomy!$B$2:$T$695, 7, FALSE)","v":" Metazoa"},{"$f":"VLOOKUP($A239, taxonomy!$B$2:$T$695, 8, FALSE)","v":" Platyhelminthes"},{"$f":"VLOOKUP($A239, taxonomy!$B$2:$T$695, 9, FALSE)","v":" Cestoda"},{"$f":"VLOOKUP($A239, taxonomy!$B$2:$T$695, 10, FALSE)","v":" Eucestoda"},{"$f":"VLOOKUP($A239, taxonomy!$B$2:$T$695, 11, FALSE)","v":"Cyclophyllidea"},{"$f":"VLOOKUP($A239, taxonomy!$B$2:$T$695, 12, FALSE)","v":" Hymenolepididae"},{"$f":"VLOOKUP($A239, taxonomy!$B$2:$T$695, 13, FALSE)","v":" Hymenolepis."},{"$f":"VLOOKUP($A239, taxonomy!$B$2:$T$695, 14, FALSE)","v":0},{"$f":"VLOOKUP($A239, taxonomy!$B$2:$T$695, 15, FALSE)","v":0},{"$f":"VLOOKUP($A239, taxonomy!$B$2:$T$695, 16, FALSE)","v":0},{"$f":"VLOOKUP($A239, taxonomy!$B$2:$T$695, 17, FALSE)","v":0}]
["A0A0R3U9I3",{"$f":" VLOOKUP(A240, architecture!D$2:E$73, 2, FALSE)","v":{"$error":"#N/A"}},{"$f":"VLOOKUP(A240, 'PF14702'!B240:C2920, 2, FALSE)","v":942},{"$f":"VLOOKUP($A240, taxonomy!$B$2:$T$695, 6, FALSE)","v":"Eukaryota"},{"$f":"VLOOKUP($A240, taxonomy!$B$2:$T$695, 7, FALSE)","v":" Metazoa"},{"$f":"VLOOKUP($A240, taxonomy!$B$2:$T$695, 8, FALSE)","v":" Platyhelminthes"},{"$f":"VLOOKUP($A240, taxonomy!$B$2:$T$695, 9, FALSE)","v":" Cestoda"},{"$f":"VLOOKUP($A240, taxonomy!$B$2:$T$695, 10, FALSE)","v":" Eucestoda"},{"$f":"VLOOKUP($A240, taxonomy!$B$2:$T$695, 11, FALSE)","v":"Cyclophyllidea"},{"$f":"VLOOKUP($A240, taxonomy!$B$2:$T$695, 12, FALSE)","v":" Mesocestoididae"},{"$f":"VLOOKUP($A240, taxonomy!$B$2:$T$695, 13, FALSE)","v":" Mesocestoides."},{"$f":"VLOOKUP($A240, taxonomy!$B$2:$T$695, 14, FALSE)","v":0},{"$f":"VLOOKUP($A240, taxonomy!$B$2:$T$695, 15, FALSE)","v":0},{"$f":"VLOOKUP($A240, taxonomy!$B$2:$T$695, 16, FALSE)","v":0},{"$f":"VLOOKUP($A240, taxonomy!$B$2:$T$695, 17, FALSE)","v":0}]
["A0A0R3UQS6",{"$f":" VLOOKUP(A241, architecture!D$2:E$73, 2, FALSE)","v":{"$error":"#N/A"}},{"$f":"VLOOKUP(A241, 'PF14702'!B241:C2921, 2, FALSE)","v":856},{"$f":"VLOOKUP($A241, taxonomy!$B$2:$T$695, 6, FALSE)","v":"Eukaryota"},{"$f":"VLOOKUP($A241, taxonomy!$B$2:$T$695, 7, FALSE)","v":" Metazoa"},{"$f":"VLOOKUP($A241, taxonomy!$B$2:$T$695, 8, FALSE)","v":" Platyhelminthes"},{"$f":"VLOOKUP($A241, taxonomy!$B$2:$T$695, 9, FALSE)","v":" Cestoda"},{"$f":"VLOOKUP($A241, taxonomy!$B$2:$T$695, 10, FALSE)","v":" Eucestoda"},{"$f":"VLOOKUP($A241, taxonomy!$B$2:$T$695, 11, FALSE)","v":"Cyclophyllidea"},{"$f":"VLOOKUP($A241, taxonomy!$B$2:$T$695, 12, FALSE)","v":" Mesocestoididae"},{"$f":"VLOOKUP($A241, taxonomy!$B$2:$T$695, 13, FALSE)","v":" Mesocestoides."},{"$f":"VLOOKUP($A241, taxonomy!$B$2:$T$695, 14, FALSE)","v":0},{"$f":"VLOOKUP($A241, taxonomy!$B$2:$T$695, 15, FALSE)","v":0},{"$f":"VLOOKUP($A241, taxonomy!$B$2:$T$695, 16, FALSE)","v":0},{"$f":"VLOOKUP($A241, taxonomy!$B$2:$T$695, 17, FALSE)","v":0}]
["A0A0R3XAA9",{"$f":" VLOOKUP(A242, architecture!D$2:E$73, 2, FALSE)","v":{"$error":"#N/A"}},{"$f":"VLOOKUP(A242, 'PF14702'!B242:C2922, 2, FALSE)","v":493},{"$f":"VLOOKUP($A242, taxonomy!$B$2:$T$695, 6, FALSE)","v":"Eukaryota"},{"$f":"VLOOKUP($A242, taxonomy!$B$2:$T$695, 7, FALSE)","v":" Metazoa"},{"$f":"VLOOKUP($A242, taxonomy!$B$2:$T$695, 8, FALSE)","v":" Platyhelminthes"},{"$f":"VLOOKUP($A242, taxonomy!$B$2:$T$695, 9, FALSE)","v":" Cestoda"},{"$f":"VLOOKUP($A242, taxonomy!$B$2:$T$695, 10, FALSE)","v":" Eucestoda"},{"$f":"VLOOKUP($A242, taxonomy!$B$2:$T$695, 11, FALSE)","v":"Cyclophyllidea"},{"$f":"VLOOKUP($A242, taxonomy!$B$2:$T$695, 12, FALSE)","v":" Taeniidae"},{"$f":"VLOOKUP($A242, taxonomy!$B$2:$T$695, 13, FALSE)","v":" Hydatigera."},{"$f":"VLOOKUP($A242, taxonomy!$B$2:$T$695, 14, FALSE)","v":0},{"$f":"VLOOKUP($A242, taxonomy!$B$2:$T$695, 15, FALSE)","v":0},{"$f":"VLOOKUP($A242, taxonomy!$B$2:$T$695, 16, FALSE)","v":0},{"$f":"VLOOKUP($A242, taxonomy!$B$2:$T$695, 17, FALSE)","v":0}]
["A0A0R3XCR1",{"$f":" VLOOKUP(A243, architecture!D$2:E$73, 2, FALSE)","v":2},{"$f":"VLOOKUP(A243, 'PF14702'!B243:C2923, 2, FALSE)","v":189},{"$f":"VLOOKUP($A243, taxonomy!$B$2:$T$695, 6, FALSE)","v":"Eukaryota"},{"$f":"VLOOKUP($A243, taxonomy!$B$2:$T$695, 7, FALSE)","v":" Metazoa"},{"$f":"VLOOKUP($A243, taxonomy!$B$2:$T$695, 8, FALSE)","v":" Platyhelminthes"},{"$f":"VLOOKUP($A243, taxonomy!$B$2:$T$695, 9, FALSE)","v":" Cestoda"},{"$f":"VLOOKUP($A243, taxonomy!$B$2:$T$695, 10, FALSE)","v":" Eucestoda"},{"$f":"VLOOKUP($A243, taxonomy!$B$2:$T$695, 11, FALSE)","v":"Cyclophyllidea"},{"$f":"VLOOKUP($A243, taxonomy!$B$2:$T$695, 12, FALSE)","v":" Taeniidae"},{"$f":"VLOOKUP($A243, taxonomy!$B$2:$T$695, 13, FALSE)","v":" Hydatigera."},{"$f":"VLOOKUP($A243, taxonomy!$B$2:$T$695, 14, FALSE)","v":0},{"$f":"VLOOKUP($A243, taxonomy!$B$2:$T$695, 15, FALSE)","v":0},{"$f":"VLOOKUP($A243, taxonomy!$B$2:$T$695, 16, FALSE)","v":0},{"$f":"VLOOKUP($A243, taxonomy!$B$2:$T$695, 17, FALSE)","v":0}]
["A0A0R4IA63",{"$f":" VLOOKUP(A244, architecture!D$2:E$73, 2, FALSE)","v":2},{"$f":"VLOOKUP(A244, 'PF14702'!B244:C2924, 2, FALSE)","v":181},{"$f":"VLOOKUP($A244, taxonomy!$B$2:$T$695, 6, FALSE)","v":"Eukaryota"},{"$f":"VLOOKUP($A244, taxonomy!$B$2:$T$695, 7, FALSE)","v":" Metazoa"},{"$f":"VLOOKUP($A244, taxonomy!$B$2:$T$695, 8, FALSE)","v":" Chordata"},{"$f":"VLOOKUP($A244, taxonomy!$B$2:$T$695, 9, FALSE)","v":" Craniata"},{"$f":"VLOOKUP($A244, taxonomy!$B$2:$T$695, 10, FALSE)","v":" Vertebrata"},{"$f":"VLOOKUP($A244, taxonomy!$B$2:$T$695, 11, FALSE)","v":" Euteleostomi"},{"$f":"VLOOKUP($A244, taxonomy!$B$2:$T$695, 12, FALSE)","v":"Actinopterygii"},{"$f":"VLOOKUP($A244, taxonomy!$B$2:$T$695, 13, FALSE)","v":" Neopterygii"},{"$f":"VLOOKUP($A244, taxonomy!$B$2:$T$695, 14, FALSE)","v":" Teleostei"},{"$f":"VLOOKUP($A244, taxonomy!$B$2:$T$695, 15, FALSE)","v":" Ostariophysi"},{"$f":"VLOOKUP($A244, taxonomy!$B$2:$T$695, 16, FALSE)","v":" Cypriniformes"},{"$f":"VLOOKUP($A244, taxonomy!$B$2:$T$695, 17, FALSE)","v":"Cyprinidae"}]
["A0A0R4IF54",{"$f":" VLOOKUP(A245, architecture!D$2:E$73, 2, FALSE)","v":{"$error":"#N/A"}},{"$f":"VLOOKUP(A245, 'PF14702'!B245:C2925, 2, FALSE)","v":1533},{"$f":"VLOOKUP($A245, taxonomy!$B$2:$T$695, 6, FALSE)","v":"Eukaryota"},{"$f":"VLOOKUP($A245, taxonomy!$B$2:$T$695, 7, FALSE)","v":" Metazoa"},{"$f":"VLOOKUP($A245, taxonomy!$B$2:$T$695, 8, FALSE)","v":" Chordata"},{"$f":"VLOOKUP($A245, taxonomy!$B$2:$T$695, 9, FALSE)","v":" Craniata"},{"$f":"VLOOKUP($A245, taxonomy!$B$2:$T$695, 10, FALSE)","v":" Vertebrata"},{"$f":"VLOOKUP($A245, taxonomy!$B$2:$T$695, 11, FALSE)","v":" Euteleostomi"},{"$f":"VLOOKUP($A245, taxonomy!$B$2:$T$695, 12, FALSE)","v":"Actinopterygii"},{"$f":"VLOOKUP($A245, taxonomy!$B$2:$T$695, 13, FALSE)","v":" Neopterygii"},{"$f":"VLOOKUP($A245, taxonomy!$B$2:$T$695, 14, FALSE)","v":" Teleostei"},{"$f":"VLOOKUP($A245, taxonomy!$B$2:$T$695, 15, FALSE)","v":" Ostariophysi"},{"$f":"VLOOKUP($A245, taxonomy!$B$2:$T$695, 16, FALSE)","v":" Cypriniformes"},{"$f":"VLOOKUP($A245, taxonomy!$B$2:$T$695, 17, FALSE)","v":"Cyprinidae"}]
["A0A0R4IH04",{"$f":" VLOOKUP(A246, architecture!D$2:E$73, 2, FALSE)","v":{"$error":"#N/A"}},{"$f":"VLOOKUP(A246, 'PF14702'!B246:C2926, 2, FALSE)","v":996},{"$f":"VLOOKUP($A246, taxonomy!$B$2:$T$695, 6, FALSE)","v":"Eukaryota"},{"$f":"VLOOKUP($A246, taxonomy!$B$2:$T$695, 7, FALSE)","v":" Metazoa"},{"$f":"VLOOKUP($A246, taxonomy!$B$2:$T$695, 8, FALSE)","v":" Chordata"},{"$f":"VLOOKUP($A246, taxonomy!$B$2:$T$695, 9, FALSE)","v":" Craniata"},{"$f":"VLOOKUP($A246, taxonomy!$B$2:$T$695, 10, FALSE)","v":" Vertebrata"},{"$f":"VLOOKUP($A246, taxonomy!$B$2:$T$695, 11, FALSE)","v":" Euteleostomi"},{"$f":"VLOOKUP($A246, taxonomy!$B$2:$T$695, 12, FALSE)","v":"Actinopterygii"},{"$f":"VLOOKUP($A246, taxonomy!$B$2:$T$695, 13, FALSE)","v":" Neopterygii"},{"$f":"VLOOKUP($A246, taxonomy!$B$2:$T$695, 14, FALSE)","v":" Teleostei"},{"$f":"VLOOKUP($A246, taxonomy!$B$2:$T$695, 15, FALSE)","v":" Ostariophysi"},{"$f":"VLOOKUP($A246, taxonomy!$B$2:$T$695, 16, FALSE)","v":" Cypriniformes"},{"$f":"VLOOKUP($A246, taxonomy!$B$2:$T$695, 17, FALSE)","v":"Cyprinidae"}]
["A0A0R4IU33",{"$f":" VLOOKUP(A247, architecture!D$2:E$73, 2, FALSE)","v":{"$error":"#N/A"}},{"$f":"VLOOKUP(A247, 'PF14702'!B247:C2927, 2, FALSE)","v":1533},{"$f":"VLOOKUP($A247, taxonomy!$B$2:$T$695, 6, FALSE)","v":"Eukaryota"},{"$f":"VLOOKUP($A247, taxonomy!$B$2:$T$695, 7, FALSE)","v":" Metazoa"},{"$f":"VLOOKUP($A247, taxonomy!$B$2:$T$695, 8, FALSE)","v":" Chordata"},{"$f":"VLOOKUP($A247, taxonomy!$B$2:$T$695, 9, FALSE)","v":" Craniata"},{"$f":"VLOOKUP($A247, taxonomy!$B$2:$T$695, 10, FALSE)","v":" Vertebrata"},{"$f":"VLOOKUP($A247, taxonomy!$B$2:$T$695, 11, FALSE)","v":" Euteleostomi"},{"$f":"VLOOKUP($A247, taxonomy!$B$2:$T$695, 12, FALSE)","v":"Actinopterygii"},{"$f":"VLOOKUP($A247, taxonomy!$B$2:$T$695, 13, FALSE)","v":" Neopterygii"},{"$f":"VLOOKUP($A247, taxonomy!$B$2:$T$695, 14, FALSE)","v":" Teleostei"},{"$f":"VLOOKUP($A247, taxonomy!$B$2:$T$695, 15, FALSE)","v":" Ostariophysi"},{"$f":"VLOOKUP($A247, taxonomy!$B$2:$T$695, 16, FALSE)","v":" Cypriniformes"},{"$f":"VLOOKUP($A247, taxonomy!$B$2:$T$695, 17, FALSE)","v":"Cyprinidae"}]
["A0A0R4IV67",{"$f":" VLOOKUP(A248, architecture!D$2:E$73, 2, FALSE)","v":{"$error":"#N/A"}},{"$f":"VLOOKUP(A248, 'PF14702'!B248:C2928, 2, FALSE)","v":1532},{"$f":"VLOOKUP($A248, taxonomy!$B$2:$T$695, 6, FALSE)","v":"Eukaryota"},{"$f":"VLOOKUP($A248, taxonomy!$B$2:$T$695, 7, FALSE)","v":" Metazoa"},{"$f":"VLOOKUP($A248, taxonomy!$B$2:$T$695, 8, FALSE)","v":" Chordata"},{"$f":"VLOOKUP($A248, taxonomy!$B$2:$T$695, 9, FALSE)","v":" Craniata"},{"$f":"VLOOKUP($A248, taxonomy!$B$2:$T$695, 10, FALSE)","v":" Vertebrata"},{"$f":"VLOOKUP($A248, taxonomy!$B$2:$T$695, 11, FALSE)","v":" Euteleostomi"},{"$f":"VLOOKUP($A248, taxonomy!$B$2:$T$695, 12, FALSE)","v":"Actinopterygii"},{"$f":"VLOOKUP($A248, taxonomy!$B$2:$T$695, 13, FALSE)","v":" Neopterygii"},{"$f":"VLOOKUP($A248, taxonomy!$B$2:$T$695, 14, FALSE)","v":" Teleostei"},{"$f":"VLOOKUP($A248, taxonomy!$B$2:$T$695, 15, FALSE)","v":" Ostariophysi"},{"$f":"VLOOKUP($A248, taxonomy!$B$2:$T$695, 16, FALSE)","v":" Cypriniformes"},{"$f":"VLOOKUP($A248, taxonomy!$B$2:$T$695, 17, FALSE)","v":"Cyprinidae"}]
["A0A0R4IZH8",{"$f":" VLOOKUP(A249, architecture!D$2:E$73, 2, FALSE)","v":{"$error":"#N/A"}},{"$f":"VLOOKUP(A249, 'PF14702'!B249:C2929, 2, FALSE)","v":1532},{"$f":"VLOOKUP($A249, taxonomy!$B$2:$T$695, 6, FALSE)","v":"Eukaryota"},{"$f":"VLOOKUP($A249, taxonomy!$B$2:$T$695, 7, FALSE)","v":" Metazoa"},{"$f":"VLOOKUP($A249, taxonomy!$B$2:$T$695, 8, FALSE)","v":" Chordata"},{"$f":"VLOOKUP($A249, taxonomy!$B$2:$T$695, 9, FALSE)","v":" Craniata"},{"$f":"VLOOKUP($A249, taxonomy!$B$2:$T$695, 10, FALSE)","v":" Vertebrata"},{"$f":"VLOOKUP($A249, taxonomy!$B$2:$T$695, 11, FALSE)","v":" Euteleostomi"},{"$f":"VLOOKUP($A249, taxonomy!$B$2:$T$695, 12, FALSE)","v":"Actinopterygii"},{"$f":"VLOOKUP($A249, taxonomy!$B$2:$T$695, 13, FALSE)","v":" Neopterygii"},{"$f":"VLOOKUP($A249, taxonomy!$B$2:$T$695, 14, FALSE)","v":" Teleostei"},{"$f":"VLOOKUP($A249, taxonomy!$B$2:$T$695, 15, FALSE)","v":" Ostariophysi"},{"$f":"VLOOKUP($A249, taxonomy!$B$2:$T$695, 16, FALSE)","v":" Cypriniformes"},{"$f":"VLOOKUP($A249, taxonomy!$B$2:$T$695, 17, FALSE)","v":"Cyprinidae"}]
["A0A0S7E419",{"$f":" VLOOKUP(A250, architecture!D$2:E$73, 2, FALSE)","v":{"$error":"#N/A"}},{"$f":"VLOOKUP(A250, 'PF14702'!B250:C2930, 2, FALSE)","v":1527},{"$f":"VLOOKUP($A250, taxonomy!$B$2:$T$695, 6, FALSE)","v":"Eukaryota"},{"$f":"VLOOKUP($A250, taxonomy!$B$2:$T$695, 7, FALSE)","v":" Fungi"},{"$f":"VLOOKUP($A250, taxonomy!$B$2:$T$695, 8, FALSE)","v":" Dikarya"},{"$f":"VLOOKUP($A250, taxonomy!$B$2:$T$695, 9, FALSE)","v":" Ascomycota"},{"$f":"VLOOKUP($A250, taxonomy!$B$2:$T$695, 10, FALSE)","v":" Pezizomycotina"},{"$f":"VLOOKUP($A250, taxonomy!$B$2:$T$695, 11, FALSE)","v":" Eurotiomycetes"},{"$f":"VLOOKUP($A250, taxonomy!$B$2:$T$695, 12, FALSE)","v":"Eurotiomycetidae"},{"$f":"VLOOKUP($A250, taxonomy!$B$2:$T$695, 13, FALSE)","v":" Eurotiales"},{"$f":"VLOOKUP($A250, taxonomy!$B$2:$T$695, 14, FALSE)","v":" Aspergillaceae"},{"$f":"VLOOKUP($A250, taxonomy!$B$2:$T$695, 15, FALSE)","v":" Aspergillus."},{"$f":"VLOOKUP($A250, taxonomy!$B$2:$T$695, 16, FALSE)","v":0},{"$f":"VLOOKUP($A250, taxonomy!$B$2:$T$695, 17, FALSE)","v":0}]
["A0A0T6B546",{"$f":" VLOOKUP(A251, architecture!D$2:E$73, 2, FALSE)","v":{"$error":"#N/A"}},{"$f":"VLOOKUP(A251, 'PF14702'!B251:C2931, 2, FALSE)","v":950},{"$f":"VLOOKUP($A251, taxonomy!$B$2:$T$695, 6, FALSE)","v":"Eukaryota"},{"$f":"VLOOKUP($A251, taxonomy!$B$2:$T$695, 7, FALSE)","v":" Metazoa"},{"$f":"VLOOKUP($A251, taxonomy!$B$2:$T$695, 8, FALSE)","v":" Ecdysozoa"},{"$f":"VLOOKUP($A251, taxonomy!$B$2:$T$695, 9, FALSE)","v":" Arthropoda"},{"$f":"VLOOKUP($A251, taxonomy!$B$2:$T$695, 10, FALSE)","v":" Hexapoda"},{"$f":"VLOOKUP($A251, taxonomy!$B$2:$T$695, 11, FALSE)","v":" Insecta"},{"$f":"VLOOKUP($A251, taxonomy!$B$2:$T$695, 12, FALSE)","v":"Pterygota"},{"$f":"VLOOKUP($A251, taxonomy!$B$2:$T$695, 13, FALSE)","v":" Neoptera"},{"$f":"VLOOKUP($A251, taxonomy!$B$2:$T$695, 14, FALSE)","v":" Holometabola"},{"$f":"VLOOKUP($A251, taxonomy!$B$2:$T$695, 15, FALSE)","v":" Coleoptera"},{"$f":"VLOOKUP($A251, taxonomy!$B$2:$T$695, 16, FALSE)","v":" Polyphaga"},{"$f":"VLOOKUP($A251, taxonomy!$B$2:$T$695, 17, FALSE)","v":"Scarabaeiformia"}]
["A0A0U1M6K4",{"$f":" VLOOKUP(A252, architecture!D$2:E$73, 2, FALSE)","v":{"$error":"#N/A"}},{"$f":"VLOOKUP(A252, 'PF14702'!B252:C2932, 2, FALSE)","v":1524},{"$f":"VLOOKUP($A252, taxonomy!$B$2:$T$695, 6, FALSE)","v":"Eukaryota"},{"$f":"VLOOKUP($A252, taxonomy!$B$2:$T$695, 7, FALSE)","v":" Fungi"},{"$f":"VLOOKUP($A252, taxonomy!$B$2:$T$695, 8, FALSE)","v":" Dikarya"},{"$f":"VLOOKUP($A252, taxonomy!$B$2:$T$695, 9, FALSE)","v":" Ascomycota"},{"$f":"VLOOKUP($A252, taxonomy!$B$2:$T$695, 10, FALSE)","v":" Pezizomycotina"},{"$f":"VLOOKUP($A252, taxonomy!$B$2:$T$695, 11, FALSE)","v":" Eurotiomycetes"},{"$f":"VLOOKUP($A252, taxonomy!$B$2:$T$695, 12, FALSE)","v":"Eurotiomycetidae"},{"$f":"VLOOKUP($A252, taxonomy!$B$2:$T$695, 13, FALSE)","v":" Eurotiales"},{"$f":"VLOOKUP($A252, taxonomy!$B$2:$T$695, 14, FALSE)","v":" Trichocomaceae"},{"$f":"VLOOKUP($A252, taxonomy!$B$2:$T$695, 15, FALSE)","v":" Talaromyces."},{"$f":"VLOOKUP($A252, taxonomy!$B$2:$T$695, 16, FALSE)","v":0},{"$f":"VLOOKUP($A252, taxonomy!$B$2:$T$695, 17, FALSE)","v":0}]
["A0A0U5G358",{"$f":" VLOOKUP(A253, architecture!D$2:E$73, 2, FALSE)","v":{"$error":"#N/A"}},{"$f":"VLOOKUP(A253, 'PF14702'!B253:C2933, 2, FALSE)","v":1537},{"$f":"VLOOKUP($A253, taxonomy!$B$2:$T$695, 6, FALSE)","v":"Eukaryota"},{"$f":"VLOOKUP($A253, taxonomy!$B$2:$T$695, 7, FALSE)","v":" Fungi"},{"$f":"VLOOKUP($A253, taxonomy!$B$2:$T$695, 8, FALSE)","v":" Dikarya"},{"$f":"VLOOKUP($A253, taxonomy!$B$2:$T$695, 9, FALSE)","v":" Ascomycota"},{"$f":"VLOOKUP($A253, taxonomy!$B$2:$T$695, 10, FALSE)","v":" Pezizomycotina"},{"$f":"VLOOKUP($A253, taxonomy!$B$2:$T$695, 11, FALSE)","v":" Eurotiomycetes"},{"$f":"VLOOKUP($A253, taxonomy!$B$2:$T$695, 12, FALSE)","v":"Eurotiomycetidae"},{"$f":"VLOOKUP($A253, taxonomy!$B$2:$T$695, 13, FALSE)","v":" Eurotiales"},{"$f":"VLOOKUP($A253, taxonomy!$B$2:$T$695, 14, FALSE)","v":" Aspergillaceae"},{"$f":"VLOOKUP($A253, taxonomy!$B$2:$T$695, 15, FALSE)","v":" Aspergillus."},{"$f":"VLOOKUP($A253, taxonomy!$B$2:$T$695, 16, FALSE)","v":0},{"$f":"VLOOKUP($A253, taxonomy!$B$2:$T$695, 17, FALSE)","v":0}]
["A0A0V0QAH6",{"$f":" VLOOKUP(A254, architecture!D$2:E$73, 2, FALSE)","v":{"$error":"#N/A"}},{"$f":"VLOOKUP(A254, 'PF14702'!B254:C2934, 2, FALSE)","v":2516},{"$f":"VLOOKUP($A254, taxonomy!$B$2:$T$695, 6, FALSE)","v":"Eukaryota"},{"$f":"VLOOKUP($A254, taxonomy!$B$2:$T$695, 7, FALSE)","v":" Alveolata"},{"$f":"VLOOKUP($A254, taxonomy!$B$2:$T$695, 8, FALSE)","v":" Ciliophora"},{"$f":"VLOOKUP($A254, taxonomy!$B$2:$T$695, 9, FALSE)","v":" Intramacronucleata"},{"$f":"VLOOKUP($A254, taxonomy!$B$2:$T$695, 10, FALSE)","v":"Oligohymenophorea"},{"$f":"VLOOKUP($A254, taxonomy!$B$2:$T$695, 11, FALSE)","v":" Scuticociliatia"},{"$f":"VLOOKUP($A254, taxonomy!$B$2:$T$695, 12, FALSE)","v":" Philasterida"},{"$f":"VLOOKUP($A254, taxonomy!$B$2:$T$695, 13, FALSE)","v":" Pseudocohnilembidae"},{"$f":"VLOOKUP($A254, taxonomy!$B$2:$T$695, 14, FALSE)","v":"Pseudocohnilembus."},{"$f":"VLOOKUP($A254, taxonomy!$B$2:$T$695, 15, FALSE)","v":0},{"$f":"VLOOKUP($A254, taxonomy!$B$2:$T$695, 16, FALSE)","v":0},{"$f":"VLOOKUP($A254, taxonomy!$B$2:$T$695, 17, FALSE)","v":0}]
["A0A0V0R3M8",{"$f":" VLOOKUP(A255, architecture!D$2:E$73, 2, FALSE)","v":{"$error":"#N/A"}},{"$f":"VLOOKUP(A255, 'PF14702'!B255:C2935, 2, FALSE)","v":1959},{"$f":"VLOOKUP($A255, taxonomy!$B$2:$T$695, 6, FALSE)","v":"Eukaryota"},{"$f":"VLOOKUP($A255, taxonomy!$B$2:$T$695, 7, FALSE)","v":" Alveolata"},{"$f":"VLOOKUP($A255, taxonomy!$B$2:$T$695, 8, FALSE)","v":" Ciliophora"},{"$f":"VLOOKUP($A255, taxonomy!$B$2:$T$695, 9, FALSE)","v":" Intramacronucleata"},{"$f":"VLOOKUP($A255, taxonomy!$B$2:$T$695, 10, FALSE)","v":"Oligohymenophorea"},{"$f":"VLOOKUP($A255, taxonomy!$B$2:$T$695, 11, FALSE)","v":" Scuticociliatia"},{"$f":"VLOOKUP($A255, taxonomy!$B$2:$T$695, 12, FALSE)","v":" Philasterida"},{"$f":"VLOOKUP($A255, taxonomy!$B$2:$T$695, 13, FALSE)","v":" Pseudocohnilembidae"},{"$f":"VLOOKUP($A255, taxonomy!$B$2:$T$695, 14, FALSE)","v":"Pseudocohnilembus."},{"$f":"VLOOKUP($A255, taxonomy!$B$2:$T$695, 15, FALSE)","v":0},{"$f":"VLOOKUP($A255, taxonomy!$B$2:$T$695, 16, FALSE)","v":0},{"$f":"VLOOKUP($A255, taxonomy!$B$2:$T$695, 17, FALSE)","v":0}]
["A0A0V0SG53",{"$f":" VLOOKUP(A256, architecture!D$2:E$73, 2, FALSE)","v":{"$error":"#N/A"}},{"$f":"VLOOKUP(A256, 'PF14702'!B256:C2936, 2, FALSE)","v":1713},{"$f":"VLOOKUP($A256, taxonomy!$B$2:$T$695, 6, FALSE)","v":"Eukaryota"},{"$f":"VLOOKUP($A256, taxonomy!$B$2:$T$695, 7, FALSE)","v":" Metazoa"},{"$f":"VLOOKUP($A256, taxonomy!$B$2:$T$695, 8, FALSE)","v":" Ecdysozoa"},{"$f":"VLOOKUP($A256, taxonomy!$B$2:$T$695, 9, FALSE)","v":" Nematoda"},{"$f":"VLOOKUP($A256, taxonomy!$B$2:$T$695, 10, FALSE)","v":" Enoplea"},{"$f":"VLOOKUP($A256, taxonomy!$B$2:$T$695, 11, FALSE)","v":" Dorylaimia"},{"$f":"VLOOKUP($A256, taxonomy!$B$2:$T$695, 12, FALSE)","v":"Trichinellida"},{"$f":"VLOOKUP($A256, taxonomy!$B$2:$T$695, 13, FALSE)","v":" Trichinellidae"},{"$f":"VLOOKUP($A256, taxonomy!$B$2:$T$695, 14, FALSE)","v":" Trichinella."},{"$f":"VLOOKUP($A256, taxonomy!$B$2:$T$695, 15, FALSE)","v":0},{"$f":"VLOOKUP($A256, taxonomy!$B$2:$T$695, 16, FALSE)","v":0},{"$f":"VLOOKUP($A256, taxonomy!$B$2:$T$695, 17, FALSE)","v":0}]
["A0A0V0TWA6",{"$f":" VLOOKUP(A257, architecture!D$2:E$73, 2, FALSE)","v":{"$error":"#N/A"}},{"$f":"VLOOKUP(A257, 'PF14702'!B257:C2937, 2, FALSE)","v":1601},{"$f":"VLOOKUP($A257, taxonomy!$B$2:$T$695, 6, FALSE)","v":"Eukaryota"},{"$f":"VLOOKUP($A257, taxonomy!$B$2:$T$695, 7, FALSE)","v":" Metazoa"},{"$f":"VLOOKUP($A257, taxonomy!$B$2:$T$695, 8, FALSE)","v":" Ecdysozoa"},{"$f":"VLOOKUP($A257, taxonomy!$B$2:$T$695, 9, FALSE)","v":" Nematoda"},{"$f":"VLOOKUP($A257, taxonomy!$B$2:$T$695, 10, FALSE)","v":" Enoplea"},{"$f":"VLOOKUP($A257, taxonomy!$B$2:$T$695, 11, FALSE)","v":" Dorylaimia"},{"$f":"VLOOKUP($A257, taxonomy!$B$2:$T$695, 12, FALSE)","v":"Trichinellida"},{"$f":"VLOOKUP($A257, taxonomy!$B$2:$T$695, 13, FALSE)","v":" Trichinellidae"},{"$f":"VLOOKUP($A257, taxonomy!$B$2:$T$695, 14, FALSE)","v":" Trichinella."},{"$f":"VLOOKUP($A257, taxonomy!$B$2:$T$695, 15, FALSE)","v":0},{"$f":"VLOOKUP($A257, taxonomy!$B$2:$T$695, 16, FALSE)","v":0},{"$f":"VLOOKUP($A257, taxonomy!$B$2:$T$695, 17, FALSE)","v":0}]
["A0A0V0TWF8",{"$f":" VLOOKUP(A258, architecture!D$2:E$73, 2, FALSE)","v":{"$error":"#N/A"}},{"$f":"VLOOKUP(A258, 'PF14702'!B258:C2938, 2, FALSE)","v":1625},{"$f":"VLOOKUP($A258, taxonomy!$B$2:$T$695, 6, FALSE)","v":"Eukaryota"},{"$f":"VLOOKUP($A258, taxonomy!$B$2:$T$695, 7, FALSE)","v":" Metazoa"},{"$f":"VLOOKUP($A258, taxonomy!$B$2:$T$695, 8, FALSE)","v":" Ecdysozoa"},{"$f":"VLOOKUP($A258, taxonomy!$B$2:$T$695, 9, FALSE)","v":" Nematoda"},{"$f":"VLOOKUP($A258, taxonomy!$B$2:$T$695, 10, FALSE)","v":" Enoplea"},{"$f":"VLOOKUP($A258, taxonomy!$B$2:$T$695, 11, FALSE)","v":" Dorylaimia"},{"$f":"VLOOKUP($A258, taxonomy!$B$2:$T$695, 12, FALSE)","v":"Trichinellida"},{"$f":"VLOOKUP($A258, taxonomy!$B$2:$T$695, 13, FALSE)","v":" Trichinellidae"},{"$f":"VLOOKUP($A258, taxonomy!$B$2:$T$695, 14, FALSE)","v":" Trichinella."},{"$f":"VLOOKUP($A258, taxonomy!$B$2:$T$695, 15, FALSE)","v":0},{"$f":"VLOOKUP($A258, taxonomy!$B$2:$T$695, 16, FALSE)","v":0},{"$f":"VLOOKUP($A258, taxonomy!$B$2:$T$695, 17, FALSE)","v":0}]
["A0A0V0TWQ3",{"$f":" VLOOKUP(A259, architecture!D$2:E$73, 2, FALSE)","v":{"$error":"#N/A"}},{"$f":"VLOOKUP(A259, 'PF14702'!B259:C2939, 2, FALSE)","v":946},{"$f":"VLOOKUP($A259, taxonomy!$B$2:$T$695, 6, FALSE)","v":"Eukaryota"},{"$f":"VLOOKUP($A259, taxonomy!$B$2:$T$695, 7, FALSE)","v":" Metazoa"},{"$f":"VLOOKUP($A259, taxonomy!$B$2:$T$695, 8, FALSE)","v":" Ecdysozoa"},{"$f":"VLOOKUP($A259, taxonomy!$B$2:$T$695, 9, FALSE)","v":" Nematoda"},{"$f":"VLOOKUP($A259, taxonomy!$B$2:$T$695, 10, FALSE)","v":" Enoplea"},{"$f":"VLOOKUP($A259, taxonomy!$B$2:$T$695, 11, FALSE)","v":" Dorylaimia"},{"$f":"VLOOKUP($A259, taxonomy!$B$2:$T$695, 12, FALSE)","v":"Trichinellida"},{"$f":"VLOOKUP($A259, taxonomy!$B$2:$T$695, 13, FALSE)","v":" Trichinellidae"},{"$f":"VLOOKUP($A259, taxonomy!$B$2:$T$695, 14, FALSE)","v":" Trichinella."},{"$f":"VLOOKUP($A259, taxonomy!$B$2:$T$695, 15, FALSE)","v":0},{"$f":"VLOOKUP($A259, taxonomy!$B$2:$T$695, 16, FALSE)","v":0},{"$f":"VLOOKUP($A259, taxonomy!$B$2:$T$695, 17, FALSE)","v":0}]
["A0A0V0VQX3",{"$f":" VLOOKUP(A260, architecture!D$2:E$73, 2, FALSE)","v":{"$error":"#N/A"}},{"$f":"VLOOKUP(A260, 'PF14702'!B260:C2940, 2, FALSE)","v":966},{"$f":"VLOOKUP($A260, taxonomy!$B$2:$T$695, 6, FALSE)","v":"Eukaryota"},{"$f":"VLOOKUP($A260, taxonomy!$B$2:$T$695, 7, FALSE)","v":" Metazoa"},{"$f":"VLOOKUP($A260, taxonomy!$B$2:$T$695, 8, FALSE)","v":" Ecdysozoa"},{"$f":"VLOOKUP($A260, taxonomy!$B$2:$T$695, 9, FALSE)","v":" Nematoda"},{"$f":"VLOOKUP($A260, taxonomy!$B$2:$T$695, 10, FALSE)","v":" Enoplea"},{"$f":"VLOOKUP($A260, taxonomy!$B$2:$T$695, 11, FALSE)","v":" Dorylaimia"},{"$f":"VLOOKUP($A260, taxonomy!$B$2:$T$695, 12, FALSE)","v":"Trichinellida"},{"$f":"VLOOKUP($A260, taxonomy!$B$2:$T$695, 13, FALSE)","v":" Trichinellidae"},{"$f":"VLOOKUP($A260, taxonomy!$B$2:$T$695, 14, FALSE)","v":" Trichinella."},{"$f":"VLOOKUP($A260, taxonomy!$B$2:$T$695, 15, FALSE)","v":0},{"$f":"VLOOKUP($A260, taxonomy!$B$2:$T$695, 16, FALSE)","v":0},{"$f":"VLOOKUP($A260, taxonomy!$B$2:$T$695, 17, FALSE)","v":0}]
["A0A0V0VQX8",{"$f":" VLOOKUP(A261, architecture!D$2:E$73, 2, FALSE)","v":{"$error":"#N/A"}},{"$f":"VLOOKUP(A261, 'PF14702'!B261:C2941, 2, FALSE)","v":1619},{"$f":"VLOOKUP($A261, taxonomy!$B$2:$T$695, 6, FALSE)","v":"Eukaryota"},{"$f":"VLOOKUP($A261, taxonomy!$B$2:$T$695, 7, FALSE)","v":" Metazoa"},{"$f":"VLOOKUP($A261, taxonomy!$B$2:$T$695, 8, FALSE)","v":" Ecdysozoa"},{"$f":"VLOOKUP($A261, taxonomy!$B$2:$T$695, 9, FALSE)","v":" Nematoda"},{"$f":"VLOOKUP($A261, taxonomy!$B$2:$T$695, 10, FALSE)","v":" Enoplea"},{"$f":"VLOOKUP($A261, taxonomy!$B$2:$T$695, 11, FALSE)","v":" Dorylaimia"},{"$f":"VLOOKUP($A261, taxonomy!$B$2:$T$695, 12, FALSE)","v":"Trichinellida"},{"$f":"VLOOKUP($A261, taxonomy!$B$2:$T$695, 13, FALSE)","v":" Trichinellidae"},{"$f":"VLOOKUP($A261, taxonomy!$B$2:$T$695, 14, FALSE)","v":" Trichinella."},{"$f":"VLOOKUP($A261, taxonomy!$B$2:$T$695, 15, FALSE)","v":0},{"$f":"VLOOKUP($A261, taxonomy!$B$2:$T$695, 16, FALSE)","v":0},{"$f":"VLOOKUP($A261, taxonomy!$B$2:$T$695, 17, FALSE)","v":0}]
["A0A0V0VQY2",{"$f":" VLOOKUP(A262, architecture!D$2:E$73, 2, FALSE)","v":{"$error":"#N/A"}},{"$f":"VLOOKUP(A262, 'PF14702'!B262:C2942, 2, FALSE)","v":671},{"$f":"VLOOKUP($A262, taxonomy!$B$2:$T$695, 6, FALSE)","v":"Eukaryota"},{"$f":"VLOOKUP($A262, taxonomy!$B$2:$T$695, 7, FALSE)","v":" Metazoa"},{"$f":"VLOOKUP($A262, taxonomy!$B$2:$T$695, 8, FALSE)","v":" Ecdysozoa"},{"$f":"VLOOKUP($A262, taxonomy!$B$2:$T$695, 9, FALSE)","v":" Nematoda"},{"$f":"VLOOKUP($A262, taxonomy!$B$2:$T$695, 10, FALSE)","v":" Enoplea"},{"$f":"VLOOKUP($A262, taxonomy!$B$2:$T$695, 11, FALSE)","v":" Dorylaimia"},{"$f":"VLOOKUP($A262, taxonomy!$B$2:$T$695, 12, FALSE)","v":"Trichinellida"},{"$f":"VLOOKUP($A262, taxonomy!$B$2:$T$695, 13, FALSE)","v":" Trichinellidae"},{"$f":"VLOOKUP($A262, taxonomy!$B$2:$T$695, 14, FALSE)","v":" Trichinella."},{"$f":"VLOOKUP($A262, taxonomy!$B$2:$T$695, 15, FALSE)","v":0},{"$f":"VLOOKUP($A262, taxonomy!$B$2:$T$695, 16, FALSE)","v":0},{"$f":"VLOOKUP($A262, taxonomy!$B$2:$T$695, 17, FALSE)","v":0}]
["A0A0V0VQY7",{"$f":" VLOOKUP(A263, architecture!D$2:E$73, 2, FALSE)","v":{"$error":"#N/A"}},{"$f":"VLOOKUP(A263, 'PF14702'!B263:C2943, 2, FALSE)","v":1595},{"$f":"VLOOKUP($A263, taxonomy!$B$2:$T$695, 6, FALSE)","v":"Eukaryota"},{"$f":"VLOOKUP($A263, taxonomy!$B$2:$T$695, 7, FALSE)","v":" Metazoa"},{"$f":"VLOOKUP($A263, taxonomy!$B$2:$T$695, 8, FALSE)","v":" Ecdysozoa"},{"$f":"VLOOKUP($A263, taxonomy!$B$2:$T$695, 9, FALSE)","v":" Nematoda"},{"$f":"VLOOKUP($A263, taxonomy!$B$2:$T$695, 10, FALSE)","v":" Enoplea"},{"$f":"VLOOKUP($A263, taxonomy!$B$2:$T$695, 11, FALSE)","v":" Dorylaimia"},{"$f":"VLOOKUP($A263, taxonomy!$B$2:$T$695, 12, FALSE)","v":"Trichinellida"},{"$f":"VLOOKUP($A263, taxonomy!$B$2:$T$695, 13, FALSE)","v":" Trichinellidae"},{"$f":"VLOOKUP($A263, taxonomy!$B$2:$T$695, 14, FALSE)","v":" Trichinella."},{"$f":"VLOOKUP($A263, taxonomy!$B$2:$T$695, 15, FALSE)","v":0},{"$f":"VLOOKUP($A263, taxonomy!$B$2:$T$695, 16, FALSE)","v":0},{"$f":"VLOOKUP($A263, taxonomy!$B$2:$T$695, 17, FALSE)","v":0}]
["A0A0V0X128",{"$f":" VLOOKUP(A264, architecture!D$2:E$73, 2, FALSE)","v":{"$error":"#N/A"}},{"$f":"VLOOKUP(A264, 'PF14702'!B264:C2944, 2, FALSE)","v":1729},{"$f":"VLOOKUP($A264, taxonomy!$B$2:$T$695, 6, FALSE)","v":"Eukaryota"},{"$f":"VLOOKUP($A264, taxonomy!$B$2:$T$695, 7, FALSE)","v":" Metazoa"},{"$f":"VLOOKUP($A264, taxonomy!$B$2:$T$695, 8, FALSE)","v":" Ecdysozoa"},{"$f":"VLOOKUP($A264, taxonomy!$B$2:$T$695, 9, FALSE)","v":" Nematoda"},{"$f":"VLOOKUP($A264, taxonomy!$B$2:$T$695, 10, FALSE)","v":" Enoplea"},{"$f":"VLOOKUP($A264, taxonomy!$B$2:$T$695, 11, FALSE)","v":" Dorylaimia"},{"$f":"VLOOKUP($A264, taxonomy!$B$2:$T$695, 12, FALSE)","v":"Trichinellida"},{"$f":"VLOOKUP($A264, taxonomy!$B$2:$T$695, 13, FALSE)","v":" Trichinellidae"},{"$f":"VLOOKUP($A264, taxonomy!$B$2:$T$695, 14, FALSE)","v":" Trichinella."},{"$f":"VLOOKUP($A264, taxonomy!$B$2:$T$695, 15, FALSE)","v":0},{"$f":"VLOOKUP($A264, taxonomy!$B$2:$T$695, 16, FALSE)","v":0},{"$f":"VLOOKUP($A264, taxonomy!$B$2:$T$695, 17, FALSE)","v":0}]
["A0A0V0X1D4",{"$f":" VLOOKUP(A265, architecture!D$2:E$73, 2, FALSE)","v":{"$error":"#N/A"}},{"$f":"VLOOKUP(A265, 'PF14702'!B265:C2945, 2, FALSE)","v":1759},{"$f":"VLOOKUP($A265, taxonomy!$B$2:$T$695, 6, FALSE)","v":"Eukaryota"},{"$f":"VLOOKUP($A265, taxonomy!$B$2:$T$695, 7, FALSE)","v":" Metazoa"},{"$f":"VLOOKUP($A265, taxonomy!$B$2:$T$695, 8, FALSE)","v":" Ecdysozoa"},{"$f":"VLOOKUP($A265, taxonomy!$B$2:$T$695, 9, FALSE)","v":" Nematoda"},{"$f":"VLOOKUP($A265, taxonomy!$B$2:$T$695, 10, FALSE)","v":" Enoplea"},{"$f":"VLOOKUP($A265, taxonomy!$B$2:$T$695, 11, FALSE)","v":" Dorylaimia"},{"$f":"VLOOKUP($A265, taxonomy!$B$2:$T$695, 12, FALSE)","v":"Trichinellida"},{"$f":"VLOOKUP($A265, taxonomy!$B$2:$T$695, 13, FALSE)","v":" Trichinellidae"},{"$f":"VLOOKUP($A265, taxonomy!$B$2:$T$695, 14, FALSE)","v":" Trichinella."},{"$f":"VLOOKUP($A265, taxonomy!$B$2:$T$695, 15, FALSE)","v":0},{"$f":"VLOOKUP($A265, taxonomy!$B$2:$T$695, 16, FALSE)","v":0},{"$f":"VLOOKUP($A265, taxonomy!$B$2:$T$695, 17, FALSE)","v":0}]
["A0A0V0X1F2",{"$f":" VLOOKUP(A266, architecture!D$2:E$73, 2, FALSE)","v":{"$error":"#N/A"}},{"$f":"VLOOKUP(A266, 'PF14702'!B266:C2946, 2, FALSE)","v":1504},{"$f":"VLOOKUP($A266, taxonomy!$B$2:$T$695, 6, FALSE)","v":"Eukaryota"},{"$f":"VLOOKUP($A266, taxonomy!$B$2:$T$695, 7, FALSE)","v":" Metazoa"},{"$f":"VLOOKUP($A266, taxonomy!$B$2:$T$695, 8, FALSE)","v":" Ecdysozoa"},{"$f":"VLOOKUP($A266, taxonomy!$B$2:$T$695, 9, FALSE)","v":" Nematoda"},{"$f":"VLOOKUP($A266, taxonomy!$B$2:$T$695, 10, FALSE)","v":" Enoplea"},{"$f":"VLOOKUP($A266, taxonomy!$B$2:$T$695, 11, FALSE)","v":" Dorylaimia"},{"$f":"VLOOKUP($A266, taxonomy!$B$2:$T$695, 12, FALSE)","v":"Trichinellida"},{"$f":"VLOOKUP($A266, taxonomy!$B$2:$T$695, 13, FALSE)","v":" Trichinellidae"},{"$f":"VLOOKUP($A266, taxonomy!$B$2:$T$695, 14, FALSE)","v":" Trichinella."},{"$f":"VLOOKUP($A266, taxonomy!$B$2:$T$695, 15, FALSE)","v":0},{"$f":"VLOOKUP($A266, taxonomy!$B$2:$T$695, 16, FALSE)","v":0},{"$f":"VLOOKUP($A266, taxonomy!$B$2:$T$695, 17, FALSE)","v":0}]
["A0A0V0X1G1",{"$f":" VLOOKUP(A267, architecture!D$2:E$73, 2, FALSE)","v":{"$error":"#N/A"}},{"$f":"VLOOKUP(A267, 'PF14702'!B267:C2947, 2, FALSE)","v":1724},{"$f":"VLOOKUP($A267, taxonomy!$B$2:$T$695, 6, FALSE)","v":"Eukaryota"},{"$f":"VLOOKUP($A267, taxonomy!$B$2:$T$695, 7, FALSE)","v":" Metazoa"},{"$f":"VLOOKUP($A267, taxonomy!$B$2:$T$695, 8, FALSE)","v":" Ecdysozoa"},{"$f":"VLOOKUP($A267, taxonomy!$B$2:$T$695, 9, FALSE)","v":" Nematoda"},{"$f":"VLOOKUP($A267, taxonomy!$B$2:$T$695, 10, FALSE)","v":" Enoplea"},{"$f":"VLOOKUP($A267, taxonomy!$B$2:$T$695, 11, FALSE)","v":" Dorylaimia"},{"$f":"VLOOKUP($A267, taxonomy!$B$2:$T$695, 12, FALSE)","v":"Trichinellida"},{"$f":"VLOOKUP($A267, taxonomy!$B$2:$T$695, 13, FALSE)","v":" Trichinellidae"},{"$f":"VLOOKUP($A267, taxonomy!$B$2:$T$695, 14, FALSE)","v":" Trichinella."},{"$f":"VLOOKUP($A267, taxonomy!$B$2:$T$695, 15, FALSE)","v":0},{"$f":"VLOOKUP($A267, taxonomy!$B$2:$T$695, 16, FALSE)","v":0},{"$f":"VLOOKUP($A267, taxonomy!$B$2:$T$695, 17, FALSE)","v":0}]
["A0A0V0X1J3",{"$f":" VLOOKUP(A268, architecture!D$2:E$73, 2, FALSE)","v":{"$error":"#N/A"}},{"$f":"VLOOKUP(A268, 'PF14702'!B268:C2948, 2, FALSE)","v":1595},{"$f":"VLOOKUP($A268, taxonomy!$B$2:$T$695, 6, FALSE)","v":"Eukaryota"},{"$f":"VLOOKUP($A268, taxonomy!$B$2:$T$695, 7, FALSE)","v":" Metazoa"},{"$f":"VLOOKUP($A268, taxonomy!$B$2:$T$695, 8, FALSE)","v":" Ecdysozoa"},{"$f":"VLOOKUP($A268, taxonomy!$B$2:$T$695, 9, FALSE)","v":" Nematoda"},{"$f":"VLOOKUP($A268, taxonomy!$B$2:$T$695, 10, FALSE)","v":" Enoplea"},{"$f":"VLOOKUP($A268, taxonomy!$B$2:$T$695, 11, FALSE)","v":" Dorylaimia"},{"$f":"VLOOKUP($A268, taxonomy!$B$2:$T$695, 12, FALSE)","v":"Trichinellida"},{"$f":"VLOOKUP($A268, taxonomy!$B$2:$T$695, 13, FALSE)","v":" Trichinellidae"},{"$f":"VLOOKUP($A268, taxonomy!$B$2:$T$695, 14, FALSE)","v":" Trichinella."},{"$f":"VLOOKUP($A268, taxonomy!$B$2:$T$695, 15, FALSE)","v":0},{"$f":"VLOOKUP($A268, taxonomy!$B$2:$T$695, 16, FALSE)","v":0},{"$f":"VLOOKUP($A268, taxonomy!$B$2:$T$695, 17, FALSE)","v":0}]
["A0A0V0Y4S8",{"$f":" VLOOKUP(A269, architecture!D$2:E$73, 2, FALSE)","v":{"$error":"#N/A"}},{"$f":"VLOOKUP(A269, 'PF14702'!B269:C2949, 2, FALSE)","v":1561},{"$f":"VLOOKUP($A269, taxonomy!$B$2:$T$695, 6, FALSE)","v":"Eukaryota"},{"$f":"VLOOKUP($A269, taxonomy!$B$2:$T$695, 7, FALSE)","v":" Metazoa"},{"$f":"VLOOKUP($A269, taxonomy!$B$2:$T$695, 8, FALSE)","v":" Ecdysozoa"},{"$f":"VLOOKUP($A269, taxonomy!$B$2:$T$695, 9, FALSE)","v":" Nematoda"},{"$f":"VLOOKUP($A269, taxonomy!$B$2:$T$695, 10, FALSE)","v":" Enoplea"},{"$f":"VLOOKUP($A269, taxonomy!$B$2:$T$695, 11, FALSE)","v":" Dorylaimia"},{"$f":"VLOOKUP($A269, taxonomy!$B$2:$T$695, 12, FALSE)","v":"Trichinellida"},{"$f":"VLOOKUP($A269, taxonomy!$B$2:$T$695, 13, FALSE)","v":" Trichinellidae"},{"$f":"VLOOKUP($A269, taxonomy!$B$2:$T$695, 14, FALSE)","v":" Trichinella."},{"$f":"VLOOKUP($A269, taxonomy!$B$2:$T$695, 15, FALSE)","v":0},{"$f":"VLOOKUP($A269, taxonomy!$B$2:$T$695, 16, FALSE)","v":0},{"$f":"VLOOKUP($A269, taxonomy!$B$2:$T$695, 17, FALSE)","v":0}]
["A0A0V0Y4W1",{"$f":" VLOOKUP(A270, architecture!D$2:E$73, 2, FALSE)","v":{"$error":"#N/A"}},{"$f":"VLOOKUP(A270, 'PF14702'!B270:C2950, 2, FALSE)","v":1574},{"$f":"VLOOKUP($A270, taxonomy!$B$2:$T$695, 6, FALSE)","v":"Eukaryota"},{"$f":"VLOOKUP($A270, taxonomy!$B$2:$T$695, 7, FALSE)","v":" Metazoa"},{"$f":"VLOOKUP($A270, taxonomy!$B$2:$T$695, 8, FALSE)","v":" Ecdysozoa"},{"$f":"VLOOKUP($A270, taxonomy!$B$2:$T$695, 9, FALSE)","v":" Nematoda"},{"$f":"VLOOKUP($A270, taxonomy!$B$2:$T$695, 10, FALSE)","v":" Enoplea"},{"$f":"VLOOKUP($A270, taxonomy!$B$2:$T$695, 11, FALSE)","v":" Dorylaimia"},{"$f":"VLOOKUP($A270, taxonomy!$B$2:$T$695, 12, FALSE)","v":"Trichinellida"},{"$f":"VLOOKUP($A270, taxonomy!$B$2:$T$695, 13, FALSE)","v":" Trichinellidae"},{"$f":"VLOOKUP($A270, taxonomy!$B$2:$T$695, 14, FALSE)","v":" Trichinella."},{"$f":"VLOOKUP($A270, taxonomy!$B$2:$T$695, 15, FALSE)","v":0},{"$f":"VLOOKUP($A270, taxonomy!$B$2:$T$695, 16, FALSE)","v":0},{"$f":"VLOOKUP($A270, taxonomy!$B$2:$T$695, 17, FALSE)","v":0}]
["A0A0V1AFM7",{"$f":" VLOOKUP(A271, architecture!D$2:E$73, 2, FALSE)","v":{"$error":"#N/A"}},{"$f":"VLOOKUP(A271, 'PF14702'!B271:C2951, 2, FALSE)","v":1590},{"$f":"VLOOKUP($A271, taxonomy!$B$2:$T$695, 6, FALSE)","v":"Eukaryota"},{"$f":"VLOOKUP($A271, taxonomy!$B$2:$T$695, 7, FALSE)","v":" Metazoa"},{"$f":"VLOOKUP($A271, taxonomy!$B$2:$T$695, 8, FALSE)","v":" Ecdysozoa"},{"$f":"VLOOKUP($A271, taxonomy!$B$2:$T$695, 9, FALSE)","v":" Nematoda"},{"$f":"VLOOKUP($A271, taxonomy!$B$2:$T$695, 10, FALSE)","v":" Enoplea"},{"$f":"VLOOKUP($A271, taxonomy!$B$2:$T$695, 11, FALSE)","v":" Dorylaimia"},{"$f":"VLOOKUP($A271, taxonomy!$B$2:$T$695, 12, FALSE)","v":"Trichinellida"},{"$f":"VLOOKUP($A271, taxonomy!$B$2:$T$695, 13, FALSE)","v":" Trichinellidae"},{"$f":"VLOOKUP($A271, taxonomy!$B$2:$T$695, 14, FALSE)","v":" Trichinella."},{"$f":"VLOOKUP($A271, taxonomy!$B$2:$T$695, 15, FALSE)","v":0},{"$f":"VLOOKUP($A271, taxonomy!$B$2:$T$695, 16, FALSE)","v":0},{"$f":"VLOOKUP($A271, taxonomy!$B$2:$T$695, 17, FALSE)","v":0}]
["A0A0V1AG06",{"$f":" VLOOKUP(A272, architecture!D$2:E$73, 2, FALSE)","v":{"$error":"#N/A"}},{"$f":"VLOOKUP(A272, 'PF14702'!B272:C2952, 2, FALSE)","v":1504},{"$f":"VLOOKUP($A272, taxonomy!$B$2:$T$695, 6, FALSE)","v":"Eukaryota"},{"$f":"VLOOKUP($A272, taxonomy!$B$2:$T$695, 7, FALSE)","v":" Metazoa"},{"$f":"VLOOKUP($A272, taxonomy!$B$2:$T$695, 8, FALSE)","v":" Ecdysozoa"},{"$f":"VLOOKUP($A272, taxonomy!$B$2:$T$695, 9, FALSE)","v":" Nematoda"},{"$f":"VLOOKUP($A272, taxonomy!$B$2:$T$695, 10, FALSE)","v":" Enoplea"},{"$f":"VLOOKUP($A272, taxonomy!$B$2:$T$695, 11, FALSE)","v":" Dorylaimia"},{"$f":"VLOOKUP($A272, taxonomy!$B$2:$T$695, 12, FALSE)","v":"Trichinellida"},{"$f":"VLOOKUP($A272, taxonomy!$B$2:$T$695, 13, FALSE)","v":" Trichinellidae"},{"$f":"VLOOKUP($A272, taxonomy!$B$2:$T$695, 14, FALSE)","v":" Trichinella."},{"$f":"VLOOKUP($A272, taxonomy!$B$2:$T$695, 15, FALSE)","v":0},{"$f":"VLOOKUP($A272, taxonomy!$B$2:$T$695, 16, FALSE)","v":0},{"$f":"VLOOKUP($A272, taxonomy!$B$2:$T$695, 17, FALSE)","v":0}]
["A0A0V1AHE9",{"$f":" VLOOKUP(A273, architecture!D$2:E$73, 2, FALSE)","v":{"$error":"#N/A"}},{"$f":"VLOOKUP(A273, 'PF14702'!B273:C2953, 2, FALSE)","v":1596},{"$f":"VLOOKUP($A273, taxonomy!$B$2:$T$695, 6, FALSE)","v":"Eukaryota"},{"$f":"VLOOKUP($A273, taxonomy!$B$2:$T$695, 7, FALSE)","v":" Metazoa"},{"$f":"VLOOKUP($A273, taxonomy!$B$2:$T$695, 8, FALSE)","v":" Ecdysozoa"},{"$f":"VLOOKUP($A273, taxonomy!$B$2:$T$695, 9, FALSE)","v":" Nematoda"},{"$f":"VLOOKUP($A273, taxonomy!$B$2:$T$695, 10, FALSE)","v":" Enoplea"},{"$f":"VLOOKUP($A273, taxonomy!$B$2:$T$695, 11, FALSE)","v":" Dorylaimia"},{"$f":"VLOOKUP($A273, taxonomy!$B$2:$T$695, 12, FALSE)","v":"Trichinellida"},{"$f":"VLOOKUP($A273, taxonomy!$B$2:$T$695, 13, FALSE)","v":" Trichinellidae"},{"$f":"VLOOKUP($A273, taxonomy!$B$2:$T$695, 14, FALSE)","v":" Trichinella."},{"$f":"VLOOKUP($A273, taxonomy!$B$2:$T$695, 15, FALSE)","v":0},{"$f":"VLOOKUP($A273, taxonomy!$B$2:$T$695, 16, FALSE)","v":0},{"$f":"VLOOKUP($A273, taxonomy!$B$2:$T$695, 17, FALSE)","v":0}]
["A0A0V1CSK8",{"$f":" VLOOKUP(A274, architecture!D$2:E$73, 2, FALSE)","v":{"$error":"#N/A"}},{"$f":"VLOOKUP(A274, 'PF14702'!B274:C2954, 2, FALSE)","v":1464},{"$f":"VLOOKUP($A274, taxonomy!$B$2:$T$695, 6, FALSE)","v":"Eukaryota"},{"$f":"VLOOKUP($A274, taxonomy!$B$2:$T$695, 7, FALSE)","v":" Metazoa"},{"$f":"VLOOKUP($A274, taxonomy!$B$2:$T$695, 8, FALSE)","v":" Ecdysozoa"},{"$f":"VLOOKUP($A274, taxonomy!$B$2:$T$695, 9, FALSE)","v":" Nematoda"},{"$f":"VLOOKUP($A274, taxonomy!$B$2:$T$695, 10, FALSE)","v":" Enoplea"},{"$f":"VLOOKUP($A274, taxonomy!$B$2:$T$695, 11, FALSE)","v":" Dorylaimia"},{"$f":"VLOOKUP($A274, taxonomy!$B$2:$T$695, 12, FALSE)","v":"Trichinellida"},{"$f":"VLOOKUP($A274, taxonomy!$B$2:$T$695, 13, FALSE)","v":" Trichinellidae"},{"$f":"VLOOKUP($A274, taxonomy!$B$2:$T$695, 14, FALSE)","v":" Trichinella."},{"$f":"VLOOKUP($A274, taxonomy!$B$2:$T$695, 15, FALSE)","v":0},{"$f":"VLOOKUP($A274, taxonomy!$B$2:$T$695, 16, FALSE)","v":0},{"$f":"VLOOKUP($A274, taxonomy!$B$2:$T$695, 17, FALSE)","v":0}]
["A0A0V1CSQ0",{"$f":" VLOOKUP(A275, architecture!D$2:E$73, 2, FALSE)","v":{"$error":"#N/A"}},{"$f":"VLOOKUP(A275, 'PF14702'!B275:C2955, 2, FALSE)","v":1619},{"$f":"VLOOKUP($A275, taxonomy!$B$2:$T$695, 6, FALSE)","v":"Eukaryota"},{"$f":"VLOOKUP($A275, taxonomy!$B$2:$T$695, 7, FALSE)","v":" Metazoa"},{"$f":"VLOOKUP($A275, taxonomy!$B$2:$T$695, 8, FALSE)","v":" Ecdysozoa"},{"$f":"VLOOKUP($A275, taxonomy!$B$2:$T$695, 9, FALSE)","v":" Nematoda"},{"$f":"VLOOKUP($A275, taxonomy!$B$2:$T$695, 10, FALSE)","v":" Enoplea"},{"$f":"VLOOKUP($A275, taxonomy!$B$2:$T$695, 11, FALSE)","v":" Dorylaimia"},{"$f":"VLOOKUP($A275, taxonomy!$B$2:$T$695, 12, FALSE)","v":"Trichinellida"},{"$f":"VLOOKUP($A275, taxonomy!$B$2:$T$695, 13, FALSE)","v":" Trichinellidae"},{"$f":"VLOOKUP($A275, taxonomy!$B$2:$T$695, 14, FALSE)","v":" Trichinella."},{"$f":"VLOOKUP($A275, taxonomy!$B$2:$T$695, 15, FALSE)","v":0},{"$f":"VLOOKUP($A275, taxonomy!$B$2:$T$695, 16, FALSE)","v":0},{"$f":"VLOOKUP($A275, taxonomy!$B$2:$T$695, 17, FALSE)","v":0}]
["A0A0V1CT18",{"$f":" VLOOKUP(A276, architecture!D$2:E$73, 2, FALSE)","v":{"$error":"#N/A"}},{"$f":"VLOOKUP(A276, 'PF14702'!B276:C2956, 2, FALSE)","v":1742},{"$f":"VLOOKUP($A276, taxonomy!$B$2:$T$695, 6, FALSE)","v":"Eukaryota"},{"$f":"VLOOKUP($A276, taxonomy!$B$2:$T$695, 7, FALSE)","v":" Metazoa"},{"$f":"VLOOKUP($A276, taxonomy!$B$2:$T$695, 8, FALSE)","v":" Ecdysozoa"},{"$f":"VLOOKUP($A276, taxonomy!$B$2:$T$695, 9, FALSE)","v":" Nematoda"},{"$f":"VLOOKUP($A276, taxonomy!$B$2:$T$695, 10, FALSE)","v":" Enoplea"},{"$f":"VLOOKUP($A276, taxonomy!$B$2:$T$695, 11, FALSE)","v":" Dorylaimia"},{"$f":"VLOOKUP($A276, taxonomy!$B$2:$T$695, 12, FALSE)","v":"Trichinellida"},{"$f":"VLOOKUP($A276, taxonomy!$B$2:$T$695, 13, FALSE)","v":" Trichinellidae"},{"$f":"VLOOKUP($A276, taxonomy!$B$2:$T$695, 14, FALSE)","v":" Trichinella."},{"$f":"VLOOKUP($A276, taxonomy!$B$2:$T$695, 15, FALSE)","v":0},{"$f":"VLOOKUP($A276, taxonomy!$B$2:$T$695, 16, FALSE)","v":0},{"$f":"VLOOKUP($A276, taxonomy!$B$2:$T$695, 17, FALSE)","v":0}]
["A0A0V1CUE4",{"$f":" VLOOKUP(A277, architecture!D$2:E$73, 2, FALSE)","v":{"$error":"#N/A"}},{"$f":"VLOOKUP(A277, 'PF14702'!B277:C2957, 2, FALSE)","v":1737},{"$f":"VLOOKUP($A277, taxonomy!$B$2:$T$695, 6, FALSE)","v":"Eukaryota"},{"$f":"VLOOKUP($A277, taxonomy!$B$2:$T$695, 7, FALSE)","v":" Metazoa"},{"$f":"VLOOKUP($A277, taxonomy!$B$2:$T$695, 8, FALSE)","v":" Ecdysozoa"},{"$f":"VLOOKUP($A277, taxonomy!$B$2:$T$695, 9, FALSE)","v":" Nematoda"},{"$f":"VLOOKUP($A277, taxonomy!$B$2:$T$695, 10, FALSE)","v":" Enoplea"},{"$f":"VLOOKUP($A277, taxonomy!$B$2:$T$695, 11, FALSE)","v":" Dorylaimia"},{"$f":"VLOOKUP($A277, taxonomy!$B$2:$T$695, 12, FALSE)","v":"Trichinellida"},{"$f":"VLOOKUP($A277, taxonomy!$B$2:$T$695, 13, FALSE)","v":" Trichinellidae"},{"$f":"VLOOKUP($A277, taxonomy!$B$2:$T$695, 14, FALSE)","v":" Trichinella."},{"$f":"VLOOKUP($A277, taxonomy!$B$2:$T$695, 15, FALSE)","v":0},{"$f":"VLOOKUP($A277, taxonomy!$B$2:$T$695, 16, FALSE)","v":0},{"$f":"VLOOKUP($A277, taxonomy!$B$2:$T$695, 17, FALSE)","v":0}]
["A0A0V1HRF5",{"$f":" VLOOKUP(A278, architecture!D$2:E$73, 2, FALSE)","v":{"$error":"#N/A"}},{"$f":"VLOOKUP(A278, 'PF14702'!B278:C2958, 2, FALSE)","v":1067},{"$f":"VLOOKUP($A278, taxonomy!$B$2:$T$695, 6, FALSE)","v":"Eukaryota"},{"$f":"VLOOKUP($A278, taxonomy!$B$2:$T$695, 7, FALSE)","v":" Metazoa"},{"$f":"VLOOKUP($A278, taxonomy!$B$2:$T$695, 8, FALSE)","v":" Ecdysozoa"},{"$f":"VLOOKUP($A278, taxonomy!$B$2:$T$695, 9, FALSE)","v":" Nematoda"},{"$f":"VLOOKUP($A278, taxonomy!$B$2:$T$695, 10, FALSE)","v":" Enoplea"},{"$f":"VLOOKUP($A278, taxonomy!$B$2:$T$695, 11, FALSE)","v":" Dorylaimia"},{"$f":"VLOOKUP($A278, taxonomy!$B$2:$T$695, 12, FALSE)","v":"Trichinellida"},{"$f":"VLOOKUP($A278, taxonomy!$B$2:$T$695, 13, FALSE)","v":" Trichinellidae"},{"$f":"VLOOKUP($A278, taxonomy!$B$2:$T$695, 14, FALSE)","v":" Trichinella."},{"$f":"VLOOKUP($A278, taxonomy!$B$2:$T$695, 15, FALSE)","v":0},{"$f":"VLOOKUP($A278, taxonomy!$B$2:$T$695, 16, FALSE)","v":0},{"$f":"VLOOKUP($A278, taxonomy!$B$2:$T$695, 17, FALSE)","v":0}]
["A0A0V1L3P3",{"$f":" VLOOKUP(A279, architecture!D$2:E$73, 2, FALSE)","v":{"$error":"#N/A"}},{"$f":"VLOOKUP(A279, 'PF14702'!B279:C2959, 2, FALSE)","v":1715},{"$f":"VLOOKUP($A279, taxonomy!$B$2:$T$695, 6, FALSE)","v":"Eukaryota"},{"$f":"VLOOKUP($A279, taxonomy!$B$2:$T$695, 7, FALSE)","v":" Metazoa"},{"$f":"VLOOKUP($A279, taxonomy!$B$2:$T$695, 8, FALSE)","v":" Ecdysozoa"},{"$f":"VLOOKUP($A279, taxonomy!$B$2:$T$695, 9, FALSE)","v":" Nematoda"},{"$f":"VLOOKUP($A279, taxonomy!$B$2:$T$695, 10, FALSE)","v":" Enoplea"},{"$f":"VLOOKUP($A279, taxonomy!$B$2:$T$695, 11, FALSE)","v":" Dorylaimia"},{"$f":"VLOOKUP($A279, taxonomy!$B$2:$T$695, 12, FALSE)","v":"Trichinellida"},{"$f":"VLOOKUP($A279, taxonomy!$B$2:$T$695, 13, FALSE)","v":" Trichinellidae"},{"$f":"VLOOKUP($A279, taxonomy!$B$2:$T$695, 14, FALSE)","v":" Trichinella."},{"$f":"VLOOKUP($A279, taxonomy!$B$2:$T$695, 15, FALSE)","v":0},{"$f":"VLOOKUP($A279, taxonomy!$B$2:$T$695, 16, FALSE)","v":0},{"$f":"VLOOKUP($A279, taxonomy!$B$2:$T$695, 17, FALSE)","v":0}]
["A0A0V1L3R1",{"$f":" VLOOKUP(A280, architecture!D$2:E$73, 2, FALSE)","v":{"$error":"#N/A"}},{"$f":"VLOOKUP(A280, 'PF14702'!B280:C2960, 2, FALSE)","v":1702},{"$f":"VLOOKUP($A280, taxonomy!$B$2:$T$695, 6, FALSE)","v":"Eukaryota"},{"$f":"VLOOKUP($A280, taxonomy!$B$2:$T$695, 7, FALSE)","v":" Metazoa"},{"$f":"VLOOKUP($A280, taxonomy!$B$2:$T$695, 8, FALSE)","v":" Ecdysozoa"},{"$f":"VLOOKUP($A280, taxonomy!$B$2:$T$695, 9, FALSE)","v":" Nematoda"},{"$f":"VLOOKUP($A280, taxonomy!$B$2:$T$695, 10, FALSE)","v":" Enoplea"},{"$f":"VLOOKUP($A280, taxonomy!$B$2:$T$695, 11, FALSE)","v":" Dorylaimia"},{"$f":"VLOOKUP($A280, taxonomy!$B$2:$T$695, 12, FALSE)","v":"Trichinellida"},{"$f":"VLOOKUP($A280, taxonomy!$B$2:$T$695, 13, FALSE)","v":" Trichinellidae"},{"$f":"VLOOKUP($A280, taxonomy!$B$2:$T$695, 14, FALSE)","v":" Trichinella."},{"$f":"VLOOKUP($A280, taxonomy!$B$2:$T$695, 15, FALSE)","v":0},{"$f":"VLOOKUP($A280, taxonomy!$B$2:$T$695, 16, FALSE)","v":0},{"$f":"VLOOKUP($A280, taxonomy!$B$2:$T$695, 17, FALSE)","v":0}]
["A0A0V1L4L3",{"$f":" VLOOKUP(A281, architecture!D$2:E$73, 2, FALSE)","v":{"$error":"#N/A"}},{"$f":"VLOOKUP(A281, 'PF14702'!B281:C2961, 2, FALSE)","v":1586},{"$f":"VLOOKUP($A281, taxonomy!$B$2:$T$695, 6, FALSE)","v":"Eukaryota"},{"$f":"VLOOKUP($A281, taxonomy!$B$2:$T$695, 7, FALSE)","v":" Metazoa"},{"$f":"VLOOKUP($A281, taxonomy!$B$2:$T$695, 8, FALSE)","v":" Ecdysozoa"},{"$f":"VLOOKUP($A281, taxonomy!$B$2:$T$695, 9, FALSE)","v":" Nematoda"},{"$f":"VLOOKUP($A281, taxonomy!$B$2:$T$695, 10, FALSE)","v":" Enoplea"},{"$f":"VLOOKUP($A281, taxonomy!$B$2:$T$695, 11, FALSE)","v":" Dorylaimia"},{"$f":"VLOOKUP($A281, taxonomy!$B$2:$T$695, 12, FALSE)","v":"Trichinellida"},{"$f":"VLOOKUP($A281, taxonomy!$B$2:$T$695, 13, FALSE)","v":" Trichinellidae"},{"$f":"VLOOKUP($A281, taxonomy!$B$2:$T$695, 14, FALSE)","v":" Trichinella."},{"$f":"VLOOKUP($A281, taxonomy!$B$2:$T$695, 15, FALSE)","v":0},{"$f":"VLOOKUP($A281, taxonomy!$B$2:$T$695, 16, FALSE)","v":0},{"$f":"VLOOKUP($A281, taxonomy!$B$2:$T$695, 17, FALSE)","v":0}]
["A0A0V1PH35",{"$f":" VLOOKUP(A282, architecture!D$2:E$73, 2, FALSE)","v":{"$error":"#N/A"}},{"$f":"VLOOKUP(A282, 'PF14702'!B282:C2962, 2, FALSE)","v":1759},{"$f":"VLOOKUP($A282, taxonomy!$B$2:$T$695, 6, FALSE)","v":"Eukaryota"},{"$f":"VLOOKUP($A282, taxonomy!$B$2:$T$695, 7, FALSE)","v":" Metazoa"},{"$f":"VLOOKUP($A282, taxonomy!$B$2:$T$695, 8, FALSE)","v":" Ecdysozoa"},{"$f":"VLOOKUP($A282, taxonomy!$B$2:$T$695, 9, FALSE)","v":" Nematoda"},{"$f":"VLOOKUP($A282, taxonomy!$B$2:$T$695, 10, FALSE)","v":" Enoplea"},{"$f":"VLOOKUP($A282, taxonomy!$B$2:$T$695, 11, FALSE)","v":" Dorylaimia"},{"$f":"VLOOKUP($A282, taxonomy!$B$2:$T$695, 12, FALSE)","v":"Trichinellida"},{"$f":"VLOOKUP($A282, taxonomy!$B$2:$T$695, 13, FALSE)","v":" Trichinellidae"},{"$f":"VLOOKUP($A282, taxonomy!$B$2:$T$695, 14, FALSE)","v":" Trichinella."},{"$f":"VLOOKUP($A282, taxonomy!$B$2:$T$695, 15, FALSE)","v":0},{"$f":"VLOOKUP($A282, taxonomy!$B$2:$T$695, 16, FALSE)","v":0},{"$f":"VLOOKUP($A282, taxonomy!$B$2:$T$695, 17, FALSE)","v":0}]
["A0A0V1PHD2",{"$f":" VLOOKUP(A283, architecture!D$2:E$73, 2, FALSE)","v":{"$error":"#N/A"}},{"$f":"VLOOKUP(A283, 'PF14702'!B283:C2963, 2, FALSE)","v":1738},{"$f":"VLOOKUP($A283, taxonomy!$B$2:$T$695, 6, FALSE)","v":"Eukaryota"},{"$f":"VLOOKUP($A283, taxonomy!$B$2:$T$695, 7, FALSE)","v":" Metazoa"},{"$f":"VLOOKUP($A283, taxonomy!$B$2:$T$695, 8, FALSE)","v":" Ecdysozoa"},{"$f":"VLOOKUP($A283, taxonomy!$B$2:$T$695, 9, FALSE)","v":" Nematoda"},{"$f":"VLOOKUP($A283, taxonomy!$B$2:$T$695, 10, FALSE)","v":" Enoplea"},{"$f":"VLOOKUP($A283, taxonomy!$B$2:$T$695, 11, FALSE)","v":" Dorylaimia"},{"$f":"VLOOKUP($A283, taxonomy!$B$2:$T$695, 12, FALSE)","v":"Trichinellida"},{"$f":"VLOOKUP($A283, taxonomy!$B$2:$T$695, 13, FALSE)","v":" Trichinellidae"},{"$f":"VLOOKUP($A283, taxonomy!$B$2:$T$695, 14, FALSE)","v":" Trichinella."},{"$f":"VLOOKUP($A283, taxonomy!$B$2:$T$695, 15, FALSE)","v":0},{"$f":"VLOOKUP($A283, taxonomy!$B$2:$T$695, 16, FALSE)","v":0},{"$f":"VLOOKUP($A283, taxonomy!$B$2:$T$695, 17, FALSE)","v":0}]
["A0A0W0FZI5",{"$f":" VLOOKUP(A284, architecture!D$2:E$73, 2, FALSE)","v":{"$error":"#N/A"}},{"$f":"VLOOKUP(A284, 'PF14702'!B284:C2964, 2, FALSE)","v":1593},{"$f":"VLOOKUP($A284, taxonomy!$B$2:$T$695, 6, FALSE)","v":"Eukaryota"},{"$f":"VLOOKUP($A284, taxonomy!$B$2:$T$695, 7, FALSE)","v":" Fungi"},{"$f":"VLOOKUP($A284, taxonomy!$B$2:$T$695, 8, FALSE)","v":" Dikarya"},{"$f":"VLOOKUP($A284, taxonomy!$B$2:$T$695, 9, FALSE)","v":" Basidiomycota"},{"$f":"VLOOKUP($A284, taxonomy!$B$2:$T$695, 10, FALSE)","v":" Agaricomycotina"},{"$f":"VLOOKUP($A284, taxonomy!$B$2:$T$695, 11, FALSE)","v":"Agaricomycetes"},{"$f":"VLOOKUP($A284, taxonomy!$B$2:$T$695, 12, FALSE)","v":" Agaricomycetidae"},{"$f":"VLOOKUP($A284, taxonomy!$B$2:$T$695, 13, FALSE)","v":" Agaricales"},{"$f":"VLOOKUP($A284, taxonomy!$B$2:$T$695, 14, FALSE)","v":" Marasmiaceae"},{"$f":"VLOOKUP($A284, taxonomy!$B$2:$T$695, 15, FALSE)","v":"Moniliophthora."},{"$f":"VLOOKUP($A284, taxonomy!$B$2:$T$695, 16, FALSE)","v":0},{"$f":"VLOOKUP($A284, taxonomy!$B$2:$T$695, 17, FALSE)","v":0}]
["A0A0W4ZQK3",{"$f":" VLOOKUP(A285, architecture!D$2:E$73, 2, FALSE)","v":{"$error":"#N/A"}},{"$f":"VLOOKUP(A285, 'PF14702'!B285:C2965, 2, FALSE)","v":1516},{"$f":"VLOOKUP($A285, taxonomy!$B$2:$T$695, 6, FALSE)","v":"Eukaryota"},{"$f":"VLOOKUP($A285, taxonomy!$B$2:$T$695, 7, FALSE)","v":" Fungi"},{"$f":"VLOOKUP($A285, taxonomy!$B$2:$T$695, 8, FALSE)","v":" Dikarya"},{"$f":"VLOOKUP($A285, taxonomy!$B$2:$T$695, 9, FALSE)","v":" Ascomycota"},{"$f":"VLOOKUP($A285, taxonomy!$B$2:$T$695, 10, FALSE)","v":" Taphrinomycotina"},{"$f":"VLOOKUP($A285, taxonomy!$B$2:$T$695, 11, FALSE)","v":"Pneumocystidomycetes"},{"$f":"VLOOKUP($A285, taxonomy!$B$2:$T$695, 12, FALSE)","v":" Pneumocystidaceae"},{"$f":"VLOOKUP($A285, taxonomy!$B$2:$T$695, 13, FALSE)","v":" Pneumocystis."},{"$f":"VLOOKUP($A285, taxonomy!$B$2:$T$695, 14, FALSE)","v":0},{"$f":"VLOOKUP($A285, taxonomy!$B$2:$T$695, 15, FALSE)","v":0},{"$f":"VLOOKUP($A285, taxonomy!$B$2:$T$695, 16, FALSE)","v":0},{"$f":"VLOOKUP($A285, taxonomy!$B$2:$T$695, 17, FALSE)","v":0}]
["A0A0W4ZUI4",{"$f":" VLOOKUP(A286, architecture!D$2:E$73, 2, FALSE)","v":{"$error":"#N/A"}},{"$f":"VLOOKUP(A286, 'PF14702'!B286:C2966, 2, FALSE)","v":1516},{"$f":"VLOOKUP($A286, taxonomy!$B$2:$T$695, 6, FALSE)","v":"Eukaryota"},{"$f":"VLOOKUP($A286, taxonomy!$B$2:$T$695, 7, FALSE)","v":" Fungi"},{"$f":"VLOOKUP($A286, taxonomy!$B$2:$T$695, 8, FALSE)","v":" Dikarya"},{"$f":"VLOOKUP($A286, taxonomy!$B$2:$T$695, 9, FALSE)","v":" Ascomycota"},{"$f":"VLOOKUP($A286, taxonomy!$B$2:$T$695, 10, FALSE)","v":" Taphrinomycotina"},{"$f":"VLOOKUP($A286, taxonomy!$B$2:$T$695, 11, FALSE)","v":"Pneumocystidomycetes"},{"$f":"VLOOKUP($A286, taxonomy!$B$2:$T$695, 12, FALSE)","v":" Pneumocystidaceae"},{"$f":"VLOOKUP($A286, taxonomy!$B$2:$T$695, 13, FALSE)","v":" Pneumocystis."},{"$f":"VLOOKUP($A286, taxonomy!$B$2:$T$695, 14, FALSE)","v":0},{"$f":"VLOOKUP($A286, taxonomy!$B$2:$T$695, 15, FALSE)","v":0},{"$f":"VLOOKUP($A286, taxonomy!$B$2:$T$695, 16, FALSE)","v":0},{"$f":"VLOOKUP($A286, taxonomy!$B$2:$T$695, 17, FALSE)","v":0}]
["A0A0W7W367",{"$f":" VLOOKUP(A287, architecture!D$2:E$73, 2, FALSE)","v":{"$error":"#N/A"}},{"$f":"VLOOKUP(A287, 'PF14702'!B287:C2967, 2, FALSE)","v":1557},{"$f":"VLOOKUP($A287, taxonomy!$B$2:$T$695, 6, FALSE)","v":"Eukaryota"},{"$f":"VLOOKUP($A287, taxonomy!$B$2:$T$695, 7, FALSE)","v":" Fungi"},{"$f":"VLOOKUP($A287, taxonomy!$B$2:$T$695, 8, FALSE)","v":" Dikarya"},{"$f":"VLOOKUP($A287, taxonomy!$B$2:$T$695, 9, FALSE)","v":" Ascomycota"},{"$f":"VLOOKUP($A287, taxonomy!$B$2:$T$695, 10, FALSE)","v":" Pezizomycotina"},{"$f":"VLOOKUP($A287, taxonomy!$B$2:$T$695, 11, FALSE)","v":"Sordariomycetes"},{"$f":"VLOOKUP($A287, taxonomy!$B$2:$T$695, 12, FALSE)","v":" Hypocreomycetidae"},{"$f":"VLOOKUP($A287, taxonomy!$B$2:$T$695, 13, FALSE)","v":" Hypocreales"},{"$f":"VLOOKUP($A287, taxonomy!$B$2:$T$695, 14, FALSE)","v":" Hypocreaceae"},{"$f":"VLOOKUP($A287, taxonomy!$B$2:$T$695, 15, FALSE)","v":"Trichoderma."},{"$f":"VLOOKUP($A287, taxonomy!$B$2:$T$695, 16, FALSE)","v":0},{"$f":"VLOOKUP($A287, taxonomy!$B$2:$T$695, 17, FALSE)","v":0}]
["A0A101MIR9",{"$f":" VLOOKUP(A288, architecture!D$2:E$73, 2, FALSE)","v":{"$error":"#N/A"}},{"$f":"VLOOKUP(A288, 'PF14702'!B288:C2968, 2, FALSE)","v":1534},{"$f":"VLOOKUP($A288, taxonomy!$B$2:$T$695, 6, FALSE)","v":"Eukaryota"},{"$f":"VLOOKUP($A288, taxonomy!$B$2:$T$695, 7, FALSE)","v":" Fungi"},{"$f":"VLOOKUP($A288, taxonomy!$B$2:$T$695, 8, FALSE)","v":" Dikarya"},{"$f":"VLOOKUP($A288, taxonomy!$B$2:$T$695, 9, FALSE)","v":" Ascomycota"},{"$f":"VLOOKUP($A288, taxonomy!$B$2:$T$695, 10, FALSE)","v":" Pezizomycotina"},{"$f":"VLOOKUP($A288, taxonomy!$B$2:$T$695, 11, FALSE)","v":" Eurotiomycetes"},{"$f":"VLOOKUP($A288, taxonomy!$B$2:$T$695, 12, FALSE)","v":"Eurotiomycetidae"},{"$f":"VLOOKUP($A288, taxonomy!$B$2:$T$695, 13, FALSE)","v":" Eurotiales"},{"$f":"VLOOKUP($A288, taxonomy!$B$2:$T$695, 14, FALSE)","v":" Aspergillaceae"},{"$f":"VLOOKUP($A288, taxonomy!$B$2:$T$695, 15, FALSE)","v":" Penicillium."},{"$f":"VLOOKUP($A288, taxonomy!$B$2:$T$695, 16, FALSE)","v":0},{"$f":"VLOOKUP($A288, taxonomy!$B$2:$T$695, 17, FALSE)","v":0}]
["A0A109FAQ5",{"$f":" VLOOKUP(A289, architecture!D$2:E$73, 2, FALSE)","v":{"$error":"#N/A"}},{"$f":"VLOOKUP(A289, 'PF14702'!B289:C2969, 2, FALSE)","v":1612},{"$f":"VLOOKUP($A289, taxonomy!$B$2:$T$695, 6, FALSE)","v":"Eukaryota"},{"$f":"VLOOKUP($A289, taxonomy!$B$2:$T$695, 7, FALSE)","v":" Fungi"},{"$f":"VLOOKUP($A289, taxonomy!$B$2:$T$695, 8, FALSE)","v":" Dikarya"},{"$f":"VLOOKUP($A289, taxonomy!$B$2:$T$695, 9, FALSE)","v":" Basidiomycota"},{"$f":"VLOOKUP($A289, taxonomy!$B$2:$T$695, 10, FALSE)","v":" Pucciniomycotina"},{"$f":"VLOOKUP($A289, taxonomy!$B$2:$T$695, 11, FALSE)","v":"Microbotryomycetes"},{"$f":"VLOOKUP($A289, taxonomy!$B$2:$T$695, 12, FALSE)","v":" Sporidiobolales"},{"$f":"VLOOKUP($A289, taxonomy!$B$2:$T$695, 13, FALSE)","v":" Sporidiobolaceae"},{"$f":"VLOOKUP($A289, taxonomy!$B$2:$T$695, 14, FALSE)","v":" Rhodotorula."},{"$f":"VLOOKUP($A289, taxonomy!$B$2:$T$695, 15, FALSE)","v":0},{"$f":"VLOOKUP($A289, taxonomy!$B$2:$T$695, 16, FALSE)","v":0},{"$f":"VLOOKUP($A289, taxonomy!$B$2:$T$695, 17, FALSE)","v":0}]
["A0A124BUR9",{"$f":" VLOOKUP(A290, architecture!D$2:E$73, 2, FALSE)","v":{"$error":"#N/A"}},{"$f":"VLOOKUP(A290, 'PF14702'!B290:C2970, 2, FALSE)","v":2359},{"$f":"VLOOKUP($A290, taxonomy!$B$2:$T$695, 6, FALSE)","v":"Eukaryota"},{"$f":"VLOOKUP($A290, taxonomy!$B$2:$T$695, 7, FALSE)","v":" Fungi"},{"$f":"VLOOKUP($A290, taxonomy!$B$2:$T$695, 8, FALSE)","v":" Dikarya"},{"$f":"VLOOKUP($A290, taxonomy!$B$2:$T$695, 9, FALSE)","v":" Ascomycota"},{"$f":"VLOOKUP($A290, taxonomy!$B$2:$T$695, 10, FALSE)","v":" Pezizomycotina"},{"$f":"VLOOKUP($A290, taxonomy!$B$2:$T$695, 11, FALSE)","v":" Eurotiomycetes"},{"$f":"VLOOKUP($A290, taxonomy!$B$2:$T$695, 12, FALSE)","v":"Eurotiomycetidae"},{"$f":"VLOOKUP($A290, taxonomy!$B$2:$T$695, 13, FALSE)","v":" Eurotiales"},{"$f":"VLOOKUP($A290, taxonomy!$B$2:$T$695, 14, FALSE)","v":" Aspergillaceae"},{"$f":"VLOOKUP($A290, taxonomy!$B$2:$T$695, 15, FALSE)","v":" Aspergillus."},{"$f":"VLOOKUP($A290, taxonomy!$B$2:$T$695, 16, FALSE)","v":0},{"$f":"VLOOKUP($A290, taxonomy!$B$2:$T$695, 17, FALSE)","v":0}]
["A0A132A5T5",{"$f":" VLOOKUP(A291, architecture!D$2:E$73, 2, FALSE)","v":{"$error":"#N/A"}},{"$f":"VLOOKUP(A291, 'PF14702'!B291:C2971, 2, FALSE)","v":1435},{"$f":"VLOOKUP($A291, taxonomy!$B$2:$T$695, 6, FALSE)","v":"Eukaryota"},{"$f":"VLOOKUP($A291, taxonomy!$B$2:$T$695, 7, FALSE)","v":" Metazoa"},{"$f":"VLOOKUP($A291, taxonomy!$B$2:$T$695, 8, FALSE)","v":" Ecdysozoa"},{"$f":"VLOOKUP($A291, taxonomy!$B$2:$T$695, 9, FALSE)","v":" Arthropoda"},{"$f":"VLOOKUP($A291, taxonomy!$B$2:$T$695, 10, FALSE)","v":" Chelicerata"},{"$f":"VLOOKUP($A291, taxonomy!$B$2:$T$695, 11, FALSE)","v":" Arachnida"},{"$f":"VLOOKUP($A291, taxonomy!$B$2:$T$695, 12, FALSE)","v":"Acari"},{"$f":"VLOOKUP($A291, taxonomy!$B$2:$T$695, 13, FALSE)","v":" Acariformes"},{"$f":"VLOOKUP($A291, taxonomy!$B$2:$T$695, 14, FALSE)","v":" Sarcoptiformes"},{"$f":"VLOOKUP($A291, taxonomy!$B$2:$T$695, 15, FALSE)","v":" Astigmata"},{"$f":"VLOOKUP($A291, taxonomy!$B$2:$T$695, 16, FALSE)","v":" Psoroptidia"},{"$f":"VLOOKUP($A291, taxonomy!$B$2:$T$695, 17, FALSE)","v":"Sarcoptoidea"}]
["A0A135LZ37",{"$f":" VLOOKUP(A292, architecture!D$2:E$73, 2, FALSE)","v":{"$error":"#N/A"}},{"$f":"VLOOKUP(A292, 'PF14702'!B292:C2972, 2, FALSE)","v":1534},{"$f":"VLOOKUP($A292, taxonomy!$B$2:$T$695, 6, FALSE)","v":"Eukaryota"},{"$f":"VLOOKUP($A292, taxonomy!$B$2:$T$695, 7, FALSE)","v":" Fungi"},{"$f":"VLOOKUP($A292, taxonomy!$B$2:$T$695, 8, FALSE)","v":" Dikarya"},{"$f":"VLOOKUP($A292, taxonomy!$B$2:$T$695, 9, FALSE)","v":" Ascomycota"},{"$f":"VLOOKUP($A292, taxonomy!$B$2:$T$695, 10, FALSE)","v":" Pezizomycotina"},{"$f":"VLOOKUP($A292, taxonomy!$B$2:$T$695, 11, FALSE)","v":" Eurotiomycetes"},{"$f":"VLOOKUP($A292, taxonomy!$B$2:$T$695, 12, FALSE)","v":"Eurotiomycetidae"},{"$f":"VLOOKUP($A292, taxonomy!$B$2:$T$695, 13, FALSE)","v":" Eurotiales"},{"$f":"VLOOKUP($A292, taxonomy!$B$2:$T$695, 14, FALSE)","v":" Aspergillaceae"},{"$f":"VLOOKUP($A292, taxonomy!$B$2:$T$695, 15, FALSE)","v":" Penicillium."},{"$f":"VLOOKUP($A292, taxonomy!$B$2:$T$695, 16, FALSE)","v":0},{"$f":"VLOOKUP($A292, taxonomy!$B$2:$T$695, 17, FALSE)","v":0}]
["A0A135RMG2",{"$f":" VLOOKUP(A293, architecture!D$2:E$73, 2, FALSE)","v":{"$error":"#N/A"}},{"$f":"VLOOKUP(A293, 'PF14702'!B293:C2973, 2, FALSE)","v":1568},{"$f":"VLOOKUP($A293, taxonomy!$B$2:$T$695, 6, FALSE)","v":"Eukaryota"},{"$f":"VLOOKUP($A293, taxonomy!$B$2:$T$695, 7, FALSE)","v":" Fungi"},{"$f":"VLOOKUP($A293, taxonomy!$B$2:$T$695, 8, FALSE)","v":" Dikarya"},{"$f":"VLOOKUP($A293, taxonomy!$B$2:$T$695, 9, FALSE)","v":" Ascomycota"},{"$f":"VLOOKUP($A293, taxonomy!$B$2:$T$695, 10, FALSE)","v":" Pezizomycotina"},{"$f":"VLOOKUP($A293, taxonomy!$B$2:$T$695, 11, FALSE)","v":"Sordariomycetes"},{"$f":"VLOOKUP($A293, taxonomy!$B$2:$T$695, 12, FALSE)","v":" Hypocreomycetidae"},{"$f":"VLOOKUP($A293, taxonomy!$B$2:$T$695, 13, FALSE)","v":" Glomerellales"},{"$f":"VLOOKUP($A293, taxonomy!$B$2:$T$695, 14, FALSE)","v":" Glomerellaceae"},{"$f":"VLOOKUP($A293, taxonomy!$B$2:$T$695, 15, FALSE)","v":"Colletotrichum."},{"$f":"VLOOKUP($A293, taxonomy!$B$2:$T$695, 16, FALSE)","v":0},{"$f":"VLOOKUP($A293, taxonomy!$B$2:$T$695, 17, FALSE)","v":0}]
["A0A135UQZ0",{"$f":" VLOOKUP(A294, architecture!D$2:E$73, 2, FALSE)","v":{"$error":"#N/A"}},{"$f":"VLOOKUP(A294, 'PF14702'!B294:C2974, 2, FALSE)","v":1568},{"$f":"VLOOKUP($A294, taxonomy!$B$2:$T$695, 6, FALSE)","v":"Eukaryota"},{"$f":"VLOOKUP($A294, taxonomy!$B$2:$T$695, 7, FALSE)","v":" Fungi"},{"$f":"VLOOKUP($A294, taxonomy!$B$2:$T$695, 8, FALSE)","v":" Dikarya"},{"$f":"VLOOKUP($A294, taxonomy!$B$2:$T$695, 9, FALSE)","v":" Ascomycota"},{"$f":"VLOOKUP($A294, taxonomy!$B$2:$T$695, 10, FALSE)","v":" Pezizomycotina"},{"$f":"VLOOKUP($A294, taxonomy!$B$2:$T$695, 11, FALSE)","v":"Sordariomycetes"},{"$f":"VLOOKUP($A294, taxonomy!$B$2:$T$695, 12, FALSE)","v":" Hypocreomycetidae"},{"$f":"VLOOKUP($A294, taxonomy!$B$2:$T$695, 13, FALSE)","v":" Glomerellales"},{"$f":"VLOOKUP($A294, taxonomy!$B$2:$T$695, 14, FALSE)","v":" Glomerellaceae"},{"$f":"VLOOKUP($A294, taxonomy!$B$2:$T$695, 15, FALSE)","v":"Colletotrichum."},{"$f":"VLOOKUP($A294, taxonomy!$B$2:$T$695, 16, FALSE)","v":0},{"$f":"VLOOKUP($A294, taxonomy!$B$2:$T$695, 17, FALSE)","v":0}]
["A0A136J2Y3",{"$f":" VLOOKUP(A295, architecture!D$2:E$73, 2, FALSE)","v":{"$error":"#N/A"}},{"$f":"VLOOKUP(A295, 'PF14702'!B295:C2975, 2, FALSE)","v":1548},{"$f":"VLOOKUP($A295, taxonomy!$B$2:$T$695, 6, FALSE)","v":"Eukaryota"},{"$f":"VLOOKUP($A295, taxonomy!$B$2:$T$695, 7, FALSE)","v":" Fungi"},{"$f":"VLOOKUP($A295, taxonomy!$B$2:$T$695, 8, FALSE)","v":" Dikarya"},{"$f":"VLOOKUP($A295, taxonomy!$B$2:$T$695, 9, FALSE)","v":" Ascomycota"},{"$f":"VLOOKUP($A295, taxonomy!$B$2:$T$695, 10, FALSE)","v":" Pezizomycotina"},{"$f":"VLOOKUP($A295, taxonomy!$B$2:$T$695, 11, FALSE)","v":"Sordariomycetes"},{"$f":"VLOOKUP($A295, taxonomy!$B$2:$T$695, 12, FALSE)","v":" Xylariomycetidae"},{"$f":"VLOOKUP($A295, taxonomy!$B$2:$T$695, 13, FALSE)","v":" Xylariales"},{"$f":"VLOOKUP($A295, taxonomy!$B$2:$T$695, 14, FALSE)","v":" Microdochiaceae"},{"$f":"VLOOKUP($A295, taxonomy!$B$2:$T$695, 15, FALSE)","v":"Microdochium."},{"$f":"VLOOKUP($A295, taxonomy!$B$2:$T$695, 16, FALSE)","v":0},{"$f":"VLOOKUP($A295, taxonomy!$B$2:$T$695, 17, FALSE)","v":0}]
["A0A137P5H3",{"$f":" VLOOKUP(A296, architecture!D$2:E$73, 2, FALSE)","v":{"$error":"#N/A"}},{"$f":"VLOOKUP(A296, 'PF14702'!B296:C2976, 2, FALSE)","v":1566},{"$f":"VLOOKUP($A296, taxonomy!$B$2:$T$695, 6, FALSE)","v":"Eukaryota"},{"$f":"VLOOKUP($A296, taxonomy!$B$2:$T$695, 7, FALSE)","v":" Fungi"},{"$f":"VLOOKUP($A296, taxonomy!$B$2:$T$695, 8, FALSE)","v":" Zoopagomycota"},{"$f":"VLOOKUP($A296, taxonomy!$B$2:$T$695, 9, FALSE)","v":" Entomophthoromycotina"},{"$f":"VLOOKUP($A296, taxonomy!$B$2:$T$695, 10, FALSE)","v":"Entomophthoromycetes"},{"$f":"VLOOKUP($A296, taxonomy!$B$2:$T$695, 11, FALSE)","v":" Entomophthorales"},{"$f":"VLOOKUP($A296, taxonomy!$B$2:$T$695, 12, FALSE)","v":" Ancylistaceae"},{"$f":"VLOOKUP($A296, taxonomy!$B$2:$T$695, 13, FALSE)","v":" Conidiobolus."},{"$f":"VLOOKUP($A296, taxonomy!$B$2:$T$695, 14, FALSE)","v":0},{"$f":"VLOOKUP($A296, taxonomy!$B$2:$T$695, 15, FALSE)","v":0},{"$f":"VLOOKUP($A296, taxonomy!$B$2:$T$695, 16, FALSE)","v":0},{"$f":"VLOOKUP($A296, taxonomy!$B$2:$T$695, 17, FALSE)","v":0}]
["A0A137QHA0",{"$f":" VLOOKUP(A297, architecture!D$2:E$73, 2, FALSE)","v":{"$error":"#N/A"}},{"$f":"VLOOKUP(A297, 'PF14702'!B297:C2977, 2, FALSE)","v":1590},{"$f":"VLOOKUP($A297, taxonomy!$B$2:$T$695, 6, FALSE)","v":"Eukaryota"},{"$f":"VLOOKUP($A297, taxonomy!$B$2:$T$695, 7, FALSE)","v":" Fungi"},{"$f":"VLOOKUP($A297, taxonomy!$B$2:$T$695, 8, FALSE)","v":" Dikarya"},{"$f":"VLOOKUP($A297, taxonomy!$B$2:$T$695, 9, FALSE)","v":" Basidiomycota"},{"$f":"VLOOKUP($A297, taxonomy!$B$2:$T$695, 10, FALSE)","v":" Agaricomycotina"},{"$f":"VLOOKUP($A297, taxonomy!$B$2:$T$695, 11, FALSE)","v":"Agaricomycetes"},{"$f":"VLOOKUP($A297, taxonomy!$B$2:$T$695, 12, FALSE)","v":" Agaricomycetidae"},{"$f":"VLOOKUP($A297, taxonomy!$B$2:$T$695, 13, FALSE)","v":" Agaricales"},{"$f":"VLOOKUP($A297, taxonomy!$B$2:$T$695, 14, FALSE)","v":" Agaricaceae"},{"$f":"VLOOKUP($A297, taxonomy!$B$2:$T$695, 15, FALSE)","v":"Leucoagaricus."},{"$f":"VLOOKUP($A297, taxonomy!$B$2:$T$695, 16, FALSE)","v":0},{"$f":"VLOOKUP($A297, taxonomy!$B$2:$T$695, 17, FALSE)","v":0}]
["A0A139A531",{"$f":" VLOOKUP(A298, architecture!D$2:E$73, 2, FALSE)","v":{"$error":"#N/A"}},{"$f":"VLOOKUP(A298, 'PF14702'!B298:C2978, 2, FALSE)","v":1710},{"$f":"VLOOKUP($A298, taxonomy!$B$2:$T$695, 6, FALSE)","v":"Eukaryota"},{"$f":"VLOOKUP($A298, taxonomy!$B$2:$T$695, 7, FALSE)","v":" Fungi"},{"$f":"VLOOKUP($A298, taxonomy!$B$2:$T$695, 8, FALSE)","v":" Chytridiomycota"},{"$f":"VLOOKUP($A298, taxonomy!$B$2:$T$695, 9, FALSE)","v":" Monoblepharidomycetes"},{"$f":"VLOOKUP($A298, taxonomy!$B$2:$T$695, 10, FALSE)","v":"Monoblepharidales"},{"$f":"VLOOKUP($A298, taxonomy!$B$2:$T$695, 11, FALSE)","v":" Gonapodyaceae"},{"$f":"VLOOKUP($A298, taxonomy!$B$2:$T$695, 12, FALSE)","v":" Gonapodya."},{"$f":"VLOOKUP($A298, taxonomy!$B$2:$T$695, 13, FALSE)","v":0},{"$f":"VLOOKUP($A298, taxonomy!$B$2:$T$695, 14, FALSE)","v":0},{"$f":"VLOOKUP($A298, taxonomy!$B$2:$T$695, 15, FALSE)","v":0},{"$f":"VLOOKUP($A298, taxonomy!$B$2:$T$695, 16, FALSE)","v":0},{"$f":"VLOOKUP($A298, taxonomy!$B$2:$T$695, 17, FALSE)","v":0}]
["A0A139GV41",{"$f":" VLOOKUP(A299, architecture!D$2:E$73, 2, FALSE)","v":{"$error":"#N/A"}},{"$f":"VLOOKUP(A299, 'PF14702'!B299:C2979, 2, FALSE)","v":1554},{"$f":"VLOOKUP($A299, taxonomy!$B$2:$T$695, 6, FALSE)","v":"Eukaryota"},{"$f":"VLOOKUP($A299, taxonomy!$B$2:$T$695, 7, FALSE)","v":" Fungi"},{"$f":"VLOOKUP($A299, taxonomy!$B$2:$T$695, 8, FALSE)","v":" Dikarya"},{"$f":"VLOOKUP($A299, taxonomy!$B$2:$T$695, 9, FALSE)","v":" Ascomycota"},{"$f":"VLOOKUP($A299, taxonomy!$B$2:$T$695, 10, FALSE)","v":" Pezizomycotina"},{"$f":"VLOOKUP($A299, taxonomy!$B$2:$T$695, 11, FALSE)","v":"Dothideomycetes"},{"$f":"VLOOKUP($A299, taxonomy!$B$2:$T$695, 12, FALSE)","v":" Dothideomycetidae"},{"$f":"VLOOKUP($A299, taxonomy!$B$2:$T$695, 13, FALSE)","v":" Capnodiales"},{"$f":"VLOOKUP($A299, taxonomy!$B$2:$T$695, 14, FALSE)","v":" Mycosphaerellaceae"},{"$f":"VLOOKUP($A299, taxonomy!$B$2:$T$695, 15, FALSE)","v":"Mycosphaerella."},{"$f":"VLOOKUP($A299, taxonomy!$B$2:$T$695, 16, FALSE)","v":0},{"$f":"VLOOKUP($A299, taxonomy!$B$2:$T$695, 17, FALSE)","v":0}]
["A0A139IKD5",{"$f":" VLOOKUP(A300, architecture!D$2:E$73, 2, FALSE)","v":{"$error":"#N/A"}},{"$f":"VLOOKUP(A300, 'PF14702'!B300:C2980, 2, FALSE)","v":1554},{"$f":"VLOOKUP($A300, taxonomy!$B$2:$T$695, 6, FALSE)","v":"Eukaryota"},{"$f":"VLOOKUP($A300, taxonomy!$B$2:$T$695, 7, FALSE)","v":" Fungi"},{"$f":"VLOOKUP($A300, taxonomy!$B$2:$T$695, 8, FALSE)","v":" Dikarya"},{"$f":"VLOOKUP($A300, taxonomy!$B$2:$T$695, 9, FALSE)","v":" Ascomycota"},{"$f":"VLOOKUP($A300, taxonomy!$B$2:$T$695, 10, FALSE)","v":" Pezizomycotina"},{"$f":"VLOOKUP($A300, taxonomy!$B$2:$T$695, 11, FALSE)","v":"Dothideomycetes"},{"$f":"VLOOKUP($A300, taxonomy!$B$2:$T$695, 12, FALSE)","v":" Dothideomycetidae"},{"$f":"VLOOKUP($A300, taxonomy!$B$2:$T$695, 13, FALSE)","v":" Capnodiales"},{"$f":"VLOOKUP($A300, taxonomy!$B$2:$T$695, 14, FALSE)","v":" Mycosphaerellaceae"},{"$f":"VLOOKUP($A300, taxonomy!$B$2:$T$695, 15, FALSE)","v":"Pseudocercospora."},{"$f":"VLOOKUP($A300, taxonomy!$B$2:$T$695, 16, FALSE)","v":0},{"$f":"VLOOKUP($A300, taxonomy!$B$2:$T$695, 17, FALSE)","v":0}]
["A0A139WC21",{"$f":" VLOOKUP(A301, architecture!D$2:E$73, 2, FALSE)","v":{"$error":"#N/A"}},{"$f":"VLOOKUP(A301, 'PF14702'!B301:C2981, 2, FALSE)","v":1542},{"$f":"VLOOKUP($A301, taxonomy!$B$2:$T$695, 6, FALSE)","v":"Eukaryota"},{"$f":"VLOOKUP($A301, taxonomy!$B$2:$T$695, 7, FALSE)","v":" Metazoa"},{"$f":"VLOOKUP($A301, taxonomy!$B$2:$T$695, 8, FALSE)","v":" Ecdysozoa"},{"$f":"VLOOKUP($A301, taxonomy!$B$2:$T$695, 9, FALSE)","v":" Arthropoda"},{"$f":"VLOOKUP($A301, taxonomy!$B$2:$T$695, 10, FALSE)","v":" Hexapoda"},{"$f":"VLOOKUP($A301, taxonomy!$B$2:$T$695, 11, FALSE)","v":" Insecta"},{"$f":"VLOOKUP($A301, taxonomy!$B$2:$T$695, 12, FALSE)","v":"Pterygota"},{"$f":"VLOOKUP($A301, taxonomy!$B$2:$T$695, 13, FALSE)","v":" Neoptera"},{"$f":"VLOOKUP($A301, taxonomy!$B$2:$T$695, 14, FALSE)","v":" Holometabola"},{"$f":"VLOOKUP($A301, taxonomy!$B$2:$T$695, 15, FALSE)","v":" Coleoptera"},{"$f":"VLOOKUP($A301, taxonomy!$B$2:$T$695, 16, FALSE)","v":" Polyphaga"},{"$f":"VLOOKUP($A301, taxonomy!$B$2:$T$695, 17, FALSE)","v":"Cucujiformia"}]
["A0A150VIY2",{"$f":" VLOOKUP(A302, architecture!D$2:E$73, 2, FALSE)","v":{"$error":"#N/A"}},{"$f":"VLOOKUP(A302, 'PF14702'!B302:C2982, 2, FALSE)","v":1552},{"$f":"VLOOKUP($A302, taxonomy!$B$2:$T$695, 6, FALSE)","v":"Eukaryota"},{"$f":"VLOOKUP($A302, taxonomy!$B$2:$T$695, 7, FALSE)","v":" Fungi"},{"$f":"VLOOKUP($A302, taxonomy!$B$2:$T$695, 8, FALSE)","v":" Dikarya"},{"$f":"VLOOKUP($A302, taxonomy!$B$2:$T$695, 9, FALSE)","v":" Ascomycota"},{"$f":"VLOOKUP($A302, taxonomy!$B$2:$T$695, 10, FALSE)","v":" Pezizomycotina"},{"$f":"VLOOKUP($A302, taxonomy!$B$2:$T$695, 11, FALSE)","v":"Dothideomycetes"},{"$f":"VLOOKUP($A302, taxonomy!$B$2:$T$695, 12, FALSE)","v":" Dothideomycetes incertae sedis"},{"$f":"VLOOKUP($A302, taxonomy!$B$2:$T$695, 13, FALSE)","v":" Acidomyces."},{"$f":"VLOOKUP($A302, taxonomy!$B$2:$T$695, 14, FALSE)","v":0},{"$f":"VLOOKUP($A302, taxonomy!$B$2:$T$695, 15, FALSE)","v":0},{"$f":"VLOOKUP($A302, taxonomy!$B$2:$T$695, 16, FALSE)","v":0},{"$f":"VLOOKUP($A302, taxonomy!$B$2:$T$695, 17, FALSE)","v":0}]
["A0A151GPN9",{"$f":" VLOOKUP(A303, architecture!D$2:E$73, 2, FALSE)","v":{"$error":"#N/A"}},{"$f":"VLOOKUP(A303, 'PF14702'!B303:C2983, 2, FALSE)","v":1584},{"$f":"VLOOKUP($A303, taxonomy!$B$2:$T$695, 6, FALSE)","v":"Eukaryota"},{"$f":"VLOOKUP($A303, taxonomy!$B$2:$T$695, 7, FALSE)","v":" Fungi"},{"$f":"VLOOKUP($A303, taxonomy!$B$2:$T$695, 8, FALSE)","v":" Dikarya"},{"$f":"VLOOKUP($A303, taxonomy!$B$2:$T$695, 9, FALSE)","v":" Ascomycota"},{"$f":"VLOOKUP($A303, taxonomy!$B$2:$T$695, 10, FALSE)","v":" Pezizomycotina"},{"$f":"VLOOKUP($A303, taxonomy!$B$2:$T$695, 11, FALSE)","v":"Sordariomycetes"},{"$f":"VLOOKUP($A303, taxonomy!$B$2:$T$695, 12, FALSE)","v":" Hypocreomycetidae"},{"$f":"VLOOKUP($A303, taxonomy!$B$2:$T$695, 13, FALSE)","v":" Hypocreales"},{"$f":"VLOOKUP($A303, taxonomy!$B$2:$T$695, 14, FALSE)","v":" Ophiocordycipitaceae"},{"$f":"VLOOKUP($A303, taxonomy!$B$2:$T$695, 15, FALSE)","v":"Drechmeria."},{"$f":"VLOOKUP($A303, taxonomy!$B$2:$T$695, 16, FALSE)","v":0},{"$f":"VLOOKUP($A303, taxonomy!$B$2:$T$695, 17, FALSE)","v":0}]
["A0A151M4V6",{"$f":" VLOOKUP(A304, architecture!D$2:E$73, 2, FALSE)","v":{"$error":"#N/A"}},{"$f":"VLOOKUP(A304, 'PF14702'!B304:C2984, 2, FALSE)","v":2015},{"$f":"VLOOKUP($A304, taxonomy!$B$2:$T$695, 6, FALSE)","v":"Eukaryota"},{"$f":"VLOOKUP($A304, taxonomy!$B$2:$T$695, 7, FALSE)","v":" Metazoa"},{"$f":"VLOOKUP($A304, taxonomy!$B$2:$T$695, 8, FALSE)","v":" Chordata"},{"$f":"VLOOKUP($A304, taxonomy!$B$2:$T$695, 9, FALSE)","v":" Craniata"},{"$f":"VLOOKUP($A304, taxonomy!$B$2:$T$695, 10, FALSE)","v":" Vertebrata"},{"$f":"VLOOKUP($A304, taxonomy!$B$2:$T$695, 11, FALSE)","v":" Euteleostomi"},{"$f":"VLOOKUP($A304, taxonomy!$B$2:$T$695, 12, FALSE)","v":"Archelosauria"},{"$f":"VLOOKUP($A304, taxonomy!$B$2:$T$695, 13, FALSE)","v":" Archosauria"},{"$f":"VLOOKUP($A304, taxonomy!$B$2:$T$695, 14, FALSE)","v":" Crocodylia"},{"$f":"VLOOKUP($A304, taxonomy!$B$2:$T$695, 15, FALSE)","v":" Alligatoridae"},{"$f":"VLOOKUP($A304, taxonomy!$B$2:$T$695, 16, FALSE)","v":" Alligatorinae"},{"$f":"VLOOKUP($A304, taxonomy!$B$2:$T$695, 17, FALSE)","v":"Alligator."}]
["A0A151M4W7",{"$f":" VLOOKUP(A305, architecture!D$2:E$73, 2, FALSE)","v":{"$error":"#N/A"}},{"$f":"VLOOKUP(A305, 'PF14702'!B305:C2985, 2, FALSE)","v":1980},{"$f":"VLOOKUP($A305, taxonomy!$B$2:$T$695, 6, FALSE)","v":"Eukaryota"},{"$f":"VLOOKUP($A305, taxonomy!$B$2:$T$695, 7, FALSE)","v":" Metazoa"},{"$f":"VLOOKUP($A305, taxonomy!$B$2:$T$695, 8, FALSE)","v":" Chordata"},{"$f":"VLOOKUP($A305, taxonomy!$B$2:$T$695, 9, FALSE)","v":" Craniata"},{"$f":"VLOOKUP($A305, taxonomy!$B$2:$T$695, 10, FALSE)","v":" Vertebrata"},{"$f":"VLOOKUP($A305, taxonomy!$B$2:$T$695, 11, FALSE)","v":" Euteleostomi"},{"$f":"VLOOKUP($A305, taxonomy!$B$2:$T$695, 12, FALSE)","v":"Archelosauria"},{"$f":"VLOOKUP($A305, taxonomy!$B$2:$T$695, 13, FALSE)","v":" Archosauria"},{"$f":"VLOOKUP($A305, taxonomy!$B$2:$T$695, 14, FALSE)","v":" Crocodylia"},{"$f":"VLOOKUP($A305, taxonomy!$B$2:$T$695, 15, FALSE)","v":" Alligatoridae"},{"$f":"VLOOKUP($A305, taxonomy!$B$2:$T$695, 16, FALSE)","v":" Alligatorinae"},{"$f":"VLOOKUP($A305, taxonomy!$B$2:$T$695, 17, FALSE)","v":"Alligator."}]
["A0A151VFH8",{"$f":" VLOOKUP(A306, architecture!D$2:E$73, 2, FALSE)","v":{"$error":"#N/A"}},{"$f":"VLOOKUP(A306, 'PF14702'!B306:C2986, 2, FALSE)","v":1592},{"$f":"VLOOKUP($A306, taxonomy!$B$2:$T$695, 6, FALSE)","v":"Eukaryota"},{"$f":"VLOOKUP($A306, taxonomy!$B$2:$T$695, 7, FALSE)","v":" Fungi"},{"$f":"VLOOKUP($A306, taxonomy!$B$2:$T$695, 8, FALSE)","v":" Dikarya"},{"$f":"VLOOKUP($A306, taxonomy!$B$2:$T$695, 9, FALSE)","v":" Basidiomycota"},{"$f":"VLOOKUP($A306, taxonomy!$B$2:$T$695, 10, FALSE)","v":" Agaricomycotina"},{"$f":"VLOOKUP($A306, taxonomy!$B$2:$T$695, 11, FALSE)","v":"Agaricomycetes"},{"$f":"VLOOKUP($A306, taxonomy!$B$2:$T$695, 12, FALSE)","v":" Agaricomycetidae"},{"$f":"VLOOKUP($A306, taxonomy!$B$2:$T$695, 13, FALSE)","v":" Agaricales"},{"$f":"VLOOKUP($A306, taxonomy!$B$2:$T$695, 14, FALSE)","v":" Lyophyllaceae"},{"$f":"VLOOKUP($A306, taxonomy!$B$2:$T$695, 15, FALSE)","v":"Hypsizygus."},{"$f":"VLOOKUP($A306, taxonomy!$B$2:$T$695, 16, FALSE)","v":0},{"$f":"VLOOKUP($A306, taxonomy!$B$2:$T$695, 17, FALSE)","v":0}]
["A0A151WGY4",{"$f":" VLOOKUP(A307, architecture!D$2:E$73, 2, FALSE)","v":{"$error":"#N/A"}},{"$f":"VLOOKUP(A307, 'PF14702'!B307:C2987, 2, FALSE)","v":1763},{"$f":"VLOOKUP($A307, taxonomy!$B$2:$T$695, 6, FALSE)","v":"Eukaryota"},{"$f":"VLOOKUP($A307, taxonomy!$B$2:$T$695, 7, FALSE)","v":" Metazoa"},{"$f":"VLOOKUP($A307, taxonomy!$B$2:$T$695, 8, FALSE)","v":" Ecdysozoa"},{"$f":"VLOOKUP($A307, taxonomy!$B$2:$T$695, 9, FALSE)","v":" Arthropoda"},{"$f":"VLOOKUP($A307, taxonomy!$B$2:$T$695, 10, FALSE)","v":" Hexapoda"},{"$f":"VLOOKUP($A307, taxonomy!$B$2:$T$695, 11, FALSE)","v":" Insecta"},{"$f":"VLOOKUP($A307, taxonomy!$B$2:$T$695, 12, FALSE)","v":"Pterygota"},{"$f":"VLOOKUP($A307, taxonomy!$B$2:$T$695, 13, FALSE)","v":" Neoptera"},{"$f":"VLOOKUP($A307, taxonomy!$B$2:$T$695, 14, FALSE)","v":" Holometabola"},{"$f":"VLOOKUP($A307, taxonomy!$B$2:$T$695, 15, FALSE)","v":" Hymenoptera"},{"$f":"VLOOKUP($A307, taxonomy!$B$2:$T$695, 16, FALSE)","v":" Apocrita"},{"$f":"VLOOKUP($A307, taxonomy!$B$2:$T$695, 17, FALSE)","v":" Aculeata"}]
["A0A152A9F1",{"$f":" VLOOKUP(A308, architecture!D$2:E$73, 2, FALSE)","v":{"$error":"#N/A"}},{"$f":"VLOOKUP(A308, 'PF14702'!B308:C2988, 2, FALSE)","v":1552},{"$f":"VLOOKUP($A308, taxonomy!$B$2:$T$695, 6, FALSE)","v":"Eukaryota"},{"$f":"VLOOKUP($A308, taxonomy!$B$2:$T$695, 7, FALSE)","v":" Amoebozoa"},{"$f":"VLOOKUP($A308, taxonomy!$B$2:$T$695, 8, FALSE)","v":" Mycetozoa"},{"$f":"VLOOKUP($A308, taxonomy!$B$2:$T$695, 9, FALSE)","v":" Dictyostelids"},{"$f":"VLOOKUP($A308, taxonomy!$B$2:$T$695, 10, FALSE)","v":" Dictyosteliales"},{"$f":"VLOOKUP($A308, taxonomy!$B$2:$T$695, 11, FALSE)","v":"Raperosteliaceae"},{"$f":"VLOOKUP($A308, taxonomy!$B$2:$T$695, 12, FALSE)","v":" Tieghemostelium."},{"$f":"VLOOKUP($A308, taxonomy!$B$2:$T$695, 13, FALSE)","v":0},{"$f":"VLOOKUP($A308, taxonomy!$B$2:$T$695, 14, FALSE)","v":0},{"$f":"VLOOKUP($A308, taxonomy!$B$2:$T$695, 15, FALSE)","v":0},{"$f":"VLOOKUP($A308, taxonomy!$B$2:$T$695, 16, FALSE)","v":0},{"$f":"VLOOKUP($A308, taxonomy!$B$2:$T$695, 17, FALSE)","v":0}]
["A0A154PFZ0",{"$f":" VLOOKUP(A309, architecture!D$2:E$73, 2, FALSE)","v":{"$error":"#N/A"}},{"$f":"VLOOKUP(A309, 'PF14702'!B309:C2989, 2, FALSE)","v":1969},{"$f":"VLOOKUP($A309, taxonomy!$B$2:$T$695, 6, FALSE)","v":"Eukaryota"},{"$f":"VLOOKUP($A309, taxonomy!$B$2:$T$695, 7, FALSE)","v":" Metazoa"},{"$f":"VLOOKUP($A309, taxonomy!$B$2:$T$695, 8, FALSE)","v":" Ecdysozoa"},{"$f":"VLOOKUP($A309, taxonomy!$B$2:$T$695, 9, FALSE)","v":" Arthropoda"},{"$f":"VLOOKUP($A309, taxonomy!$B$2:$T$695, 10, FALSE)","v":" Hexapoda"},{"$f":"VLOOKUP($A309, taxonomy!$B$2:$T$695, 11, FALSE)","v":" Insecta"},{"$f":"VLOOKUP($A309, taxonomy!$B$2:$T$695, 12, FALSE)","v":"Pterygota"},{"$f":"VLOOKUP($A309, taxonomy!$B$2:$T$695, 13, FALSE)","v":" Neoptera"},{"$f":"VLOOKUP($A309, taxonomy!$B$2:$T$695, 14, FALSE)","v":" Holometabola"},{"$f":"VLOOKUP($A309, taxonomy!$B$2:$T$695, 15, FALSE)","v":" Hymenoptera"},{"$f":"VLOOKUP($A309, taxonomy!$B$2:$T$695, 16, FALSE)","v":" Apocrita"},{"$f":"VLOOKUP($A309, taxonomy!$B$2:$T$695, 17, FALSE)","v":" Aculeata"}]
["A0A158NS37",{"$f":" VLOOKUP(A310, architecture!D$2:E$73, 2, FALSE)","v":{"$error":"#N/A"}},{"$f":"VLOOKUP(A310, 'PF14702'!B310:C2990, 2, FALSE)","v":1589},{"$f":"VLOOKUP($A310, taxonomy!$B$2:$T$695, 6, FALSE)","v":"Eukaryota"},{"$f":"VLOOKUP($A310, taxonomy!$B$2:$T$695, 7, FALSE)","v":" Metazoa"},{"$f":"VLOOKUP($A310, taxonomy!$B$2:$T$695, 8, FALSE)","v":" Ecdysozoa"},{"$f":"VLOOKUP($A310, taxonomy!$B$2:$T$695, 9, FALSE)","v":" Arthropoda"},{"$f":"VLOOKUP($A310, taxonomy!$B$2:$T$695, 10, FALSE)","v":" Hexapoda"},{"$f":"VLOOKUP($A310, taxonomy!$B$2:$T$695, 11, FALSE)","v":" Insecta"},{"$f":"VLOOKUP($A310, taxonomy!$B$2:$T$695, 12, FALSE)","v":"Pterygota"},{"$f":"VLOOKUP($A310, taxonomy!$B$2:$T$695, 13, FALSE)","v":" Neoptera"},{"$f":"VLOOKUP($A310, taxonomy!$B$2:$T$695, 14, FALSE)","v":" Holometabola"},{"$f":"VLOOKUP($A310, taxonomy!$B$2:$T$695, 15, FALSE)","v":" Hymenoptera"},{"$f":"VLOOKUP($A310, taxonomy!$B$2:$T$695, 16, FALSE)","v":" Apocrita"},{"$f":"VLOOKUP($A310, taxonomy!$B$2:$T$695, 17, FALSE)","v":" Aculeata"}]
["A0A158PC84",{"$f":" VLOOKUP(A311, architecture!D$2:E$73, 2, FALSE)","v":{"$error":"#N/A"}},{"$f":"VLOOKUP(A311, 'PF14702'!B311:C2991, 2, FALSE)","v":1124},{"$f":"VLOOKUP($A311, taxonomy!$B$2:$T$695, 6, FALSE)","v":"Eukaryota"},{"$f":"VLOOKUP($A311, taxonomy!$B$2:$T$695, 7, FALSE)","v":" Metazoa"},{"$f":"VLOOKUP($A311, taxonomy!$B$2:$T$695, 8, FALSE)","v":" Ecdysozoa"},{"$f":"VLOOKUP($A311, taxonomy!$B$2:$T$695, 9, FALSE)","v":" Nematoda"},{"$f":"VLOOKUP($A311, taxonomy!$B$2:$T$695, 10, FALSE)","v":" Chromadorea"},{"$f":"VLOOKUP($A311, taxonomy!$B$2:$T$695, 11, FALSE)","v":" Rhabditida"},{"$f":"VLOOKUP($A311, taxonomy!$B$2:$T$695, 12, FALSE)","v":"Strongylida"},{"$f":"VLOOKUP($A311, taxonomy!$B$2:$T$695, 13, FALSE)","v":" Metastrongyloidea"},{"$f":"VLOOKUP($A311, taxonomy!$B$2:$T$695, 14, FALSE)","v":" Angiostrongylidae"},{"$f":"VLOOKUP($A311, taxonomy!$B$2:$T$695, 15, FALSE)","v":" Angiostrongylus."},{"$f":"VLOOKUP($A311, taxonomy!$B$2:$T$695, 16, FALSE)","v":0},{"$f":"VLOOKUP($A311, taxonomy!$B$2:$T$695, 17, FALSE)","v":0}]
["A0A158PN69",{"$f":" VLOOKUP(A312, architecture!D$2:E$73, 2, FALSE)","v":1},{"$f":"VLOOKUP(A312, 'PF14702'!B312:C2992, 2, FALSE)","v":1488},{"$f":"VLOOKUP($A312, taxonomy!$B$2:$T$695, 6, FALSE)","v":"Eukaryota"},{"$f":"VLOOKUP($A312, taxonomy!$B$2:$T$695, 7, FALSE)","v":" Metazoa"},{"$f":"VLOOKUP($A312, taxonomy!$B$2:$T$695, 8, FALSE)","v":" Ecdysozoa"},{"$f":"VLOOKUP($A312, taxonomy!$B$2:$T$695, 9, FALSE)","v":" Nematoda"},{"$f":"VLOOKUP($A312, taxonomy!$B$2:$T$695, 10, FALSE)","v":" Chromadorea"},{"$f":"VLOOKUP($A312, taxonomy!$B$2:$T$695, 11, FALSE)","v":" Ascaridida"},{"$f":"VLOOKUP($A312, taxonomy!$B$2:$T$695, 12, FALSE)","v":"Ascaridoidea"},{"$f":"VLOOKUP($A312, taxonomy!$B$2:$T$695, 13, FALSE)","v":" Anisakidae"},{"$f":"VLOOKUP($A312, taxonomy!$B$2:$T$695, 14, FALSE)","v":" Anisakis"},{"$f":"VLOOKUP($A312, taxonomy!$B$2:$T$695, 15, FALSE)","v":" Anisakis simplex complex."},{"$f":"VLOOKUP($A312, taxonomy!$B$2:$T$695, 16, FALSE)","v":0},{"$f":"VLOOKUP($A312, taxonomy!$B$2:$T$695, 17, FALSE)","v":0}]
["A0A158QFZ4",{"$f":" VLOOKUP(A313, architecture!D$2:E$73, 2, FALSE)","v":{"$error":"#N/A"}},{"$f":"VLOOKUP(A313, 'PF14702'!B313:C2993, 2, FALSE)","v":1731},{"$f":"VLOOKUP($A313, taxonomy!$B$2:$T$695, 6, FALSE)","v":"Eukaryota"},{"$f":"VLOOKUP($A313, taxonomy!$B$2:$T$695, 7, FALSE)","v":" Metazoa"},{"$f":"VLOOKUP($A313, taxonomy!$B$2:$T$695, 8, FALSE)","v":" Platyhelminthes"},{"$f":"VLOOKUP($A313, taxonomy!$B$2:$T$695, 9, FALSE)","v":" Cestoda"},{"$f":"VLOOKUP($A313, taxonomy!$B$2:$T$695, 10, FALSE)","v":" Eucestoda"},{"$f":"VLOOKUP($A313, taxonomy!$B$2:$T$695, 11, FALSE)","v":"Cyclophyllidea"},{"$f":"VLOOKUP($A313, taxonomy!$B$2:$T$695, 12, FALSE)","v":" Hymenolepididae"},{"$f":"VLOOKUP($A313, taxonomy!$B$2:$T$695, 13, FALSE)","v":" Hymenolepis."},{"$f":"VLOOKUP($A313, taxonomy!$B$2:$T$695, 14, FALSE)","v":0},{"$f":"VLOOKUP($A313, taxonomy!$B$2:$T$695, 15, FALSE)","v":0},{"$f":"VLOOKUP($A313, taxonomy!$B$2:$T$695, 16, FALSE)","v":0},{"$f":"VLOOKUP($A313, taxonomy!$B$2:$T$695, 17, FALSE)","v":0}]
["A0A158QX09",{"$f":" VLOOKUP(A314, architecture!D$2:E$73, 2, FALSE)","v":{"$error":"#N/A"}},{"$f":"VLOOKUP(A314, 'PF14702'!B314:C2994, 2, FALSE)","v":1463},{"$f":"VLOOKUP($A314, taxonomy!$B$2:$T$695, 6, FALSE)","v":"Eukaryota"},{"$f":"VLOOKUP($A314, taxonomy!$B$2:$T$695, 7, FALSE)","v":" Metazoa"},{"$f":"VLOOKUP($A314, taxonomy!$B$2:$T$695, 8, FALSE)","v":" Ecdysozoa"},{"$f":"VLOOKUP($A314, taxonomy!$B$2:$T$695, 9, FALSE)","v":" Nematoda"},{"$f":"VLOOKUP($A314, taxonomy!$B$2:$T$695, 10, FALSE)","v":" Chromadorea"},{"$f":"VLOOKUP($A314, taxonomy!$B$2:$T$695, 11, FALSE)","v":" Rhabditida"},{"$f":"VLOOKUP($A314, taxonomy!$B$2:$T$695, 12, FALSE)","v":"Strongylida"},{"$f":"VLOOKUP($A314, taxonomy!$B$2:$T$695, 13, FALSE)","v":" Trichostrongyloidea"},{"$f":"VLOOKUP($A314, taxonomy!$B$2:$T$695, 14, FALSE)","v":" Heligmonellidae"},{"$f":"VLOOKUP($A314, taxonomy!$B$2:$T$695, 15, FALSE)","v":" Nippostrongylinae"},{"$f":"VLOOKUP($A314, taxonomy!$B$2:$T$695, 16, FALSE)","v":"Nippostrongylus."},{"$f":"VLOOKUP($A314, taxonomy!$B$2:$T$695, 17, FALSE)","v":0}]
["A0A158R7U9",{"$f":" VLOOKUP(A315, architecture!D$2:E$73, 2, FALSE)","v":{"$error":"#N/A"}},{"$f":"VLOOKUP(A315, 'PF14702'!B315:C2995, 2, FALSE)","v":1737},{"$f":"VLOOKUP($A315, taxonomy!$B$2:$T$695, 6, FALSE)","v":"Eukaryota"},{"$f":"VLOOKUP($A315, taxonomy!$B$2:$T$695, 7, FALSE)","v":" Metazoa"},{"$f":"VLOOKUP($A315, taxonomy!$B$2:$T$695, 8, FALSE)","v":" Platyhelminthes"},{"$f":"VLOOKUP($A315, taxonomy!$B$2:$T$695, 9, FALSE)","v":" Cestoda"},{"$f":"VLOOKUP($A315, taxonomy!$B$2:$T$695, 10, FALSE)","v":" Eucestoda"},{"$f":"VLOOKUP($A315, taxonomy!$B$2:$T$695, 11, FALSE)","v":"Cyclophyllidea"},{"$f":"VLOOKUP($A315, taxonomy!$B$2:$T$695, 12, FALSE)","v":" Taeniidae"},{"$f":"VLOOKUP($A315, taxonomy!$B$2:$T$695, 13, FALSE)","v":" Taenia."},{"$f":"VLOOKUP($A315, taxonomy!$B$2:$T$695, 14, FALSE)","v":0},{"$f":"VLOOKUP($A315, taxonomy!$B$2:$T$695, 15, FALSE)","v":0},{"$f":"VLOOKUP($A315, taxonomy!$B$2:$T$695, 16, FALSE)","v":0},{"$f":"VLOOKUP($A315, taxonomy!$B$2:$T$695, 17, FALSE)","v":0}]
["A0A162K3D0",{"$f":" VLOOKUP(A316, architecture!D$2:E$73, 2, FALSE)","v":{"$error":"#N/A"}},{"$f":"VLOOKUP(A316, 'PF14702'!B316:C2996, 2, FALSE)","v":1545},{"$f":"VLOOKUP($A316, taxonomy!$B$2:$T$695, 6, FALSE)","v":"Eukaryota"},{"$f":"VLOOKUP($A316, taxonomy!$B$2:$T$695, 7, FALSE)","v":" Fungi"},{"$f":"VLOOKUP($A316, taxonomy!$B$2:$T$695, 8, FALSE)","v":" Dikarya"},{"$f":"VLOOKUP($A316, taxonomy!$B$2:$T$695, 9, FALSE)","v":" Ascomycota"},{"$f":"VLOOKUP($A316, taxonomy!$B$2:$T$695, 10, FALSE)","v":" Pezizomycotina"},{"$f":"VLOOKUP($A316, taxonomy!$B$2:$T$695, 11, FALSE)","v":"Sordariomycetes"},{"$f":"VLOOKUP($A316, taxonomy!$B$2:$T$695, 12, FALSE)","v":" Hypocreomycetidae"},{"$f":"VLOOKUP($A316, taxonomy!$B$2:$T$695, 13, FALSE)","v":" Hypocreales"},{"$f":"VLOOKUP($A316, taxonomy!$B$2:$T$695, 14, FALSE)","v":" Cordycipitaceae"},{"$f":"VLOOKUP($A316, taxonomy!$B$2:$T$695, 15, FALSE)","v":"Cordyceps"},{"$f":"VLOOKUP($A316, taxonomy!$B$2:$T$695, 16, FALSE)","v":" Cordyceps brongniartii."},{"$f":"VLOOKUP($A316, taxonomy!$B$2:$T$695, 17, FALSE)","v":0}]
["A0A162UR45",{"$f":" VLOOKUP(A317, architecture!D$2:E$73, 2, FALSE)","v":1},{"$f":"VLOOKUP(A317, 'PF14702'!B317:C2997, 2, FALSE)","v":1363},{"$f":"VLOOKUP($A317, taxonomy!$B$2:$T$695, 6, FALSE)","v":"Eukaryota"},{"$f":"VLOOKUP($A317, taxonomy!$B$2:$T$695, 7, FALSE)","v":" Fungi"},{"$f":"VLOOKUP($A317, taxonomy!$B$2:$T$695, 8, FALSE)","v":" Mucoromycota"},{"$f":"VLOOKUP($A317, taxonomy!$B$2:$T$695, 9, FALSE)","v":" Mucoromycotina"},{"$f":"VLOOKUP($A317, taxonomy!$B$2:$T$695, 10, FALSE)","v":" Mucorales"},{"$f":"VLOOKUP($A317, taxonomy!$B$2:$T$695, 11, FALSE)","v":"Phycomycetaceae"},{"$f":"VLOOKUP($A317, taxonomy!$B$2:$T$695, 12, FALSE)","v":" Phycomyces."},{"$f":"VLOOKUP($A317, taxonomy!$B$2:$T$695, 13, FALSE)","v":0},{"$f":"VLOOKUP($A317, taxonomy!$B$2:$T$695, 14, FALSE)","v":0},{"$f":"VLOOKUP($A317, taxonomy!$B$2:$T$695, 15, FALSE)","v":0},{"$f":"VLOOKUP($A317, taxonomy!$B$2:$T$695, 16, FALSE)","v":0},{"$f":"VLOOKUP($A317, taxonomy!$B$2:$T$695, 17, FALSE)","v":0}]
["A0A163DBX9",{"$f":" VLOOKUP(A318, architecture!D$2:E$73, 2, FALSE)","v":{"$error":"#N/A"}},{"$f":"VLOOKUP(A318, 'PF14702'!B318:C2998, 2, FALSE)","v":1553},{"$f":"VLOOKUP($A318, taxonomy!$B$2:$T$695, 6, FALSE)","v":"Eukaryota"},{"$f":"VLOOKUP($A318, taxonomy!$B$2:$T$695, 7, FALSE)","v":" Fungi"},{"$f":"VLOOKUP($A318, taxonomy!$B$2:$T$695, 8, FALSE)","v":" Dikarya"},{"$f":"VLOOKUP($A318, taxonomy!$B$2:$T$695, 9, FALSE)","v":" Ascomycota"},{"$f":"VLOOKUP($A318, taxonomy!$B$2:$T$695, 10, FALSE)","v":" Pezizomycotina"},{"$f":"VLOOKUP($A318, taxonomy!$B$2:$T$695, 11, FALSE)","v":"Dothideomycetes"},{"$f":"VLOOKUP($A318, taxonomy!$B$2:$T$695, 12, FALSE)","v":" Pleosporomycetidae"},{"$f":"VLOOKUP($A318, taxonomy!$B$2:$T$695, 13, FALSE)","v":" Pleosporales"},{"$f":"VLOOKUP($A318, taxonomy!$B$2:$T$695, 14, FALSE)","v":" Pleosporineae"},{"$f":"VLOOKUP($A318, taxonomy!$B$2:$T$695, 15, FALSE)","v":"Didymellaceae"},{"$f":"VLOOKUP($A318, taxonomy!$B$2:$T$695, 16, FALSE)","v":" Ascochyta."},{"$f":"VLOOKUP($A318, taxonomy!$B$2:$T$695, 17, FALSE)","v":0}]
["A0A164NPU1",{"$f":" VLOOKUP(A319, architecture!D$2:E$73, 2, FALSE)","v":{"$error":"#N/A"}},{"$f":"VLOOKUP(A319, 'PF14702'!B319:C2999, 2, FALSE)","v":1612},{"$f":"VLOOKUP($A319, taxonomy!$B$2:$T$695, 6, FALSE)","v":"Eukaryota"},{"$f":"VLOOKUP($A319, taxonomy!$B$2:$T$695, 7, FALSE)","v":" Metazoa"},{"$f":"VLOOKUP($A319, taxonomy!$B$2:$T$695, 8, FALSE)","v":" Ecdysozoa"},{"$f":"VLOOKUP($A319, taxonomy!$B$2:$T$695, 9, FALSE)","v":" Arthropoda"},{"$f":"VLOOKUP($A319, taxonomy!$B$2:$T$695, 10, FALSE)","v":" Crustacea"},{"$f":"VLOOKUP($A319, taxonomy!$B$2:$T$695, 11, FALSE)","v":" Branchiopoda"},{"$f":"VLOOKUP($A319, taxonomy!$B$2:$T$695, 12, FALSE)","v":"Diplostraca"},{"$f":"VLOOKUP($A319, taxonomy!$B$2:$T$695, 13, FALSE)","v":" Cladocera"},{"$f":"VLOOKUP($A319, taxonomy!$B$2:$T$695, 14, FALSE)","v":" Anomopoda"},{"$f":"VLOOKUP($A319, taxonomy!$B$2:$T$695, 15, FALSE)","v":" Daphniidae"},{"$f":"VLOOKUP($A319, taxonomy!$B$2:$T$695, 16, FALSE)","v":" Daphnia."},{"$f":"VLOOKUP($A319, taxonomy!$B$2:$T$695, 17, FALSE)","v":0}]
["A0A164VTK7",{"$f":" VLOOKUP(A320, architecture!D$2:E$73, 2, FALSE)","v":{"$error":"#N/A"}},{"$f":"VLOOKUP(A320, 'PF14702'!B320:C3000, 2, FALSE)","v":1609},{"$f":"VLOOKUP($A320, taxonomy!$B$2:$T$695, 6, FALSE)","v":"Eukaryota"},{"$f":"VLOOKUP($A320, taxonomy!$B$2:$T$695, 7, FALSE)","v":" Fungi"},{"$f":"VLOOKUP($A320, taxonomy!$B$2:$T$695, 8, FALSE)","v":" Dikarya"},{"$f":"VLOOKUP($A320, taxonomy!$B$2:$T$695, 9, FALSE)","v":" Basidiomycota"},{"$f":"VLOOKUP($A320, taxonomy!$B$2:$T$695, 10, FALSE)","v":" Agaricomycotina"},{"$f":"VLOOKUP($A320, taxonomy!$B$2:$T$695, 11, FALSE)","v":"Agaricomycetes"},{"$f":"VLOOKUP($A320, taxonomy!$B$2:$T$695, 12, FALSE)","v":" Trechisporales"},{"$f":"VLOOKUP($A320, taxonomy!$B$2:$T$695, 13, FALSE)","v":" Hydnodontaceae"},{"$f":"VLOOKUP($A320, taxonomy!$B$2:$T$695, 14, FALSE)","v":" Sistotremastrum."},{"$f":"VLOOKUP($A320, taxonomy!$B$2:$T$695, 15, FALSE)","v":0},{"$f":"VLOOKUP($A320, taxonomy!$B$2:$T$695, 16, FALSE)","v":0},{"$f":"VLOOKUP($A320, taxonomy!$B$2:$T$695, 17, FALSE)","v":0}]
["A0A165GB67",{"$f":" VLOOKUP(A321, architecture!D$2:E$73, 2, FALSE)","v":{"$error":"#N/A"}},{"$f":"VLOOKUP(A321, 'PF14702'!B321:C3001, 2, FALSE)","v":1522},{"$f":"VLOOKUP($A321, taxonomy!$B$2:$T$695, 6, FALSE)","v":"Eukaryota"},{"$f":"VLOOKUP($A321, taxonomy!$B$2:$T$695, 7, FALSE)","v":" Fungi"},{"$f":"VLOOKUP($A321, taxonomy!$B$2:$T$695, 8, FALSE)","v":" Dikarya"},{"$f":"VLOOKUP($A321, taxonomy!$B$2:$T$695, 9, FALSE)","v":" Basidiomycota"},{"$f":"VLOOKUP($A321, taxonomy!$B$2:$T$695, 10, FALSE)","v":" Agaricomycotina"},{"$f":"VLOOKUP($A321, taxonomy!$B$2:$T$695, 11, FALSE)","v":"Agaricomycetes"},{"$f":"VLOOKUP($A321, taxonomy!$B$2:$T$695, 12, FALSE)","v":" Polyporales"},{"$f":"VLOOKUP($A321, taxonomy!$B$2:$T$695, 13, FALSE)","v":" Laetiporus."},{"$f":"VLOOKUP($A321, taxonomy!$B$2:$T$695, 14, FALSE)","v":0},{"$f":"VLOOKUP($A321, taxonomy!$B$2:$T$695, 15, FALSE)","v":0},{"$f":"VLOOKUP($A321, taxonomy!$B$2:$T$695, 16, FALSE)","v":0},{"$f":"VLOOKUP($A321, taxonomy!$B$2:$T$695, 17, FALSE)","v":0}]
["A0A165HYM6",{"$f":" VLOOKUP(A322, architecture!D$2:E$73, 2, FALSE)","v":{"$error":"#N/A"}},{"$f":"VLOOKUP(A322, 'PF14702'!B322:C3002, 2, FALSE)","v":1613},{"$f":"VLOOKUP($A322, taxonomy!$B$2:$T$695, 6, FALSE)","v":"Eukaryota"},{"$f":"VLOOKUP($A322, taxonomy!$B$2:$T$695, 7, FALSE)","v":" Fungi"},{"$f":"VLOOKUP($A322, taxonomy!$B$2:$T$695, 8, FALSE)","v":" Dikarya"},{"$f":"VLOOKUP($A322, taxonomy!$B$2:$T$695, 9, FALSE)","v":" Basidiomycota"},{"$f":"VLOOKUP($A322, taxonomy!$B$2:$T$695, 10, FALSE)","v":" Agaricomycotina"},{"$f":"VLOOKUP($A322, taxonomy!$B$2:$T$695, 11, FALSE)","v":"Dacrymycetes"},{"$f":"VLOOKUP($A322, taxonomy!$B$2:$T$695, 12, FALSE)","v":" Dacrymycetales"},{"$f":"VLOOKUP($A322, taxonomy!$B$2:$T$695, 13, FALSE)","v":" Dacrymycetaceae"},{"$f":"VLOOKUP($A322, taxonomy!$B$2:$T$695, 14, FALSE)","v":" Calocera."},{"$f":"VLOOKUP($A322, taxonomy!$B$2:$T$695, 15, FALSE)","v":0},{"$f":"VLOOKUP($A322, taxonomy!$B$2:$T$695, 16, FALSE)","v":0},{"$f":"VLOOKUP($A322, taxonomy!$B$2:$T$695, 17, FALSE)","v":0}]
["A0A165JZD4",{"$f":" VLOOKUP(A323, architecture!D$2:E$73, 2, FALSE)","v":{"$error":"#N/A"}},{"$f":"VLOOKUP(A323, 'PF14702'!B323:C3003, 2, FALSE)","v":1551},{"$f":"VLOOKUP($A323, taxonomy!$B$2:$T$695, 6, FALSE)","v":"Eukaryota"},{"$f":"VLOOKUP($A323, taxonomy!$B$2:$T$695, 7, FALSE)","v":" Fungi"},{"$f":"VLOOKUP($A323, taxonomy!$B$2:$T$695, 8, FALSE)","v":" Dikarya"},{"$f":"VLOOKUP($A323, taxonomy!$B$2:$T$695, 9, FALSE)","v":" Ascomycota"},{"$f":"VLOOKUP($A323, taxonomy!$B$2:$T$695, 10, FALSE)","v":" Pezizomycotina"},{"$f":"VLOOKUP($A323, taxonomy!$B$2:$T$695, 11, FALSE)","v":" Xylonomycetes"},{"$f":"VLOOKUP($A323, taxonomy!$B$2:$T$695, 12, FALSE)","v":"Xylonomycetales"},{"$f":"VLOOKUP($A323, taxonomy!$B$2:$T$695, 13, FALSE)","v":" Xylonomycetaceae"},{"$f":"VLOOKUP($A323, taxonomy!$B$2:$T$695, 14, FALSE)","v":" Xylona."},{"$f":"VLOOKUP($A323, taxonomy!$B$2:$T$695, 15, FALSE)","v":0},{"$f":"VLOOKUP($A323, taxonomy!$B$2:$T$695, 16, FALSE)","v":0},{"$f":"VLOOKUP($A323, taxonomy!$B$2:$T$695, 17, FALSE)","v":0}]
["A0A165LZL5",{"$f":" VLOOKUP(A324, architecture!D$2:E$73, 2, FALSE)","v":{"$error":"#N/A"}},{"$f":"VLOOKUP(A324, 'PF14702'!B324:C3004, 2, FALSE)","v":1605},{"$f":"VLOOKUP($A324, taxonomy!$B$2:$T$695, 6, FALSE)","v":"Eukaryota"},{"$f":"VLOOKUP($A324, taxonomy!$B$2:$T$695, 7, FALSE)","v":" Fungi"},{"$f":"VLOOKUP($A324, taxonomy!$B$2:$T$695, 8, FALSE)","v":" Dikarya"},{"$f":"VLOOKUP($A324, taxonomy!$B$2:$T$695, 9, FALSE)","v":" Basidiomycota"},{"$f":"VLOOKUP($A324, taxonomy!$B$2:$T$695, 10, FALSE)","v":" Agaricomycotina"},{"$f":"VLOOKUP($A324, taxonomy!$B$2:$T$695, 11, FALSE)","v":"Agaricomycetes"},{"$f":"VLOOKUP($A324, taxonomy!$B$2:$T$695, 12, FALSE)","v":" Polyporales"},{"$f":"VLOOKUP($A324, taxonomy!$B$2:$T$695, 13, FALSE)","v":" Daedalea."},{"$f":"VLOOKUP($A324, taxonomy!$B$2:$T$695, 14, FALSE)","v":0},{"$f":"VLOOKUP($A324, taxonomy!$B$2:$T$695, 15, FALSE)","v":0},{"$f":"VLOOKUP($A324, taxonomy!$B$2:$T$695, 16, FALSE)","v":0},{"$f":"VLOOKUP($A324, taxonomy!$B$2:$T$695, 17, FALSE)","v":0}]
["A0A165U9Q9",{"$f":" VLOOKUP(A325, architecture!D$2:E$73, 2, FALSE)","v":{"$error":"#N/A"}},{"$f":"VLOOKUP(A325, 'PF14702'!B325:C3005, 2, FALSE)","v":1609},{"$f":"VLOOKUP($A325, taxonomy!$B$2:$T$695, 6, FALSE)","v":"Eukaryota"},{"$f":"VLOOKUP($A325, taxonomy!$B$2:$T$695, 7, FALSE)","v":" Fungi"},{"$f":"VLOOKUP($A325, taxonomy!$B$2:$T$695, 8, FALSE)","v":" Dikarya"},{"$f":"VLOOKUP($A325, taxonomy!$B$2:$T$695, 9, FALSE)","v":" Basidiomycota"},{"$f":"VLOOKUP($A325, taxonomy!$B$2:$T$695, 10, FALSE)","v":" Agaricomycotina"},{"$f":"VLOOKUP($A325, taxonomy!$B$2:$T$695, 11, FALSE)","v":"Agaricomycetes"},{"$f":"VLOOKUP($A325, taxonomy!$B$2:$T$695, 12, FALSE)","v":" Gloeophyllales"},{"$f":"VLOOKUP($A325, taxonomy!$B$2:$T$695, 13, FALSE)","v":" Gloeophyllaceae"},{"$f":"VLOOKUP($A325, taxonomy!$B$2:$T$695, 14, FALSE)","v":" Neolentinus."},{"$f":"VLOOKUP($A325, taxonomy!$B$2:$T$695, 15, FALSE)","v":0},{"$f":"VLOOKUP($A325, taxonomy!$B$2:$T$695, 16, FALSE)","v":0},{"$f":"VLOOKUP($A325, taxonomy!$B$2:$T$695, 17, FALSE)","v":0}]
["A0A166BCP4",{"$f":" VLOOKUP(A326, architecture!D$2:E$73, 2, FALSE)","v":{"$error":"#N/A"}},{"$f":"VLOOKUP(A326, 'PF14702'!B326:C3006, 2, FALSE)","v":1613},{"$f":"VLOOKUP($A326, taxonomy!$B$2:$T$695, 6, FALSE)","v":"Eukaryota"},{"$f":"VLOOKUP($A326, taxonomy!$B$2:$T$695, 7, FALSE)","v":" Fungi"},{"$f":"VLOOKUP($A326, taxonomy!$B$2:$T$695, 8, FALSE)","v":" Dikarya"},{"$f":"VLOOKUP($A326, taxonomy!$B$2:$T$695, 9, FALSE)","v":" Basidiomycota"},{"$f":"VLOOKUP($A326, taxonomy!$B$2:$T$695, 10, FALSE)","v":" Agaricomycotina"},{"$f":"VLOOKUP($A326, taxonomy!$B$2:$T$695, 11, FALSE)","v":"Agaricomycetes"},{"$f":"VLOOKUP($A326, taxonomy!$B$2:$T$695, 12, FALSE)","v":" Auriculariales"},{"$f":"VLOOKUP($A326, taxonomy!$B$2:$T$695, 13, FALSE)","v":" Exidiaceae"},{"$f":"VLOOKUP($A326, taxonomy!$B$2:$T$695, 14, FALSE)","v":" Exidia."},{"$f":"VLOOKUP($A326, taxonomy!$B$2:$T$695, 15, FALSE)","v":0},{"$f":"VLOOKUP($A326, taxonomy!$B$2:$T$695, 16, FALSE)","v":0},{"$f":"VLOOKUP($A326, taxonomy!$B$2:$T$695, 17, FALSE)","v":0}]
["A0A166CDF1",{"$f":" VLOOKUP(A327, architecture!D$2:E$73, 2, FALSE)","v":{"$error":"#N/A"}},{"$f":"VLOOKUP(A327, 'PF14702'!B327:C3007, 2, FALSE)","v":1597},{"$f":"VLOOKUP($A327, taxonomy!$B$2:$T$695, 6, FALSE)","v":"Eukaryota"},{"$f":"VLOOKUP($A327, taxonomy!$B$2:$T$695, 7, FALSE)","v":" Fungi"},{"$f":"VLOOKUP($A327, taxonomy!$B$2:$T$695, 8, FALSE)","v":" Dikarya"},{"$f":"VLOOKUP($A327, taxonomy!$B$2:$T$695, 9, FALSE)","v":" Basidiomycota"},{"$f":"VLOOKUP($A327, taxonomy!$B$2:$T$695, 10, FALSE)","v":" Agaricomycotina"},{"$f":"VLOOKUP($A327, taxonomy!$B$2:$T$695, 11, FALSE)","v":"Agaricomycetes"},{"$f":"VLOOKUP($A327, taxonomy!$B$2:$T$695, 12, FALSE)","v":" Russulales"},{"$f":"VLOOKUP($A327, taxonomy!$B$2:$T$695, 13, FALSE)","v":" Peniophoraceae"},{"$f":"VLOOKUP($A327, taxonomy!$B$2:$T$695, 14, FALSE)","v":" Peniophora."},{"$f":"VLOOKUP($A327, taxonomy!$B$2:$T$695, 15, FALSE)","v":0},{"$f":"VLOOKUP($A327, taxonomy!$B$2:$T$695, 16, FALSE)","v":0},{"$f":"VLOOKUP($A327, taxonomy!$B$2:$T$695, 17, FALSE)","v":0}]
["A0A166FBI4",{"$f":" VLOOKUP(A328, architecture!D$2:E$73, 2, FALSE)","v":{"$error":"#N/A"}},{"$f":"VLOOKUP(A328, 'PF14702'!B328:C3008, 2, FALSE)","v":1582},{"$f":"VLOOKUP($A328, taxonomy!$B$2:$T$695, 6, FALSE)","v":"Eukaryota"},{"$f":"VLOOKUP($A328, taxonomy!$B$2:$T$695, 7, FALSE)","v":" Fungi"},{"$f":"VLOOKUP($A328, taxonomy!$B$2:$T$695, 8, FALSE)","v":" Dikarya"},{"$f":"VLOOKUP($A328, taxonomy!$B$2:$T$695, 9, FALSE)","v":" Basidiomycota"},{"$f":"VLOOKUP($A328, taxonomy!$B$2:$T$695, 10, FALSE)","v":" Agaricomycotina"},{"$f":"VLOOKUP($A328, taxonomy!$B$2:$T$695, 11, FALSE)","v":"Agaricomycetes"},{"$f":"VLOOKUP($A328, taxonomy!$B$2:$T$695, 12, FALSE)","v":" Agaricomycetidae"},{"$f":"VLOOKUP($A328, taxonomy!$B$2:$T$695, 13, FALSE)","v":" Atheliales"},{"$f":"VLOOKUP($A328, taxonomy!$B$2:$T$695, 14, FALSE)","v":" Atheliaceae"},{"$f":"VLOOKUP($A328, taxonomy!$B$2:$T$695, 15, FALSE)","v":"Fibularhizoctonia."},{"$f":"VLOOKUP($A328, taxonomy!$B$2:$T$695, 16, FALSE)","v":0},{"$f":"VLOOKUP($A328, taxonomy!$B$2:$T$695, 17, FALSE)","v":0}]
["A0A166HVI1",{"$f":" VLOOKUP(A329, architecture!D$2:E$73, 2, FALSE)","v":{"$error":"#N/A"}},{"$f":"VLOOKUP(A329, 'PF14702'!B329:C3009, 2, FALSE)","v":1609},{"$f":"VLOOKUP($A329, taxonomy!$B$2:$T$695, 6, FALSE)","v":"Eukaryota"},{"$f":"VLOOKUP($A329, taxonomy!$B$2:$T$695, 7, FALSE)","v":" Fungi"},{"$f":"VLOOKUP($A329, taxonomy!$B$2:$T$695, 8, FALSE)","v":" Dikarya"},{"$f":"VLOOKUP($A329, taxonomy!$B$2:$T$695, 9, FALSE)","v":" Basidiomycota"},{"$f":"VLOOKUP($A329, taxonomy!$B$2:$T$695, 10, FALSE)","v":" Agaricomycotina"},{"$f":"VLOOKUP($A329, taxonomy!$B$2:$T$695, 11, FALSE)","v":"Agaricomycetes"},{"$f":"VLOOKUP($A329, taxonomy!$B$2:$T$695, 12, FALSE)","v":" Trechisporales"},{"$f":"VLOOKUP($A329, taxonomy!$B$2:$T$695, 13, FALSE)","v":" Hydnodontaceae"},{"$f":"VLOOKUP($A329, taxonomy!$B$2:$T$695, 14, FALSE)","v":" Sistotremastrum."},{"$f":"VLOOKUP($A329, taxonomy!$B$2:$T$695, 15, FALSE)","v":0},{"$f":"VLOOKUP($A329, taxonomy!$B$2:$T$695, 16, FALSE)","v":0},{"$f":"VLOOKUP($A329, taxonomy!$B$2:$T$695, 17, FALSE)","v":0}]
["A0A166UV10",{"$f":" VLOOKUP(A330, architecture!D$2:E$73, 2, FALSE)","v":{"$error":"#N/A"}},{"$f":"VLOOKUP(A330, 'PF14702'!B330:C3010, 2, FALSE)","v":1573},{"$f":"VLOOKUP($A330, taxonomy!$B$2:$T$695, 6, FALSE)","v":"Eukaryota"},{"$f":"VLOOKUP($A330, taxonomy!$B$2:$T$695, 7, FALSE)","v":" Fungi"},{"$f":"VLOOKUP($A330, taxonomy!$B$2:$T$695, 8, FALSE)","v":" Dikarya"},{"$f":"VLOOKUP($A330, taxonomy!$B$2:$T$695, 9, FALSE)","v":" Ascomycota"},{"$f":"VLOOKUP($A330, taxonomy!$B$2:$T$695, 10, FALSE)","v":" Pezizomycotina"},{"$f":"VLOOKUP($A330, taxonomy!$B$2:$T$695, 11, FALSE)","v":"Sordariomycetes"},{"$f":"VLOOKUP($A330, taxonomy!$B$2:$T$695, 12, FALSE)","v":" Hypocreomycetidae"},{"$f":"VLOOKUP($A330, taxonomy!$B$2:$T$695, 13, FALSE)","v":" Glomerellales"},{"$f":"VLOOKUP($A330, taxonomy!$B$2:$T$695, 14, FALSE)","v":" Glomerellaceae"},{"$f":"VLOOKUP($A330, taxonomy!$B$2:$T$695, 15, FALSE)","v":"Colletotrichum."},{"$f":"VLOOKUP($A330, taxonomy!$B$2:$T$695, 16, FALSE)","v":0},{"$f":"VLOOKUP($A330, taxonomy!$B$2:$T$695, 17, FALSE)","v":0}]
["A0A167BNH3",{"$f":" VLOOKUP(A331, architecture!D$2:E$73, 2, FALSE)","v":{"$error":"#N/A"}},{"$f":"VLOOKUP(A331, 'PF14702'!B331:C3011, 2, FALSE)","v":1620},{"$f":"VLOOKUP($A331, taxonomy!$B$2:$T$695, 6, FALSE)","v":"Eukaryota"},{"$f":"VLOOKUP($A331, taxonomy!$B$2:$T$695, 7, FALSE)","v":" Fungi"},{"$f":"VLOOKUP($A331, taxonomy!$B$2:$T$695, 8, FALSE)","v":" Dikarya"},{"$f":"VLOOKUP($A331, taxonomy!$B$2:$T$695, 9, FALSE)","v":" Ascomycota"},{"$f":"VLOOKUP($A331, taxonomy!$B$2:$T$695, 10, FALSE)","v":" Pezizomycotina"},{"$f":"VLOOKUP($A331, taxonomy!$B$2:$T$695, 11, FALSE)","v":"Sordariomycetes"},{"$f":"VLOOKUP($A331, taxonomy!$B$2:$T$695, 12, FALSE)","v":" Hypocreomycetidae"},{"$f":"VLOOKUP($A331, taxonomy!$B$2:$T$695, 13, FALSE)","v":" Glomerellales"},{"$f":"VLOOKUP($A331, taxonomy!$B$2:$T$695, 14, FALSE)","v":" Glomerellaceae"},{"$f":"VLOOKUP($A331, taxonomy!$B$2:$T$695, 15, FALSE)","v":"Colletotrichum."},{"$f":"VLOOKUP($A331, taxonomy!$B$2:$T$695, 16, FALSE)","v":0},{"$f":"VLOOKUP($A331, taxonomy!$B$2:$T$695, 17, FALSE)","v":0}]
["A0A167S918",{"$f":" VLOOKUP(A332, architecture!D$2:E$73, 2, FALSE)","v":{"$error":"#N/A"}},{"$f":"VLOOKUP(A332, 'PF14702'!B332:C3012, 2, FALSE)","v":1615},{"$f":"VLOOKUP($A332, taxonomy!$B$2:$T$695, 6, FALSE)","v":"Eukaryota"},{"$f":"VLOOKUP($A332, taxonomy!$B$2:$T$695, 7, FALSE)","v":" Fungi"},{"$f":"VLOOKUP($A332, taxonomy!$B$2:$T$695, 8, FALSE)","v":" Dikarya"},{"$f":"VLOOKUP($A332, taxonomy!$B$2:$T$695, 9, FALSE)","v":" Basidiomycota"},{"$f":"VLOOKUP($A332, taxonomy!$B$2:$T$695, 10, FALSE)","v":" Agaricomycotina"},{"$f":"VLOOKUP($A332, taxonomy!$B$2:$T$695, 11, FALSE)","v":"Dacrymycetes"},{"$f":"VLOOKUP($A332, taxonomy!$B$2:$T$695, 12, FALSE)","v":" Dacrymycetales"},{"$f":"VLOOKUP($A332, taxonomy!$B$2:$T$695, 13, FALSE)","v":" Dacrymycetaceae"},{"$f":"VLOOKUP($A332, taxonomy!$B$2:$T$695, 14, FALSE)","v":" Calocera."},{"$f":"VLOOKUP($A332, taxonomy!$B$2:$T$695, 15, FALSE)","v":0},{"$f":"VLOOKUP($A332, taxonomy!$B$2:$T$695, 16, FALSE)","v":0},{"$f":"VLOOKUP($A332, taxonomy!$B$2:$T$695, 17, FALSE)","v":0}]
["A0A167UPF6",{"$f":" VLOOKUP(A333, architecture!D$2:E$73, 2, FALSE)","v":{"$error":"#N/A"}},{"$f":"VLOOKUP(A333, 'PF14702'!B333:C3013, 2, FALSE)","v":1568},{"$f":"VLOOKUP($A333, taxonomy!$B$2:$T$695, 6, FALSE)","v":"Eukaryota"},{"$f":"VLOOKUP($A333, taxonomy!$B$2:$T$695, 7, FALSE)","v":" Fungi"},{"$f":"VLOOKUP($A333, taxonomy!$B$2:$T$695, 8, FALSE)","v":" Dikarya"},{"$f":"VLOOKUP($A333, taxonomy!$B$2:$T$695, 9, FALSE)","v":" Ascomycota"},{"$f":"VLOOKUP($A333, taxonomy!$B$2:$T$695, 10, FALSE)","v":" Pezizomycotina"},{"$f":"VLOOKUP($A333, taxonomy!$B$2:$T$695, 11, FALSE)","v":"Sordariomycetes"},{"$f":"VLOOKUP($A333, taxonomy!$B$2:$T$695, 12, FALSE)","v":" Sordariomycetidae"},{"$f":"VLOOKUP($A333, taxonomy!$B$2:$T$695, 13, FALSE)","v":" Ophiostomatales"},{"$f":"VLOOKUP($A333, taxonomy!$B$2:$T$695, 14, FALSE)","v":" Ophiostomataceae"},{"$f":"VLOOKUP($A333, taxonomy!$B$2:$T$695, 15, FALSE)","v":"Sporothrix."},{"$f":"VLOOKUP($A333, taxonomy!$B$2:$T$695, 16, FALSE)","v":0},{"$f":"VLOOKUP($A333, taxonomy!$B$2:$T$695, 17, FALSE)","v":0}]
["A0A168GI85",{"$f":" VLOOKUP(A334, architecture!D$2:E$73, 2, FALSE)","v":{"$error":"#N/A"}},{"$f":"VLOOKUP(A334, 'PF14702'!B334:C3014, 2, FALSE)","v":1446},{"$f":"VLOOKUP($A334, taxonomy!$B$2:$T$695, 6, FALSE)","v":"Eukaryota"},{"$f":"VLOOKUP($A334, taxonomy!$B$2:$T$695, 7, FALSE)","v":" Fungi"},{"$f":"VLOOKUP($A334, taxonomy!$B$2:$T$695, 8, FALSE)","v":" Mucoromycota"},{"$f":"VLOOKUP($A334, taxonomy!$B$2:$T$695, 9, FALSE)","v":" Mucoromycotina"},{"$f":"VLOOKUP($A334, taxonomy!$B$2:$T$695, 10, FALSE)","v":" Mucorales"},{"$f":"VLOOKUP($A334, taxonomy!$B$2:$T$695, 11, FALSE)","v":" Mucorineae"},{"$f":"VLOOKUP($A334, taxonomy!$B$2:$T$695, 12, FALSE)","v":"Mucoraceae"},{"$f":"VLOOKUP($A334, taxonomy!$B$2:$T$695, 13, FALSE)","v":" Mucor."},{"$f":"VLOOKUP($A334, taxonomy!$B$2:$T$695, 14, FALSE)","v":0},{"$f":"VLOOKUP($A334, taxonomy!$B$2:$T$695, 15, FALSE)","v":0},{"$f":"VLOOKUP($A334, taxonomy!$B$2:$T$695, 16, FALSE)","v":0},{"$f":"VLOOKUP($A334, taxonomy!$B$2:$T$695, 17, FALSE)","v":0}]
["A0A168GXS6",{"$f":" VLOOKUP(A335, architecture!D$2:E$73, 2, FALSE)","v":{"$error":"#N/A"}},{"$f":"VLOOKUP(A335, 'PF14702'!B335:C3015, 2, FALSE)","v":1545},{"$f":"VLOOKUP($A335, taxonomy!$B$2:$T$695, 6, FALSE)","v":"Eukaryota"},{"$f":"VLOOKUP($A335, taxonomy!$B$2:$T$695, 7, FALSE)","v":" Fungi"},{"$f":"VLOOKUP($A335, taxonomy!$B$2:$T$695, 8, FALSE)","v":" Dikarya"},{"$f":"VLOOKUP($A335, taxonomy!$B$2:$T$695, 9, FALSE)","v":" Ascomycota"},{"$f":"VLOOKUP($A335, taxonomy!$B$2:$T$695, 10, FALSE)","v":" Pezizomycotina"},{"$f":"VLOOKUP($A335, taxonomy!$B$2:$T$695, 11, FALSE)","v":"Sordariomycetes"},{"$f":"VLOOKUP($A335, taxonomy!$B$2:$T$695, 12, FALSE)","v":" Hypocreomycetidae"},{"$f":"VLOOKUP($A335, taxonomy!$B$2:$T$695, 13, FALSE)","v":" Hypocreales"},{"$f":"VLOOKUP($A335, taxonomy!$B$2:$T$695, 14, FALSE)","v":" Cordycipitaceae"},{"$f":"VLOOKUP($A335, taxonomy!$B$2:$T$695, 15, FALSE)","v":"Cordyceps."},{"$f":"VLOOKUP($A335, taxonomy!$B$2:$T$695, 16, FALSE)","v":0},{"$f":"VLOOKUP($A335, taxonomy!$B$2:$T$695, 17, FALSE)","v":0}]
["A0A177BY91",{"$f":" VLOOKUP(A336, architecture!D$2:E$73, 2, FALSE)","v":{"$error":"#N/A"}},{"$f":"VLOOKUP(A336, 'PF14702'!B336:C3016, 2, FALSE)","v":1552},{"$f":"VLOOKUP($A336, taxonomy!$B$2:$T$695, 6, FALSE)","v":"Eukaryota"},{"$f":"VLOOKUP($A336, taxonomy!$B$2:$T$695, 7, FALSE)","v":" Fungi"},{"$f":"VLOOKUP($A336, taxonomy!$B$2:$T$695, 8, FALSE)","v":" Dikarya"},{"$f":"VLOOKUP($A336, taxonomy!$B$2:$T$695, 9, FALSE)","v":" Ascomycota"},{"$f":"VLOOKUP($A336, taxonomy!$B$2:$T$695, 10, FALSE)","v":" Pezizomycotina"},{"$f":"VLOOKUP($A336, taxonomy!$B$2:$T$695, 11, FALSE)","v":"Dothideomycetes"},{"$f":"VLOOKUP($A336, taxonomy!$B$2:$T$695, 12, FALSE)","v":" Pleosporomycetidae"},{"$f":"VLOOKUP($A336, taxonomy!$B$2:$T$695, 13, FALSE)","v":" Pleosporales"},{"$f":"VLOOKUP($A336, taxonomy!$B$2:$T$695, 14, FALSE)","v":" Massarineae"},{"$f":"VLOOKUP($A336, taxonomy!$B$2:$T$695, 15, FALSE)","v":"Didymosphaeriaceae"},{"$f":"VLOOKUP($A336, taxonomy!$B$2:$T$695, 16, FALSE)","v":" Paraphaeosphaeria."},{"$f":"VLOOKUP($A336, taxonomy!$B$2:$T$695, 17, FALSE)","v":0}]
["A0A177DMY2",{"$f":" VLOOKUP(A337, architecture!D$2:E$73, 2, FALSE)","v":{"$error":"#N/A"}},{"$f":"VLOOKUP(A337, 'PF14702'!B337:C3017, 2, FALSE)","v":1561},{"$f":"VLOOKUP($A337, taxonomy!$B$2:$T$695, 6, FALSE)","v":"Eukaryota"},{"$f":"VLOOKUP($A337, taxonomy!$B$2:$T$695, 7, FALSE)","v":" Fungi"},{"$f":"VLOOKUP($A337, taxonomy!$B$2:$T$695, 8, FALSE)","v":" Dikarya"},{"$f":"VLOOKUP($A337, taxonomy!$B$2:$T$695, 9, FALSE)","v":" Ascomycota"},{"$f":"VLOOKUP($A337, taxonomy!$B$2:$T$695, 10, FALSE)","v":" Pezizomycotina"},{"$f":"VLOOKUP($A337, taxonomy!$B$2:$T$695, 11, FALSE)","v":"Dothideomycetes"},{"$f":"VLOOKUP($A337, taxonomy!$B$2:$T$695, 12, FALSE)","v":" Pleosporomycetidae"},{"$f":"VLOOKUP($A337, taxonomy!$B$2:$T$695, 13, FALSE)","v":" Pleosporales"},{"$f":"VLOOKUP($A337, taxonomy!$B$2:$T$695, 14, FALSE)","v":" Pleosporineae"},{"$f":"VLOOKUP($A337, taxonomy!$B$2:$T$695, 15, FALSE)","v":"Pleosporaceae"},{"$f":"VLOOKUP($A337, taxonomy!$B$2:$T$695, 16, FALSE)","v":" Alternaria"},{"$f":"VLOOKUP($A337, taxonomy!$B$2:$T$695, 17, FALSE)","v":" Alternaria alternata group."}]
["A0A177WDZ8",{"$f":" VLOOKUP(A338, architecture!D$2:E$73, 2, FALSE)","v":{"$error":"#N/A"}},{"$f":"VLOOKUP(A338, 'PF14702'!B338:C3018, 2, FALSE)","v":1177},{"$f":"VLOOKUP($A338, taxonomy!$B$2:$T$695, 6, FALSE)","v":"Eukaryota"},{"$f":"VLOOKUP($A338, taxonomy!$B$2:$T$695, 7, FALSE)","v":" Fungi"},{"$f":"VLOOKUP($A338, taxonomy!$B$2:$T$695, 8, FALSE)","v":" Chytridiomycota"},{"$f":"VLOOKUP($A338, taxonomy!$B$2:$T$695, 9, FALSE)","v":" Chytridiomycetes"},{"$f":"VLOOKUP($A338, taxonomy!$B$2:$T$695, 10, FALSE)","v":" Rhizophydiales"},{"$f":"VLOOKUP($A338, taxonomy!$B$2:$T$695, 11, FALSE)","v":"Rhizophydiales incertae sedis"},{"$f":"VLOOKUP($A338, taxonomy!$B$2:$T$695, 12, FALSE)","v":" Batrachochytrium."},{"$f":"VLOOKUP($A338, taxonomy!$B$2:$T$695, 13, FALSE)","v":0},{"$f":"VLOOKUP($A338, taxonomy!$B$2:$T$695, 14, FALSE)","v":0},{"$f":"VLOOKUP($A338, taxonomy!$B$2:$T$695, 15, FALSE)","v":0},{"$f":"VLOOKUP($A338, taxonomy!$B$2:$T$695, 16, FALSE)","v":0},{"$f":"VLOOKUP($A338, taxonomy!$B$2:$T$695, 17, FALSE)","v":0}]
["A0A178BB70",{"$f":" VLOOKUP(A339, architecture!D$2:E$73, 2, FALSE)","v":{"$error":"#N/A"}},{"$f":"VLOOKUP(A339, 'PF14702'!B339:C3019, 2, FALSE)","v":1554},{"$f":"VLOOKUP($A339, taxonomy!$B$2:$T$695, 6, FALSE)","v":"Eukaryota"},{"$f":"VLOOKUP($A339, taxonomy!$B$2:$T$695, 7, FALSE)","v":" Fungi"},{"$f":"VLOOKUP($A339, taxonomy!$B$2:$T$695, 8, FALSE)","v":" Dikarya"},{"$f":"VLOOKUP($A339, taxonomy!$B$2:$T$695, 9, FALSE)","v":" Ascomycota"},{"$f":"VLOOKUP($A339, taxonomy!$B$2:$T$695, 10, FALSE)","v":" Pezizomycotina"},{"$f":"VLOOKUP($A339, taxonomy!$B$2:$T$695, 11, FALSE)","v":"Dothideomycetes"},{"$f":"VLOOKUP($A339, taxonomy!$B$2:$T$695, 12, FALSE)","v":" Pleosporomycetidae"},{"$f":"VLOOKUP($A339, taxonomy!$B$2:$T$695, 13, FALSE)","v":" Pleosporales"},{"$f":"VLOOKUP($A339, taxonomy!$B$2:$T$695, 14, FALSE)","v":" Massarineae"},{"$f":"VLOOKUP($A339, taxonomy!$B$2:$T$695, 15, FALSE)","v":"Massarinaceae"},{"$f":"VLOOKUP($A339, taxonomy!$B$2:$T$695, 16, FALSE)","v":" Stagonospora."},{"$f":"VLOOKUP($A339, taxonomy!$B$2:$T$695, 17, FALSE)","v":0}]
["A0A178EBW2",{"$f":" VLOOKUP(A340, architecture!D$2:E$73, 2, FALSE)","v":{"$error":"#N/A"}},{"$f":"VLOOKUP(A340, 'PF14702'!B340:C3020, 2, FALSE)","v":1563},{"$f":"VLOOKUP($A340, taxonomy!$B$2:$T$695, 6, FALSE)","v":"Eukaryota"},{"$f":"VLOOKUP($A340, taxonomy!$B$2:$T$695, 7, FALSE)","v":" Fungi"},{"$f":"VLOOKUP($A340, taxonomy!$B$2:$T$695, 8, FALSE)","v":" Dikarya"},{"$f":"VLOOKUP($A340, taxonomy!$B$2:$T$695, 9, FALSE)","v":" Ascomycota"},{"$f":"VLOOKUP($A340, taxonomy!$B$2:$T$695, 10, FALSE)","v":" Pezizomycotina"},{"$f":"VLOOKUP($A340, taxonomy!$B$2:$T$695, 11, FALSE)","v":"Dothideomycetes"},{"$f":"VLOOKUP($A340, taxonomy!$B$2:$T$695, 12, FALSE)","v":" Pleosporomycetidae"},{"$f":"VLOOKUP($A340, taxonomy!$B$2:$T$695, 13, FALSE)","v":" Pleosporales"},{"$f":"VLOOKUP($A340, taxonomy!$B$2:$T$695, 14, FALSE)","v":" Pleosporineae"},{"$f":"VLOOKUP($A340, taxonomy!$B$2:$T$695, 15, FALSE)","v":"Cucurbitariaceae"},{"$f":"VLOOKUP($A340, taxonomy!$B$2:$T$695, 16, FALSE)","v":" Pyrenochaeta."},{"$f":"VLOOKUP($A340, taxonomy!$B$2:$T$695, 17, FALSE)","v":0}]
["A0A180H1Z8",{"$f":" VLOOKUP(A341, architecture!D$2:E$73, 2, FALSE)","v":{"$error":"#N/A"}},{"$f":"VLOOKUP(A341, 'PF14702'!B341:C3021, 2, FALSE)","v":1616},{"$f":"VLOOKUP($A341, taxonomy!$B$2:$T$695, 6, FALSE)","v":"Eukaryota"},{"$f":"VLOOKUP($A341, taxonomy!$B$2:$T$695, 7, FALSE)","v":" Fungi"},{"$f":"VLOOKUP($A341, taxonomy!$B$2:$T$695, 8, FALSE)","v":" Dikarya"},{"$f":"VLOOKUP($A341, taxonomy!$B$2:$T$695, 9, FALSE)","v":" Basidiomycota"},{"$f":"VLOOKUP($A341, taxonomy!$B$2:$T$695, 10, FALSE)","v":" Pucciniomycotina"},{"$f":"VLOOKUP($A341, taxonomy!$B$2:$T$695, 11, FALSE)","v":"Pucciniomycetes"},{"$f":"VLOOKUP($A341, taxonomy!$B$2:$T$695, 12, FALSE)","v":" Pucciniales"},{"$f":"VLOOKUP($A341, taxonomy!$B$2:$T$695, 13, FALSE)","v":" Pucciniaceae"},{"$f":"VLOOKUP($A341, taxonomy!$B$2:$T$695, 14, FALSE)","v":" Puccinia."},{"$f":"VLOOKUP($A341, taxonomy!$B$2:$T$695, 15, FALSE)","v":0},{"$f":"VLOOKUP($A341, taxonomy!$B$2:$T$695, 16, FALSE)","v":0},{"$f":"VLOOKUP($A341, taxonomy!$B$2:$T$695, 17, FALSE)","v":0}]
["A0A183AAW8",{"$f":" VLOOKUP(A342, architecture!D$2:E$73, 2, FALSE)","v":1},{"$f":"VLOOKUP(A342, 'PF14702'!B342:C3022, 2, FALSE)","v":1572},{"$f":"VLOOKUP($A342, taxonomy!$B$2:$T$695, 6, FALSE)","v":"Eukaryota"},{"$f":"VLOOKUP($A342, taxonomy!$B$2:$T$695, 7, FALSE)","v":" Metazoa"},{"$f":"VLOOKUP($A342, taxonomy!$B$2:$T$695, 8, FALSE)","v":" Platyhelminthes"},{"$f":"VLOOKUP($A342, taxonomy!$B$2:$T$695, 9, FALSE)","v":" Trematoda"},{"$f":"VLOOKUP($A342, taxonomy!$B$2:$T$695, 10, FALSE)","v":" Digenea"},{"$f":"VLOOKUP($A342, taxonomy!$B$2:$T$695, 11, FALSE)","v":"Plagiorchiida"},{"$f":"VLOOKUP($A342, taxonomy!$B$2:$T$695, 12, FALSE)","v":" Echinostomata"},{"$f":"VLOOKUP($A342, taxonomy!$B$2:$T$695, 13, FALSE)","v":" Echinostomatoidea"},{"$f":"VLOOKUP($A342, taxonomy!$B$2:$T$695, 14, FALSE)","v":" Echinostomatidae"},{"$f":"VLOOKUP($A342, taxonomy!$B$2:$T$695, 15, FALSE)","v":"Echinostoma."},{"$f":"VLOOKUP($A342, taxonomy!$B$2:$T$695, 16, FALSE)","v":0},{"$f":"VLOOKUP($A342, taxonomy!$B$2:$T$695, 17, FALSE)","v":0}]
["A0A183E542",{"$f":" VLOOKUP(A343, architecture!D$2:E$73, 2, FALSE)","v":{"$error":"#N/A"}},{"$f":"VLOOKUP(A343, 'PF14702'!B343:C3023, 2, FALSE)","v":258},{"$f":"VLOOKUP($A343, taxonomy!$B$2:$T$695, 6, FALSE)","v":"Eukaryota"},{"$f":"VLOOKUP($A343, taxonomy!$B$2:$T$695, 7, FALSE)","v":" Metazoa"},{"$f":"VLOOKUP($A343, taxonomy!$B$2:$T$695, 8, FALSE)","v":" Ecdysozoa"},{"$f":"VLOOKUP($A343, taxonomy!$B$2:$T$695, 9, FALSE)","v":" Nematoda"},{"$f":"VLOOKUP($A343, taxonomy!$B$2:$T$695, 10, FALSE)","v":" Chromadorea"},{"$f":"VLOOKUP($A343, taxonomy!$B$2:$T$695, 11, FALSE)","v":" Spirurida"},{"$f":"VLOOKUP($A343, taxonomy!$B$2:$T$695, 12, FALSE)","v":"Spiruromorpha"},{"$f":"VLOOKUP($A343, taxonomy!$B$2:$T$695, 13, FALSE)","v":" Spiruroidea"},{"$f":"VLOOKUP($A343, taxonomy!$B$2:$T$695, 14, FALSE)","v":" Gongylonematidae"},{"$f":"VLOOKUP($A343, taxonomy!$B$2:$T$695, 15, FALSE)","v":" Gongylonema."},{"$f":"VLOOKUP($A343, taxonomy!$B$2:$T$695, 16, FALSE)","v":0},{"$f":"VLOOKUP($A343, taxonomy!$B$2:$T$695, 17, FALSE)","v":0}]
["A0A183EVV2",{"$f":" VLOOKUP(A344, architecture!D$2:E$73, 2, FALSE)","v":{"$error":"#N/A"}},{"$f":"VLOOKUP(A344, 'PF14702'!B344:C3024, 2, FALSE)","v":223},{"$f":"VLOOKUP($A344, taxonomy!$B$2:$T$695, 6, FALSE)","v":"Eukaryota"},{"$f":"VLOOKUP($A344, taxonomy!$B$2:$T$695, 7, FALSE)","v":" Metazoa"},{"$f":"VLOOKUP($A344, taxonomy!$B$2:$T$695, 8, FALSE)","v":" Ecdysozoa"},{"$f":"VLOOKUP($A344, taxonomy!$B$2:$T$695, 9, FALSE)","v":" Nematoda"},{"$f":"VLOOKUP($A344, taxonomy!$B$2:$T$695, 10, FALSE)","v":" Chromadorea"},{"$f":"VLOOKUP($A344, taxonomy!$B$2:$T$695, 11, FALSE)","v":" Spirurida"},{"$f":"VLOOKUP($A344, taxonomy!$B$2:$T$695, 12, FALSE)","v":"Spiruromorpha"},{"$f":"VLOOKUP($A344, taxonomy!$B$2:$T$695, 13, FALSE)","v":" Spiruroidea"},{"$f":"VLOOKUP($A344, taxonomy!$B$2:$T$695, 14, FALSE)","v":" Gongylonematidae"},{"$f":"VLOOKUP($A344, taxonomy!$B$2:$T$695, 15, FALSE)","v":" Gongylonema."},{"$f":"VLOOKUP($A344, taxonomy!$B$2:$T$695, 16, FALSE)","v":0},{"$f":"VLOOKUP($A344, taxonomy!$B$2:$T$695, 17, FALSE)","v":0}]
["A0A183IQB6",{"$f":" VLOOKUP(A345, architecture!D$2:E$73, 2, FALSE)","v":{"$error":"#N/A"}},{"$f":"VLOOKUP(A345, 'PF14702'!B345:C3025, 2, FALSE)","v":1215},{"$f":"VLOOKUP($A345, taxonomy!$B$2:$T$695, 6, FALSE)","v":"Eukaryota"},{"$f":"VLOOKUP($A345, taxonomy!$B$2:$T$695, 7, FALSE)","v":" Metazoa"},{"$f":"VLOOKUP($A345, taxonomy!$B$2:$T$695, 8, FALSE)","v":" Ecdysozoa"},{"$f":"VLOOKUP($A345, taxonomy!$B$2:$T$695, 9, FALSE)","v":" Nematoda"},{"$f":"VLOOKUP($A345, taxonomy!$B$2:$T$695, 10, FALSE)","v":" Enoplea"},{"$f":"VLOOKUP($A345, taxonomy!$B$2:$T$695, 11, FALSE)","v":" Dorylaimia"},{"$f":"VLOOKUP($A345, taxonomy!$B$2:$T$695, 12, FALSE)","v":"Dioctophymatida"},{"$f":"VLOOKUP($A345, taxonomy!$B$2:$T$695, 13, FALSE)","v":" Dioctophymatoidea"},{"$f":"VLOOKUP($A345, taxonomy!$B$2:$T$695, 14, FALSE)","v":" Soboliphymatidae"},{"$f":"VLOOKUP($A345, taxonomy!$B$2:$T$695, 15, FALSE)","v":" Soboliphyme."},{"$f":"VLOOKUP($A345, taxonomy!$B$2:$T$695, 16, FALSE)","v":0},{"$f":"VLOOKUP($A345, taxonomy!$B$2:$T$695, 17, FALSE)","v":0}]
["A0A183L3P4",{"$f":" VLOOKUP(A346, architecture!D$2:E$73, 2, FALSE)","v":2},{"$f":"VLOOKUP(A346, 'PF14702'!B346:C3026, 2, FALSE)","v":130},{"$f":"VLOOKUP($A346, taxonomy!$B$2:$T$695, 6, FALSE)","v":"Eukaryota"},{"$f":"VLOOKUP($A346, taxonomy!$B$2:$T$695, 7, FALSE)","v":" Metazoa"},{"$f":"VLOOKUP($A346, taxonomy!$B$2:$T$695, 8, FALSE)","v":" Platyhelminthes"},{"$f":"VLOOKUP($A346, taxonomy!$B$2:$T$695, 9, FALSE)","v":" Trematoda"},{"$f":"VLOOKUP($A346, taxonomy!$B$2:$T$695, 10, FALSE)","v":" Digenea"},{"$f":"VLOOKUP($A346, taxonomy!$B$2:$T$695, 11, FALSE)","v":" Strigeidida"},{"$f":"VLOOKUP($A346, taxonomy!$B$2:$T$695, 12, FALSE)","v":"Schistosomatoidea"},{"$f":"VLOOKUP($A346, taxonomy!$B$2:$T$695, 13, FALSE)","v":" Schistosomatidae"},{"$f":"VLOOKUP($A346, taxonomy!$B$2:$T$695, 14, FALSE)","v":" Schistosoma."},{"$f":"VLOOKUP($A346, taxonomy!$B$2:$T$695, 15, FALSE)","v":0},{"$f":"VLOOKUP($A346, taxonomy!$B$2:$T$695, 16, FALSE)","v":0},{"$f":"VLOOKUP($A346, taxonomy!$B$2:$T$695, 17, FALSE)","v":0}]
["A0A183L5T7",{"$f":" VLOOKUP(A347, architecture!D$2:E$73, 2, FALSE)","v":2},{"$f":"VLOOKUP(A347, 'PF14702'!B347:C3027, 2, FALSE)","v":255},{"$f":"VLOOKUP($A347, taxonomy!$B$2:$T$695, 6, FALSE)","v":"Eukaryota"},{"$f":"VLOOKUP($A347, taxonomy!$B$2:$T$695, 7, FALSE)","v":" Metazoa"},{"$f":"VLOOKUP($A347, taxonomy!$B$2:$T$695, 8, FALSE)","v":" Platyhelminthes"},{"$f":"VLOOKUP($A347, taxonomy!$B$2:$T$695, 9, FALSE)","v":" Trematoda"},{"$f":"VLOOKUP($A347, taxonomy!$B$2:$T$695, 10, FALSE)","v":" Digenea"},{"$f":"VLOOKUP($A347, taxonomy!$B$2:$T$695, 11, FALSE)","v":" Strigeidida"},{"$f":"VLOOKUP($A347, taxonomy!$B$2:$T$695, 12, FALSE)","v":"Schistosomatoidea"},{"$f":"VLOOKUP($A347, taxonomy!$B$2:$T$695, 13, FALSE)","v":" Schistosomatidae"},{"$f":"VLOOKUP($A347, taxonomy!$B$2:$T$695, 14, FALSE)","v":" Schistosoma."},{"$f":"VLOOKUP($A347, taxonomy!$B$2:$T$695, 15, FALSE)","v":0},{"$f":"VLOOKUP($A347, taxonomy!$B$2:$T$695, 16, FALSE)","v":0},{"$f":"VLOOKUP($A347, taxonomy!$B$2:$T$695, 17, FALSE)","v":0}]
["A0A183MQF5",{"$f":" VLOOKUP(A348, architecture!D$2:E$73, 2, FALSE)","v":1},{"$f":"VLOOKUP(A348, 'PF14702'!B348:C3028, 2, FALSE)","v":1246},{"$f":"VLOOKUP($A348, taxonomy!$B$2:$T$695, 6, FALSE)","v":"Eukaryota"},{"$f":"VLOOKUP($A348, taxonomy!$B$2:$T$695, 7, FALSE)","v":" Metazoa"},{"$f":"VLOOKUP($A348, taxonomy!$B$2:$T$695, 8, FALSE)","v":" Platyhelminthes"},{"$f":"VLOOKUP($A348, taxonomy!$B$2:$T$695, 9, FALSE)","v":" Trematoda"},{"$f":"VLOOKUP($A348, taxonomy!$B$2:$T$695, 10, FALSE)","v":" Digenea"},{"$f":"VLOOKUP($A348, taxonomy!$B$2:$T$695, 11, FALSE)","v":" Strigeidida"},{"$f":"VLOOKUP($A348, taxonomy!$B$2:$T$695, 12, FALSE)","v":"Schistosomatoidea"},{"$f":"VLOOKUP($A348, taxonomy!$B$2:$T$695, 13, FALSE)","v":" Schistosomatidae"},{"$f":"VLOOKUP($A348, taxonomy!$B$2:$T$695, 14, FALSE)","v":" Schistosoma."},{"$f":"VLOOKUP($A348, taxonomy!$B$2:$T$695, 15, FALSE)","v":0},{"$f":"VLOOKUP($A348, taxonomy!$B$2:$T$695, 16, FALSE)","v":0},{"$f":"VLOOKUP($A348, taxonomy!$B$2:$T$695, 17, FALSE)","v":0}]
["A0A183PB67",{"$f":" VLOOKUP(A349, architecture!D$2:E$73, 2, FALSE)","v":2},{"$f":"VLOOKUP(A349, 'PF14702'!B349:C3029, 2, FALSE)","v":255},{"$f":"VLOOKUP($A349, taxonomy!$B$2:$T$695, 6, FALSE)","v":"Eukaryota"},{"$f":"VLOOKUP($A349, taxonomy!$B$2:$T$695, 7, FALSE)","v":" Metazoa"},{"$f":"VLOOKUP($A349, taxonomy!$B$2:$T$695, 8, FALSE)","v":" Platyhelminthes"},{"$f":"VLOOKUP($A349, taxonomy!$B$2:$T$695, 9, FALSE)","v":" Trematoda"},{"$f":"VLOOKUP($A349, taxonomy!$B$2:$T$695, 10, FALSE)","v":" Digenea"},{"$f":"VLOOKUP($A349, taxonomy!$B$2:$T$695, 11, FALSE)","v":" Strigeidida"},{"$f":"VLOOKUP($A349, taxonomy!$B$2:$T$695, 12, FALSE)","v":"Schistosomatoidea"},{"$f":"VLOOKUP($A349, taxonomy!$B$2:$T$695, 13, FALSE)","v":" Schistosomatidae"},{"$f":"VLOOKUP($A349, taxonomy!$B$2:$T$695, 14, FALSE)","v":" Schistosoma."},{"$f":"VLOOKUP($A349, taxonomy!$B$2:$T$695, 15, FALSE)","v":0},{"$f":"VLOOKUP($A349, taxonomy!$B$2:$T$695, 16, FALSE)","v":0},{"$f":"VLOOKUP($A349, taxonomy!$B$2:$T$695, 17, FALSE)","v":0}]
["A0A183PBC8",{"$f":" VLOOKUP(A350, architecture!D$2:E$73, 2, FALSE)","v":{"$error":"#N/A"}},{"$f":"VLOOKUP(A350, 'PF14702'!B350:C3030, 2, FALSE)","v":348},{"$f":"VLOOKUP($A350, taxonomy!$B$2:$T$695, 6, FALSE)","v":"Eukaryota"},{"$f":"VLOOKUP($A350, taxonomy!$B$2:$T$695, 7, FALSE)","v":" Metazoa"},{"$f":"VLOOKUP($A350, taxonomy!$B$2:$T$695, 8, FALSE)","v":" Platyhelminthes"},{"$f":"VLOOKUP($A350, taxonomy!$B$2:$T$695, 9, FALSE)","v":" Trematoda"},{"$f":"VLOOKUP($A350, taxonomy!$B$2:$T$695, 10, FALSE)","v":" Digenea"},{"$f":"VLOOKUP($A350, taxonomy!$B$2:$T$695, 11, FALSE)","v":" Strigeidida"},{"$f":"VLOOKUP($A350, taxonomy!$B$2:$T$695, 12, FALSE)","v":"Schistosomatoidea"},{"$f":"VLOOKUP($A350, taxonomy!$B$2:$T$695, 13, FALSE)","v":" Schistosomatidae"},{"$f":"VLOOKUP($A350, taxonomy!$B$2:$T$695, 14, FALSE)","v":" Schistosoma."},{"$f":"VLOOKUP($A350, taxonomy!$B$2:$T$695, 15, FALSE)","v":0},{"$f":"VLOOKUP($A350, taxonomy!$B$2:$T$695, 16, FALSE)","v":0},{"$f":"VLOOKUP($A350, taxonomy!$B$2:$T$695, 17, FALSE)","v":0}]
["A0A183PHM0",{"$f":" VLOOKUP(A351, architecture!D$2:E$73, 2, FALSE)","v":{"$error":"#N/A"}},{"$f":"VLOOKUP(A351, 'PF14702'!B351:C3031, 2, FALSE)","v":468},{"$f":"VLOOKUP($A351, taxonomy!$B$2:$T$695, 6, FALSE)","v":"Eukaryota"},{"$f":"VLOOKUP($A351, taxonomy!$B$2:$T$695, 7, FALSE)","v":" Metazoa"},{"$f":"VLOOKUP($A351, taxonomy!$B$2:$T$695, 8, FALSE)","v":" Platyhelminthes"},{"$f":"VLOOKUP($A351, taxonomy!$B$2:$T$695, 9, FALSE)","v":" Trematoda"},{"$f":"VLOOKUP($A351, taxonomy!$B$2:$T$695, 10, FALSE)","v":" Digenea"},{"$f":"VLOOKUP($A351, taxonomy!$B$2:$T$695, 11, FALSE)","v":" Strigeidida"},{"$f":"VLOOKUP($A351, taxonomy!$B$2:$T$695, 12, FALSE)","v":"Schistosomatoidea"},{"$f":"VLOOKUP($A351, taxonomy!$B$2:$T$695, 13, FALSE)","v":" Schistosomatidae"},{"$f":"VLOOKUP($A351, taxonomy!$B$2:$T$695, 14, FALSE)","v":" Schistosoma."},{"$f":"VLOOKUP($A351, taxonomy!$B$2:$T$695, 15, FALSE)","v":0},{"$f":"VLOOKUP($A351, taxonomy!$B$2:$T$695, 16, FALSE)","v":0},{"$f":"VLOOKUP($A351, taxonomy!$B$2:$T$695, 17, FALSE)","v":0}]
["A0A183QFQ2",{"$f":" VLOOKUP(A352, architecture!D$2:E$73, 2, FALSE)","v":{"$error":"#N/A"}},{"$f":"VLOOKUP(A352, 'PF14702'!B352:C3032, 2, FALSE)","v":441},{"$f":"VLOOKUP($A352, taxonomy!$B$2:$T$695, 6, FALSE)","v":"Eukaryota"},{"$f":"VLOOKUP($A352, taxonomy!$B$2:$T$695, 7, FALSE)","v":" Metazoa"},{"$f":"VLOOKUP($A352, taxonomy!$B$2:$T$695, 8, FALSE)","v":" Platyhelminthes"},{"$f":"VLOOKUP($A352, taxonomy!$B$2:$T$695, 9, FALSE)","v":" Trematoda"},{"$f":"VLOOKUP($A352, taxonomy!$B$2:$T$695, 10, FALSE)","v":" Digenea"},{"$f":"VLOOKUP($A352, taxonomy!$B$2:$T$695, 11, FALSE)","v":" Strigeidida"},{"$f":"VLOOKUP($A352, taxonomy!$B$2:$T$695, 12, FALSE)","v":"Schistosomatoidea"},{"$f":"VLOOKUP($A352, taxonomy!$B$2:$T$695, 13, FALSE)","v":" Schistosomatidae"},{"$f":"VLOOKUP($A352, taxonomy!$B$2:$T$695, 14, FALSE)","v":" Schistosoma."},{"$f":"VLOOKUP($A352, taxonomy!$B$2:$T$695, 15, FALSE)","v":0},{"$f":"VLOOKUP($A352, taxonomy!$B$2:$T$695, 16, FALSE)","v":0},{"$f":"VLOOKUP($A352, taxonomy!$B$2:$T$695, 17, FALSE)","v":0}]
["A0A183QFQ3",{"$f":" VLOOKUP(A353, architecture!D$2:E$73, 2, FALSE)","v":{"$error":"#N/A"}},{"$f":"VLOOKUP(A353, 'PF14702'!B353:C3033, 2, FALSE)","v":569},{"$f":"VLOOKUP($A353, taxonomy!$B$2:$T$695, 6, FALSE)","v":"Eukaryota"},{"$f":"VLOOKUP($A353, taxonomy!$B$2:$T$695, 7, FALSE)","v":" Metazoa"},{"$f":"VLOOKUP($A353, taxonomy!$B$2:$T$695, 8, FALSE)","v":" Platyhelminthes"},{"$f":"VLOOKUP($A353, taxonomy!$B$2:$T$695, 9, FALSE)","v":" Trematoda"},{"$f":"VLOOKUP($A353, taxonomy!$B$2:$T$695, 10, FALSE)","v":" Digenea"},{"$f":"VLOOKUP($A353, taxonomy!$B$2:$T$695, 11, FALSE)","v":" Strigeidida"},{"$f":"VLOOKUP($A353, taxonomy!$B$2:$T$695, 12, FALSE)","v":"Schistosomatoidea"},{"$f":"VLOOKUP($A353, taxonomy!$B$2:$T$695, 13, FALSE)","v":" Schistosomatidae"},{"$f":"VLOOKUP($A353, taxonomy!$B$2:$T$695, 14, FALSE)","v":" Schistosoma."},{"$f":"VLOOKUP($A353, taxonomy!$B$2:$T$695, 15, FALSE)","v":0},{"$f":"VLOOKUP($A353, taxonomy!$B$2:$T$695, 16, FALSE)","v":0},{"$f":"VLOOKUP($A353, taxonomy!$B$2:$T$695, 17, FALSE)","v":0}]
["A0A183TE88",{"$f":" VLOOKUP(A354, architecture!D$2:E$73, 2, FALSE)","v":{"$error":"#N/A"}},{"$f":"VLOOKUP(A354, 'PF14702'!B354:C3034, 2, FALSE)","v":1557},{"$f":"VLOOKUP($A354, taxonomy!$B$2:$T$695, 6, FALSE)","v":"Eukaryota"},{"$f":"VLOOKUP($A354, taxonomy!$B$2:$T$695, 7, FALSE)","v":" Metazoa"},{"$f":"VLOOKUP($A354, taxonomy!$B$2:$T$695, 8, FALSE)","v":" Platyhelminthes"},{"$f":"VLOOKUP($A354, taxonomy!$B$2:$T$695, 9, FALSE)","v":" Cestoda"},{"$f":"VLOOKUP($A354, taxonomy!$B$2:$T$695, 10, FALSE)","v":" Eucestoda"},{"$f":"VLOOKUP($A354, taxonomy!$B$2:$T$695, 11, FALSE)","v":"Diphyllobothriidea"},{"$f":"VLOOKUP($A354, taxonomy!$B$2:$T$695, 12, FALSE)","v":" Diphyllobothriidae"},{"$f":"VLOOKUP($A354, taxonomy!$B$2:$T$695, 13, FALSE)","v":" Schistocephalus."},{"$f":"VLOOKUP($A354, taxonomy!$B$2:$T$695, 14, FALSE)","v":0},{"$f":"VLOOKUP($A354, taxonomy!$B$2:$T$695, 15, FALSE)","v":0},{"$f":"VLOOKUP($A354, taxonomy!$B$2:$T$695, 16, FALSE)","v":0},{"$f":"VLOOKUP($A354, taxonomy!$B$2:$T$695, 17, FALSE)","v":0}]
["A0A183VKK7",{"$f":" VLOOKUP(A355, architecture!D$2:E$73, 2, FALSE)","v":2},{"$f":"VLOOKUP(A355, 'PF14702'!B355:C3035, 2, FALSE)","v":99},{"$f":"VLOOKUP($A355, taxonomy!$B$2:$T$695, 6, FALSE)","v":"Eukaryota"},{"$f":"VLOOKUP($A355, taxonomy!$B$2:$T$695, 7, FALSE)","v":" Metazoa"},{"$f":"VLOOKUP($A355, taxonomy!$B$2:$T$695, 8, FALSE)","v":" Platyhelminthes"},{"$f":"VLOOKUP($A355, taxonomy!$B$2:$T$695, 9, FALSE)","v":" Trematoda"},{"$f":"VLOOKUP($A355, taxonomy!$B$2:$T$695, 10, FALSE)","v":" Digenea"},{"$f":"VLOOKUP($A355, taxonomy!$B$2:$T$695, 11, FALSE)","v":" Strigeidida"},{"$f":"VLOOKUP($A355, taxonomy!$B$2:$T$695, 12, FALSE)","v":"Schistosomatoidea"},{"$f":"VLOOKUP($A355, taxonomy!$B$2:$T$695, 13, FALSE)","v":" Schistosomatidae"},{"$f":"VLOOKUP($A355, taxonomy!$B$2:$T$695, 14, FALSE)","v":" Trichobilharzia."},{"$f":"VLOOKUP($A355, taxonomy!$B$2:$T$695, 15, FALSE)","v":0},{"$f":"VLOOKUP($A355, taxonomy!$B$2:$T$695, 16, FALSE)","v":0},{"$f":"VLOOKUP($A355, taxonomy!$B$2:$T$695, 17, FALSE)","v":0}]
["A0A183WMJ4",{"$f":" VLOOKUP(A356, architecture!D$2:E$73, 2, FALSE)","v":2},{"$f":"VLOOKUP(A356, 'PF14702'!B356:C3036, 2, FALSE)","v":142},{"$f":"VLOOKUP($A356, taxonomy!$B$2:$T$695, 6, FALSE)","v":"Eukaryota"},{"$f":"VLOOKUP($A356, taxonomy!$B$2:$T$695, 7, FALSE)","v":" Metazoa"},{"$f":"VLOOKUP($A356, taxonomy!$B$2:$T$695, 8, FALSE)","v":" Platyhelminthes"},{"$f":"VLOOKUP($A356, taxonomy!$B$2:$T$695, 9, FALSE)","v":" Trematoda"},{"$f":"VLOOKUP($A356, taxonomy!$B$2:$T$695, 10, FALSE)","v":" Digenea"},{"$f":"VLOOKUP($A356, taxonomy!$B$2:$T$695, 11, FALSE)","v":" Strigeidida"},{"$f":"VLOOKUP($A356, taxonomy!$B$2:$T$695, 12, FALSE)","v":"Schistosomatoidea"},{"$f":"VLOOKUP($A356, taxonomy!$B$2:$T$695, 13, FALSE)","v":" Schistosomatidae"},{"$f":"VLOOKUP($A356, taxonomy!$B$2:$T$695, 14, FALSE)","v":" Trichobilharzia."},{"$f":"VLOOKUP($A356, taxonomy!$B$2:$T$695, 15, FALSE)","v":0},{"$f":"VLOOKUP($A356, taxonomy!$B$2:$T$695, 16, FALSE)","v":0},{"$f":"VLOOKUP($A356, taxonomy!$B$2:$T$695, 17, FALSE)","v":0}]
["A0A183WVX9",{"$f":" VLOOKUP(A357, architecture!D$2:E$73, 2, FALSE)","v":2},{"$f":"VLOOKUP(A357, 'PF14702'!B357:C3037, 2, FALSE)","v":213},{"$f":"VLOOKUP($A357, taxonomy!$B$2:$T$695, 6, FALSE)","v":"Eukaryota"},{"$f":"VLOOKUP($A357, taxonomy!$B$2:$T$695, 7, FALSE)","v":" Metazoa"},{"$f":"VLOOKUP($A357, taxonomy!$B$2:$T$695, 8, FALSE)","v":" Platyhelminthes"},{"$f":"VLOOKUP($A357, taxonomy!$B$2:$T$695, 9, FALSE)","v":" Trematoda"},{"$f":"VLOOKUP($A357, taxonomy!$B$2:$T$695, 10, FALSE)","v":" Digenea"},{"$f":"VLOOKUP($A357, taxonomy!$B$2:$T$695, 11, FALSE)","v":" Strigeidida"},{"$f":"VLOOKUP($A357, taxonomy!$B$2:$T$695, 12, FALSE)","v":"Schistosomatoidea"},{"$f":"VLOOKUP($A357, taxonomy!$B$2:$T$695, 13, FALSE)","v":" Schistosomatidae"},{"$f":"VLOOKUP($A357, taxonomy!$B$2:$T$695, 14, FALSE)","v":" Trichobilharzia."},{"$f":"VLOOKUP($A357, taxonomy!$B$2:$T$695, 15, FALSE)","v":0},{"$f":"VLOOKUP($A357, taxonomy!$B$2:$T$695, 16, FALSE)","v":0},{"$f":"VLOOKUP($A357, taxonomy!$B$2:$T$695, 17, FALSE)","v":0}]
["A0A194PXK2",{"$f":" VLOOKUP(A358, architecture!D$2:E$73, 2, FALSE)","v":{"$error":"#N/A"}},{"$f":"VLOOKUP(A358, 'PF14702'!B358:C3038, 2, FALSE)","v":1697},{"$f":"VLOOKUP($A358, taxonomy!$B$2:$T$695, 6, FALSE)","v":"Eukaryota"},{"$f":"VLOOKUP($A358, taxonomy!$B$2:$T$695, 7, FALSE)","v":" Metazoa"},{"$f":"VLOOKUP($A358, taxonomy!$B$2:$T$695, 8, FALSE)","v":" Ecdysozoa"},{"$f":"VLOOKUP($A358, taxonomy!$B$2:$T$695, 9, FALSE)","v":" Arthropoda"},{"$f":"VLOOKUP($A358, taxonomy!$B$2:$T$695, 10, FALSE)","v":" Hexapoda"},{"$f":"VLOOKUP($A358, taxonomy!$B$2:$T$695, 11, FALSE)","v":" Insecta"},{"$f":"VLOOKUP($A358, taxonomy!$B$2:$T$695, 12, FALSE)","v":"Pterygota"},{"$f":"VLOOKUP($A358, taxonomy!$B$2:$T$695, 13, FALSE)","v":" Neoptera"},{"$f":"VLOOKUP($A358, taxonomy!$B$2:$T$695, 14, FALSE)","v":" Holometabola"},{"$f":"VLOOKUP($A358, taxonomy!$B$2:$T$695, 15, FALSE)","v":" Lepidoptera"},{"$f":"VLOOKUP($A358, taxonomy!$B$2:$T$695, 16, FALSE)","v":" Glossata"},{"$f":"VLOOKUP($A358, taxonomy!$B$2:$T$695, 17, FALSE)","v":" Ditrysia"}]
["A0A194REP1",{"$f":" VLOOKUP(A359, architecture!D$2:E$73, 2, FALSE)","v":{"$error":"#N/A"}},{"$f":"VLOOKUP(A359, 'PF14702'!B359:C3039, 2, FALSE)","v":1298},{"$f":"VLOOKUP($A359, taxonomy!$B$2:$T$695, 6, FALSE)","v":"Eukaryota"},{"$f":"VLOOKUP($A359, taxonomy!$B$2:$T$695, 7, FALSE)","v":" Metazoa"},{"$f":"VLOOKUP($A359, taxonomy!$B$2:$T$695, 8, FALSE)","v":" Ecdysozoa"},{"$f":"VLOOKUP($A359, taxonomy!$B$2:$T$695, 9, FALSE)","v":" Arthropoda"},{"$f":"VLOOKUP($A359, taxonomy!$B$2:$T$695, 10, FALSE)","v":" Hexapoda"},{"$f":"VLOOKUP($A359, taxonomy!$B$2:$T$695, 11, FALSE)","v":" Insecta"},{"$f":"VLOOKUP($A359, taxonomy!$B$2:$T$695, 12, FALSE)","v":"Pterygota"},{"$f":"VLOOKUP($A359, taxonomy!$B$2:$T$695, 13, FALSE)","v":" Neoptera"},{"$f":"VLOOKUP($A359, taxonomy!$B$2:$T$695, 14, FALSE)","v":" Holometabola"},{"$f":"VLOOKUP($A359, taxonomy!$B$2:$T$695, 15, FALSE)","v":" Lepidoptera"},{"$f":"VLOOKUP($A359, taxonomy!$B$2:$T$695, 16, FALSE)","v":" Glossata"},{"$f":"VLOOKUP($A359, taxonomy!$B$2:$T$695, 17, FALSE)","v":" Ditrysia"}]
["A0A194SBG9",{"$f":" VLOOKUP(A360, architecture!D$2:E$73, 2, FALSE)","v":{"$error":"#N/A"}},{"$f":"VLOOKUP(A360, 'PF14702'!B360:C3040, 2, FALSE)","v":1620},{"$f":"VLOOKUP($A360, taxonomy!$B$2:$T$695, 6, FALSE)","v":"Eukaryota"},{"$f":"VLOOKUP($A360, taxonomy!$B$2:$T$695, 7, FALSE)","v":" Fungi"},{"$f":"VLOOKUP($A360, taxonomy!$B$2:$T$695, 8, FALSE)","v":" Dikarya"},{"$f":"VLOOKUP($A360, taxonomy!$B$2:$T$695, 9, FALSE)","v":" Basidiomycota"},{"$f":"VLOOKUP($A360, taxonomy!$B$2:$T$695, 10, FALSE)","v":" Pucciniomycotina"},{"$f":"VLOOKUP($A360, taxonomy!$B$2:$T$695, 11, FALSE)","v":"Microbotryomycetes"},{"$f":"VLOOKUP($A360, taxonomy!$B$2:$T$695, 12, FALSE)","v":" Sporidiobolales"},{"$f":"VLOOKUP($A360, taxonomy!$B$2:$T$695, 13, FALSE)","v":" Sporidiobolaceae"},{"$f":"VLOOKUP($A360, taxonomy!$B$2:$T$695, 14, FALSE)","v":" Rhodotorula."},{"$f":"VLOOKUP($A360, taxonomy!$B$2:$T$695, 15, FALSE)","v":0},{"$f":"VLOOKUP($A360, taxonomy!$B$2:$T$695, 16, FALSE)","v":0},{"$f":"VLOOKUP($A360, taxonomy!$B$2:$T$695, 17, FALSE)","v":0}]
["A0A194XSF5",{"$f":" VLOOKUP(A361, architecture!D$2:E$73, 2, FALSE)","v":{"$error":"#N/A"}},{"$f":"VLOOKUP(A361, 'PF14702'!B361:C3041, 2, FALSE)","v":1566},{"$f":"VLOOKUP($A361, taxonomy!$B$2:$T$695, 6, FALSE)","v":"Eukaryota"},{"$f":"VLOOKUP($A361, taxonomy!$B$2:$T$695, 7, FALSE)","v":" Fungi"},{"$f":"VLOOKUP($A361, taxonomy!$B$2:$T$695, 8, FALSE)","v":" Dikarya"},{"$f":"VLOOKUP($A361, taxonomy!$B$2:$T$695, 9, FALSE)","v":" Ascomycota"},{"$f":"VLOOKUP($A361, taxonomy!$B$2:$T$695, 10, FALSE)","v":" Pezizomycotina"},{"$f":"VLOOKUP($A361, taxonomy!$B$2:$T$695, 11, FALSE)","v":" Leotiomycetes"},{"$f":"VLOOKUP($A361, taxonomy!$B$2:$T$695, 12, FALSE)","v":"Helotiales"},{"$f":"VLOOKUP($A361, taxonomy!$B$2:$T$695, 13, FALSE)","v":" Helotiales incertae sedis"},{"$f":"VLOOKUP($A361, taxonomy!$B$2:$T$695, 14, FALSE)","v":" Phialocephala."},{"$f":"VLOOKUP($A361, taxonomy!$B$2:$T$695, 15, FALSE)","v":0},{"$f":"VLOOKUP($A361, taxonomy!$B$2:$T$695, 16, FALSE)","v":0},{"$f":"VLOOKUP($A361, taxonomy!$B$2:$T$695, 17, FALSE)","v":0}]
["A0BFM1",{"$f":" VLOOKUP(A362, architecture!D$2:E$73, 2, FALSE)","v":{"$error":"#N/A"}},{"$f":"VLOOKUP(A362, 'PF14702'!B362:C3042, 2, FALSE)","v":1057},{"$f":"VLOOKUP($A362, taxonomy!$B$2:$T$695, 6, FALSE)","v":"Eukaryota"},{"$f":"VLOOKUP($A362, taxonomy!$B$2:$T$695, 7, FALSE)","v":" Alveolata"},{"$f":"VLOOKUP($A362, taxonomy!$B$2:$T$695, 8, FALSE)","v":" Ciliophora"},{"$f":"VLOOKUP($A362, taxonomy!$B$2:$T$695, 9, FALSE)","v":" Intramacronucleata"},{"$f":"VLOOKUP($A362, taxonomy!$B$2:$T$695, 10, FALSE)","v":"Oligohymenophorea"},{"$f":"VLOOKUP($A362, taxonomy!$B$2:$T$695, 11, FALSE)","v":" Peniculida"},{"$f":"VLOOKUP($A362, taxonomy!$B$2:$T$695, 12, FALSE)","v":" Parameciidae"},{"$f":"VLOOKUP($A362, taxonomy!$B$2:$T$695, 13, FALSE)","v":" Paramecium."},{"$f":"VLOOKUP($A362, taxonomy!$B$2:$T$695, 14, FALSE)","v":0},{"$f":"VLOOKUP($A362, taxonomy!$B$2:$T$695, 15, FALSE)","v":0},{"$f":"VLOOKUP($A362, taxonomy!$B$2:$T$695, 16, FALSE)","v":0},{"$f":"VLOOKUP($A362, taxonomy!$B$2:$T$695, 17, FALSE)","v":0}]
["A0BWA0",{"$f":" VLOOKUP(A363, architecture!D$2:E$73, 2, FALSE)","v":{"$error":"#N/A"}},{"$f":"VLOOKUP(A363, 'PF14702'!B363:C3043, 2, FALSE)","v":1528},{"$f":"VLOOKUP($A363, taxonomy!$B$2:$T$695, 6, FALSE)","v":"Eukaryota"},{"$f":"VLOOKUP($A363, taxonomy!$B$2:$T$695, 7, FALSE)","v":" Alveolata"},{"$f":"VLOOKUP($A363, taxonomy!$B$2:$T$695, 8, FALSE)","v":" Ciliophora"},{"$f":"VLOOKUP($A363, taxonomy!$B$2:$T$695, 9, FALSE)","v":" Intramacronucleata"},{"$f":"VLOOKUP($A363, taxonomy!$B$2:$T$695, 10, FALSE)","v":"Oligohymenophorea"},{"$f":"VLOOKUP($A363, taxonomy!$B$2:$T$695, 11, FALSE)","v":" Peniculida"},{"$f":"VLOOKUP($A363, taxonomy!$B$2:$T$695, 12, FALSE)","v":" Parameciidae"},{"$f":"VLOOKUP($A363, taxonomy!$B$2:$T$695, 13, FALSE)","v":" Paramecium."},{"$f":"VLOOKUP($A363, taxonomy!$B$2:$T$695, 14, FALSE)","v":0},{"$f":"VLOOKUP($A363, taxonomy!$B$2:$T$695, 15, FALSE)","v":0},{"$f":"VLOOKUP($A363, taxonomy!$B$2:$T$695, 16, FALSE)","v":0},{"$f":"VLOOKUP($A363, taxonomy!$B$2:$T$695, 17, FALSE)","v":0}]
["A0EEA7",{"$f":" VLOOKUP(A364, architecture!D$2:E$73, 2, FALSE)","v":{"$error":"#N/A"}},{"$f":"VLOOKUP(A364, 'PF14702'!B364:C3044, 2, FALSE)","v":1236},{"$f":"VLOOKUP($A364, taxonomy!$B$2:$T$695, 6, FALSE)","v":"Eukaryota"},{"$f":"VLOOKUP($A364, taxonomy!$B$2:$T$695, 7, FALSE)","v":" Alveolata"},{"$f":"VLOOKUP($A364, taxonomy!$B$2:$T$695, 8, FALSE)","v":" Ciliophora"},{"$f":"VLOOKUP($A364, taxonomy!$B$2:$T$695, 9, FALSE)","v":" Intramacronucleata"},{"$f":"VLOOKUP($A364, taxonomy!$B$2:$T$695, 10, FALSE)","v":"Oligohymenophorea"},{"$f":"VLOOKUP($A364, taxonomy!$B$2:$T$695, 11, FALSE)","v":" Peniculida"},{"$f":"VLOOKUP($A364, taxonomy!$B$2:$T$695, 12, FALSE)","v":" Parameciidae"},{"$f":"VLOOKUP($A364, taxonomy!$B$2:$T$695, 13, FALSE)","v":" Paramecium."},{"$f":"VLOOKUP($A364, taxonomy!$B$2:$T$695, 14, FALSE)","v":0},{"$f":"VLOOKUP($A364, taxonomy!$B$2:$T$695, 15, FALSE)","v":0},{"$f":"VLOOKUP($A364, taxonomy!$B$2:$T$695, 16, FALSE)","v":0},{"$f":"VLOOKUP($A364, taxonomy!$B$2:$T$695, 17, FALSE)","v":0}]
["A1CS73",{"$f":" VLOOKUP(A365, architecture!D$2:E$73, 2, FALSE)","v":{"$error":"#N/A"}},{"$f":"VLOOKUP(A365, 'PF14702'!B365:C3045, 2, FALSE)","v":1542},{"$f":"VLOOKUP($A365, taxonomy!$B$2:$T$695, 6, FALSE)","v":"Eukaryota"},{"$f":"VLOOKUP($A365, taxonomy!$B$2:$T$695, 7, FALSE)","v":" Fungi"},{"$f":"VLOOKUP($A365, taxonomy!$B$2:$T$695, 8, FALSE)","v":" Dikarya"},{"$f":"VLOOKUP($A365, taxonomy!$B$2:$T$695, 9, FALSE)","v":" Ascomycota"},{"$f":"VLOOKUP($A365, taxonomy!$B$2:$T$695, 10, FALSE)","v":" Pezizomycotina"},{"$f":"VLOOKUP($A365, taxonomy!$B$2:$T$695, 11, FALSE)","v":" Eurotiomycetes"},{"$f":"VLOOKUP($A365, taxonomy!$B$2:$T$695, 12, FALSE)","v":"Eurotiomycetidae"},{"$f":"VLOOKUP($A365, taxonomy!$B$2:$T$695, 13, FALSE)","v":" Eurotiales"},{"$f":"VLOOKUP($A365, taxonomy!$B$2:$T$695, 14, FALSE)","v":" Aspergillaceae"},{"$f":"VLOOKUP($A365, taxonomy!$B$2:$T$695, 15, FALSE)","v":" Aspergillus."},{"$f":"VLOOKUP($A365, taxonomy!$B$2:$T$695, 16, FALSE)","v":0},{"$f":"VLOOKUP($A365, taxonomy!$B$2:$T$695, 17, FALSE)","v":0}]
["A1D547",{"$f":" VLOOKUP(A366, architecture!D$2:E$73, 2, FALSE)","v":{"$error":"#N/A"}},{"$f":"VLOOKUP(A366, 'PF14702'!B366:C3046, 2, FALSE)","v":1537},{"$f":"VLOOKUP($A366, taxonomy!$B$2:$T$695, 6, FALSE)","v":"Eukaryota"},{"$f":"VLOOKUP($A366, taxonomy!$B$2:$T$695, 7, FALSE)","v":" Fungi"},{"$f":"VLOOKUP($A366, taxonomy!$B$2:$T$695, 8, FALSE)","v":" Dikarya"},{"$f":"VLOOKUP($A366, taxonomy!$B$2:$T$695, 9, FALSE)","v":" Ascomycota"},{"$f":"VLOOKUP($A366, taxonomy!$B$2:$T$695, 10, FALSE)","v":" Pezizomycotina"},{"$f":"VLOOKUP($A366, taxonomy!$B$2:$T$695, 11, FALSE)","v":" Eurotiomycetes"},{"$f":"VLOOKUP($A366, taxonomy!$B$2:$T$695, 12, FALSE)","v":"Eurotiomycetidae"},{"$f":"VLOOKUP($A366, taxonomy!$B$2:$T$695, 13, FALSE)","v":" Eurotiales"},{"$f":"VLOOKUP($A366, taxonomy!$B$2:$T$695, 14, FALSE)","v":" Aspergillaceae"},{"$f":"VLOOKUP($A366, taxonomy!$B$2:$T$695, 15, FALSE)","v":" Aspergillus."},{"$f":"VLOOKUP($A366, taxonomy!$B$2:$T$695, 16, FALSE)","v":0},{"$f":"VLOOKUP($A366, taxonomy!$B$2:$T$695, 17, FALSE)","v":0}]
["A2DRU5",{"$f":" VLOOKUP(A367, architecture!D$2:E$73, 2, FALSE)","v":{"$error":"#N/A"}},{"$f":"VLOOKUP(A367, 'PF14702'!B367:C3047, 2, FALSE)","v":1149},{"$f":"VLOOKUP($A367, taxonomy!$B$2:$T$695, 6, FALSE)","v":"Eukaryota"},{"$f":"VLOOKUP($A367, taxonomy!$B$2:$T$695, 7, FALSE)","v":" Parabasalia"},{"$f":"VLOOKUP($A367, taxonomy!$B$2:$T$695, 8, FALSE)","v":" Trichomonadida"},{"$f":"VLOOKUP($A367, taxonomy!$B$2:$T$695, 9, FALSE)","v":" Trichomonadidae"},{"$f":"VLOOKUP($A367, taxonomy!$B$2:$T$695, 10, FALSE)","v":" Trichomonas."},{"$f":"VLOOKUP($A367, taxonomy!$B$2:$T$695, 11, FALSE)","v":0},{"$f":"VLOOKUP($A367, taxonomy!$B$2:$T$695, 12, FALSE)","v":0},{"$f":"VLOOKUP($A367, taxonomy!$B$2:$T$695, 13, FALSE)","v":0},{"$f":"VLOOKUP($A367, taxonomy!$B$2:$T$695, 14, FALSE)","v":0},{"$f":"VLOOKUP($A367, taxonomy!$B$2:$T$695, 15, FALSE)","v":0},{"$f":"VLOOKUP($A367, taxonomy!$B$2:$T$695, 16, FALSE)","v":0},{"$f":"VLOOKUP($A367, taxonomy!$B$2:$T$695, 17, FALSE)","v":0}]
["A2EWE5",{"$f":" VLOOKUP(A368, architecture!D$2:E$73, 2, FALSE)","v":{"$error":"#N/A"}},{"$f":"VLOOKUP(A368, 'PF14702'!B368:C3048, 2, FALSE)","v":1413},{"$f":"VLOOKUP($A368, taxonomy!$B$2:$T$695, 6, FALSE)","v":"Eukaryota"},{"$f":"VLOOKUP($A368, taxonomy!$B$2:$T$695, 7, FALSE)","v":" Parabasalia"},{"$f":"VLOOKUP($A368, taxonomy!$B$2:$T$695, 8, FALSE)","v":" Trichomonadida"},{"$f":"VLOOKUP($A368, taxonomy!$B$2:$T$695, 9, FALSE)","v":" Trichomonadidae"},{"$f":"VLOOKUP($A368, taxonomy!$B$2:$T$695, 10, FALSE)","v":" Trichomonas."},{"$f":"VLOOKUP($A368, taxonomy!$B$2:$T$695, 11, FALSE)","v":0},{"$f":"VLOOKUP($A368, taxonomy!$B$2:$T$695, 12, FALSE)","v":0},{"$f":"VLOOKUP($A368, taxonomy!$B$2:$T$695, 13, FALSE)","v":0},{"$f":"VLOOKUP($A368, taxonomy!$B$2:$T$695, 14, FALSE)","v":0},{"$f":"VLOOKUP($A368, taxonomy!$B$2:$T$695, 15, FALSE)","v":0},{"$f":"VLOOKUP($A368, taxonomy!$B$2:$T$695, 16, FALSE)","v":0},{"$f":"VLOOKUP($A368, taxonomy!$B$2:$T$695, 17, FALSE)","v":0}]
["A2F4M9",{"$f":" VLOOKUP(A369, architecture!D$2:E$73, 2, FALSE)","v":1},{"$f":"VLOOKUP(A369, 'PF14702'!B369:C3049, 2, FALSE)","v":1469},{"$f":"VLOOKUP($A369, taxonomy!$B$2:$T$695, 6, FALSE)","v":"Eukaryota"},{"$f":"VLOOKUP($A369, taxonomy!$B$2:$T$695, 7, FALSE)","v":" Parabasalia"},{"$f":"VLOOKUP($A369, taxonomy!$B$2:$T$695, 8, FALSE)","v":" Trichomonadida"},{"$f":"VLOOKUP($A369, taxonomy!$B$2:$T$695, 9, FALSE)","v":" Trichomonadidae"},{"$f":"VLOOKUP($A369, taxonomy!$B$2:$T$695, 10, FALSE)","v":" Trichomonas."},{"$f":"VLOOKUP($A369, taxonomy!$B$2:$T$695, 11, FALSE)","v":0},{"$f":"VLOOKUP($A369, taxonomy!$B$2:$T$695, 12, FALSE)","v":0},{"$f":"VLOOKUP($A369, taxonomy!$B$2:$T$695, 13, FALSE)","v":0},{"$f":"VLOOKUP($A369, taxonomy!$B$2:$T$695, 14, FALSE)","v":0},{"$f":"VLOOKUP($A369, taxonomy!$B$2:$T$695, 15, FALSE)","v":0},{"$f":"VLOOKUP($A369, taxonomy!$B$2:$T$695, 16, FALSE)","v":0},{"$f":"VLOOKUP($A369, taxonomy!$B$2:$T$695, 17, FALSE)","v":0}]
["A2Q8Z7",{"$f":" VLOOKUP(A370, architecture!D$2:E$73, 2, FALSE)","v":{"$error":"#N/A"}},{"$f":"VLOOKUP(A370, 'PF14702'!B370:C3050, 2, FALSE)","v":1539},{"$f":"VLOOKUP($A370, taxonomy!$B$2:$T$695, 6, FALSE)","v":"Eukaryota"},{"$f":"VLOOKUP($A370, taxonomy!$B$2:$T$695, 7, FALSE)","v":" Fungi"},{"$f":"VLOOKUP($A370, taxonomy!$B$2:$T$695, 8, FALSE)","v":" Dikarya"},{"$f":"VLOOKUP($A370, taxonomy!$B$2:$T$695, 9, FALSE)","v":" Ascomycota"},{"$f":"VLOOKUP($A370, taxonomy!$B$2:$T$695, 10, FALSE)","v":" Pezizomycotina"},{"$f":"VLOOKUP($A370, taxonomy!$B$2:$T$695, 11, FALSE)","v":" Eurotiomycetes"},{"$f":"VLOOKUP($A370, taxonomy!$B$2:$T$695, 12, FALSE)","v":"Eurotiomycetidae"},{"$f":"VLOOKUP($A370, taxonomy!$B$2:$T$695, 13, FALSE)","v":" Eurotiales"},{"$f":"VLOOKUP($A370, taxonomy!$B$2:$T$695, 14, FALSE)","v":" Aspergillaceae"},{"$f":"VLOOKUP($A370, taxonomy!$B$2:$T$695, 15, FALSE)","v":" Aspergillus."},{"$f":"VLOOKUP($A370, taxonomy!$B$2:$T$695, 16, FALSE)","v":0},{"$f":"VLOOKUP($A370, taxonomy!$B$2:$T$695, 17, FALSE)","v":0}]
["A3GF70",{"$f":" VLOOKUP(A371, architecture!D$2:E$73, 2, FALSE)","v":{"$error":"#N/A"}},{"$f":"VLOOKUP(A371, 'PF14702'!B371:C3051, 2, FALSE)","v":1526},{"$f":"VLOOKUP($A371, taxonomy!$B$2:$T$695, 6, FALSE)","v":"Eukaryota"},{"$f":"VLOOKUP($A371, taxonomy!$B$2:$T$695, 7, FALSE)","v":" Fungi"},{"$f":"VLOOKUP($A371, taxonomy!$B$2:$T$695, 8, FALSE)","v":" Dikarya"},{"$f":"VLOOKUP($A371, taxonomy!$B$2:$T$695, 9, FALSE)","v":" Ascomycota"},{"$f":"VLOOKUP($A371, taxonomy!$B$2:$T$695, 10, FALSE)","v":" Saccharomycotina"},{"$f":"VLOOKUP($A371, taxonomy!$B$2:$T$695, 11, FALSE)","v":"Saccharomycetes"},{"$f":"VLOOKUP($A371, taxonomy!$B$2:$T$695, 12, FALSE)","v":" Saccharomycetales"},{"$f":"VLOOKUP($A371, taxonomy!$B$2:$T$695, 13, FALSE)","v":" Debaryomycetaceae"},{"$f":"VLOOKUP($A371, taxonomy!$B$2:$T$695, 14, FALSE)","v":"Scheffersomyces."},{"$f":"VLOOKUP($A371, taxonomy!$B$2:$T$695, 15, FALSE)","v":0},{"$f":"VLOOKUP($A371, taxonomy!$B$2:$T$695, 16, FALSE)","v":0},{"$f":"VLOOKUP($A371, taxonomy!$B$2:$T$695, 17, FALSE)","v":0}]
["A5DQ07",{"$f":" VLOOKUP(A372, architecture!D$2:E$73, 2, FALSE)","v":{"$error":"#N/A"}},{"$f":"VLOOKUP(A372, 'PF14702'!B372:C3052, 2, FALSE)","v":942},{"$f":"VLOOKUP($A372, taxonomy!$B$2:$T$695, 6, FALSE)","v":"Eukaryota"},{"$f":"VLOOKUP($A372, taxonomy!$B$2:$T$695, 7, FALSE)","v":" Fungi"},{"$f":"VLOOKUP($A372, taxonomy!$B$2:$T$695, 8, FALSE)","v":" Dikarya"},{"$f":"VLOOKUP($A372, taxonomy!$B$2:$T$695, 9, FALSE)","v":" Ascomycota"},{"$f":"VLOOKUP($A372, taxonomy!$B$2:$T$695, 10, FALSE)","v":" Saccharomycotina"},{"$f":"VLOOKUP($A372, taxonomy!$B$2:$T$695, 11, FALSE)","v":"Saccharomycetes"},{"$f":"VLOOKUP($A372, taxonomy!$B$2:$T$695, 12, FALSE)","v":" Saccharomycetales"},{"$f":"VLOOKUP($A372, taxonomy!$B$2:$T$695, 13, FALSE)","v":" Debaryomycetaceae"},{"$f":"VLOOKUP($A372, taxonomy!$B$2:$T$695, 14, FALSE)","v":" Meyerozyma."},{"$f":"VLOOKUP($A372, taxonomy!$B$2:$T$695, 15, FALSE)","v":0},{"$f":"VLOOKUP($A372, taxonomy!$B$2:$T$695, 16, FALSE)","v":0},{"$f":"VLOOKUP($A372, taxonomy!$B$2:$T$695, 17, FALSE)","v":0}]
["A5E4R5",{"$f":" VLOOKUP(A373, architecture!D$2:E$73, 2, FALSE)","v":{"$error":"#N/A"}},{"$f":"VLOOKUP(A373, 'PF14702'!B373:C3053, 2, FALSE)","v":1524},{"$f":"VLOOKUP($A373, taxonomy!$B$2:$T$695, 6, FALSE)","v":"Eukaryota"},{"$f":"VLOOKUP($A373, taxonomy!$B$2:$T$695, 7, FALSE)","v":" Fungi"},{"$f":"VLOOKUP($A373, taxonomy!$B$2:$T$695, 8, FALSE)","v":" Dikarya"},{"$f":"VLOOKUP($A373, taxonomy!$B$2:$T$695, 9, FALSE)","v":" Ascomycota"},{"$f":"VLOOKUP($A373, taxonomy!$B$2:$T$695, 10, FALSE)","v":" Saccharomycotina"},{"$f":"VLOOKUP($A373, taxonomy!$B$2:$T$695, 11, FALSE)","v":"Saccharomycetes"},{"$f":"VLOOKUP($A373, taxonomy!$B$2:$T$695, 12, FALSE)","v":" Saccharomycetales"},{"$f":"VLOOKUP($A373, taxonomy!$B$2:$T$695, 13, FALSE)","v":" Debaryomycetaceae"},{"$f":"VLOOKUP($A373, taxonomy!$B$2:$T$695, 14, FALSE)","v":"Candida/Lodderomyces clade"},{"$f":"VLOOKUP($A373, taxonomy!$B$2:$T$695, 15, FALSE)","v":" Lodderomyces."},{"$f":"VLOOKUP($A373, taxonomy!$B$2:$T$695, 16, FALSE)","v":0},{"$f":"VLOOKUP($A373, taxonomy!$B$2:$T$695, 17, FALSE)","v":0}]
["A6R0W1",{"$f":" VLOOKUP(A374, architecture!D$2:E$73, 2, FALSE)","v":{"$error":"#N/A"}},{"$f":"VLOOKUP(A374, 'PF14702'!B374:C3054, 2, FALSE)","v":1800},{"$f":"VLOOKUP($A374, taxonomy!$B$2:$T$695, 6, FALSE)","v":"Eukaryota"},{"$f":"VLOOKUP($A374, taxonomy!$B$2:$T$695, 7, FALSE)","v":" Fungi"},{"$f":"VLOOKUP($A374, taxonomy!$B$2:$T$695, 8, FALSE)","v":" Dikarya"},{"$f":"VLOOKUP($A374, taxonomy!$B$2:$T$695, 9, FALSE)","v":" Ascomycota"},{"$f":"VLOOKUP($A374, taxonomy!$B$2:$T$695, 10, FALSE)","v":" Pezizomycotina"},{"$f":"VLOOKUP($A374, taxonomy!$B$2:$T$695, 11, FALSE)","v":" Eurotiomycetes"},{"$f":"VLOOKUP($A374, taxonomy!$B$2:$T$695, 12, FALSE)","v":"Eurotiomycetidae"},{"$f":"VLOOKUP($A374, taxonomy!$B$2:$T$695, 13, FALSE)","v":" Onygenales"},{"$f":"VLOOKUP($A374, taxonomy!$B$2:$T$695, 14, FALSE)","v":" Ajellomycetaceae"},{"$f":"VLOOKUP($A374, taxonomy!$B$2:$T$695, 15, FALSE)","v":" Histoplasma."},{"$f":"VLOOKUP($A374, taxonomy!$B$2:$T$695, 16, FALSE)","v":0},{"$f":"VLOOKUP($A374, taxonomy!$B$2:$T$695, 17, FALSE)","v":0}]
["A7F5B8",{"$f":" VLOOKUP(A375, architecture!D$2:E$73, 2, FALSE)","v":{"$error":"#N/A"}},{"$f":"VLOOKUP(A375, 'PF14702'!B375:C3055, 2, FALSE)","v":1179},{"$f":"VLOOKUP($A375, taxonomy!$B$2:$T$695, 6, FALSE)","v":"Eukaryota"},{"$f":"VLOOKUP($A375, taxonomy!$B$2:$T$695, 7, FALSE)","v":" Fungi"},{"$f":"VLOOKUP($A375, taxonomy!$B$2:$T$695, 8, FALSE)","v":" Dikarya"},{"$f":"VLOOKUP($A375, taxonomy!$B$2:$T$695, 9, FALSE)","v":" Ascomycota"},{"$f":"VLOOKUP($A375, taxonomy!$B$2:$T$695, 10, FALSE)","v":" Pezizomycotina"},{"$f":"VLOOKUP($A375, taxonomy!$B$2:$T$695, 11, FALSE)","v":" Leotiomycetes"},{"$f":"VLOOKUP($A375, taxonomy!$B$2:$T$695, 12, FALSE)","v":"Helotiales"},{"$f":"VLOOKUP($A375, taxonomy!$B$2:$T$695, 13, FALSE)","v":" Sclerotiniaceae"},{"$f":"VLOOKUP($A375, taxonomy!$B$2:$T$695, 14, FALSE)","v":" Sclerotinia."},{"$f":"VLOOKUP($A375, taxonomy!$B$2:$T$695, 15, FALSE)","v":0},{"$f":"VLOOKUP($A375, taxonomy!$B$2:$T$695, 16, FALSE)","v":0},{"$f":"VLOOKUP($A375, taxonomy!$B$2:$T$695, 17, FALSE)","v":0}]
["A7TH79",{"$f":" VLOOKUP(A376, architecture!D$2:E$73, 2, FALSE)","v":{"$error":"#N/A"}},{"$f":"VLOOKUP(A376, 'PF14702'!B376:C3056, 2, FALSE)","v":1565},{"$f":"VLOOKUP($A376, taxonomy!$B$2:$T$695, 6, FALSE)","v":"Eukaryota"},{"$f":"VLOOKUP($A376, taxonomy!$B$2:$T$695, 7, FALSE)","v":" Fungi"},{"$f":"VLOOKUP($A376, taxonomy!$B$2:$T$695, 8, FALSE)","v":" Dikarya"},{"$f":"VLOOKUP($A376, taxonomy!$B$2:$T$695, 9, FALSE)","v":" Ascomycota"},{"$f":"VLOOKUP($A376, taxonomy!$B$2:$T$695, 10, FALSE)","v":" Saccharomycotina"},{"$f":"VLOOKUP($A376, taxonomy!$B$2:$T$695, 11, FALSE)","v":"Saccharomycetes"},{"$f":"VLOOKUP($A376, taxonomy!$B$2:$T$695, 12, FALSE)","v":" Saccharomycetales"},{"$f":"VLOOKUP($A376, taxonomy!$B$2:$T$695, 13, FALSE)","v":" Saccharomycetaceae"},{"$f":"VLOOKUP($A376, taxonomy!$B$2:$T$695, 14, FALSE)","v":"Vanderwaltozyma."},{"$f":"VLOOKUP($A376, taxonomy!$B$2:$T$695, 15, FALSE)","v":0},{"$f":"VLOOKUP($A376, taxonomy!$B$2:$T$695, 16, FALSE)","v":0},{"$f":"VLOOKUP($A376, taxonomy!$B$2:$T$695, 17, FALSE)","v":0}]
["A8BPE3",{"$f":" VLOOKUP(A377, architecture!D$2:E$73, 2, FALSE)","v":{"$error":"#N/A"}},{"$f":"VLOOKUP(A377, 'PF14702'!B377:C3057, 2, FALSE)","v":1731},{"$f":"VLOOKUP($A377, taxonomy!$B$2:$T$695, 6, FALSE)","v":"Eukaryota"},{"$f":"VLOOKUP($A377, taxonomy!$B$2:$T$695, 7, FALSE)","v":" Diplomonadida"},{"$f":"VLOOKUP($A377, taxonomy!$B$2:$T$695, 8, FALSE)","v":" Hexamitidae"},{"$f":"VLOOKUP($A377, taxonomy!$B$2:$T$695, 9, FALSE)","v":" Giardiinae"},{"$f":"VLOOKUP($A377, taxonomy!$B$2:$T$695, 10, FALSE)","v":" Giardia."},{"$f":"VLOOKUP($A377, taxonomy!$B$2:$T$695, 11, FALSE)","v":0},{"$f":"VLOOKUP($A377, taxonomy!$B$2:$T$695, 12, FALSE)","v":0},{"$f":"VLOOKUP($A377, taxonomy!$B$2:$T$695, 13, FALSE)","v":0},{"$f":"VLOOKUP($A377, taxonomy!$B$2:$T$695, 14, FALSE)","v":0},{"$f":"VLOOKUP($A377, taxonomy!$B$2:$T$695, 15, FALSE)","v":0},{"$f":"VLOOKUP($A377, taxonomy!$B$2:$T$695, 16, FALSE)","v":0},{"$f":"VLOOKUP($A377, taxonomy!$B$2:$T$695, 17, FALSE)","v":0}]
["A8BQB4",{"$f":" VLOOKUP(A378, architecture!D$2:E$73, 2, FALSE)","v":{"$error":"#N/A"}},{"$f":"VLOOKUP(A378, 'PF14702'!B378:C3058, 2, FALSE)","v":1533},{"$f":"VLOOKUP($A378, taxonomy!$B$2:$T$695, 6, FALSE)","v":"Eukaryota"},{"$f":"VLOOKUP($A378, taxonomy!$B$2:$T$695, 7, FALSE)","v":" Metazoa"},{"$f":"VLOOKUP($A378, taxonomy!$B$2:$T$695, 8, FALSE)","v":" Chordata"},{"$f":"VLOOKUP($A378, taxonomy!$B$2:$T$695, 9, FALSE)","v":" Craniata"},{"$f":"VLOOKUP($A378, taxonomy!$B$2:$T$695, 10, FALSE)","v":" Vertebrata"},{"$f":"VLOOKUP($A378, taxonomy!$B$2:$T$695, 11, FALSE)","v":" Euteleostomi"},{"$f":"VLOOKUP($A378, taxonomy!$B$2:$T$695, 12, FALSE)","v":"Mammalia"},{"$f":"VLOOKUP($A378, taxonomy!$B$2:$T$695, 13, FALSE)","v":" Eutheria"},{"$f":"VLOOKUP($A378, taxonomy!$B$2:$T$695, 14, FALSE)","v":" Laurasiatheria"},{"$f":"VLOOKUP($A378, taxonomy!$B$2:$T$695, 15, FALSE)","v":" Perissodactyla"},{"$f":"VLOOKUP($A378, taxonomy!$B$2:$T$695, 16, FALSE)","v":" Equidae"},{"$f":"VLOOKUP($A378, taxonomy!$B$2:$T$695, 17, FALSE)","v":" Equus."}]
["A8N9L1",{"$f":" VLOOKUP(A379, architecture!D$2:E$73, 2, FALSE)","v":{"$error":"#N/A"}},{"$f":"VLOOKUP(A379, 'PF14702'!B379:C3059, 2, FALSE)","v":1598},{"$f":"VLOOKUP($A379, taxonomy!$B$2:$T$695, 6, FALSE)","v":"Eukaryota"},{"$f":"VLOOKUP($A379, taxonomy!$B$2:$T$695, 7, FALSE)","v":" Fungi"},{"$f":"VLOOKUP($A379, taxonomy!$B$2:$T$695, 8, FALSE)","v":" Dikarya"},{"$f":"VLOOKUP($A379, taxonomy!$B$2:$T$695, 9, FALSE)","v":" Basidiomycota"},{"$f":"VLOOKUP($A379, taxonomy!$B$2:$T$695, 10, FALSE)","v":" Agaricomycotina"},{"$f":"VLOOKUP($A379, taxonomy!$B$2:$T$695, 11, FALSE)","v":"Agaricomycetes"},{"$f":"VLOOKUP($A379, taxonomy!$B$2:$T$695, 12, FALSE)","v":" Agaricomycetidae"},{"$f":"VLOOKUP($A379, taxonomy!$B$2:$T$695, 13, FALSE)","v":" Agaricales"},{"$f":"VLOOKUP($A379, taxonomy!$B$2:$T$695, 14, FALSE)","v":" Psathyrellaceae"},{"$f":"VLOOKUP($A379, taxonomy!$B$2:$T$695, 15, FALSE)","v":"Coprinopsis."},{"$f":"VLOOKUP($A379, taxonomy!$B$2:$T$695, 16, FALSE)","v":0},{"$f":"VLOOKUP($A379, taxonomy!$B$2:$T$695, 17, FALSE)","v":0}]
["A8XCF0",{"$f":" VLOOKUP(A380, architecture!D$2:E$73, 2, FALSE)","v":{"$error":"#N/A"}},{"$f":"VLOOKUP(A380, 'PF14702'!B380:C3060, 2, FALSE)","v":1534},{"$f":"VLOOKUP($A380, taxonomy!$B$2:$T$695, 6, FALSE)","v":"Eukaryota"},{"$f":"VLOOKUP($A380, taxonomy!$B$2:$T$695, 7, FALSE)","v":" Metazoa"},{"$f":"VLOOKUP($A380, taxonomy!$B$2:$T$695, 8, FALSE)","v":" Ecdysozoa"},{"$f":"VLOOKUP($A380, taxonomy!$B$2:$T$695, 9, FALSE)","v":" Nematoda"},{"$f":"VLOOKUP($A380, taxonomy!$B$2:$T$695, 10, FALSE)","v":" Chromadorea"},{"$f":"VLOOKUP($A380, taxonomy!$B$2:$T$695, 11, FALSE)","v":" Rhabditida"},{"$f":"VLOOKUP($A380, taxonomy!$B$2:$T$695, 12, FALSE)","v":"Rhabditoidea"},{"$f":"VLOOKUP($A380, taxonomy!$B$2:$T$695, 13, FALSE)","v":" Rhabditidae"},{"$f":"VLOOKUP($A380, taxonomy!$B$2:$T$695, 14, FALSE)","v":" Peloderinae"},{"$f":"VLOOKUP($A380, taxonomy!$B$2:$T$695, 15, FALSE)","v":" Caenorhabditis."},{"$f":"VLOOKUP($A380, taxonomy!$B$2:$T$695, 16, FALSE)","v":0},{"$f":"VLOOKUP($A380, taxonomy!$B$2:$T$695, 17, FALSE)","v":0}]
["A9V544",{"$f":" VLOOKUP(A381, architecture!D$2:E$73, 2, FALSE)","v":{"$error":"#N/A"}},{"$f":"VLOOKUP(A381, 'PF14702'!B381:C3061, 2, FALSE)","v":1489},{"$f":"VLOOKUP($A381, taxonomy!$B$2:$T$695, 6, FALSE)","v":"Eukaryota"},{"$f":"VLOOKUP($A381, taxonomy!$B$2:$T$695, 7, FALSE)","v":" Choanoflagellida"},{"$f":"VLOOKUP($A381, taxonomy!$B$2:$T$695, 8, FALSE)","v":" Craspedida"},{"$f":"VLOOKUP($A381, taxonomy!$B$2:$T$695, 9, FALSE)","v":" Salpingoecidae"},{"$f":"VLOOKUP($A381, taxonomy!$B$2:$T$695, 10, FALSE)","v":" Monosiga."},{"$f":"VLOOKUP($A381, taxonomy!$B$2:$T$695, 11, FALSE)","v":0},{"$f":"VLOOKUP($A381, taxonomy!$B$2:$T$695, 12, FALSE)","v":0},{"$f":"VLOOKUP($A381, taxonomy!$B$2:$T$695, 13, FALSE)","v":0},{"$f":"VLOOKUP($A381, taxonomy!$B$2:$T$695, 14, FALSE)","v":0},{"$f":"VLOOKUP($A381, taxonomy!$B$2:$T$695, 15, FALSE)","v":0},{"$f":"VLOOKUP($A381, taxonomy!$B$2:$T$695, 16, FALSE)","v":0},{"$f":"VLOOKUP($A381, taxonomy!$B$2:$T$695, 17, FALSE)","v":0}]
["B0DI75",{"$f":" VLOOKUP(A382, architecture!D$2:E$73, 2, FALSE)","v":{"$error":"#N/A"}},{"$f":"VLOOKUP(A382, 'PF14702'!B382:C3062, 2, FALSE)","v":1594},{"$f":"VLOOKUP($A382, taxonomy!$B$2:$T$695, 6, FALSE)","v":"Eukaryota"},{"$f":"VLOOKUP($A382, taxonomy!$B$2:$T$695, 7, FALSE)","v":" Fungi"},{"$f":"VLOOKUP($A382, taxonomy!$B$2:$T$695, 8, FALSE)","v":" Dikarya"},{"$f":"VLOOKUP($A382, taxonomy!$B$2:$T$695, 9, FALSE)","v":" Basidiomycota"},{"$f":"VLOOKUP($A382, taxonomy!$B$2:$T$695, 10, FALSE)","v":" Agaricomycotina"},{"$f":"VLOOKUP($A382, taxonomy!$B$2:$T$695, 11, FALSE)","v":"Agaricomycetes"},{"$f":"VLOOKUP($A382, taxonomy!$B$2:$T$695, 12, FALSE)","v":" Agaricomycetidae"},{"$f":"VLOOKUP($A382, taxonomy!$B$2:$T$695, 13, FALSE)","v":" Agaricales"},{"$f":"VLOOKUP($A382, taxonomy!$B$2:$T$695, 14, FALSE)","v":" Tricholomataceae"},{"$f":"VLOOKUP($A382, taxonomy!$B$2:$T$695, 15, FALSE)","v":"Laccaria."},{"$f":"VLOOKUP($A382, taxonomy!$B$2:$T$695, 16, FALSE)","v":0},{"$f":"VLOOKUP($A382, taxonomy!$B$2:$T$695, 17, FALSE)","v":0}]
["B0DME9",{"$f":" VLOOKUP(A383, architecture!D$2:E$73, 2, FALSE)","v":2},{"$f":"VLOOKUP(A383, 'PF14702'!B383:C3063, 2, FALSE)","v":115},{"$f":"VLOOKUP($A383, taxonomy!$B$2:$T$695, 6, FALSE)","v":"Eukaryota"},{"$f":"VLOOKUP($A383, taxonomy!$B$2:$T$695, 7, FALSE)","v":" Fungi"},{"$f":"VLOOKUP($A383, taxonomy!$B$2:$T$695, 8, FALSE)","v":" Dikarya"},{"$f":"VLOOKUP($A383, taxonomy!$B$2:$T$695, 9, FALSE)","v":" Basidiomycota"},{"$f":"VLOOKUP($A383, taxonomy!$B$2:$T$695, 10, FALSE)","v":" Agaricomycotina"},{"$f":"VLOOKUP($A383, taxonomy!$B$2:$T$695, 11, FALSE)","v":"Agaricomycetes"},{"$f":"VLOOKUP($A383, taxonomy!$B$2:$T$695, 12, FALSE)","v":" Agaricomycetidae"},{"$f":"VLOOKUP($A383, taxonomy!$B$2:$T$695, 13, FALSE)","v":" Agaricales"},{"$f":"VLOOKUP($A383, taxonomy!$B$2:$T$695, 14, FALSE)","v":" Tricholomataceae"},{"$f":"VLOOKUP($A383, taxonomy!$B$2:$T$695, 15, FALSE)","v":"Laccaria."},{"$f":"VLOOKUP($A383, taxonomy!$B$2:$T$695, 16, FALSE)","v":0},{"$f":"VLOOKUP($A383, taxonomy!$B$2:$T$695, 17, FALSE)","v":0}]
["B0DZ84",{"$f":" VLOOKUP(A384, architecture!D$2:E$73, 2, FALSE)","v":2},{"$f":"VLOOKUP(A384, 'PF14702'!B384:C3064, 2, FALSE)","v":115},{"$f":"VLOOKUP($A384, taxonomy!$B$2:$T$695, 6, FALSE)","v":"Eukaryota"},{"$f":"VLOOKUP($A384, taxonomy!$B$2:$T$695, 7, FALSE)","v":" Fungi"},{"$f":"VLOOKUP($A384, taxonomy!$B$2:$T$695, 8, FALSE)","v":" Dikarya"},{"$f":"VLOOKUP($A384, taxonomy!$B$2:$T$695, 9, FALSE)","v":" Basidiomycota"},{"$f":"VLOOKUP($A384, taxonomy!$B$2:$T$695, 10, FALSE)","v":" Agaricomycotina"},{"$f":"VLOOKUP($A384, taxonomy!$B$2:$T$695, 11, FALSE)","v":"Agaricomycetes"},{"$f":"VLOOKUP($A384, taxonomy!$B$2:$T$695, 12, FALSE)","v":" Agaricomycetidae"},{"$f":"VLOOKUP($A384, taxonomy!$B$2:$T$695, 13, FALSE)","v":" Agaricales"},{"$f":"VLOOKUP($A384, taxonomy!$B$2:$T$695, 14, FALSE)","v":" Tricholomataceae"},{"$f":"VLOOKUP($A384, taxonomy!$B$2:$T$695, 15, FALSE)","v":"Laccaria."},{"$f":"VLOOKUP($A384, taxonomy!$B$2:$T$695, 16, FALSE)","v":0},{"$f":"VLOOKUP($A384, taxonomy!$B$2:$T$695, 17, FALSE)","v":0}]
["B0X1H0",{"$f":" VLOOKUP(A385, architecture!D$2:E$73, 2, FALSE)","v":{"$error":"#N/A"}},{"$f":"VLOOKUP(A385, 'PF14702'!B385:C3065, 2, FALSE)","v":784},{"$f":"VLOOKUP($A385, taxonomy!$B$2:$T$695, 6, FALSE)","v":"Eukaryota"},{"$f":"VLOOKUP($A385, taxonomy!$B$2:$T$695, 7, FALSE)","v":" Metazoa"},{"$f":"VLOOKUP($A385, taxonomy!$B$2:$T$695, 8, FALSE)","v":" Ecdysozoa"},{"$f":"VLOOKUP($A385, taxonomy!$B$2:$T$695, 9, FALSE)","v":" Arthropoda"},{"$f":"VLOOKUP($A385, taxonomy!$B$2:$T$695, 10, FALSE)","v":" Hexapoda"},{"$f":"VLOOKUP($A385, taxonomy!$B$2:$T$695, 11, FALSE)","v":" Insecta"},{"$f":"VLOOKUP($A385, taxonomy!$B$2:$T$695, 12, FALSE)","v":"Pterygota"},{"$f":"VLOOKUP($A385, taxonomy!$B$2:$T$695, 13, FALSE)","v":" Neoptera"},{"$f":"VLOOKUP($A385, taxonomy!$B$2:$T$695, 14, FALSE)","v":" Holometabola"},{"$f":"VLOOKUP($A385, taxonomy!$B$2:$T$695, 15, FALSE)","v":" Diptera"},{"$f":"VLOOKUP($A385, taxonomy!$B$2:$T$695, 16, FALSE)","v":" Nematocera"},{"$f":"VLOOKUP($A385, taxonomy!$B$2:$T$695, 17, FALSE)","v":" Culicoidea"}]
["B0XLP5",{"$f":" VLOOKUP(A386, architecture!D$2:E$73, 2, FALSE)","v":{"$error":"#N/A"}},{"$f":"VLOOKUP(A386, 'PF14702'!B386:C3066, 2, FALSE)","v":672},{"$f":"VLOOKUP($A386, taxonomy!$B$2:$T$695, 6, FALSE)","v":"Eukaryota"},{"$f":"VLOOKUP($A386, taxonomy!$B$2:$T$695, 7, FALSE)","v":" Metazoa"},{"$f":"VLOOKUP($A386, taxonomy!$B$2:$T$695, 8, FALSE)","v":" Ecdysozoa"},{"$f":"VLOOKUP($A386, taxonomy!$B$2:$T$695, 9, FALSE)","v":" Arthropoda"},{"$f":"VLOOKUP($A386, taxonomy!$B$2:$T$695, 10, FALSE)","v":" Hexapoda"},{"$f":"VLOOKUP($A386, taxonomy!$B$2:$T$695, 11, FALSE)","v":" Insecta"},{"$f":"VLOOKUP($A386, taxonomy!$B$2:$T$695, 12, FALSE)","v":"Pterygota"},{"$f":"VLOOKUP($A386, taxonomy!$B$2:$T$695, 13, FALSE)","v":" Neoptera"},{"$f":"VLOOKUP($A386, taxonomy!$B$2:$T$695, 14, FALSE)","v":" Holometabola"},{"$f":"VLOOKUP($A386, taxonomy!$B$2:$T$695, 15, FALSE)","v":" Diptera"},{"$f":"VLOOKUP($A386, taxonomy!$B$2:$T$695, 16, FALSE)","v":" Nematocera"},{"$f":"VLOOKUP($A386, taxonomy!$B$2:$T$695, 17, FALSE)","v":" Culicoidea"}]
["B2AB57",{"$f":" VLOOKUP(A387, architecture!D$2:E$73, 2, FALSE)","v":{"$error":"#N/A"}},{"$f":"VLOOKUP(A387, 'PF14702'!B387:C3067, 2, FALSE)","v":1571},{"$f":"VLOOKUP($A387, taxonomy!$B$2:$T$695, 6, FALSE)","v":"Eukaryota"},{"$f":"VLOOKUP($A387, taxonomy!$B$2:$T$695, 7, FALSE)","v":" Fungi"},{"$f":"VLOOKUP($A387, taxonomy!$B$2:$T$695, 8, FALSE)","v":" Dikarya"},{"$f":"VLOOKUP($A387, taxonomy!$B$2:$T$695, 9, FALSE)","v":" Ascomycota"},{"$f":"VLOOKUP($A387, taxonomy!$B$2:$T$695, 10, FALSE)","v":" Pezizomycotina"},{"$f":"VLOOKUP($A387, taxonomy!$B$2:$T$695, 11, FALSE)","v":"Sordariomycetes"},{"$f":"VLOOKUP($A387, taxonomy!$B$2:$T$695, 12, FALSE)","v":" Sordariomycetidae"},{"$f":"VLOOKUP($A387, taxonomy!$B$2:$T$695, 13, FALSE)","v":" Sordariales"},{"$f":"VLOOKUP($A387, taxonomy!$B$2:$T$695, 14, FALSE)","v":" Lasiosphaeriaceae"},{"$f":"VLOOKUP($A387, taxonomy!$B$2:$T$695, 15, FALSE)","v":"Podospora."},{"$f":"VLOOKUP($A387, taxonomy!$B$2:$T$695, 16, FALSE)","v":0},{"$f":"VLOOKUP($A387, taxonomy!$B$2:$T$695, 17, FALSE)","v":0}]
["B2VZS2",{"$f":" VLOOKUP(A388, architecture!D$2:E$73, 2, FALSE)","v":{"$error":"#N/A"}},{"$f":"VLOOKUP(A388, 'PF14702'!B388:C3068, 2, FALSE)","v":1567},{"$f":"VLOOKUP($A388, taxonomy!$B$2:$T$695, 6, FALSE)","v":"Eukaryota"},{"$f":"VLOOKUP($A388, taxonomy!$B$2:$T$695, 7, FALSE)","v":" Fungi"},{"$f":"VLOOKUP($A388, taxonomy!$B$2:$T$695, 8, FALSE)","v":" Dikarya"},{"$f":"VLOOKUP($A388, taxonomy!$B$2:$T$695, 9, FALSE)","v":" Ascomycota"},{"$f":"VLOOKUP($A388, taxonomy!$B$2:$T$695, 10, FALSE)","v":" Pezizomycotina"},{"$f":"VLOOKUP($A388, taxonomy!$B$2:$T$695, 11, FALSE)","v":"Dothideomycetes"},{"$f":"VLOOKUP($A388, taxonomy!$B$2:$T$695, 12, FALSE)","v":" Pleosporomycetidae"},{"$f":"VLOOKUP($A388, taxonomy!$B$2:$T$695, 13, FALSE)","v":" Pleosporales"},{"$f":"VLOOKUP($A388, taxonomy!$B$2:$T$695, 14, FALSE)","v":" Pleosporineae"},{"$f":"VLOOKUP($A388, taxonomy!$B$2:$T$695, 15, FALSE)","v":"Pleosporaceae"},{"$f":"VLOOKUP($A388, taxonomy!$B$2:$T$695, 16, FALSE)","v":" Pyrenophora."},{"$f":"VLOOKUP($A388, taxonomy!$B$2:$T$695, 17, FALSE)","v":0}]
["B3MBX1",{"$f":" VLOOKUP(A389, architecture!D$2:E$73, 2, FALSE)","v":{"$error":"#N/A"}},{"$f":"VLOOKUP(A389, 'PF14702'!B389:C3069, 2, FALSE)","v":1641},{"$f":"VLOOKUP($A389, taxonomy!$B$2:$T$695, 6, FALSE)","v":"Eukaryota"},{"$f":"VLOOKUP($A389, taxonomy!$B$2:$T$695, 7, FALSE)","v":" Metazoa"},{"$f":"VLOOKUP($A389, taxonomy!$B$2:$T$695, 8, FALSE)","v":" Ecdysozoa"},{"$f":"VLOOKUP($A389, taxonomy!$B$2:$T$695, 9, FALSE)","v":" Arthropoda"},{"$f":"VLOOKUP($A389, taxonomy!$B$2:$T$695, 10, FALSE)","v":" Hexapoda"},{"$f":"VLOOKUP($A389, taxonomy!$B$2:$T$695, 11, FALSE)","v":" Insecta"},{"$f":"VLOOKUP($A389, taxonomy!$B$2:$T$695, 12, FALSE)","v":"Pterygota"},{"$f":"VLOOKUP($A389, taxonomy!$B$2:$T$695, 13, FALSE)","v":" Neoptera"},{"$f":"VLOOKUP($A389, taxonomy!$B$2:$T$695, 14, FALSE)","v":" Holometabola"},{"$f":"VLOOKUP($A389, taxonomy!$B$2:$T$695, 15, FALSE)","v":" Diptera"},{"$f":"VLOOKUP($A389, taxonomy!$B$2:$T$695, 16, FALSE)","v":" Brachycera"},{"$f":"VLOOKUP($A389, taxonomy!$B$2:$T$695, 17, FALSE)","v":" Muscomorpha"}]
["B4GA88",{"$f":" VLOOKUP(A390, architecture!D$2:E$73, 2, FALSE)","v":{"$error":"#N/A"}},{"$f":"VLOOKUP(A390, 'PF14702'!B390:C3070, 2, FALSE)","v":1667},{"$f":"VLOOKUP($A390, taxonomy!$B$2:$T$695, 6, FALSE)","v":"Eukaryota"},{"$f":"VLOOKUP($A390, taxonomy!$B$2:$T$695, 7, FALSE)","v":" Metazoa"},{"$f":"VLOOKUP($A390, taxonomy!$B$2:$T$695, 8, FALSE)","v":" Ecdysozoa"},{"$f":"VLOOKUP($A390, taxonomy!$B$2:$T$695, 9, FALSE)","v":" Arthropoda"},{"$f":"VLOOKUP($A390, taxonomy!$B$2:$T$695, 10, FALSE)","v":" Hexapoda"},{"$f":"VLOOKUP($A390, taxonomy!$B$2:$T$695, 11, FALSE)","v":" Insecta"},{"$f":"VLOOKUP($A390, taxonomy!$B$2:$T$695, 12, FALSE)","v":"Pterygota"},{"$f":"VLOOKUP($A390, taxonomy!$B$2:$T$695, 13, FALSE)","v":" Neoptera"},{"$f":"VLOOKUP($A390, taxonomy!$B$2:$T$695, 14, FALSE)","v":" Holometabola"},{"$f":"VLOOKUP($A390, taxonomy!$B$2:$T$695, 15, FALSE)","v":" Diptera"},{"$f":"VLOOKUP($A390, taxonomy!$B$2:$T$695, 16, FALSE)","v":" Brachycera"},{"$f":"VLOOKUP($A390, taxonomy!$B$2:$T$695, 17, FALSE)","v":" Muscomorpha"}]
["B4I7P0",{"$f":" VLOOKUP(A391, architecture!D$2:E$73, 2, FALSE)","v":1},{"$f":"VLOOKUP(A391, 'PF14702'!B391:C3071, 2, FALSE)","v":1114},{"$f":"VLOOKUP($A391, taxonomy!$B$2:$T$695, 6, FALSE)","v":"Eukaryota"},{"$f":"VLOOKUP($A391, taxonomy!$B$2:$T$695, 7, FALSE)","v":" Metazoa"},{"$f":"VLOOKUP($A391, taxonomy!$B$2:$T$695, 8, FALSE)","v":" Ecdysozoa"},{"$f":"VLOOKUP($A391, taxonomy!$B$2:$T$695, 9, FALSE)","v":" Arthropoda"},{"$f":"VLOOKUP($A391, taxonomy!$B$2:$T$695, 10, FALSE)","v":" Hexapoda"},{"$f":"VLOOKUP($A391, taxonomy!$B$2:$T$695, 11, FALSE)","v":" Insecta"},{"$f":"VLOOKUP($A391, taxonomy!$B$2:$T$695, 12, FALSE)","v":"Pterygota"},{"$f":"VLOOKUP($A391, taxonomy!$B$2:$T$695, 13, FALSE)","v":" Neoptera"},{"$f":"VLOOKUP($A391, taxonomy!$B$2:$T$695, 14, FALSE)","v":" Holometabola"},{"$f":"VLOOKUP($A391, taxonomy!$B$2:$T$695, 15, FALSE)","v":" Diptera"},{"$f":"VLOOKUP($A391, taxonomy!$B$2:$T$695, 16, FALSE)","v":" Brachycera"},{"$f":"VLOOKUP($A391, taxonomy!$B$2:$T$695, 17, FALSE)","v":" Muscomorpha"}]
["B4J7H5",{"$f":" VLOOKUP(A392, architecture!D$2:E$73, 2, FALSE)","v":{"$error":"#N/A"}},{"$f":"VLOOKUP(A392, 'PF14702'!B392:C3072, 2, FALSE)","v":1538},{"$f":"VLOOKUP($A392, taxonomy!$B$2:$T$695, 6, FALSE)","v":"Eukaryota"},{"$f":"VLOOKUP($A392, taxonomy!$B$2:$T$695, 7, FALSE)","v":" Metazoa"},{"$f":"VLOOKUP($A392, taxonomy!$B$2:$T$695, 8, FALSE)","v":" Ecdysozoa"},{"$f":"VLOOKUP($A392, taxonomy!$B$2:$T$695, 9, FALSE)","v":" Arthropoda"},{"$f":"VLOOKUP($A392, taxonomy!$B$2:$T$695, 10, FALSE)","v":" Hexapoda"},{"$f":"VLOOKUP($A392, taxonomy!$B$2:$T$695, 11, FALSE)","v":" Insecta"},{"$f":"VLOOKUP($A392, taxonomy!$B$2:$T$695, 12, FALSE)","v":"Pterygota"},{"$f":"VLOOKUP($A392, taxonomy!$B$2:$T$695, 13, FALSE)","v":" Neoptera"},{"$f":"VLOOKUP($A392, taxonomy!$B$2:$T$695, 14, FALSE)","v":" Holometabola"},{"$f":"VLOOKUP($A392, taxonomy!$B$2:$T$695, 15, FALSE)","v":" Diptera"},{"$f":"VLOOKUP($A392, taxonomy!$B$2:$T$695, 16, FALSE)","v":" Brachycera"},{"$f":"VLOOKUP($A392, taxonomy!$B$2:$T$695, 17, FALSE)","v":" Muscomorpha"}]
["B4KSI9",{"$f":" VLOOKUP(A393, architecture!D$2:E$73, 2, FALSE)","v":{"$error":"#N/A"}},{"$f":"VLOOKUP(A393, 'PF14702'!B393:C3073, 2, FALSE)","v":1670},{"$f":"VLOOKUP($A393, taxonomy!$B$2:$T$695, 6, FALSE)","v":"Eukaryota"},{"$f":"VLOOKUP($A393, taxonomy!$B$2:$T$695, 7, FALSE)","v":" Metazoa"},{"$f":"VLOOKUP($A393, taxonomy!$B$2:$T$695, 8, FALSE)","v":" Ecdysozoa"},{"$f":"VLOOKUP($A393, taxonomy!$B$2:$T$695, 9, FALSE)","v":" Arthropoda"},{"$f":"VLOOKUP($A393, taxonomy!$B$2:$T$695, 10, FALSE)","v":" Hexapoda"},{"$f":"VLOOKUP($A393, taxonomy!$B$2:$T$695, 11, FALSE)","v":" Insecta"},{"$f":"VLOOKUP($A393, taxonomy!$B$2:$T$695, 12, FALSE)","v":"Pterygota"},{"$f":"VLOOKUP($A393, taxonomy!$B$2:$T$695, 13, FALSE)","v":" Neoptera"},{"$f":"VLOOKUP($A393, taxonomy!$B$2:$T$695, 14, FALSE)","v":" Holometabola"},{"$f":"VLOOKUP($A393, taxonomy!$B$2:$T$695, 15, FALSE)","v":" Diptera"},{"$f":"VLOOKUP($A393, taxonomy!$B$2:$T$695, 16, FALSE)","v":" Brachycera"},{"$f":"VLOOKUP($A393, taxonomy!$B$2:$T$695, 17, FALSE)","v":" Muscomorpha"}]
["B4LMF7",{"$f":" VLOOKUP(A394, architecture!D$2:E$73, 2, FALSE)","v":{"$error":"#N/A"}},{"$f":"VLOOKUP(A394, 'PF14702'!B394:C3074, 2, FALSE)","v":1687},{"$f":"VLOOKUP($A394, taxonomy!$B$2:$T$695, 6, FALSE)","v":"Eukaryota"},{"$f":"VLOOKUP($A394, taxonomy!$B$2:$T$695, 7, FALSE)","v":" Metazoa"},{"$f":"VLOOKUP($A394, taxonomy!$B$2:$T$695, 8, FALSE)","v":" Ecdysozoa"},{"$f":"VLOOKUP($A394, taxonomy!$B$2:$T$695, 9, FALSE)","v":" Arthropoda"},{"$f":"VLOOKUP($A394, taxonomy!$B$2:$T$695, 10, FALSE)","v":" Hexapoda"},{"$f":"VLOOKUP($A394, taxonomy!$B$2:$T$695, 11, FALSE)","v":" Insecta"},{"$f":"VLOOKUP($A394, taxonomy!$B$2:$T$695, 12, FALSE)","v":"Pterygota"},{"$f":"VLOOKUP($A394, taxonomy!$B$2:$T$695, 13, FALSE)","v":" Neoptera"},{"$f":"VLOOKUP($A394, taxonomy!$B$2:$T$695, 14, FALSE)","v":" Holometabola"},{"$f":"VLOOKUP($A394, taxonomy!$B$2:$T$695, 15, FALSE)","v":" Diptera"},{"$f":"VLOOKUP($A394, taxonomy!$B$2:$T$695, 16, FALSE)","v":" Brachycera"},{"$f":"VLOOKUP($A394, taxonomy!$B$2:$T$695, 17, FALSE)","v":" Muscomorpha"}]
["B4MPI2",{"$f":" VLOOKUP(A395, architecture!D$2:E$73, 2, FALSE)","v":{"$error":"#N/A"}},{"$f":"VLOOKUP(A395, 'PF14702'!B395:C3075, 2, FALSE)","v":1535},{"$f":"VLOOKUP($A395, taxonomy!$B$2:$T$695, 6, FALSE)","v":"Eukaryota"},{"$f":"VLOOKUP($A395, taxonomy!$B$2:$T$695, 7, FALSE)","v":" Metazoa"},{"$f":"VLOOKUP($A395, taxonomy!$B$2:$T$695, 8, FALSE)","v":" Ecdysozoa"},{"$f":"VLOOKUP($A395, taxonomy!$B$2:$T$695, 9, FALSE)","v":" Arthropoda"},{"$f":"VLOOKUP($A395, taxonomy!$B$2:$T$695, 10, FALSE)","v":" Hexapoda"},{"$f":"VLOOKUP($A395, taxonomy!$B$2:$T$695, 11, FALSE)","v":" Insecta"},{"$f":"VLOOKUP($A395, taxonomy!$B$2:$T$695, 12, FALSE)","v":"Pterygota"},{"$f":"VLOOKUP($A395, taxonomy!$B$2:$T$695, 13, FALSE)","v":" Neoptera"},{"$f":"VLOOKUP($A395, taxonomy!$B$2:$T$695, 14, FALSE)","v":" Holometabola"},{"$f":"VLOOKUP($A395, taxonomy!$B$2:$T$695, 15, FALSE)","v":" Diptera"},{"$f":"VLOOKUP($A395, taxonomy!$B$2:$T$695, 16, FALSE)","v":" Brachycera"},{"$f":"VLOOKUP($A395, taxonomy!$B$2:$T$695, 17, FALSE)","v":" Muscomorpha"}]
["B4QG18",{"$f":" VLOOKUP(A396, architecture!D$2:E$73, 2, FALSE)","v":{"$error":"#N/A"}},{"$f":"VLOOKUP(A396, 'PF14702'!B396:C3076, 2, FALSE)","v":1283},{"$f":"VLOOKUP($A396, taxonomy!$B$2:$T$695, 6, FALSE)","v":"Eukaryota"},{"$f":"VLOOKUP($A396, taxonomy!$B$2:$T$695, 7, FALSE)","v":" Metazoa"},{"$f":"VLOOKUP($A396, taxonomy!$B$2:$T$695, 8, FALSE)","v":" Ecdysozoa"},{"$f":"VLOOKUP($A396, taxonomy!$B$2:$T$695, 9, FALSE)","v":" Arthropoda"},{"$f":"VLOOKUP($A396, taxonomy!$B$2:$T$695, 10, FALSE)","v":" Hexapoda"},{"$f":"VLOOKUP($A396, taxonomy!$B$2:$T$695, 11, FALSE)","v":" Insecta"},{"$f":"VLOOKUP($A396, taxonomy!$B$2:$T$695, 12, FALSE)","v":"Pterygota"},{"$f":"VLOOKUP($A396, taxonomy!$B$2:$T$695, 13, FALSE)","v":" Neoptera"},{"$f":"VLOOKUP($A396, taxonomy!$B$2:$T$695, 14, FALSE)","v":" Holometabola"},{"$f":"VLOOKUP($A396, taxonomy!$B$2:$T$695, 15, FALSE)","v":" Diptera"},{"$f":"VLOOKUP($A396, taxonomy!$B$2:$T$695, 16, FALSE)","v":" Brachycera"},{"$f":"VLOOKUP($A396, taxonomy!$B$2:$T$695, 17, FALSE)","v":" Muscomorpha"}]
["B6ABH3",{"$f":" VLOOKUP(A397, architecture!D$2:E$73, 2, FALSE)","v":{"$error":"#N/A"}},{"$f":"VLOOKUP(A397, 'PF14702'!B397:C3077, 2, FALSE)","v":1859},{"$f":"VLOOKUP($A397, taxonomy!$B$2:$T$695, 6, FALSE)","v":"Eukaryota"},{"$f":"VLOOKUP($A397, taxonomy!$B$2:$T$695, 7, FALSE)","v":" Alveolata"},{"$f":"VLOOKUP($A397, taxonomy!$B$2:$T$695, 8, FALSE)","v":" Apicomplexa"},{"$f":"VLOOKUP($A397, taxonomy!$B$2:$T$695, 9, FALSE)","v":" Conoidasida"},{"$f":"VLOOKUP($A397, taxonomy!$B$2:$T$695, 10, FALSE)","v":" Coccidia"},{"$f":"VLOOKUP($A397, taxonomy!$B$2:$T$695, 11, FALSE)","v":"Eucoccidiorida"},{"$f":"VLOOKUP($A397, taxonomy!$B$2:$T$695, 12, FALSE)","v":" Eimeriorina"},{"$f":"VLOOKUP($A397, taxonomy!$B$2:$T$695, 13, FALSE)","v":" Cryptosporidiidae"},{"$f":"VLOOKUP($A397, taxonomy!$B$2:$T$695, 14, FALSE)","v":" Cryptosporidium."},{"$f":"VLOOKUP($A397, taxonomy!$B$2:$T$695, 15, FALSE)","v":0},{"$f":"VLOOKUP($A397, taxonomy!$B$2:$T$695, 16, FALSE)","v":0},{"$f":"VLOOKUP($A397, taxonomy!$B$2:$T$695, 17, FALSE)","v":0}]
["B6HTR6",{"$f":" VLOOKUP(A398, architecture!D$2:E$73, 2, FALSE)","v":{"$error":"#N/A"}},{"$f":"VLOOKUP(A398, 'PF14702'!B398:C3078, 2, FALSE)","v":1534},{"$f":"VLOOKUP($A398, taxonomy!$B$2:$T$695, 6, FALSE)","v":"Eukaryota"},{"$f":"VLOOKUP($A398, taxonomy!$B$2:$T$695, 7, FALSE)","v":" Fungi"},{"$f":"VLOOKUP($A398, taxonomy!$B$2:$T$695, 8, FALSE)","v":" Dikarya"},{"$f":"VLOOKUP($A398, taxonomy!$B$2:$T$695, 9, FALSE)","v":" Ascomycota"},{"$f":"VLOOKUP($A398, taxonomy!$B$2:$T$695, 10, FALSE)","v":" Pezizomycotina"},{"$f":"VLOOKUP($A398, taxonomy!$B$2:$T$695, 11, FALSE)","v":" Eurotiomycetes"},{"$f":"VLOOKUP($A398, taxonomy!$B$2:$T$695, 12, FALSE)","v":"Eurotiomycetidae"},{"$f":"VLOOKUP($A398, taxonomy!$B$2:$T$695, 13, FALSE)","v":" Eurotiales"},{"$f":"VLOOKUP($A398, taxonomy!$B$2:$T$695, 14, FALSE)","v":" Aspergillaceae"},{"$f":"VLOOKUP($A398, taxonomy!$B$2:$T$695, 15, FALSE)","v":" Penicillium"},{"$f":"VLOOKUP($A398, taxonomy!$B$2:$T$695, 16, FALSE)","v":"Penicillium chrysogenum species complex."},{"$f":"VLOOKUP($A398, taxonomy!$B$2:$T$695, 17, FALSE)","v":0}]
["B6QE94",{"$f":" VLOOKUP(A399, architecture!D$2:E$73, 2, FALSE)","v":{"$error":"#N/A"}},{"$f":"VLOOKUP(A399, 'PF14702'!B399:C3079, 2, FALSE)","v":1523},{"$f":"VLOOKUP($A399, taxonomy!$B$2:$T$695, 6, FALSE)","v":"Eukaryota"},{"$f":"VLOOKUP($A399, taxonomy!$B$2:$T$695, 7, FALSE)","v":" Fungi"},{"$f":"VLOOKUP($A399, taxonomy!$B$2:$T$695, 8, FALSE)","v":" Dikarya"},{"$f":"VLOOKUP($A399, taxonomy!$B$2:$T$695, 9, FALSE)","v":" Ascomycota"},{"$f":"VLOOKUP($A399, taxonomy!$B$2:$T$695, 10, FALSE)","v":" Pezizomycotina"},{"$f":"VLOOKUP($A399, taxonomy!$B$2:$T$695, 11, FALSE)","v":" Eurotiomycetes"},{"$f":"VLOOKUP($A399, taxonomy!$B$2:$T$695, 12, FALSE)","v":"Eurotiomycetidae"},{"$f":"VLOOKUP($A399, taxonomy!$B$2:$T$695, 13, FALSE)","v":" Eurotiales"},{"$f":"VLOOKUP($A399, taxonomy!$B$2:$T$695, 14, FALSE)","v":" Trichocomaceae"},{"$f":"VLOOKUP($A399, taxonomy!$B$2:$T$695, 15, FALSE)","v":" Talaromyces."},{"$f":"VLOOKUP($A399, taxonomy!$B$2:$T$695, 16, FALSE)","v":0},{"$f":"VLOOKUP($A399, taxonomy!$B$2:$T$695, 17, FALSE)","v":0}]
["B7QG62",{"$f":" VLOOKUP(A400, architecture!D$2:E$73, 2, FALSE)","v":1},{"$f":"VLOOKUP(A400, 'PF14702'!B400:C3080, 2, FALSE)","v":1123},{"$f":"VLOOKUP($A400, taxonomy!$B$2:$T$695, 6, FALSE)","v":"Eukaryota"},{"$f":"VLOOKUP($A400, taxonomy!$B$2:$T$695, 7, FALSE)","v":" Metazoa"},{"$f":"VLOOKUP($A400, taxonomy!$B$2:$T$695, 8, FALSE)","v":" Ecdysozoa"},{"$f":"VLOOKUP($A400, taxonomy!$B$2:$T$695, 9, FALSE)","v":" Arthropoda"},{"$f":"VLOOKUP($A400, taxonomy!$B$2:$T$695, 10, FALSE)","v":" Chelicerata"},{"$f":"VLOOKUP($A400, taxonomy!$B$2:$T$695, 11, FALSE)","v":" Arachnida"},{"$f":"VLOOKUP($A400, taxonomy!$B$2:$T$695, 12, FALSE)","v":"Acari"},{"$f":"VLOOKUP($A400, taxonomy!$B$2:$T$695, 13, FALSE)","v":" Parasitiformes"},{"$f":"VLOOKUP($A400, taxonomy!$B$2:$T$695, 14, FALSE)","v":" Ixodida"},{"$f":"VLOOKUP($A400, taxonomy!$B$2:$T$695, 15, FALSE)","v":" Ixodoidea"},{"$f":"VLOOKUP($A400, taxonomy!$B$2:$T$695, 16, FALSE)","v":" Ixodidae"},{"$f":"VLOOKUP($A400, taxonomy!$B$2:$T$695, 17, FALSE)","v":" Ixodinae"}]
["B8MB42",{"$f":" VLOOKUP(A401, architecture!D$2:E$73, 2, FALSE)","v":{"$error":"#N/A"}},{"$f":"VLOOKUP(A401, 'PF14702'!B401:C3081, 2, FALSE)","v":1524},{"$f":"VLOOKUP($A401, taxonomy!$B$2:$T$695, 6, FALSE)","v":"Eukaryota"},{"$f":"VLOOKUP($A401, taxonomy!$B$2:$T$695, 7, FALSE)","v":" Fungi"},{"$f":"VLOOKUP($A401, taxonomy!$B$2:$T$695, 8, FALSE)","v":" Dikarya"},{"$f":"VLOOKUP($A401, taxonomy!$B$2:$T$695, 9, FALSE)","v":" Ascomycota"},{"$f":"VLOOKUP($A401, taxonomy!$B$2:$T$695, 10, FALSE)","v":" Pezizomycotina"},{"$f":"VLOOKUP($A401, taxonomy!$B$2:$T$695, 11, FALSE)","v":" Eurotiomycetes"},{"$f":"VLOOKUP($A401, taxonomy!$B$2:$T$695, 12, FALSE)","v":"Eurotiomycetidae"},{"$f":"VLOOKUP($A401, taxonomy!$B$2:$T$695, 13, FALSE)","v":" Eurotiales"},{"$f":"VLOOKUP($A401, taxonomy!$B$2:$T$695, 14, FALSE)","v":" Trichocomaceae"},{"$f":"VLOOKUP($A401, taxonomy!$B$2:$T$695, 15, FALSE)","v":" Talaromyces."},{"$f":"VLOOKUP($A401, taxonomy!$B$2:$T$695, 16, FALSE)","v":0},{"$f":"VLOOKUP($A401, taxonomy!$B$2:$T$695, 17, FALSE)","v":0}]
["B8MYJ6",{"$f":" VLOOKUP(A402, architecture!D$2:E$73, 2, FALSE)","v":{"$error":"#N/A"}},{"$f":"VLOOKUP(A402, 'PF14702'!B402:C3082, 2, FALSE)","v":1537},{"$f":"VLOOKUP($A402, taxonomy!$B$2:$T$695, 6, FALSE)","v":"Eukaryota"},{"$f":"VLOOKUP($A402, taxonomy!$B$2:$T$695, 7, FALSE)","v":" Fungi"},{"$f":"VLOOKUP($A402, taxonomy!$B$2:$T$695, 8, FALSE)","v":" Dikarya"},{"$f":"VLOOKUP($A402, taxonomy!$B$2:$T$695, 9, FALSE)","v":" Ascomycota"},{"$f":"VLOOKUP($A402, taxonomy!$B$2:$T$695, 10, FALSE)","v":" Pezizomycotina"},{"$f":"VLOOKUP($A402, taxonomy!$B$2:$T$695, 11, FALSE)","v":" Eurotiomycetes"},{"$f":"VLOOKUP($A402, taxonomy!$B$2:$T$695, 12, FALSE)","v":"Eurotiomycetidae"},{"$f":"VLOOKUP($A402, taxonomy!$B$2:$T$695, 13, FALSE)","v":" Eurotiales"},{"$f":"VLOOKUP($A402, taxonomy!$B$2:$T$695, 14, FALSE)","v":" Aspergillaceae"},{"$f":"VLOOKUP($A402, taxonomy!$B$2:$T$695, 15, FALSE)","v":" Aspergillus."},{"$f":"VLOOKUP($A402, taxonomy!$B$2:$T$695, 16, FALSE)","v":0},{"$f":"VLOOKUP($A402, taxonomy!$B$2:$T$695, 17, FALSE)","v":0}]
["C0NQD3",{"$f":" VLOOKUP(A403, architecture!D$2:E$73, 2, FALSE)","v":{"$error":"#N/A"}},{"$f":"VLOOKUP(A403, 'PF14702'!B403:C3083, 2, FALSE)","v":1572},{"$f":"VLOOKUP($A403, taxonomy!$B$2:$T$695, 6, FALSE)","v":"Eukaryota"},{"$f":"VLOOKUP($A403, taxonomy!$B$2:$T$695, 7, FALSE)","v":" Fungi"},{"$f":"VLOOKUP($A403, taxonomy!$B$2:$T$695, 8, FALSE)","v":" Dikarya"},{"$f":"VLOOKUP($A403, taxonomy!$B$2:$T$695, 9, FALSE)","v":" Ascomycota"},{"$f":"VLOOKUP($A403, taxonomy!$B$2:$T$695, 10, FALSE)","v":" Pezizomycotina"},{"$f":"VLOOKUP($A403, taxonomy!$B$2:$T$695, 11, FALSE)","v":" Eurotiomycetes"},{"$f":"VLOOKUP($A403, taxonomy!$B$2:$T$695, 12, FALSE)","v":"Eurotiomycetidae"},{"$f":"VLOOKUP($A403, taxonomy!$B$2:$T$695, 13, FALSE)","v":" Onygenales"},{"$f":"VLOOKUP($A403, taxonomy!$B$2:$T$695, 14, FALSE)","v":" Ajellomycetaceae"},{"$f":"VLOOKUP($A403, taxonomy!$B$2:$T$695, 15, FALSE)","v":" Histoplasma."},{"$f":"VLOOKUP($A403, taxonomy!$B$2:$T$695, 16, FALSE)","v":0},{"$f":"VLOOKUP($A403, taxonomy!$B$2:$T$695, 17, FALSE)","v":0}]
["C1GL12",{"$f":" VLOOKUP(A404, architecture!D$2:E$73, 2, FALSE)","v":{"$error":"#N/A"}},{"$f":"VLOOKUP(A404, 'PF14702'!B404:C3084, 2, FALSE)","v":1593},{"$f":"VLOOKUP($A404, taxonomy!$B$2:$T$695, 6, FALSE)","v":"Eukaryota"},{"$f":"VLOOKUP($A404, taxonomy!$B$2:$T$695, 7, FALSE)","v":" Fungi"},{"$f":"VLOOKUP($A404, taxonomy!$B$2:$T$695, 8, FALSE)","v":" Dikarya"},{"$f":"VLOOKUP($A404, taxonomy!$B$2:$T$695, 9, FALSE)","v":" Ascomycota"},{"$f":"VLOOKUP($A404, taxonomy!$B$2:$T$695, 10, FALSE)","v":" Pezizomycotina"},{"$f":"VLOOKUP($A404, taxonomy!$B$2:$T$695, 11, FALSE)","v":" Eurotiomycetes"},{"$f":"VLOOKUP($A404, taxonomy!$B$2:$T$695, 12, FALSE)","v":"Eurotiomycetidae"},{"$f":"VLOOKUP($A404, taxonomy!$B$2:$T$695, 13, FALSE)","v":" Onygenales"},{"$f":"VLOOKUP($A404, taxonomy!$B$2:$T$695, 14, FALSE)","v":" Onygenales incertae sedis"},{"$f":"VLOOKUP($A404, taxonomy!$B$2:$T$695, 15, FALSE)","v":"Paracoccidioides."},{"$f":"VLOOKUP($A404, taxonomy!$B$2:$T$695, 16, FALSE)","v":0},{"$f":"VLOOKUP($A404, taxonomy!$B$2:$T$695, 17, FALSE)","v":0}]
["C3YID9",{"$f":" VLOOKUP(A405, architecture!D$2:E$73, 2, FALSE)","v":{"$error":"#N/A"}},{"$f":"VLOOKUP(A405, 'PF14702'!B405:C3085, 2, FALSE)","v":1932},{"$f":"VLOOKUP($A405, taxonomy!$B$2:$T$695, 6, FALSE)","v":"Eukaryota"},{"$f":"VLOOKUP($A405, taxonomy!$B$2:$T$695, 7, FALSE)","v":" Metazoa"},{"$f":"VLOOKUP($A405, taxonomy!$B$2:$T$695, 8, FALSE)","v":" Chordata"},{"$f":"VLOOKUP($A405, taxonomy!$B$2:$T$695, 9, FALSE)","v":" Cephalochordata"},{"$f":"VLOOKUP($A405, taxonomy!$B$2:$T$695, 10, FALSE)","v":" Branchiostomidae"},{"$f":"VLOOKUP($A405, taxonomy!$B$2:$T$695, 11, FALSE)","v":"Branchiostoma."},{"$f":"VLOOKUP($A405, taxonomy!$B$2:$T$695, 12, FALSE)","v":0},{"$f":"VLOOKUP($A405, taxonomy!$B$2:$T$695, 13, FALSE)","v":0},{"$f":"VLOOKUP($A405, taxonomy!$B$2:$T$695, 14, FALSE)","v":0},{"$f":"VLOOKUP($A405, taxonomy!$B$2:$T$695, 15, FALSE)","v":0},{"$f":"VLOOKUP($A405, taxonomy!$B$2:$T$695, 16, FALSE)","v":0},{"$f":"VLOOKUP($A405, taxonomy!$B$2:$T$695, 17, FALSE)","v":0}]
["C4JU91",{"$f":" VLOOKUP(A406, architecture!D$2:E$73, 2, FALSE)","v":{"$error":"#N/A"}},{"$f":"VLOOKUP(A406, 'PF14702'!B406:C3086, 2, FALSE)","v":1458},{"$f":"VLOOKUP($A406, taxonomy!$B$2:$T$695, 6, FALSE)","v":"Eukaryota"},{"$f":"VLOOKUP($A406, taxonomy!$B$2:$T$695, 7, FALSE)","v":" Fungi"},{"$f":"VLOOKUP($A406, taxonomy!$B$2:$T$695, 8, FALSE)","v":" Dikarya"},{"$f":"VLOOKUP($A406, taxonomy!$B$2:$T$695, 9, FALSE)","v":" Ascomycota"},{"$f":"VLOOKUP($A406, taxonomy!$B$2:$T$695, 10, FALSE)","v":" Pezizomycotina"},{"$f":"VLOOKUP($A406, taxonomy!$B$2:$T$695, 11, FALSE)","v":" Eurotiomycetes"},{"$f":"VLOOKUP($A406, taxonomy!$B$2:$T$695, 12, FALSE)","v":"Eurotiomycetidae"},{"$f":"VLOOKUP($A406, taxonomy!$B$2:$T$695, 13, FALSE)","v":" Onygenales"},{"$f":"VLOOKUP($A406, taxonomy!$B$2:$T$695, 14, FALSE)","v":" Onygenaceae"},{"$f":"VLOOKUP($A406, taxonomy!$B$2:$T$695, 15, FALSE)","v":" Uncinocarpus."},{"$f":"VLOOKUP($A406, taxonomy!$B$2:$T$695, 16, FALSE)","v":0},{"$f":"VLOOKUP($A406, taxonomy!$B$2:$T$695, 17, FALSE)","v":0}]
["C4LXB9",{"$f":" VLOOKUP(A407, architecture!D$2:E$73, 2, FALSE)","v":1},{"$f":"VLOOKUP(A407, 'PF14702'!B407:C3087, 2, FALSE)","v":1428},{"$f":"VLOOKUP($A407, taxonomy!$B$2:$T$695, 6, FALSE)","v":"Eukaryota"},{"$f":"VLOOKUP($A407, taxonomy!$B$2:$T$695, 7, FALSE)","v":" Amoebozoa"},{"$f":"VLOOKUP($A407, taxonomy!$B$2:$T$695, 8, FALSE)","v":" Archamoebae"},{"$f":"VLOOKUP($A407, taxonomy!$B$2:$T$695, 9, FALSE)","v":" Entamoebidae"},{"$f":"VLOOKUP($A407, taxonomy!$B$2:$T$695, 10, FALSE)","v":" Entamoeba."},{"$f":"VLOOKUP($A407, taxonomy!$B$2:$T$695, 11, FALSE)","v":0},{"$f":"VLOOKUP($A407, taxonomy!$B$2:$T$695, 12, FALSE)","v":0},{"$f":"VLOOKUP($A407, taxonomy!$B$2:$T$695, 13, FALSE)","v":0},{"$f":"VLOOKUP($A407, taxonomy!$B$2:$T$695, 14, FALSE)","v":0},{"$f":"VLOOKUP($A407, taxonomy!$B$2:$T$695, 15, FALSE)","v":0},{"$f":"VLOOKUP($A407, taxonomy!$B$2:$T$695, 16, FALSE)","v":0},{"$f":"VLOOKUP($A407, taxonomy!$B$2:$T$695, 17, FALSE)","v":0}]
["C4R1U8",{"$f":" VLOOKUP(A408, architecture!D$2:E$73, 2, FALSE)","v":{"$error":"#N/A"}},{"$f":"VLOOKUP(A408, 'PF14702'!B408:C3088, 2, FALSE)","v":1525},{"$f":"VLOOKUP($A408, taxonomy!$B$2:$T$695, 6, FALSE)","v":"Eukaryota"},{"$f":"VLOOKUP($A408, taxonomy!$B$2:$T$695, 7, FALSE)","v":" Fungi"},{"$f":"VLOOKUP($A408, taxonomy!$B$2:$T$695, 8, FALSE)","v":" Dikarya"},{"$f":"VLOOKUP($A408, taxonomy!$B$2:$T$695, 9, FALSE)","v":" Ascomycota"},{"$f":"VLOOKUP($A408, taxonomy!$B$2:$T$695, 10, FALSE)","v":" Saccharomycotina"},{"$f":"VLOOKUP($A408, taxonomy!$B$2:$T$695, 11, FALSE)","v":"Saccharomycetes"},{"$f":"VLOOKUP($A408, taxonomy!$B$2:$T$695, 12, FALSE)","v":" Saccharomycetales"},{"$f":"VLOOKUP($A408, taxonomy!$B$2:$T$695, 13, FALSE)","v":" Phaffomycetaceae"},{"$f":"VLOOKUP($A408, taxonomy!$B$2:$T$695, 14, FALSE)","v":" Komagataella."},{"$f":"VLOOKUP($A408, taxonomy!$B$2:$T$695, 15, FALSE)","v":0},{"$f":"VLOOKUP($A408, taxonomy!$B$2:$T$695, 16, FALSE)","v":0},{"$f":"VLOOKUP($A408, taxonomy!$B$2:$T$695, 17, FALSE)","v":0}]
["C4Y8I7",{"$f":" VLOOKUP(A409, architecture!D$2:E$73, 2, FALSE)","v":{"$error":"#N/A"}},{"$f":"VLOOKUP(A409, 'PF14702'!B409:C3089, 2, FALSE)","v":1228},{"$f":"VLOOKUP($A409, taxonomy!$B$2:$T$695, 6, FALSE)","v":"Eukaryota"},{"$f":"VLOOKUP($A409, taxonomy!$B$2:$T$695, 7, FALSE)","v":" Fungi"},{"$f":"VLOOKUP($A409, taxonomy!$B$2:$T$695, 8, FALSE)","v":" Dikarya"},{"$f":"VLOOKUP($A409, taxonomy!$B$2:$T$695, 9, FALSE)","v":" Ascomycota"},{"$f":"VLOOKUP($A409, taxonomy!$B$2:$T$695, 10, FALSE)","v":" Saccharomycotina"},{"$f":"VLOOKUP($A409, taxonomy!$B$2:$T$695, 11, FALSE)","v":"Saccharomycetes"},{"$f":"VLOOKUP($A409, taxonomy!$B$2:$T$695, 12, FALSE)","v":" Saccharomycetales"},{"$f":"VLOOKUP($A409, taxonomy!$B$2:$T$695, 13, FALSE)","v":" Metschnikowiaceae"},{"$f":"VLOOKUP($A409, taxonomy!$B$2:$T$695, 14, FALSE)","v":" Clavispora."},{"$f":"VLOOKUP($A409, taxonomy!$B$2:$T$695, 15, FALSE)","v":0},{"$f":"VLOOKUP($A409, taxonomy!$B$2:$T$695, 16, FALSE)","v":0},{"$f":"VLOOKUP($A409, taxonomy!$B$2:$T$695, 17, FALSE)","v":0}]
["C5DB95",{"$f":" VLOOKUP(A410, architecture!D$2:E$73, 2, FALSE)","v":{"$error":"#N/A"}},{"$f":"VLOOKUP(A410, 'PF14702'!B410:C3090, 2, FALSE)","v":1512},{"$f":"VLOOKUP($A410, taxonomy!$B$2:$T$695, 6, FALSE)","v":"Eukaryota"},{"$f":"VLOOKUP($A410, taxonomy!$B$2:$T$695, 7, FALSE)","v":" Fungi"},{"$f":"VLOOKUP($A410, taxonomy!$B$2:$T$695, 8, FALSE)","v":" Dikarya"},{"$f":"VLOOKUP($A410, taxonomy!$B$2:$T$695, 9, FALSE)","v":" Ascomycota"},{"$f":"VLOOKUP($A410, taxonomy!$B$2:$T$695, 10, FALSE)","v":" Saccharomycotina"},{"$f":"VLOOKUP($A410, taxonomy!$B$2:$T$695, 11, FALSE)","v":"Saccharomycetes"},{"$f":"VLOOKUP($A410, taxonomy!$B$2:$T$695, 12, FALSE)","v":" Saccharomycetales"},{"$f":"VLOOKUP($A410, taxonomy!$B$2:$T$695, 13, FALSE)","v":" Saccharomycetaceae"},{"$f":"VLOOKUP($A410, taxonomy!$B$2:$T$695, 14, FALSE)","v":" Lachancea."},{"$f":"VLOOKUP($A410, taxonomy!$B$2:$T$695, 15, FALSE)","v":0},{"$f":"VLOOKUP($A410, taxonomy!$B$2:$T$695, 16, FALSE)","v":0},{"$f":"VLOOKUP($A410, taxonomy!$B$2:$T$695, 17, FALSE)","v":0}]
["C5DUS3",{"$f":" VLOOKUP(A411, architecture!D$2:E$73, 2, FALSE)","v":{"$error":"#N/A"}},{"$f":"VLOOKUP(A411, 'PF14702'!B411:C3091, 2, FALSE)","v":1524},{"$f":"VLOOKUP($A411, taxonomy!$B$2:$T$695, 6, FALSE)","v":"Eukaryota"},{"$f":"VLOOKUP($A411, taxonomy!$B$2:$T$695, 7, FALSE)","v":" Fungi"},{"$f":"VLOOKUP($A411, taxonomy!$B$2:$T$695, 8, FALSE)","v":" Dikarya"},{"$f":"VLOOKUP($A411, taxonomy!$B$2:$T$695, 9, FALSE)","v":" Ascomycota"},{"$f":"VLOOKUP($A411, taxonomy!$B$2:$T$695, 10, FALSE)","v":" Saccharomycotina"},{"$f":"VLOOKUP($A411, taxonomy!$B$2:$T$695, 11, FALSE)","v":"Saccharomycetes"},{"$f":"VLOOKUP($A411, taxonomy!$B$2:$T$695, 12, FALSE)","v":" Saccharomycetales"},{"$f":"VLOOKUP($A411, taxonomy!$B$2:$T$695, 13, FALSE)","v":" Saccharomycetaceae"},{"$f":"VLOOKUP($A411, taxonomy!$B$2:$T$695, 14, FALSE)","v":"Zygosaccharomyces."},{"$f":"VLOOKUP($A411, taxonomy!$B$2:$T$695, 15, FALSE)","v":0},{"$f":"VLOOKUP($A411, taxonomy!$B$2:$T$695, 16, FALSE)","v":0},{"$f":"VLOOKUP($A411, taxonomy!$B$2:$T$695, 17, FALSE)","v":0}]
["C5FS32",{"$f":" VLOOKUP(A412, architecture!D$2:E$73, 2, FALSE)","v":{"$error":"#N/A"}},{"$f":"VLOOKUP(A412, 'PF14702'!B412:C3092, 2, FALSE)","v":1525},{"$f":"VLOOKUP($A412, taxonomy!$B$2:$T$695, 6, FALSE)","v":"Eukaryota"},{"$f":"VLOOKUP($A412, taxonomy!$B$2:$T$695, 7, FALSE)","v":" Fungi"},{"$f":"VLOOKUP($A412, taxonomy!$B$2:$T$695, 8, FALSE)","v":" Dikarya"},{"$f":"VLOOKUP($A412, taxonomy!$B$2:$T$695, 9, FALSE)","v":" Ascomycota"},{"$f":"VLOOKUP($A412, taxonomy!$B$2:$T$695, 10, FALSE)","v":" Pezizomycotina"},{"$f":"VLOOKUP($A412, taxonomy!$B$2:$T$695, 11, FALSE)","v":" Eurotiomycetes"},{"$f":"VLOOKUP($A412, taxonomy!$B$2:$T$695, 12, FALSE)","v":"Eurotiomycetidae"},{"$f":"VLOOKUP($A412, taxonomy!$B$2:$T$695, 13, FALSE)","v":" Onygenales"},{"$f":"VLOOKUP($A412, taxonomy!$B$2:$T$695, 14, FALSE)","v":" Arthrodermataceae"},{"$f":"VLOOKUP($A412, taxonomy!$B$2:$T$695, 15, FALSE)","v":" Microsporum."},{"$f":"VLOOKUP($A412, taxonomy!$B$2:$T$695, 16, FALSE)","v":0},{"$f":"VLOOKUP($A412, taxonomy!$B$2:$T$695, 17, FALSE)","v":0}]
["C5GTI6",{"$f":" VLOOKUP(A413, architecture!D$2:E$73, 2, FALSE)","v":{"$error":"#N/A"}},{"$f":"VLOOKUP(A413, 'PF14702'!B413:C3093, 2, FALSE)","v":1578},{"$f":"VLOOKUP($A413, taxonomy!$B$2:$T$695, 6, FALSE)","v":"Eukaryota"},{"$f":"VLOOKUP($A413, taxonomy!$B$2:$T$695, 7, FALSE)","v":" Fungi"},{"$f":"VLOOKUP($A413, taxonomy!$B$2:$T$695, 8, FALSE)","v":" Dikarya"},{"$f":"VLOOKUP($A413, taxonomy!$B$2:$T$695, 9, FALSE)","v":" Ascomycota"},{"$f":"VLOOKUP($A413, taxonomy!$B$2:$T$695, 10, FALSE)","v":" Pezizomycotina"},{"$f":"VLOOKUP($A413, taxonomy!$B$2:$T$695, 11, FALSE)","v":" Eurotiomycetes"},{"$f":"VLOOKUP($A413, taxonomy!$B$2:$T$695, 12, FALSE)","v":"Eurotiomycetidae"},{"$f":"VLOOKUP($A413, taxonomy!$B$2:$T$695, 13, FALSE)","v":" Onygenales"},{"$f":"VLOOKUP($A413, taxonomy!$B$2:$T$695, 14, FALSE)","v":" Ajellomycetaceae"},{"$f":"VLOOKUP($A413, taxonomy!$B$2:$T$695, 15, FALSE)","v":" Blastomyces."},{"$f":"VLOOKUP($A413, taxonomy!$B$2:$T$695, 16, FALSE)","v":0},{"$f":"VLOOKUP($A413, taxonomy!$B$2:$T$695, 17, FALSE)","v":0}]
["C5MCK0",{"$f":" VLOOKUP(A414, architecture!D$2:E$73, 2, FALSE)","v":{"$error":"#N/A"}},{"$f":"VLOOKUP(A414, 'PF14702'!B414:C3094, 2, FALSE)","v":1522},{"$f":"VLOOKUP($A414, taxonomy!$B$2:$T$695, 6, FALSE)","v":"Eukaryota"},{"$f":"VLOOKUP($A414, taxonomy!$B$2:$T$695, 7, FALSE)","v":" Fungi"},{"$f":"VLOOKUP($A414, taxonomy!$B$2:$T$695, 8, FALSE)","v":" Dikarya"},{"$f":"VLOOKUP($A414, taxonomy!$B$2:$T$695, 9, FALSE)","v":" Ascomycota"},{"$f":"VLOOKUP($A414, taxonomy!$B$2:$T$695, 10, FALSE)","v":" Saccharomycotina"},{"$f":"VLOOKUP($A414, taxonomy!$B$2:$T$695, 11, FALSE)","v":"Saccharomycetes"},{"$f":"VLOOKUP($A414, taxonomy!$B$2:$T$695, 12, FALSE)","v":" Saccharomycetales"},{"$f":"VLOOKUP($A414, taxonomy!$B$2:$T$695, 13, FALSE)","v":" Debaryomycetaceae"},{"$f":"VLOOKUP($A414, taxonomy!$B$2:$T$695, 14, FALSE)","v":"Candida/Lodderomyces clade"},{"$f":"VLOOKUP($A414, taxonomy!$B$2:$T$695, 15, FALSE)","v":" Candida."},{"$f":"VLOOKUP($A414, taxonomy!$B$2:$T$695, 16, FALSE)","v":0},{"$f":"VLOOKUP($A414, taxonomy!$B$2:$T$695, 17, FALSE)","v":0}]
["C6HS62",{"$f":" VLOOKUP(A415, architecture!D$2:E$73, 2, FALSE)","v":{"$error":"#N/A"}},{"$f":"VLOOKUP(A415, 'PF14702'!B415:C3095, 2, FALSE)","v":1457},{"$f":"VLOOKUP($A415, taxonomy!$B$2:$T$695, 6, FALSE)","v":"Eukaryota"},{"$f":"VLOOKUP($A415, taxonomy!$B$2:$T$695, 7, FALSE)","v":" Fungi"},{"$f":"VLOOKUP($A415, taxonomy!$B$2:$T$695, 8, FALSE)","v":" Dikarya"},{"$f":"VLOOKUP($A415, taxonomy!$B$2:$T$695, 9, FALSE)","v":" Ascomycota"},{"$f":"VLOOKUP($A415, taxonomy!$B$2:$T$695, 10, FALSE)","v":" Pezizomycotina"},{"$f":"VLOOKUP($A415, taxonomy!$B$2:$T$695, 11, FALSE)","v":" Eurotiomycetes"},{"$f":"VLOOKUP($A415, taxonomy!$B$2:$T$695, 12, FALSE)","v":"Eurotiomycetidae"},{"$f":"VLOOKUP($A415, taxonomy!$B$2:$T$695, 13, FALSE)","v":" Onygenales"},{"$f":"VLOOKUP($A415, taxonomy!$B$2:$T$695, 14, FALSE)","v":" Ajellomycetaceae"},{"$f":"VLOOKUP($A415, taxonomy!$B$2:$T$695, 15, FALSE)","v":" Histoplasma."},{"$f":"VLOOKUP($A415, taxonomy!$B$2:$T$695, 16, FALSE)","v":0},{"$f":"VLOOKUP($A415, taxonomy!$B$2:$T$695, 17, FALSE)","v":0}]
["C7Z6K9",{"$f":" VLOOKUP(A416, architecture!D$2:E$73, 2, FALSE)","v":{"$error":"#N/A"}},{"$f":"VLOOKUP(A416, 'PF14702'!B416:C3096, 2, FALSE)","v":1554},{"$f":"VLOOKUP($A416, taxonomy!$B$2:$T$695, 6, FALSE)","v":"Eukaryota"},{"$f":"VLOOKUP($A416, taxonomy!$B$2:$T$695, 7, FALSE)","v":" Fungi"},{"$f":"VLOOKUP($A416, taxonomy!$B$2:$T$695, 8, FALSE)","v":" Dikarya"},{"$f":"VLOOKUP($A416, taxonomy!$B$2:$T$695, 9, FALSE)","v":" Ascomycota"},{"$f":"VLOOKUP($A416, taxonomy!$B$2:$T$695, 10, FALSE)","v":" Pezizomycotina"},{"$f":"VLOOKUP($A416, taxonomy!$B$2:$T$695, 11, FALSE)","v":"Sordariomycetes"},{"$f":"VLOOKUP($A416, taxonomy!$B$2:$T$695, 12, FALSE)","v":" Hypocreomycetidae"},{"$f":"VLOOKUP($A416, taxonomy!$B$2:$T$695, 13, FALSE)","v":" Hypocreales"},{"$f":"VLOOKUP($A416, taxonomy!$B$2:$T$695, 14, FALSE)","v":" Nectriaceae"},{"$f":"VLOOKUP($A416, taxonomy!$B$2:$T$695, 15, FALSE)","v":"Fusarium"},{"$f":"VLOOKUP($A416, taxonomy!$B$2:$T$695, 16, FALSE)","v":" Fusarium solani species complex."},{"$f":"VLOOKUP($A416, taxonomy!$B$2:$T$695, 17, FALSE)","v":0}]
["C8VTT8",{"$f":" VLOOKUP(A417, architecture!D$2:E$73, 2, FALSE)","v":{"$error":"#N/A"}},{"$f":"VLOOKUP(A417, 'PF14702'!B417:C3097, 2, FALSE)","v":1537},{"$f":"VLOOKUP($A417, taxonomy!$B$2:$T$695, 6, FALSE)","v":"Eukaryota"},{"$f":"VLOOKUP($A417, taxonomy!$B$2:$T$695, 7, FALSE)","v":" Fungi"},{"$f":"VLOOKUP($A417, taxonomy!$B$2:$T$695, 8, FALSE)","v":" Dikarya"},{"$f":"VLOOKUP($A417, taxonomy!$B$2:$T$695, 9, FALSE)","v":" Ascomycota"},{"$f":"VLOOKUP($A417, taxonomy!$B$2:$T$695, 10, FALSE)","v":" Pezizomycotina"},{"$f":"VLOOKUP($A417, taxonomy!$B$2:$T$695, 11, FALSE)","v":" Eurotiomycetes"},{"$f":"VLOOKUP($A417, taxonomy!$B$2:$T$695, 12, FALSE)","v":"Eurotiomycetidae"},{"$f":"VLOOKUP($A417, taxonomy!$B$2:$T$695, 13, FALSE)","v":" Eurotiales"},{"$f":"VLOOKUP($A417, taxonomy!$B$2:$T$695, 14, FALSE)","v":" Aspergillaceae"},{"$f":"VLOOKUP($A417, taxonomy!$B$2:$T$695, 15, FALSE)","v":" Aspergillus."},{"$f":"VLOOKUP($A417, taxonomy!$B$2:$T$695, 16, FALSE)","v":0},{"$f":"VLOOKUP($A417, taxonomy!$B$2:$T$695, 17, FALSE)","v":0}]
["C9SJ23",{"$f":" VLOOKUP(A418, architecture!D$2:E$73, 2, FALSE)","v":{"$error":"#N/A"}},{"$f":"VLOOKUP(A418, 'PF14702'!B418:C3098, 2, FALSE)","v":733},{"$f":"VLOOKUP($A418, taxonomy!$B$2:$T$695, 6, FALSE)","v":"Eukaryota"},{"$f":"VLOOKUP($A418, taxonomy!$B$2:$T$695, 7, FALSE)","v":" Fungi"},{"$f":"VLOOKUP($A418, taxonomy!$B$2:$T$695, 8, FALSE)","v":" Dikarya"},{"$f":"VLOOKUP($A418, taxonomy!$B$2:$T$695, 9, FALSE)","v":" Ascomycota"},{"$f":"VLOOKUP($A418, taxonomy!$B$2:$T$695, 10, FALSE)","v":" Pezizomycotina"},{"$f":"VLOOKUP($A418, taxonomy!$B$2:$T$695, 11, FALSE)","v":"Sordariomycetes"},{"$f":"VLOOKUP($A418, taxonomy!$B$2:$T$695, 12, FALSE)","v":" Hypocreomycetidae"},{"$f":"VLOOKUP($A418, taxonomy!$B$2:$T$695, 13, FALSE)","v":" Glomerellales"},{"$f":"VLOOKUP($A418, taxonomy!$B$2:$T$695, 14, FALSE)","v":"Plectosphaerellaceae"},{"$f":"VLOOKUP($A418, taxonomy!$B$2:$T$695, 15, FALSE)","v":" Verticillium."},{"$f":"VLOOKUP($A418, taxonomy!$B$2:$T$695, 16, FALSE)","v":0},{"$f":"VLOOKUP($A418, taxonomy!$B$2:$T$695, 17, FALSE)","v":0}]
["D3AZS3",{"$f":" VLOOKUP(A419, architecture!D$2:E$73, 2, FALSE)","v":{"$error":"#N/A"}},{"$f":"VLOOKUP(A419, 'PF14702'!B419:C3099, 2, FALSE)","v":1473},{"$f":"VLOOKUP($A419, taxonomy!$B$2:$T$695, 6, FALSE)","v":"Eukaryota"},{"$f":"VLOOKUP($A419, taxonomy!$B$2:$T$695, 7, FALSE)","v":" Amoebozoa"},{"$f":"VLOOKUP($A419, taxonomy!$B$2:$T$695, 8, FALSE)","v":" Mycetozoa"},{"$f":"VLOOKUP($A419, taxonomy!$B$2:$T$695, 9, FALSE)","v":" Dictyostelids"},{"$f":"VLOOKUP($A419, taxonomy!$B$2:$T$695, 10, FALSE)","v":" Acytosteliales"},{"$f":"VLOOKUP($A419, taxonomy!$B$2:$T$695, 11, FALSE)","v":"Acytosteliaceae"},{"$f":"VLOOKUP($A419, taxonomy!$B$2:$T$695, 12, FALSE)","v":" Heterostelium."},{"$f":"VLOOKUP($A419, taxonomy!$B$2:$T$695, 13, FALSE)","v":0},{"$f":"VLOOKUP($A419, taxonomy!$B$2:$T$695, 14, FALSE)","v":0},{"$f":"VLOOKUP($A419, taxonomy!$B$2:$T$695, 15, FALSE)","v":0},{"$f":"VLOOKUP($A419, taxonomy!$B$2:$T$695, 16, FALSE)","v":0},{"$f":"VLOOKUP($A419, taxonomy!$B$2:$T$695, 17, FALSE)","v":0}]
["D4AEH9",{"$f":" VLOOKUP(A420, architecture!D$2:E$73, 2, FALSE)","v":{"$error":"#N/A"}},{"$f":"VLOOKUP(A420, 'PF14702'!B420:C3100, 2, FALSE)","v":1532},{"$f":"VLOOKUP($A420, taxonomy!$B$2:$T$695, 6, FALSE)","v":"Eukaryota"},{"$f":"VLOOKUP($A420, taxonomy!$B$2:$T$695, 7, FALSE)","v":" Metazoa"},{"$f":"VLOOKUP($A420, taxonomy!$B$2:$T$695, 8, FALSE)","v":" Chordata"},{"$f":"VLOOKUP($A420, taxonomy!$B$2:$T$695, 9, FALSE)","v":" Craniata"},{"$f":"VLOOKUP($A420, taxonomy!$B$2:$T$695, 10, FALSE)","v":" Vertebrata"},{"$f":"VLOOKUP($A420, taxonomy!$B$2:$T$695, 11, FALSE)","v":" Euteleostomi"},{"$f":"VLOOKUP($A420, taxonomy!$B$2:$T$695, 12, FALSE)","v":"Mammalia"},{"$f":"VLOOKUP($A420, taxonomy!$B$2:$T$695, 13, FALSE)","v":" Eutheria"},{"$f":"VLOOKUP($A420, taxonomy!$B$2:$T$695, 14, FALSE)","v":" Euarchontoglires"},{"$f":"VLOOKUP($A420, taxonomy!$B$2:$T$695, 15, FALSE)","v":" Glires"},{"$f":"VLOOKUP($A420, taxonomy!$B$2:$T$695, 16, FALSE)","v":" Rodentia"},{"$f":"VLOOKUP($A420, taxonomy!$B$2:$T$695, 17, FALSE)","v":" Myomorpha"}]
["D4ASG4",{"$f":" VLOOKUP(A421, architecture!D$2:E$73, 2, FALSE)","v":{"$error":"#N/A"}},{"$f":"VLOOKUP(A421, 'PF14702'!B421:C3101, 2, FALSE)","v":1506},{"$f":"VLOOKUP($A421, taxonomy!$B$2:$T$695, 6, FALSE)","v":"Eukaryota"},{"$f":"VLOOKUP($A421, taxonomy!$B$2:$T$695, 7, FALSE)","v":" Fungi"},{"$f":"VLOOKUP($A421, taxonomy!$B$2:$T$695, 8, FALSE)","v":" Dikarya"},{"$f":"VLOOKUP($A421, taxonomy!$B$2:$T$695, 9, FALSE)","v":" Ascomycota"},{"$f":"VLOOKUP($A421, taxonomy!$B$2:$T$695, 10, FALSE)","v":" Pezizomycotina"},{"$f":"VLOOKUP($A421, taxonomy!$B$2:$T$695, 11, FALSE)","v":" Eurotiomycetes"},{"$f":"VLOOKUP($A421, taxonomy!$B$2:$T$695, 12, FALSE)","v":"Eurotiomycetidae"},{"$f":"VLOOKUP($A421, taxonomy!$B$2:$T$695, 13, FALSE)","v":" Onygenales"},{"$f":"VLOOKUP($A421, taxonomy!$B$2:$T$695, 14, FALSE)","v":" Arthrodermataceae"},{"$f":"VLOOKUP($A421, taxonomy!$B$2:$T$695, 15, FALSE)","v":" Trichophyton."},{"$f":"VLOOKUP($A421, taxonomy!$B$2:$T$695, 16, FALSE)","v":0},{"$f":"VLOOKUP($A421, taxonomy!$B$2:$T$695, 17, FALSE)","v":0}]
["D5G4I5",{"$f":" VLOOKUP(A422, architecture!D$2:E$73, 2, FALSE)","v":{"$error":"#N/A"}},{"$f":"VLOOKUP(A422, 'PF14702'!B422:C3102, 2, FALSE)","v":1473},{"$f":"VLOOKUP($A422, taxonomy!$B$2:$T$695, 6, FALSE)","v":"Eukaryota"},{"$f":"VLOOKUP($A422, taxonomy!$B$2:$T$695, 7, FALSE)","v":" Fungi"},{"$f":"VLOOKUP($A422, taxonomy!$B$2:$T$695, 8, FALSE)","v":" Dikarya"},{"$f":"VLOOKUP($A422, taxonomy!$B$2:$T$695, 9, FALSE)","v":" Ascomycota"},{"$f":"VLOOKUP($A422, taxonomy!$B$2:$T$695, 10, FALSE)","v":" Pezizomycotina"},{"$f":"VLOOKUP($A422, taxonomy!$B$2:$T$695, 11, FALSE)","v":" Pezizomycetes"},{"$f":"VLOOKUP($A422, taxonomy!$B$2:$T$695, 12, FALSE)","v":"Pezizales"},{"$f":"VLOOKUP($A422, taxonomy!$B$2:$T$695, 13, FALSE)","v":" Tuberaceae"},{"$f":"VLOOKUP($A422, taxonomy!$B$2:$T$695, 14, FALSE)","v":" Tuber."},{"$f":"VLOOKUP($A422, taxonomy!$B$2:$T$695, 15, FALSE)","v":0},{"$f":"VLOOKUP($A422, taxonomy!$B$2:$T$695, 16, FALSE)","v":0},{"$f":"VLOOKUP($A422, taxonomy!$B$2:$T$695, 17, FALSE)","v":0}]
["D8LWI1",{"$f":" VLOOKUP(A423, architecture!D$2:E$73, 2, FALSE)","v":{"$error":"#N/A"}},{"$f":"VLOOKUP(A423, 'PF14702'!B423:C3103, 2, FALSE)","v":1088},{"$f":"VLOOKUP($A423, taxonomy!$B$2:$T$695, 6, FALSE)","v":"Eukaryota"},{"$f":"VLOOKUP($A423, taxonomy!$B$2:$T$695, 7, FALSE)","v":" Stramenopiles"},{"$f":"VLOOKUP($A423, taxonomy!$B$2:$T$695, 8, FALSE)","v":" Blastocystis."},{"$f":"VLOOKUP($A423, taxonomy!$B$2:$T$695, 9, FALSE)","v":0},{"$f":"VLOOKUP($A423, taxonomy!$B$2:$T$695, 10, FALSE)","v":0},{"$f":"VLOOKUP($A423, taxonomy!$B$2:$T$695, 11, FALSE)","v":0},{"$f":"VLOOKUP($A423, taxonomy!$B$2:$T$695, 12, FALSE)","v":0},{"$f":"VLOOKUP($A423, taxonomy!$B$2:$T$695, 13, FALSE)","v":0},{"$f":"VLOOKUP($A423, taxonomy!$B$2:$T$695, 14, FALSE)","v":0},{"$f":"VLOOKUP($A423, taxonomy!$B$2:$T$695, 15, FALSE)","v":0},{"$f":"VLOOKUP($A423, taxonomy!$B$2:$T$695, 16, FALSE)","v":0},{"$f":"VLOOKUP($A423, taxonomy!$B$2:$T$695, 17, FALSE)","v":0}]
["D8Q378",{"$f":" VLOOKUP(A424, architecture!D$2:E$73, 2, FALSE)","v":{"$error":"#N/A"}},{"$f":"VLOOKUP(A424, 'PF14702'!B424:C3104, 2, FALSE)","v":1596},{"$f":"VLOOKUP($A424, taxonomy!$B$2:$T$695, 6, FALSE)","v":"Eukaryota"},{"$f":"VLOOKUP($A424, taxonomy!$B$2:$T$695, 7, FALSE)","v":" Fungi"},{"$f":"VLOOKUP($A424, taxonomy!$B$2:$T$695, 8, FALSE)","v":" Dikarya"},{"$f":"VLOOKUP($A424, taxonomy!$B$2:$T$695, 9, FALSE)","v":" Basidiomycota"},{"$f":"VLOOKUP($A424, taxonomy!$B$2:$T$695, 10, FALSE)","v":" Agaricomycotina"},{"$f":"VLOOKUP($A424, taxonomy!$B$2:$T$695, 11, FALSE)","v":"Agaricomycetes"},{"$f":"VLOOKUP($A424, taxonomy!$B$2:$T$695, 12, FALSE)","v":" Agaricomycetidae"},{"$f":"VLOOKUP($A424, taxonomy!$B$2:$T$695, 13, FALSE)","v":" Agaricales"},{"$f":"VLOOKUP($A424, taxonomy!$B$2:$T$695, 14, FALSE)","v":" Schizophyllaceae"},{"$f":"VLOOKUP($A424, taxonomy!$B$2:$T$695, 15, FALSE)","v":"Schizophyllum."},{"$f":"VLOOKUP($A424, taxonomy!$B$2:$T$695, 16, FALSE)","v":0},{"$f":"VLOOKUP($A424, taxonomy!$B$2:$T$695, 17, FALSE)","v":0}]
["E0VNL2",{"$f":" VLOOKUP(A425, architecture!D$2:E$73, 2, FALSE)","v":{"$error":"#N/A"}},{"$f":"VLOOKUP(A425, 'PF14702'!B425:C3105, 2, FALSE)","v":1543},{"$f":"VLOOKUP($A425, taxonomy!$B$2:$T$695, 6, FALSE)","v":"Eukaryota"},{"$f":"VLOOKUP($A425, taxonomy!$B$2:$T$695, 7, FALSE)","v":" Metazoa"},{"$f":"VLOOKUP($A425, taxonomy!$B$2:$T$695, 8, FALSE)","v":" Ecdysozoa"},{"$f":"VLOOKUP($A425, taxonomy!$B$2:$T$695, 9, FALSE)","v":" Arthropoda"},{"$f":"VLOOKUP($A425, taxonomy!$B$2:$T$695, 10, FALSE)","v":" Hexapoda"},{"$f":"VLOOKUP($A425, taxonomy!$B$2:$T$695, 11, FALSE)","v":" Insecta"},{"$f":"VLOOKUP($A425, taxonomy!$B$2:$T$695, 12, FALSE)","v":"Pterygota"},{"$f":"VLOOKUP($A425, taxonomy!$B$2:$T$695, 13, FALSE)","v":" Neoptera"},{"$f":"VLOOKUP($A425, taxonomy!$B$2:$T$695, 14, FALSE)","v":" Paraneoptera"},{"$f":"VLOOKUP($A425, taxonomy!$B$2:$T$695, 15, FALSE)","v":" Psocodea"},{"$f":"VLOOKUP($A425, taxonomy!$B$2:$T$695, 16, FALSE)","v":" Phthiraptera"},{"$f":"VLOOKUP($A425, taxonomy!$B$2:$T$695, 17, FALSE)","v":" Anoplura"}]
["E1G3C1",{"$f":" VLOOKUP(A426, architecture!D$2:E$73, 2, FALSE)","v":1},{"$f":"VLOOKUP(A426, 'PF14702'!B426:C3106, 2, FALSE)","v":1147},{"$f":"VLOOKUP($A426, taxonomy!$B$2:$T$695, 6, FALSE)","v":{"$error":"#N/A"}},{"$f":"VLOOKUP($A426, taxonomy!$B$2:$T$695, 7, FALSE)","v":{"$error":"#N/A"}},{"$f":"VLOOKUP($A426, taxonomy!$B$2:$T$695, 8, FALSE)","v":{"$error":"#N/A"}},{"$f":"VLOOKUP($A426, taxonomy!$B$2:$T$695, 9, FALSE)","v":{"$error":"#N/A"}},{"$f":"VLOOKUP($A426, taxonomy!$B$2:$T$695, 10, FALSE)","v":{"$error":"#N/A"}},{"$f":"VLOOKUP($A426, taxonomy!$B$2:$T$695, 11, FALSE)","v":{"$error":"#N/A"}},{"$f":"VLOOKUP($A426, taxonomy!$B$2:$T$695, 12, FALSE)","v":{"$error":"#N/A"}},{"$f":"VLOOKUP($A426, taxonomy!$B$2:$T$695, 13, FALSE)","v":{"$error":"#N/A"}},{"$f":"VLOOKUP($A426, taxonomy!$B$2:$T$695, 14, FALSE)","v":{"$error":"#N/A"}},{"$f":"VLOOKUP($A426, taxonomy!$B$2:$T$695, 15, FALSE)","v":{"$error":"#N/A"}},{"$f":"VLOOKUP($A426, taxonomy!$B$2:$T$695, 16, FALSE)","v":{"$error":"#N/A"}},{"$f":"VLOOKUP($A426, taxonomy!$B$2:$T$695, 17, FALSE)","v":{"$error":"#N/A"}}]
["E1JGQ5",{"$f":" VLOOKUP(A427, architecture!D$2:E$73, 2, FALSE)","v":{"$error":"#N/A"}},{"$f":"VLOOKUP(A427, 'PF14702'!B427:C3107, 2, FALSE)","v":1563},{"$f":"VLOOKUP($A427, taxonomy!$B$2:$T$695, 6, FALSE)","v":"Eukaryota"},{"$f":"VLOOKUP($A427, taxonomy!$B$2:$T$695, 7, FALSE)","v":" Metazoa"},{"$f":"VLOOKUP($A427, taxonomy!$B$2:$T$695, 8, FALSE)","v":" Ecdysozoa"},{"$f":"VLOOKUP($A427, taxonomy!$B$2:$T$695, 9, FALSE)","v":" Arthropoda"},{"$f":"VLOOKUP($A427, taxonomy!$B$2:$T$695, 10, FALSE)","v":" Hexapoda"},{"$f":"VLOOKUP($A427, taxonomy!$B$2:$T$695, 11, FALSE)","v":" Insecta"},{"$f":"VLOOKUP($A427, taxonomy!$B$2:$T$695, 12, FALSE)","v":"Pterygota"},{"$f":"VLOOKUP($A427, taxonomy!$B$2:$T$695, 13, FALSE)","v":" Neoptera"},{"$f":"VLOOKUP($A427, taxonomy!$B$2:$T$695, 14, FALSE)","v":" Holometabola"},{"$f":"VLOOKUP($A427, taxonomy!$B$2:$T$695, 15, FALSE)","v":" Diptera"},{"$f":"VLOOKUP($A427, taxonomy!$B$2:$T$695, 16, FALSE)","v":" Brachycera"},{"$f":"VLOOKUP($A427, taxonomy!$B$2:$T$695, 17, FALSE)","v":" Muscomorpha"}]
["E2A7S3",{"$f":" VLOOKUP(A428, architecture!D$2:E$73, 2, FALSE)","v":{"$error":"#N/A"}},{"$f":"VLOOKUP(A428, 'PF14702'!B428:C3108, 2, FALSE)","v":1498},{"$f":"VLOOKUP($A428, taxonomy!$B$2:$T$695, 6, FALSE)","v":"Eukaryota"},{"$f":"VLOOKUP($A428, taxonomy!$B$2:$T$695, 7, FALSE)","v":" Metazoa"},{"$f":"VLOOKUP($A428, taxonomy!$B$2:$T$695, 8, FALSE)","v":" Ecdysozoa"},{"$f":"VLOOKUP($A428, taxonomy!$B$2:$T$695, 9, FALSE)","v":" Arthropoda"},{"$f":"VLOOKUP($A428, taxonomy!$B$2:$T$695, 10, FALSE)","v":" Hexapoda"},{"$f":"VLOOKUP($A428, taxonomy!$B$2:$T$695, 11, FALSE)","v":" Insecta"},{"$f":"VLOOKUP($A428, taxonomy!$B$2:$T$695, 12, FALSE)","v":"Pterygota"},{"$f":"VLOOKUP($A428, taxonomy!$B$2:$T$695, 13, FALSE)","v":" Neoptera"},{"$f":"VLOOKUP($A428, taxonomy!$B$2:$T$695, 14, FALSE)","v":" Holometabola"},{"$f":"VLOOKUP($A428, taxonomy!$B$2:$T$695, 15, FALSE)","v":" Hymenoptera"},{"$f":"VLOOKUP($A428, taxonomy!$B$2:$T$695, 16, FALSE)","v":" Apocrita"},{"$f":"VLOOKUP($A428, taxonomy!$B$2:$T$695, 17, FALSE)","v":" Aculeata"}]
["E2BPT9",{"$f":" VLOOKUP(A429, architecture!D$2:E$73, 2, FALSE)","v":{"$error":"#N/A"}},{"$f":"VLOOKUP(A429, 'PF14702'!B429:C3109, 2, FALSE)","v":2005},{"$f":"VLOOKUP($A429, taxonomy!$B$2:$T$695, 6, FALSE)","v":"Eukaryota"},{"$f":"VLOOKUP($A429, taxonomy!$B$2:$T$695, 7, FALSE)","v":" Metazoa"},{"$f":"VLOOKUP($A429, taxonomy!$B$2:$T$695, 8, FALSE)","v":" Ecdysozoa"},{"$f":"VLOOKUP($A429, taxonomy!$B$2:$T$695, 9, FALSE)","v":" Arthropoda"},{"$f":"VLOOKUP($A429, taxonomy!$B$2:$T$695, 10, FALSE)","v":" Hexapoda"},{"$f":"VLOOKUP($A429, taxonomy!$B$2:$T$695, 11, FALSE)","v":" Insecta"},{"$f":"VLOOKUP($A429, taxonomy!$B$2:$T$695, 12, FALSE)","v":"Pterygota"},{"$f":"VLOOKUP($A429, taxonomy!$B$2:$T$695, 13, FALSE)","v":" Neoptera"},{"$f":"VLOOKUP($A429, taxonomy!$B$2:$T$695, 14, FALSE)","v":" Holometabola"},{"$f":"VLOOKUP($A429, taxonomy!$B$2:$T$695, 15, FALSE)","v":" Hymenoptera"},{"$f":"VLOOKUP($A429, taxonomy!$B$2:$T$695, 16, FALSE)","v":" Apocrita"},{"$f":"VLOOKUP($A429, taxonomy!$B$2:$T$695, 17, FALSE)","v":" Aculeata"}]
["E2L5Q4",{"$f":" VLOOKUP(A430, architecture!D$2:E$73, 2, FALSE)","v":2},{"$f":"VLOOKUP(A430, 'PF14702'!B430:C3110, 2, FALSE)","v":138},{"$f":"VLOOKUP($A430, taxonomy!$B$2:$T$695, 6, FALSE)","v":"Eukaryota"},{"$f":"VLOOKUP($A430, taxonomy!$B$2:$T$695, 7, FALSE)","v":" Fungi"},{"$f":"VLOOKUP($A430, taxonomy!$B$2:$T$695, 8, FALSE)","v":" Dikarya"},{"$f":"VLOOKUP($A430, taxonomy!$B$2:$T$695, 9, FALSE)","v":" Basidiomycota"},{"$f":"VLOOKUP($A430, taxonomy!$B$2:$T$695, 10, FALSE)","v":" Agaricomycotina"},{"$f":"VLOOKUP($A430, taxonomy!$B$2:$T$695, 11, FALSE)","v":"Agaricomycetes"},{"$f":"VLOOKUP($A430, taxonomy!$B$2:$T$695, 12, FALSE)","v":" Agaricomycetidae"},{"$f":"VLOOKUP($A430, taxonomy!$B$2:$T$695, 13, FALSE)","v":" Agaricales"},{"$f":"VLOOKUP($A430, taxonomy!$B$2:$T$695, 14, FALSE)","v":" Marasmiaceae"},{"$f":"VLOOKUP($A430, taxonomy!$B$2:$T$695, 15, FALSE)","v":"Moniliophthora."},{"$f":"VLOOKUP($A430, taxonomy!$B$2:$T$695, 16, FALSE)","v":0},{"$f":"VLOOKUP($A430, taxonomy!$B$2:$T$695, 17, FALSE)","v":0}]
["E3KWY4",{"$f":" VLOOKUP(A431, architecture!D$2:E$73, 2, FALSE)","v":{"$error":"#N/A"}},{"$f":"VLOOKUP(A431, 'PF14702'!B431:C3111, 2, FALSE)","v":1608},{"$f":"VLOOKUP($A431, taxonomy!$B$2:$T$695, 6, FALSE)","v":"Eukaryota"},{"$f":"VLOOKUP($A431, taxonomy!$B$2:$T$695, 7, FALSE)","v":" Fungi"},{"$f":"VLOOKUP($A431, taxonomy!$B$2:$T$695, 8, FALSE)","v":" Dikarya"},{"$f":"VLOOKUP($A431, taxonomy!$B$2:$T$695, 9, FALSE)","v":" Basidiomycota"},{"$f":"VLOOKUP($A431, taxonomy!$B$2:$T$695, 10, FALSE)","v":" Pucciniomycotina"},{"$f":"VLOOKUP($A431, taxonomy!$B$2:$T$695, 11, FALSE)","v":"Pucciniomycetes"},{"$f":"VLOOKUP($A431, taxonomy!$B$2:$T$695, 12, FALSE)","v":" Pucciniales"},{"$f":"VLOOKUP($A431, taxonomy!$B$2:$T$695, 13, FALSE)","v":" Pucciniaceae"},{"$f":"VLOOKUP($A431, taxonomy!$B$2:$T$695, 14, FALSE)","v":" Puccinia."},{"$f":"VLOOKUP($A431, taxonomy!$B$2:$T$695, 15, FALSE)","v":0},{"$f":"VLOOKUP($A431, taxonomy!$B$2:$T$695, 16, FALSE)","v":0},{"$f":"VLOOKUP($A431, taxonomy!$B$2:$T$695, 17, FALSE)","v":0}]
["E3MHZ4",{"$f":" VLOOKUP(A432, architecture!D$2:E$73, 2, FALSE)","v":{"$error":"#N/A"}},{"$f":"VLOOKUP(A432, 'PF14702'!B432:C3112, 2, FALSE)","v":1472},{"$f":"VLOOKUP($A432, taxonomy!$B$2:$T$695, 6, FALSE)","v":"Eukaryota"},{"$f":"VLOOKUP($A432, taxonomy!$B$2:$T$695, 7, FALSE)","v":" Metazoa"},{"$f":"VLOOKUP($A432, taxonomy!$B$2:$T$695, 8, FALSE)","v":" Ecdysozoa"},{"$f":"VLOOKUP($A432, taxonomy!$B$2:$T$695, 9, FALSE)","v":" Nematoda"},{"$f":"VLOOKUP($A432, taxonomy!$B$2:$T$695, 10, FALSE)","v":" Chromadorea"},{"$f":"VLOOKUP($A432, taxonomy!$B$2:$T$695, 11, FALSE)","v":" Rhabditida"},{"$f":"VLOOKUP($A432, taxonomy!$B$2:$T$695, 12, FALSE)","v":"Rhabditoidea"},{"$f":"VLOOKUP($A432, taxonomy!$B$2:$T$695, 13, FALSE)","v":" Rhabditidae"},{"$f":"VLOOKUP($A432, taxonomy!$B$2:$T$695, 14, FALSE)","v":" Peloderinae"},{"$f":"VLOOKUP($A432, taxonomy!$B$2:$T$695, 15, FALSE)","v":" Caenorhabditis."},{"$f":"VLOOKUP($A432, taxonomy!$B$2:$T$695, 16, FALSE)","v":0},{"$f":"VLOOKUP($A432, taxonomy!$B$2:$T$695, 17, FALSE)","v":0}]
["E3QZQ7",{"$f":" VLOOKUP(A433, architecture!D$2:E$73, 2, FALSE)","v":{"$error":"#N/A"}},{"$f":"VLOOKUP(A433, 'PF14702'!B433:C3113, 2, FALSE)","v":1573},{"$f":"VLOOKUP($A433, taxonomy!$B$2:$T$695, 6, FALSE)","v":"Eukaryota"},{"$f":"VLOOKUP($A433, taxonomy!$B$2:$T$695, 7, FALSE)","v":" Fungi"},{"$f":"VLOOKUP($A433, taxonomy!$B$2:$T$695, 8, FALSE)","v":" Dikarya"},{"$f":"VLOOKUP($A433, taxonomy!$B$2:$T$695, 9, FALSE)","v":" Ascomycota"},{"$f":"VLOOKUP($A433, taxonomy!$B$2:$T$695, 10, FALSE)","v":" Pezizomycotina"},{"$f":"VLOOKUP($A433, taxonomy!$B$2:$T$695, 11, FALSE)","v":"Sordariomycetes"},{"$f":"VLOOKUP($A433, taxonomy!$B$2:$T$695, 12, FALSE)","v":" Hypocreomycetidae"},{"$f":"VLOOKUP($A433, taxonomy!$B$2:$T$695, 13, FALSE)","v":" Glomerellales"},{"$f":"VLOOKUP($A433, taxonomy!$B$2:$T$695, 14, FALSE)","v":" Glomerellaceae"},{"$f":"VLOOKUP($A433, taxonomy!$B$2:$T$695, 15, FALSE)","v":"Colletotrichum."},{"$f":"VLOOKUP($A433, taxonomy!$B$2:$T$695, 16, FALSE)","v":0},{"$f":"VLOOKUP($A433, taxonomy!$B$2:$T$695, 17, FALSE)","v":0}]
["E3RH37",{"$f":" VLOOKUP(A434, architecture!D$2:E$73, 2, FALSE)","v":{"$error":"#N/A"}},{"$f":"VLOOKUP(A434, 'PF14702'!B434:C3114, 2, FALSE)","v":1569},{"$f":"VLOOKUP($A434, taxonomy!$B$2:$T$695, 6, FALSE)","v":"Eukaryota"},{"$f":"VLOOKUP($A434, taxonomy!$B$2:$T$695, 7, FALSE)","v":" Fungi"},{"$f":"VLOOKUP($A434, taxonomy!$B$2:$T$695, 8, FALSE)","v":" Dikarya"},{"$f":"VLOOKUP($A434, taxonomy!$B$2:$T$695, 9, FALSE)","v":" Ascomycota"},{"$f":"VLOOKUP($A434, taxonomy!$B$2:$T$695, 10, FALSE)","v":" Pezizomycotina"},{"$f":"VLOOKUP($A434, taxonomy!$B$2:$T$695, 11, FALSE)","v":"Dothideomycetes"},{"$f":"VLOOKUP($A434, taxonomy!$B$2:$T$695, 12, FALSE)","v":" Pleosporomycetidae"},{"$f":"VLOOKUP($A434, taxonomy!$B$2:$T$695, 13, FALSE)","v":" Pleosporales"},{"$f":"VLOOKUP($A434, taxonomy!$B$2:$T$695, 14, FALSE)","v":" Pleosporineae"},{"$f":"VLOOKUP($A434, taxonomy!$B$2:$T$695, 15, FALSE)","v":"Pleosporaceae"},{"$f":"VLOOKUP($A434, taxonomy!$B$2:$T$695, 16, FALSE)","v":" Pyrenophora."},{"$f":"VLOOKUP($A434, taxonomy!$B$2:$T$695, 17, FALSE)","v":0}]
["E4UNH6",{"$f":" VLOOKUP(A435, architecture!D$2:E$73, 2, FALSE)","v":{"$error":"#N/A"}},{"$f":"VLOOKUP(A435, 'PF14702'!B435:C3115, 2, FALSE)","v":1523},{"$f":"VLOOKUP($A435, taxonomy!$B$2:$T$695, 6, FALSE)","v":"Eukaryota"},{"$f":"VLOOKUP($A435, taxonomy!$B$2:$T$695, 7, FALSE)","v":" Fungi"},{"$f":"VLOOKUP($A435, taxonomy!$B$2:$T$695, 8, FALSE)","v":" Dikarya"},{"$f":"VLOOKUP($A435, taxonomy!$B$2:$T$695, 9, FALSE)","v":" Ascomycota"},{"$f":"VLOOKUP($A435, taxonomy!$B$2:$T$695, 10, FALSE)","v":" Pezizomycotina"},{"$f":"VLOOKUP($A435, taxonomy!$B$2:$T$695, 11, FALSE)","v":" Eurotiomycetes"},{"$f":"VLOOKUP($A435, taxonomy!$B$2:$T$695, 12, FALSE)","v":"Eurotiomycetidae"},{"$f":"VLOOKUP($A435, taxonomy!$B$2:$T$695, 13, FALSE)","v":" Onygenales"},{"$f":"VLOOKUP($A435, taxonomy!$B$2:$T$695, 14, FALSE)","v":" Arthrodermataceae"},{"$f":"VLOOKUP($A435, taxonomy!$B$2:$T$695, 15, FALSE)","v":" Nannizzia."},{"$f":"VLOOKUP($A435, taxonomy!$B$2:$T$695, 16, FALSE)","v":0},{"$f":"VLOOKUP($A435, taxonomy!$B$2:$T$695, 17, FALSE)","v":0}]
["E4X3A2",{"$f":" VLOOKUP(A436, architecture!D$2:E$73, 2, FALSE)","v":1},{"$f":"VLOOKUP(A436, 'PF14702'!B436:C3116, 2, FALSE)","v":1399},{"$f":"VLOOKUP($A436, taxonomy!$B$2:$T$695, 6, FALSE)","v":"Eukaryota"},{"$f":"VLOOKUP($A436, taxonomy!$B$2:$T$695, 7, FALSE)","v":" Metazoa"},{"$f":"VLOOKUP($A436, taxonomy!$B$2:$T$695, 8, FALSE)","v":" Chordata"},{"$f":"VLOOKUP($A436, taxonomy!$B$2:$T$695, 9, FALSE)","v":" Tunicata"},{"$f":"VLOOKUP($A436, taxonomy!$B$2:$T$695, 10, FALSE)","v":" Appendicularia"},{"$f":"VLOOKUP($A436, taxonomy!$B$2:$T$695, 11, FALSE)","v":" Oikopleuridae"},{"$f":"VLOOKUP($A436, taxonomy!$B$2:$T$695, 12, FALSE)","v":"Oikopleura."},{"$f":"VLOOKUP($A436, taxonomy!$B$2:$T$695, 13, FALSE)","v":0},{"$f":"VLOOKUP($A436, taxonomy!$B$2:$T$695, 14, FALSE)","v":0},{"$f":"VLOOKUP($A436, taxonomy!$B$2:$T$695, 15, FALSE)","v":0},{"$f":"VLOOKUP($A436, taxonomy!$B$2:$T$695, 16, FALSE)","v":0},{"$f":"VLOOKUP($A436, taxonomy!$B$2:$T$695, 17, FALSE)","v":0}]
["E4ZG29",{"$f":" VLOOKUP(A437, architecture!D$2:E$73, 2, FALSE)","v":{"$error":"#N/A"}},{"$f":"VLOOKUP(A437, 'PF14702'!B437:C3117, 2, FALSE)","v":1561},{"$f":"VLOOKUP($A437, taxonomy!$B$2:$T$695, 6, FALSE)","v":"Eukaryota"},{"$f":"VLOOKUP($A437, taxonomy!$B$2:$T$695, 7, FALSE)","v":" Fungi"},{"$f":"VLOOKUP($A437, taxonomy!$B$2:$T$695, 8, FALSE)","v":" Dikarya"},{"$f":"VLOOKUP($A437, taxonomy!$B$2:$T$695, 9, FALSE)","v":" Ascomycota"},{"$f":"VLOOKUP($A437, taxonomy!$B$2:$T$695, 10, FALSE)","v":" Pezizomycotina"},{"$f":"VLOOKUP($A437, taxonomy!$B$2:$T$695, 11, FALSE)","v":"Dothideomycetes"},{"$f":"VLOOKUP($A437, taxonomy!$B$2:$T$695, 12, FALSE)","v":" Pleosporomycetidae"},{"$f":"VLOOKUP($A437, taxonomy!$B$2:$T$695, 13, FALSE)","v":" Pleosporales"},{"$f":"VLOOKUP($A437, taxonomy!$B$2:$T$695, 14, FALSE)","v":" Pleosporineae"},{"$f":"VLOOKUP($A437, taxonomy!$B$2:$T$695, 15, FALSE)","v":"Leptosphaeriaceae"},{"$f":"VLOOKUP($A437, taxonomy!$B$2:$T$695, 16, FALSE)","v":" Leptosphaeria"},{"$f":"VLOOKUP($A437, taxonomy!$B$2:$T$695, 17, FALSE)","v":"Leptosphaeria maculans species complex."}]
["E5S846",{"$f":" VLOOKUP(A438, architecture!D$2:E$73, 2, FALSE)","v":{"$error":"#N/A"}},{"$f":"VLOOKUP(A438, 'PF14702'!B438:C3118, 2, FALSE)","v":1638},{"$f":"VLOOKUP($A438, taxonomy!$B$2:$T$695, 6, FALSE)","v":"Eukaryota"},{"$f":"VLOOKUP($A438, taxonomy!$B$2:$T$695, 7, FALSE)","v":" Metazoa"},{"$f":"VLOOKUP($A438, taxonomy!$B$2:$T$695, 8, FALSE)","v":" Ecdysozoa"},{"$f":"VLOOKUP($A438, taxonomy!$B$2:$T$695, 9, FALSE)","v":" Nematoda"},{"$f":"VLOOKUP($A438, taxonomy!$B$2:$T$695, 10, FALSE)","v":" Enoplea"},{"$f":"VLOOKUP($A438, taxonomy!$B$2:$T$695, 11, FALSE)","v":" Dorylaimia"},{"$f":"VLOOKUP($A438, taxonomy!$B$2:$T$695, 12, FALSE)","v":"Trichinellida"},{"$f":"VLOOKUP($A438, taxonomy!$B$2:$T$695, 13, FALSE)","v":" Trichinellidae"},{"$f":"VLOOKUP($A438, taxonomy!$B$2:$T$695, 14, FALSE)","v":" Trichinella."},{"$f":"VLOOKUP($A438, taxonomy!$B$2:$T$695, 15, FALSE)","v":0},{"$f":"VLOOKUP($A438, taxonomy!$B$2:$T$695, 16, FALSE)","v":0},{"$f":"VLOOKUP($A438, taxonomy!$B$2:$T$695, 17, FALSE)","v":0}]
["E6ZMW0",{"$f":" VLOOKUP(A439, architecture!D$2:E$73, 2, FALSE)","v":{"$error":"#N/A"}},{"$f":"VLOOKUP(A439, 'PF14702'!B439:C3119, 2, FALSE)","v":1571},{"$f":"VLOOKUP($A439, taxonomy!$B$2:$T$695, 6, FALSE)","v":"Eukaryota"},{"$f":"VLOOKUP($A439, taxonomy!$B$2:$T$695, 7, FALSE)","v":" Fungi"},{"$f":"VLOOKUP($A439, taxonomy!$B$2:$T$695, 8, FALSE)","v":" Dikarya"},{"$f":"VLOOKUP($A439, taxonomy!$B$2:$T$695, 9, FALSE)","v":" Basidiomycota"},{"$f":"VLOOKUP($A439, taxonomy!$B$2:$T$695, 10, FALSE)","v":" Ustilaginomycotina"},{"$f":"VLOOKUP($A439, taxonomy!$B$2:$T$695, 11, FALSE)","v":"Ustilaginomycetes"},{"$f":"VLOOKUP($A439, taxonomy!$B$2:$T$695, 12, FALSE)","v":" Ustilaginales"},{"$f":"VLOOKUP($A439, taxonomy!$B$2:$T$695, 13, FALSE)","v":" Ustilaginaceae"},{"$f":"VLOOKUP($A439, taxonomy!$B$2:$T$695, 14, FALSE)","v":" Sporisorium."},{"$f":"VLOOKUP($A439, taxonomy!$B$2:$T$695, 15, FALSE)","v":0},{"$f":"VLOOKUP($A439, taxonomy!$B$2:$T$695, 16, FALSE)","v":0},{"$f":"VLOOKUP($A439, taxonomy!$B$2:$T$695, 17, FALSE)","v":0}]
["E7KJ04",{"$f":" VLOOKUP(A440, architecture!D$2:E$73, 2, FALSE)","v":{"$error":"#N/A"}},{"$f":"VLOOKUP(A440, 'PF14702'!B440:C3120, 2, FALSE)","v":1536},{"$f":"VLOOKUP($A440, taxonomy!$B$2:$T$695, 6, FALSE)","v":"Eukaryota"},{"$f":"VLOOKUP($A440, taxonomy!$B$2:$T$695, 7, FALSE)","v":" Fungi"},{"$f":"VLOOKUP($A440, taxonomy!$B$2:$T$695, 8, FALSE)","v":" Dikarya"},{"$f":"VLOOKUP($A440, taxonomy!$B$2:$T$695, 9, FALSE)","v":" Ascomycota"},{"$f":"VLOOKUP($A440, taxonomy!$B$2:$T$695, 10, FALSE)","v":" Saccharomycotina"},{"$f":"VLOOKUP($A440, taxonomy!$B$2:$T$695, 11, FALSE)","v":"Saccharomycetes"},{"$f":"VLOOKUP($A440, taxonomy!$B$2:$T$695, 12, FALSE)","v":" Saccharomycetales"},{"$f":"VLOOKUP($A440, taxonomy!$B$2:$T$695, 13, FALSE)","v":" Saccharomycetaceae"},{"$f":"VLOOKUP($A440, taxonomy!$B$2:$T$695, 14, FALSE)","v":" Saccharomyces."},{"$f":"VLOOKUP($A440, taxonomy!$B$2:$T$695, 15, FALSE)","v":0},{"$f":"VLOOKUP($A440, taxonomy!$B$2:$T$695, 16, FALSE)","v":0},{"$f":"VLOOKUP($A440, taxonomy!$B$2:$T$695, 17, FALSE)","v":0}]
["E7M1B8",{"$f":" VLOOKUP(A441, architecture!D$2:E$73, 2, FALSE)","v":{"$error":"#N/A"}},{"$f":"VLOOKUP(A441, 'PF14702'!B441:C3121, 2, FALSE)","v":1538},{"$f":"VLOOKUP($A441, taxonomy!$B$2:$T$695, 6, FALSE)","v":"Eukaryota"},{"$f":"VLOOKUP($A441, taxonomy!$B$2:$T$695, 7, FALSE)","v":" Fungi"},{"$f":"VLOOKUP($A441, taxonomy!$B$2:$T$695, 8, FALSE)","v":" Dikarya"},{"$f":"VLOOKUP($A441, taxonomy!$B$2:$T$695, 9, FALSE)","v":" Ascomycota"},{"$f":"VLOOKUP($A441, taxonomy!$B$2:$T$695, 10, FALSE)","v":" Saccharomycotina"},{"$f":"VLOOKUP($A441, taxonomy!$B$2:$T$695, 11, FALSE)","v":"Saccharomycetes"},{"$f":"VLOOKUP($A441, taxonomy!$B$2:$T$695, 12, FALSE)","v":" Saccharomycetales"},{"$f":"VLOOKUP($A441, taxonomy!$B$2:$T$695, 13, FALSE)","v":" Saccharomycetaceae"},{"$f":"VLOOKUP($A441, taxonomy!$B$2:$T$695, 14, FALSE)","v":" Saccharomyces."},{"$f":"VLOOKUP($A441, taxonomy!$B$2:$T$695, 15, FALSE)","v":0},{"$f":"VLOOKUP($A441, taxonomy!$B$2:$T$695, 16, FALSE)","v":0},{"$f":"VLOOKUP($A441, taxonomy!$B$2:$T$695, 17, FALSE)","v":0}]
["E7QAP2",{"$f":" VLOOKUP(A442, architecture!D$2:E$73, 2, FALSE)","v":1},{"$f":"VLOOKUP(A442, 'PF14702'!B442:C3122, 2, FALSE)","v":1407},{"$f":"VLOOKUP($A442, taxonomy!$B$2:$T$695, 6, FALSE)","v":"Eukaryota"},{"$f":"VLOOKUP($A442, taxonomy!$B$2:$T$695, 7, FALSE)","v":" Fungi"},{"$f":"VLOOKUP($A442, taxonomy!$B$2:$T$695, 8, FALSE)","v":" Dikarya"},{"$f":"VLOOKUP($A442, taxonomy!$B$2:$T$695, 9, FALSE)","v":" Ascomycota"},{"$f":"VLOOKUP($A442, taxonomy!$B$2:$T$695, 10, FALSE)","v":" Saccharomycotina"},{"$f":"VLOOKUP($A442, taxonomy!$B$2:$T$695, 11, FALSE)","v":"Saccharomycetes"},{"$f":"VLOOKUP($A442, taxonomy!$B$2:$T$695, 12, FALSE)","v":" Saccharomycetales"},{"$f":"VLOOKUP($A442, taxonomy!$B$2:$T$695, 13, FALSE)","v":" Saccharomycetaceae"},{"$f":"VLOOKUP($A442, taxonomy!$B$2:$T$695, 14, FALSE)","v":" Saccharomyces."},{"$f":"VLOOKUP($A442, taxonomy!$B$2:$T$695, 15, FALSE)","v":0},{"$f":"VLOOKUP($A442, taxonomy!$B$2:$T$695, 16, FALSE)","v":0},{"$f":"VLOOKUP($A442, taxonomy!$B$2:$T$695, 17, FALSE)","v":0}]
["E9DJT7",{"$f":" VLOOKUP(A443, architecture!D$2:E$73, 2, FALSE)","v":{"$error":"#N/A"}},{"$f":"VLOOKUP(A443, 'PF14702'!B443:C3123, 2, FALSE)","v":1472},{"$f":"VLOOKUP($A443, taxonomy!$B$2:$T$695, 6, FALSE)","v":"Eukaryota"},{"$f":"VLOOKUP($A443, taxonomy!$B$2:$T$695, 7, FALSE)","v":" Fungi"},{"$f":"VLOOKUP($A443, taxonomy!$B$2:$T$695, 8, FALSE)","v":" Dikarya"},{"$f":"VLOOKUP($A443, taxonomy!$B$2:$T$695, 9, FALSE)","v":" Ascomycota"},{"$f":"VLOOKUP($A443, taxonomy!$B$2:$T$695, 10, FALSE)","v":" Pezizomycotina"},{"$f":"VLOOKUP($A443, taxonomy!$B$2:$T$695, 11, FALSE)","v":" Eurotiomycetes"},{"$f":"VLOOKUP($A443, taxonomy!$B$2:$T$695, 12, FALSE)","v":"Eurotiomycetidae"},{"$f":"VLOOKUP($A443, taxonomy!$B$2:$T$695, 13, FALSE)","v":" Onygenales"},{"$f":"VLOOKUP($A443, taxonomy!$B$2:$T$695, 14, FALSE)","v":" Onygenales incertae sedis"},{"$f":"VLOOKUP($A443, taxonomy!$B$2:$T$695, 15, FALSE)","v":" Coccidioides."},{"$f":"VLOOKUP($A443, taxonomy!$B$2:$T$695, 16, FALSE)","v":0},{"$f":"VLOOKUP($A443, taxonomy!$B$2:$T$695, 17, FALSE)","v":0}]
["E9E262",{"$f":" VLOOKUP(A444, architecture!D$2:E$73, 2, FALSE)","v":{"$error":"#N/A"}},{"$f":"VLOOKUP(A444, 'PF14702'!B444:C3124, 2, FALSE)","v":1556},{"$f":"VLOOKUP($A444, taxonomy!$B$2:$T$695, 6, FALSE)","v":"Eukaryota"},{"$f":"VLOOKUP($A444, taxonomy!$B$2:$T$695, 7, FALSE)","v":" Fungi"},{"$f":"VLOOKUP($A444, taxonomy!$B$2:$T$695, 8, FALSE)","v":" Dikarya"},{"$f":"VLOOKUP($A444, taxonomy!$B$2:$T$695, 9, FALSE)","v":" Ascomycota"},{"$f":"VLOOKUP($A444, taxonomy!$B$2:$T$695, 10, FALSE)","v":" Pezizomycotina"},{"$f":"VLOOKUP($A444, taxonomy!$B$2:$T$695, 11, FALSE)","v":"Sordariomycetes"},{"$f":"VLOOKUP($A444, taxonomy!$B$2:$T$695, 12, FALSE)","v":" Hypocreomycetidae"},{"$f":"VLOOKUP($A444, taxonomy!$B$2:$T$695, 13, FALSE)","v":" Hypocreales"},{"$f":"VLOOKUP($A444, taxonomy!$B$2:$T$695, 14, FALSE)","v":" Clavicipitaceae"},{"$f":"VLOOKUP($A444, taxonomy!$B$2:$T$695, 15, FALSE)","v":"Metarhizium."},{"$f":"VLOOKUP($A444, taxonomy!$B$2:$T$695, 16, FALSE)","v":0},{"$f":"VLOOKUP($A444, taxonomy!$B$2:$T$695, 17, FALSE)","v":0}]
["E9F3Z7",{"$f":" VLOOKUP(A445, architecture!D$2:E$73, 2, FALSE)","v":{"$error":"#N/A"}},{"$f":"VLOOKUP(A445, 'PF14702'!B445:C3125, 2, FALSE)","v":1555},{"$f":"VLOOKUP($A445, taxonomy!$B$2:$T$695, 6, FALSE)","v":"Eukaryota"},{"$f":"VLOOKUP($A445, taxonomy!$B$2:$T$695, 7, FALSE)","v":" Fungi"},{"$f":"VLOOKUP($A445, taxonomy!$B$2:$T$695, 8, FALSE)","v":" Dikarya"},{"$f":"VLOOKUP($A445, taxonomy!$B$2:$T$695, 9, FALSE)","v":" Ascomycota"},{"$f":"VLOOKUP($A445, taxonomy!$B$2:$T$695, 10, FALSE)","v":" Pezizomycotina"},{"$f":"VLOOKUP($A445, taxonomy!$B$2:$T$695, 11, FALSE)","v":"Sordariomycetes"},{"$f":"VLOOKUP($A445, taxonomy!$B$2:$T$695, 12, FALSE)","v":" Hypocreomycetidae"},{"$f":"VLOOKUP($A445, taxonomy!$B$2:$T$695, 13, FALSE)","v":" Hypocreales"},{"$f":"VLOOKUP($A445, taxonomy!$B$2:$T$695, 14, FALSE)","v":" Clavicipitaceae"},{"$f":"VLOOKUP($A445, taxonomy!$B$2:$T$695, 15, FALSE)","v":"Metarhizium."},{"$f":"VLOOKUP($A445, taxonomy!$B$2:$T$695, 16, FALSE)","v":0},{"$f":"VLOOKUP($A445, taxonomy!$B$2:$T$695, 17, FALSE)","v":0}]
["E9IFN1",{"$f":" VLOOKUP(A446, architecture!D$2:E$73, 2, FALSE)","v":{"$error":"#N/A"}},{"$f":"VLOOKUP(A446, 'PF14702'!B446:C3126, 2, FALSE)","v":688},{"$f":"VLOOKUP($A446, taxonomy!$B$2:$T$695, 6, FALSE)","v":"Eukaryota"},{"$f":"VLOOKUP($A446, taxonomy!$B$2:$T$695, 7, FALSE)","v":" Metazoa"},{"$f":"VLOOKUP($A446, taxonomy!$B$2:$T$695, 8, FALSE)","v":" Ecdysozoa"},{"$f":"VLOOKUP($A446, taxonomy!$B$2:$T$695, 9, FALSE)","v":" Arthropoda"},{"$f":"VLOOKUP($A446, taxonomy!$B$2:$T$695, 10, FALSE)","v":" Hexapoda"},{"$f":"VLOOKUP($A446, taxonomy!$B$2:$T$695, 11, FALSE)","v":" Insecta"},{"$f":"VLOOKUP($A446, taxonomy!$B$2:$T$695, 12, FALSE)","v":"Pterygota"},{"$f":"VLOOKUP($A446, taxonomy!$B$2:$T$695, 13, FALSE)","v":" Neoptera"},{"$f":"VLOOKUP($A446, taxonomy!$B$2:$T$695, 14, FALSE)","v":" Holometabola"},{"$f":"VLOOKUP($A446, taxonomy!$B$2:$T$695, 15, FALSE)","v":" Hymenoptera"},{"$f":"VLOOKUP($A446, taxonomy!$B$2:$T$695, 16, FALSE)","v":" Apocrita"},{"$f":"VLOOKUP($A446, taxonomy!$B$2:$T$695, 17, FALSE)","v":" Aculeata"}]
["F0UTC9",{"$f":" VLOOKUP(A447, architecture!D$2:E$73, 2, FALSE)","v":{"$error":"#N/A"}},{"$f":"VLOOKUP(A447, 'PF14702'!B447:C3127, 2, FALSE)","v":1583},{"$f":"VLOOKUP($A447, taxonomy!$B$2:$T$695, 6, FALSE)","v":"Eukaryota"},{"$f":"VLOOKUP($A447, taxonomy!$B$2:$T$695, 7, FALSE)","v":" Fungi"},{"$f":"VLOOKUP($A447, taxonomy!$B$2:$T$695, 8, FALSE)","v":" Dikarya"},{"$f":"VLOOKUP($A447, taxonomy!$B$2:$T$695, 9, FALSE)","v":" Ascomycota"},{"$f":"VLOOKUP($A447, taxonomy!$B$2:$T$695, 10, FALSE)","v":" Pezizomycotina"},{"$f":"VLOOKUP($A447, taxonomy!$B$2:$T$695, 11, FALSE)","v":" Eurotiomycetes"},{"$f":"VLOOKUP($A447, taxonomy!$B$2:$T$695, 12, FALSE)","v":"Eurotiomycetidae"},{"$f":"VLOOKUP($A447, taxonomy!$B$2:$T$695, 13, FALSE)","v":" Onygenales"},{"$f":"VLOOKUP($A447, taxonomy!$B$2:$T$695, 14, FALSE)","v":" Ajellomycetaceae"},{"$f":"VLOOKUP($A447, taxonomy!$B$2:$T$695, 15, FALSE)","v":" Histoplasma."},{"$f":"VLOOKUP($A447, taxonomy!$B$2:$T$695, 16, FALSE)","v":0},{"$f":"VLOOKUP($A447, taxonomy!$B$2:$T$695, 17, FALSE)","v":0}]
["F0VLQ0",{"$f":" VLOOKUP(A448, architecture!D$2:E$73, 2, FALSE)","v":{"$error":"#N/A"}},{"$f":"VLOOKUP(A448, 'PF14702'!B448:C3128, 2, FALSE)","v":1849},{"$f":"VLOOKUP($A448, taxonomy!$B$2:$T$695, 6, FALSE)","v":"Eukaryota"},{"$f":"VLOOKUP($A448, taxonomy!$B$2:$T$695, 7, FALSE)","v":" Alveolata"},{"$f":"VLOOKUP($A448, taxonomy!$B$2:$T$695, 8, FALSE)","v":" Apicomplexa"},{"$f":"VLOOKUP($A448, taxonomy!$B$2:$T$695, 9, FALSE)","v":" Conoidasida"},{"$f":"VLOOKUP($A448, taxonomy!$B$2:$T$695, 10, FALSE)","v":" Coccidia"},{"$f":"VLOOKUP($A448, taxonomy!$B$2:$T$695, 11, FALSE)","v":"Eucoccidiorida"},{"$f":"VLOOKUP($A448, taxonomy!$B$2:$T$695, 12, FALSE)","v":" Eimeriorina"},{"$f":"VLOOKUP($A448, taxonomy!$B$2:$T$695, 13, FALSE)","v":" Sarcocystidae"},{"$f":"VLOOKUP($A448, taxonomy!$B$2:$T$695, 14, FALSE)","v":" Neospora."},{"$f":"VLOOKUP($A448, taxonomy!$B$2:$T$695, 15, FALSE)","v":0},{"$f":"VLOOKUP($A448, taxonomy!$B$2:$T$695, 16, FALSE)","v":0},{"$f":"VLOOKUP($A448, taxonomy!$B$2:$T$695, 17, FALSE)","v":0}]
["F0XQV3",{"$f":" VLOOKUP(A449, architecture!D$2:E$73, 2, FALSE)","v":{"$error":"#N/A"}},{"$f":"VLOOKUP(A449, 'PF14702'!B449:C3129, 2, FALSE)","v":1563},{"$f":"VLOOKUP($A449, taxonomy!$B$2:$T$695, 6, FALSE)","v":"Eukaryota"},{"$f":"VLOOKUP($A449, taxonomy!$B$2:$T$695, 7, FALSE)","v":" Fungi"},{"$f":"VLOOKUP($A449, taxonomy!$B$2:$T$695, 8, FALSE)","v":" Dikarya"},{"$f":"VLOOKUP($A449, taxonomy!$B$2:$T$695, 9, FALSE)","v":" Ascomycota"},{"$f":"VLOOKUP($A449, taxonomy!$B$2:$T$695, 10, FALSE)","v":" Pezizomycotina"},{"$f":"VLOOKUP($A449, taxonomy!$B$2:$T$695, 11, FALSE)","v":"Sordariomycetes"},{"$f":"VLOOKUP($A449, taxonomy!$B$2:$T$695, 12, FALSE)","v":" Sordariomycetidae"},{"$f":"VLOOKUP($A449, taxonomy!$B$2:$T$695, 13, FALSE)","v":" Ophiostomatales"},{"$f":"VLOOKUP($A449, taxonomy!$B$2:$T$695, 14, FALSE)","v":" Ophiostomataceae"},{"$f":"VLOOKUP($A449, taxonomy!$B$2:$T$695, 15, FALSE)","v":"Grosmannia."},{"$f":"VLOOKUP($A449, taxonomy!$B$2:$T$695, 16, FALSE)","v":0},{"$f":"VLOOKUP($A449, taxonomy!$B$2:$T$695, 17, FALSE)","v":0}]
["F0ZCG6",{"$f":" VLOOKUP(A450, architecture!D$2:E$73, 2, FALSE)","v":{"$error":"#N/A"}},{"$f":"VLOOKUP(A450, 'PF14702'!B450:C3130, 2, FALSE)","v":1567},{"$f":"VLOOKUP($A450, taxonomy!$B$2:$T$695, 6, FALSE)","v":"Eukaryota"},{"$f":"VLOOKUP($A450, taxonomy!$B$2:$T$695, 7, FALSE)","v":" Amoebozoa"},{"$f":"VLOOKUP($A450, taxonomy!$B$2:$T$695, 8, FALSE)","v":" Mycetozoa"},{"$f":"VLOOKUP($A450, taxonomy!$B$2:$T$695, 9, FALSE)","v":" Dictyostelids"},{"$f":"VLOOKUP($A450, taxonomy!$B$2:$T$695, 10, FALSE)","v":" Dictyosteliales"},{"$f":"VLOOKUP($A450, taxonomy!$B$2:$T$695, 11, FALSE)","v":"Dictyosteliaceae"},{"$f":"VLOOKUP($A450, taxonomy!$B$2:$T$695, 12, FALSE)","v":" Dictyostelium."},{"$f":"VLOOKUP($A450, taxonomy!$B$2:$T$695, 13, FALSE)","v":0},{"$f":"VLOOKUP($A450, taxonomy!$B$2:$T$695, 14, FALSE)","v":0},{"$f":"VLOOKUP($A450, taxonomy!$B$2:$T$695, 15, FALSE)","v":0},{"$f":"VLOOKUP($A450, taxonomy!$B$2:$T$695, 16, FALSE)","v":0},{"$f":"VLOOKUP($A450, taxonomy!$B$2:$T$695, 17, FALSE)","v":0}]
["F1MHT1",{"$f":" VLOOKUP(A451, architecture!D$2:E$73, 2, FALSE)","v":{"$error":"#N/A"}},{"$f":"VLOOKUP(A451, 'PF14702'!B451:C3131, 2, FALSE)","v":1532},{"$f":"VLOOKUP($A451, taxonomy!$B$2:$T$695, 6, FALSE)","v":"Eukaryota"},{"$f":"VLOOKUP($A451, taxonomy!$B$2:$T$695, 7, FALSE)","v":" Metazoa"},{"$f":"VLOOKUP($A451, taxonomy!$B$2:$T$695, 8, FALSE)","v":" Chordata"},{"$f":"VLOOKUP($A451, taxonomy!$B$2:$T$695, 9, FALSE)","v":" Craniata"},{"$f":"VLOOKUP($A451, taxonomy!$B$2:$T$695, 10, FALSE)","v":" Vertebrata"},{"$f":"VLOOKUP($A451, taxonomy!$B$2:$T$695, 11, FALSE)","v":" Euteleostomi"},{"$f":"VLOOKUP($A451, taxonomy!$B$2:$T$695, 12, FALSE)","v":"Mammalia"},{"$f":"VLOOKUP($A451, taxonomy!$B$2:$T$695, 13, FALSE)","v":" Eutheria"},{"$f":"VLOOKUP($A451, taxonomy!$B$2:$T$695, 14, FALSE)","v":" Laurasiatheria"},{"$f":"VLOOKUP($A451, taxonomy!$B$2:$T$695, 15, FALSE)","v":" Cetartiodactyla"},{"$f":"VLOOKUP($A451, taxonomy!$B$2:$T$695, 16, FALSE)","v":" Ruminantia"},{"$f":"VLOOKUP($A451, taxonomy!$B$2:$T$695, 17, FALSE)","v":"Pecora"}]
["F1NX83",{"$f":" VLOOKUP(A452, architecture!D$2:E$73, 2, FALSE)","v":{"$error":"#N/A"}},{"$f":"VLOOKUP(A452, 'PF14702'!B452:C3132, 2, FALSE)","v":1530},{"$f":"VLOOKUP($A452, taxonomy!$B$2:$T$695, 6, FALSE)","v":"Eukaryota"},{"$f":"VLOOKUP($A452, taxonomy!$B$2:$T$695, 7, FALSE)","v":" Metazoa"},{"$f":"VLOOKUP($A452, taxonomy!$B$2:$T$695, 8, FALSE)","v":" Chordata"},{"$f":"VLOOKUP($A452, taxonomy!$B$2:$T$695, 9, FALSE)","v":" Craniata"},{"$f":"VLOOKUP($A452, taxonomy!$B$2:$T$695, 10, FALSE)","v":" Vertebrata"},{"$f":"VLOOKUP($A452, taxonomy!$B$2:$T$695, 11, FALSE)","v":" Euteleostomi"},{"$f":"VLOOKUP($A452, taxonomy!$B$2:$T$695, 12, FALSE)","v":"Archelosauria"},{"$f":"VLOOKUP($A452, taxonomy!$B$2:$T$695, 13, FALSE)","v":" Archosauria"},{"$f":"VLOOKUP($A452, taxonomy!$B$2:$T$695, 14, FALSE)","v":" Dinosauria"},{"$f":"VLOOKUP($A452, taxonomy!$B$2:$T$695, 15, FALSE)","v":" Saurischia"},{"$f":"VLOOKUP($A452, taxonomy!$B$2:$T$695, 16, FALSE)","v":" Theropoda"},{"$f":"VLOOKUP($A452, taxonomy!$B$2:$T$695, 17, FALSE)","v":"Coelurosauria"}]
["F1PBL3",{"$f":" VLOOKUP(A453, architecture!D$2:E$73, 2, FALSE)","v":{"$error":"#N/A"}},{"$f":"VLOOKUP(A453, 'PF14702'!B453:C3133, 2, FALSE)","v":1533},{"$f":"VLOOKUP($A453, taxonomy!$B$2:$T$695, 6, FALSE)","v":"Eukaryota"},{"$f":"VLOOKUP($A453, taxonomy!$B$2:$T$695, 7, FALSE)","v":" Metazoa"},{"$f":"VLOOKUP($A453, taxonomy!$B$2:$T$695, 8, FALSE)","v":" Chordata"},{"$f":"VLOOKUP($A453, taxonomy!$B$2:$T$695, 9, FALSE)","v":" Craniata"},{"$f":"VLOOKUP($A453, taxonomy!$B$2:$T$695, 10, FALSE)","v":" Vertebrata"},{"$f":"VLOOKUP($A453, taxonomy!$B$2:$T$695, 11, FALSE)","v":" Euteleostomi"},{"$f":"VLOOKUP($A453, taxonomy!$B$2:$T$695, 12, FALSE)","v":"Mammalia"},{"$f":"VLOOKUP($A453, taxonomy!$B$2:$T$695, 13, FALSE)","v":" Eutheria"},{"$f":"VLOOKUP($A453, taxonomy!$B$2:$T$695, 14, FALSE)","v":" Laurasiatheria"},{"$f":"VLOOKUP($A453, taxonomy!$B$2:$T$695, 15, FALSE)","v":" Carnivora"},{"$f":"VLOOKUP($A453, taxonomy!$B$2:$T$695, 16, FALSE)","v":" Caniformia"},{"$f":"VLOOKUP($A453, taxonomy!$B$2:$T$695, 17, FALSE)","v":" Canidae"}]
["F1S557",{"$f":" VLOOKUP(A454, architecture!D$2:E$73, 2, FALSE)","v":{"$error":"#N/A"}},{"$f":"VLOOKUP(A454, 'PF14702'!B454:C3134, 2, FALSE)","v":1318},{"$f":"VLOOKUP($A454, taxonomy!$B$2:$T$695, 6, FALSE)","v":"Eukaryota"},{"$f":"VLOOKUP($A454, taxonomy!$B$2:$T$695, 7, FALSE)","v":" Metazoa"},{"$f":"VLOOKUP($A454, taxonomy!$B$2:$T$695, 8, FALSE)","v":" Chordata"},{"$f":"VLOOKUP($A454, taxonomy!$B$2:$T$695, 9, FALSE)","v":" Craniata"},{"$f":"VLOOKUP($A454, taxonomy!$B$2:$T$695, 10, FALSE)","v":" Vertebrata"},{"$f":"VLOOKUP($A454, taxonomy!$B$2:$T$695, 11, FALSE)","v":" Euteleostomi"},{"$f":"VLOOKUP($A454, taxonomy!$B$2:$T$695, 12, FALSE)","v":"Mammalia"},{"$f":"VLOOKUP($A454, taxonomy!$B$2:$T$695, 13, FALSE)","v":" Eutheria"},{"$f":"VLOOKUP($A454, taxonomy!$B$2:$T$695, 14, FALSE)","v":" Laurasiatheria"},{"$f":"VLOOKUP($A454, taxonomy!$B$2:$T$695, 15, FALSE)","v":" Cetartiodactyla"},{"$f":"VLOOKUP($A454, taxonomy!$B$2:$T$695, 16, FALSE)","v":" Suina"},{"$f":"VLOOKUP($A454, taxonomy!$B$2:$T$695, 17, FALSE)","v":" Suidae"}]
["F2PHR1",{"$f":" VLOOKUP(A455, architecture!D$2:E$73, 2, FALSE)","v":1},{"$f":"VLOOKUP(A455, 'PF14702'!B455:C3135, 2, FALSE)","v":1115},{"$f":"VLOOKUP($A455, taxonomy!$B$2:$T$695, 6, FALSE)","v":"Eukaryota"},{"$f":"VLOOKUP($A455, taxonomy!$B$2:$T$695, 7, FALSE)","v":" Fungi"},{"$f":"VLOOKUP($A455, taxonomy!$B$2:$T$695, 8, FALSE)","v":" Dikarya"},{"$f":"VLOOKUP($A455, taxonomy!$B$2:$T$695, 9, FALSE)","v":" Ascomycota"},{"$f":"VLOOKUP($A455, taxonomy!$B$2:$T$695, 10, FALSE)","v":" Pezizomycotina"},{"$f":"VLOOKUP($A455, taxonomy!$B$2:$T$695, 11, FALSE)","v":" Eurotiomycetes"},{"$f":"VLOOKUP($A455, taxonomy!$B$2:$T$695, 12, FALSE)","v":"Eurotiomycetidae"},{"$f":"VLOOKUP($A455, taxonomy!$B$2:$T$695, 13, FALSE)","v":" Onygenales"},{"$f":"VLOOKUP($A455, taxonomy!$B$2:$T$695, 14, FALSE)","v":" Arthrodermataceae"},{"$f":"VLOOKUP($A455, taxonomy!$B$2:$T$695, 15, FALSE)","v":" Trichophyton."},{"$f":"VLOOKUP($A455, taxonomy!$B$2:$T$695, 16, FALSE)","v":0},{"$f":"VLOOKUP($A455, taxonomy!$B$2:$T$695, 17, FALSE)","v":0}]
["F2SVW0",{"$f":" VLOOKUP(A456, architecture!D$2:E$73, 2, FALSE)","v":{"$error":"#N/A"}},{"$f":"VLOOKUP(A456, 'PF14702'!B456:C3136, 2, FALSE)","v":1494},{"$f":"VLOOKUP($A456, taxonomy!$B$2:$T$695, 6, FALSE)","v":"Eukaryota"},{"$f":"VLOOKUP($A456, taxonomy!$B$2:$T$695, 7, FALSE)","v":" Fungi"},{"$f":"VLOOKUP($A456, taxonomy!$B$2:$T$695, 8, FALSE)","v":" Dikarya"},{"$f":"VLOOKUP($A456, taxonomy!$B$2:$T$695, 9, FALSE)","v":" Ascomycota"},{"$f":"VLOOKUP($A456, taxonomy!$B$2:$T$695, 10, FALSE)","v":" Pezizomycotina"},{"$f":"VLOOKUP($A456, taxonomy!$B$2:$T$695, 11, FALSE)","v":" Eurotiomycetes"},{"$f":"VLOOKUP($A456, taxonomy!$B$2:$T$695, 12, FALSE)","v":"Eurotiomycetidae"},{"$f":"VLOOKUP($A456, taxonomy!$B$2:$T$695, 13, FALSE)","v":" Onygenales"},{"$f":"VLOOKUP($A456, taxonomy!$B$2:$T$695, 14, FALSE)","v":" Arthrodermataceae"},{"$f":"VLOOKUP($A456, taxonomy!$B$2:$T$695, 15, FALSE)","v":" Trichophyton."},{"$f":"VLOOKUP($A456, taxonomy!$B$2:$T$695, 16, FALSE)","v":0},{"$f":"VLOOKUP($A456, taxonomy!$B$2:$T$695, 17, FALSE)","v":0}]
["F2UQQ0",{"$f":" VLOOKUP(A457, architecture!D$2:E$73, 2, FALSE)","v":{"$error":"#N/A"}},{"$f":"VLOOKUP(A457, 'PF14702'!B457:C3137, 2, FALSE)","v":1194},{"$f":"VLOOKUP($A457, taxonomy!$B$2:$T$695, 6, FALSE)","v":"Eukaryota"},{"$f":"VLOOKUP($A457, taxonomy!$B$2:$T$695, 7, FALSE)","v":" Choanoflagellida"},{"$f":"VLOOKUP($A457, taxonomy!$B$2:$T$695, 8, FALSE)","v":" Craspedida"},{"$f":"VLOOKUP($A457, taxonomy!$B$2:$T$695, 9, FALSE)","v":" Salpingoecidae"},{"$f":"VLOOKUP($A457, taxonomy!$B$2:$T$695, 10, FALSE)","v":" Salpingoeca."},{"$f":"VLOOKUP($A457, taxonomy!$B$2:$T$695, 11, FALSE)","v":0},{"$f":"VLOOKUP($A457, taxonomy!$B$2:$T$695, 12, FALSE)","v":0},{"$f":"VLOOKUP($A457, taxonomy!$B$2:$T$695, 13, FALSE)","v":0},{"$f":"VLOOKUP($A457, taxonomy!$B$2:$T$695, 14, FALSE)","v":0},{"$f":"VLOOKUP($A457, taxonomy!$B$2:$T$695, 15, FALSE)","v":0},{"$f":"VLOOKUP($A457, taxonomy!$B$2:$T$695, 16, FALSE)","v":0},{"$f":"VLOOKUP($A457, taxonomy!$B$2:$T$695, 17, FALSE)","v":0}]
["F4PBL6",{"$f":" VLOOKUP(A458, architecture!D$2:E$73, 2, FALSE)","v":1},{"$f":"VLOOKUP(A458, 'PF14702'!B458:C3138, 2, FALSE)","v":1471},{"$f":"VLOOKUP($A458, taxonomy!$B$2:$T$695, 6, FALSE)","v":"Eukaryota"},{"$f":"VLOOKUP($A458, taxonomy!$B$2:$T$695, 7, FALSE)","v":" Fungi"},{"$f":"VLOOKUP($A458, taxonomy!$B$2:$T$695, 8, FALSE)","v":" Chytridiomycota"},{"$f":"VLOOKUP($A458, taxonomy!$B$2:$T$695, 9, FALSE)","v":" Chytridiomycetes"},{"$f":"VLOOKUP($A458, taxonomy!$B$2:$T$695, 10, FALSE)","v":" Rhizophydiales"},{"$f":"VLOOKUP($A458, taxonomy!$B$2:$T$695, 11, FALSE)","v":"Rhizophydiales incertae sedis"},{"$f":"VLOOKUP($A458, taxonomy!$B$2:$T$695, 12, FALSE)","v":" Batrachochytrium."},{"$f":"VLOOKUP($A458, taxonomy!$B$2:$T$695, 13, FALSE)","v":0},{"$f":"VLOOKUP($A458, taxonomy!$B$2:$T$695, 14, FALSE)","v":0},{"$f":"VLOOKUP($A458, taxonomy!$B$2:$T$695, 15, FALSE)","v":0},{"$f":"VLOOKUP($A458, taxonomy!$B$2:$T$695, 16, FALSE)","v":0},{"$f":"VLOOKUP($A458, taxonomy!$B$2:$T$695, 17, FALSE)","v":0}]
["F4PRV5",{"$f":" VLOOKUP(A459, architecture!D$2:E$73, 2, FALSE)","v":1},{"$f":"VLOOKUP(A459, 'PF14702'!B459:C3139, 2, FALSE)","v":1535},{"$f":"VLOOKUP($A459, taxonomy!$B$2:$T$695, 6, FALSE)","v":"Eukaryota"},{"$f":"VLOOKUP($A459, taxonomy!$B$2:$T$695, 7, FALSE)","v":" Amoebozoa"},{"$f":"VLOOKUP($A459, taxonomy!$B$2:$T$695, 8, FALSE)","v":" Mycetozoa"},{"$f":"VLOOKUP($A459, taxonomy!$B$2:$T$695, 9, FALSE)","v":" Dictyostelids"},{"$f":"VLOOKUP($A459, taxonomy!$B$2:$T$695, 10, FALSE)","v":" Acytosteliales"},{"$f":"VLOOKUP($A459, taxonomy!$B$2:$T$695, 11, FALSE)","v":"Cavenderiaceae"},{"$f":"VLOOKUP($A459, taxonomy!$B$2:$T$695, 12, FALSE)","v":" Cavenderia."},{"$f":"VLOOKUP($A459, taxonomy!$B$2:$T$695, 13, FALSE)","v":0},{"$f":"VLOOKUP($A459, taxonomy!$B$2:$T$695, 14, FALSE)","v":0},{"$f":"VLOOKUP($A459, taxonomy!$B$2:$T$695, 15, FALSE)","v":0},{"$f":"VLOOKUP($A459, taxonomy!$B$2:$T$695, 16, FALSE)","v":0},{"$f":"VLOOKUP($A459, taxonomy!$B$2:$T$695, 17, FALSE)","v":0}]
["F4RSD6",{"$f":" VLOOKUP(A460, architecture!D$2:E$73, 2, FALSE)","v":{"$error":"#N/A"}},{"$f":"VLOOKUP(A460, 'PF14702'!B460:C3140, 2, FALSE)","v":1649},{"$f":"VLOOKUP($A460, taxonomy!$B$2:$T$695, 6, FALSE)","v":"Eukaryota"},{"$f":"VLOOKUP($A460, taxonomy!$B$2:$T$695, 7, FALSE)","v":" Fungi"},{"$f":"VLOOKUP($A460, taxonomy!$B$2:$T$695, 8, FALSE)","v":" Dikarya"},{"$f":"VLOOKUP($A460, taxonomy!$B$2:$T$695, 9, FALSE)","v":" Basidiomycota"},{"$f":"VLOOKUP($A460, taxonomy!$B$2:$T$695, 10, FALSE)","v":" Pucciniomycotina"},{"$f":"VLOOKUP($A460, taxonomy!$B$2:$T$695, 11, FALSE)","v":"Pucciniomycetes"},{"$f":"VLOOKUP($A460, taxonomy!$B$2:$T$695, 12, FALSE)","v":" Pucciniales"},{"$f":"VLOOKUP($A460, taxonomy!$B$2:$T$695, 13, FALSE)","v":" Melampsoraceae"},{"$f":"VLOOKUP($A460, taxonomy!$B$2:$T$695, 14, FALSE)","v":" Melampsora."},{"$f":"VLOOKUP($A460, taxonomy!$B$2:$T$695, 15, FALSE)","v":0},{"$f":"VLOOKUP($A460, taxonomy!$B$2:$T$695, 16, FALSE)","v":0},{"$f":"VLOOKUP($A460, taxonomy!$B$2:$T$695, 17, FALSE)","v":0}]
["F5HMX0",{"$f":" VLOOKUP(A461, architecture!D$2:E$73, 2, FALSE)","v":{"$error":"#N/A"}},{"$f":"VLOOKUP(A461, 'PF14702'!B461:C3141, 2, FALSE)","v":1532},{"$f":"VLOOKUP($A461, taxonomy!$B$2:$T$695, 6, FALSE)","v":"Eukaryota"},{"$f":"VLOOKUP($A461, taxonomy!$B$2:$T$695, 7, FALSE)","v":" Metazoa"},{"$f":"VLOOKUP($A461, taxonomy!$B$2:$T$695, 8, FALSE)","v":" Ecdysozoa"},{"$f":"VLOOKUP($A461, taxonomy!$B$2:$T$695, 9, FALSE)","v":" Arthropoda"},{"$f":"VLOOKUP($A461, taxonomy!$B$2:$T$695, 10, FALSE)","v":" Hexapoda"},{"$f":"VLOOKUP($A461, taxonomy!$B$2:$T$695, 11, FALSE)","v":" Insecta"},{"$f":"VLOOKUP($A461, taxonomy!$B$2:$T$695, 12, FALSE)","v":"Pterygota"},{"$f":"VLOOKUP($A461, taxonomy!$B$2:$T$695, 13, FALSE)","v":" Neoptera"},{"$f":"VLOOKUP($A461, taxonomy!$B$2:$T$695, 14, FALSE)","v":" Holometabola"},{"$f":"VLOOKUP($A461, taxonomy!$B$2:$T$695, 15, FALSE)","v":" Diptera"},{"$f":"VLOOKUP($A461, taxonomy!$B$2:$T$695, 16, FALSE)","v":" Nematocera"},{"$f":"VLOOKUP($A461, taxonomy!$B$2:$T$695, 17, FALSE)","v":" Culicoidea"}]
["F6TE92",{"$f":" VLOOKUP(A462, architecture!D$2:E$73, 2, FALSE)","v":{"$error":"#N/A"}},{"$f":"VLOOKUP(A462, 'PF14702'!B462:C3142, 2, FALSE)","v":1535},{"$f":"VLOOKUP($A462, taxonomy!$B$2:$T$695, 6, FALSE)","v":"Eukaryota"},{"$f":"VLOOKUP($A462, taxonomy!$B$2:$T$695, 7, FALSE)","v":" Metazoa"},{"$f":"VLOOKUP($A462, taxonomy!$B$2:$T$695, 8, FALSE)","v":" Chordata"},{"$f":"VLOOKUP($A462, taxonomy!$B$2:$T$695, 9, FALSE)","v":" Craniata"},{"$f":"VLOOKUP($A462, taxonomy!$B$2:$T$695, 10, FALSE)","v":" Vertebrata"},{"$f":"VLOOKUP($A462, taxonomy!$B$2:$T$695, 11, FALSE)","v":" Euteleostomi"},{"$f":"VLOOKUP($A462, taxonomy!$B$2:$T$695, 12, FALSE)","v":"Mammalia"},{"$f":"VLOOKUP($A462, taxonomy!$B$2:$T$695, 13, FALSE)","v":" Eutheria"},{"$f":"VLOOKUP($A462, taxonomy!$B$2:$T$695, 14, FALSE)","v":" Laurasiatheria"},{"$f":"VLOOKUP($A462, taxonomy!$B$2:$T$695, 15, FALSE)","v":" Perissodactyla"},{"$f":"VLOOKUP($A462, taxonomy!$B$2:$T$695, 16, FALSE)","v":" Equidae"},{"$f":"VLOOKUP($A462, taxonomy!$B$2:$T$695, 17, FALSE)","v":" Equus."}]
["F6UM75",{"$f":" VLOOKUP(A463, architecture!D$2:E$73, 2, FALSE)","v":{"$error":"#N/A"}},{"$f":"VLOOKUP(A463, 'PF14702'!B463:C3143, 2, FALSE)","v":1514},{"$f":"VLOOKUP($A463, taxonomy!$B$2:$T$695, 6, FALSE)","v":"Eukaryota"},{"$f":"VLOOKUP($A463, taxonomy!$B$2:$T$695, 7, FALSE)","v":" Metazoa"},{"$f":"VLOOKUP($A463, taxonomy!$B$2:$T$695, 8, FALSE)","v":" Chordata"},{"$f":"VLOOKUP($A463, taxonomy!$B$2:$T$695, 9, FALSE)","v":" Tunicata"},{"$f":"VLOOKUP($A463, taxonomy!$B$2:$T$695, 10, FALSE)","v":" Ascidiacea"},{"$f":"VLOOKUP($A463, taxonomy!$B$2:$T$695, 11, FALSE)","v":" Enterogona"},{"$f":"VLOOKUP($A463, taxonomy!$B$2:$T$695, 12, FALSE)","v":"Phlebobranchia"},{"$f":"VLOOKUP($A463, taxonomy!$B$2:$T$695, 13, FALSE)","v":" Cionidae"},{"$f":"VLOOKUP($A463, taxonomy!$B$2:$T$695, 14, FALSE)","v":" Ciona."},{"$f":"VLOOKUP($A463, taxonomy!$B$2:$T$695, 15, FALSE)","v":0},{"$f":"VLOOKUP($A463, taxonomy!$B$2:$T$695, 16, FALSE)","v":0},{"$f":"VLOOKUP($A463, taxonomy!$B$2:$T$695, 17, FALSE)","v":0}]
["F6XXE6",{"$f":" VLOOKUP(A464, architecture!D$2:E$73, 2, FALSE)","v":{"$error":"#N/A"}},{"$f":"VLOOKUP(A464, 'PF14702'!B464:C3144, 2, FALSE)","v":830},{"$f":"VLOOKUP($A464, taxonomy!$B$2:$T$695, 6, FALSE)","v":"Eukaryota"},{"$f":"VLOOKUP($A464, taxonomy!$B$2:$T$695, 7, FALSE)","v":" Metazoa"},{"$f":"VLOOKUP($A464, taxonomy!$B$2:$T$695, 8, FALSE)","v":" Chordata"},{"$f":"VLOOKUP($A464, taxonomy!$B$2:$T$695, 9, FALSE)","v":" Craniata"},{"$f":"VLOOKUP($A464, taxonomy!$B$2:$T$695, 10, FALSE)","v":" Vertebrata"},{"$f":"VLOOKUP($A464, taxonomy!$B$2:$T$695, 11, FALSE)","v":" Euteleostomi"},{"$f":"VLOOKUP($A464, taxonomy!$B$2:$T$695, 12, FALSE)","v":"Mammalia"},{"$f":"VLOOKUP($A464, taxonomy!$B$2:$T$695, 13, FALSE)","v":" Eutheria"},{"$f":"VLOOKUP($A464, taxonomy!$B$2:$T$695, 14, FALSE)","v":" Euarchontoglires"},{"$f":"VLOOKUP($A464, taxonomy!$B$2:$T$695, 15, FALSE)","v":" Glires"},{"$f":"VLOOKUP($A464, taxonomy!$B$2:$T$695, 16, FALSE)","v":" Rodentia"},{"$f":"VLOOKUP($A464, taxonomy!$B$2:$T$695, 17, FALSE)","v":" Myomorpha"}]
["F6YVZ9",{"$f":" VLOOKUP(A465, architecture!D$2:E$73, 2, FALSE)","v":1},{"$f":"VLOOKUP(A465, 'PF14702'!B465:C3145, 2, FALSE)","v":1109},{"$f":"VLOOKUP($A465, taxonomy!$B$2:$T$695, 6, FALSE)","v":"Eukaryota"},{"$f":"VLOOKUP($A465, taxonomy!$B$2:$T$695, 7, FALSE)","v":" Metazoa"},{"$f":"VLOOKUP($A465, taxonomy!$B$2:$T$695, 8, FALSE)","v":" Chordata"},{"$f":"VLOOKUP($A465, taxonomy!$B$2:$T$695, 9, FALSE)","v":" Craniata"},{"$f":"VLOOKUP($A465, taxonomy!$B$2:$T$695, 10, FALSE)","v":" Vertebrata"},{"$f":"VLOOKUP($A465, taxonomy!$B$2:$T$695, 11, FALSE)","v":" Euteleostomi"},{"$f":"VLOOKUP($A465, taxonomy!$B$2:$T$695, 12, FALSE)","v":"Mammalia"},{"$f":"VLOOKUP($A465, taxonomy!$B$2:$T$695, 13, FALSE)","v":" Monotremata"},{"$f":"VLOOKUP($A465, taxonomy!$B$2:$T$695, 14, FALSE)","v":" Ornithorhynchidae"},{"$f":"VLOOKUP($A465, taxonomy!$B$2:$T$695, 15, FALSE)","v":" Ornithorhynchus."},{"$f":"VLOOKUP($A465, taxonomy!$B$2:$T$695, 16, FALSE)","v":0},{"$f":"VLOOKUP($A465, taxonomy!$B$2:$T$695, 17, FALSE)","v":0}]
["F7CSZ6",{"$f":" VLOOKUP(A466, architecture!D$2:E$73, 2, FALSE)","v":2},{"$f":"VLOOKUP(A466, 'PF14702'!B466:C3146, 2, FALSE)","v":198},{"$f":"VLOOKUP($A466, taxonomy!$B$2:$T$695, 6, FALSE)","v":"Eukaryota"},{"$f":"VLOOKUP($A466, taxonomy!$B$2:$T$695, 7, FALSE)","v":" Metazoa"},{"$f":"VLOOKUP($A466, taxonomy!$B$2:$T$695, 8, FALSE)","v":" Chordata"},{"$f":"VLOOKUP($A466, taxonomy!$B$2:$T$695, 9, FALSE)","v":" Craniata"},{"$f":"VLOOKUP($A466, taxonomy!$B$2:$T$695, 10, FALSE)","v":" Vertebrata"},{"$f":"VLOOKUP($A466, taxonomy!$B$2:$T$695, 11, FALSE)","v":" Euteleostomi"},{"$f":"VLOOKUP($A466, taxonomy!$B$2:$T$695, 12, FALSE)","v":"Mammalia"},{"$f":"VLOOKUP($A466, taxonomy!$B$2:$T$695, 13, FALSE)","v":" Eutheria"},{"$f":"VLOOKUP($A466, taxonomy!$B$2:$T$695, 14, FALSE)","v":" Euarchontoglires"},{"$f":"VLOOKUP($A466, taxonomy!$B$2:$T$695, 15, FALSE)","v":" Glires"},{"$f":"VLOOKUP($A466, taxonomy!$B$2:$T$695, 16, FALSE)","v":" Rodentia"},{"$f":"VLOOKUP($A466, taxonomy!$B$2:$T$695, 17, FALSE)","v":" Myomorpha"}]
["F7D8W4",{"$f":" VLOOKUP(A467, architecture!D$2:E$73, 2, FALSE)","v":{"$error":"#N/A"}},{"$f":"VLOOKUP(A467, 'PF14702'!B467:C3147, 2, FALSE)","v":1532},{"$f":"VLOOKUP($A467, taxonomy!$B$2:$T$695, 6, FALSE)","v":"Eukaryota"},{"$f":"VLOOKUP($A467, taxonomy!$B$2:$T$695, 7, FALSE)","v":" Metazoa"},{"$f":"VLOOKUP($A467, taxonomy!$B$2:$T$695, 8, FALSE)","v":" Chordata"},{"$f":"VLOOKUP($A467, taxonomy!$B$2:$T$695, 9, FALSE)","v":" Craniata"},{"$f":"VLOOKUP($A467, taxonomy!$B$2:$T$695, 10, FALSE)","v":" Vertebrata"},{"$f":"VLOOKUP($A467, taxonomy!$B$2:$T$695, 11, FALSE)","v":" Euteleostomi"},{"$f":"VLOOKUP($A467, taxonomy!$B$2:$T$695, 12, FALSE)","v":"Amphibia"},{"$f":"VLOOKUP($A467, taxonomy!$B$2:$T$695, 13, FALSE)","v":" Batrachia"},{"$f":"VLOOKUP($A467, taxonomy!$B$2:$T$695, 14, FALSE)","v":" Anura"},{"$f":"VLOOKUP($A467, taxonomy!$B$2:$T$695, 15, FALSE)","v":" Pipoidea"},{"$f":"VLOOKUP($A467, taxonomy!$B$2:$T$695, 16, FALSE)","v":" Pipidae"},{"$f":"VLOOKUP($A467, taxonomy!$B$2:$T$695, 17, FALSE)","v":" Xenopodinae"}]
["F7EAR4",{"$f":" VLOOKUP(A468, architecture!D$2:E$73, 2, FALSE)","v":{"$error":"#N/A"}},{"$f":"VLOOKUP(A468, 'PF14702'!B468:C3148, 2, FALSE)","v":1533},{"$f":"VLOOKUP($A468, taxonomy!$B$2:$T$695, 6, FALSE)","v":"Eukaryota"},{"$f":"VLOOKUP($A468, taxonomy!$B$2:$T$695, 7, FALSE)","v":" Metazoa"},{"$f":"VLOOKUP($A468, taxonomy!$B$2:$T$695, 8, FALSE)","v":" Chordata"},{"$f":"VLOOKUP($A468, taxonomy!$B$2:$T$695, 9, FALSE)","v":" Craniata"},{"$f":"VLOOKUP($A468, taxonomy!$B$2:$T$695, 10, FALSE)","v":" Vertebrata"},{"$f":"VLOOKUP($A468, taxonomy!$B$2:$T$695, 11, FALSE)","v":" Euteleostomi"},{"$f":"VLOOKUP($A468, taxonomy!$B$2:$T$695, 12, FALSE)","v":"Mammalia"},{"$f":"VLOOKUP($A468, taxonomy!$B$2:$T$695, 13, FALSE)","v":" Eutheria"},{"$f":"VLOOKUP($A468, taxonomy!$B$2:$T$695, 14, FALSE)","v":" Euarchontoglires"},{"$f":"VLOOKUP($A468, taxonomy!$B$2:$T$695, 15, FALSE)","v":" Primates"},{"$f":"VLOOKUP($A468, taxonomy!$B$2:$T$695, 16, FALSE)","v":" Haplorrhini"},{"$f":"VLOOKUP($A468, taxonomy!$B$2:$T$695, 17, FALSE)","v":"Catarrhini"}]
["F7EAR8",{"$f":" VLOOKUP(A469, architecture!D$2:E$73, 2, FALSE)","v":{"$error":"#N/A"}},{"$f":"VLOOKUP(A469, 'PF14702'!B469:C3149, 2, FALSE)","v":1532},{"$f":"VLOOKUP($A469, taxonomy!$B$2:$T$695, 6, FALSE)","v":"Eukaryota"},{"$f":"VLOOKUP($A469, taxonomy!$B$2:$T$695, 7, FALSE)","v":" Metazoa"},{"$f":"VLOOKUP($A469, taxonomy!$B$2:$T$695, 8, FALSE)","v":" Chordata"},{"$f":"VLOOKUP($A469, taxonomy!$B$2:$T$695, 9, FALSE)","v":" Craniata"},{"$f":"VLOOKUP($A469, taxonomy!$B$2:$T$695, 10, FALSE)","v":" Vertebrata"},{"$f":"VLOOKUP($A469, taxonomy!$B$2:$T$695, 11, FALSE)","v":" Euteleostomi"},{"$f":"VLOOKUP($A469, taxonomy!$B$2:$T$695, 12, FALSE)","v":"Mammalia"},{"$f":"VLOOKUP($A469, taxonomy!$B$2:$T$695, 13, FALSE)","v":" Eutheria"},{"$f":"VLOOKUP($A469, taxonomy!$B$2:$T$695, 14, FALSE)","v":" Euarchontoglires"},{"$f":"VLOOKUP($A469, taxonomy!$B$2:$T$695, 15, FALSE)","v":" Primates"},{"$f":"VLOOKUP($A469, taxonomy!$B$2:$T$695, 16, FALSE)","v":" Haplorrhini"},{"$f":"VLOOKUP($A469, taxonomy!$B$2:$T$695, 17, FALSE)","v":"Catarrhini"}]
["F7GJD2",{"$f":" VLOOKUP(A470, architecture!D$2:E$73, 2, FALSE)","v":{"$error":"#N/A"}},{"$f":"VLOOKUP(A470, 'PF14702'!B470:C3150, 2, FALSE)","v":1533},{"$f":"VLOOKUP($A470, taxonomy!$B$2:$T$695, 6, FALSE)","v":"Eukaryota"},{"$f":"VLOOKUP($A470, taxonomy!$B$2:$T$695, 7, FALSE)","v":" Metazoa"},{"$f":"VLOOKUP($A470, taxonomy!$B$2:$T$695, 8, FALSE)","v":" Chordata"},{"$f":"VLOOKUP($A470, taxonomy!$B$2:$T$695, 9, FALSE)","v":" Craniata"},{"$f":"VLOOKUP($A470, taxonomy!$B$2:$T$695, 10, FALSE)","v":" Vertebrata"},{"$f":"VLOOKUP($A470, taxonomy!$B$2:$T$695, 11, FALSE)","v":" Euteleostomi"},{"$f":"VLOOKUP($A470, taxonomy!$B$2:$T$695, 12, FALSE)","v":"Mammalia"},{"$f":"VLOOKUP($A470, taxonomy!$B$2:$T$695, 13, FALSE)","v":" Metatheria"},{"$f":"VLOOKUP($A470, taxonomy!$B$2:$T$695, 14, FALSE)","v":" Didelphimorphia"},{"$f":"VLOOKUP($A470, taxonomy!$B$2:$T$695, 15, FALSE)","v":" Didelphidae"},{"$f":"VLOOKUP($A470, taxonomy!$B$2:$T$695, 16, FALSE)","v":" Monodelphis."},{"$f":"VLOOKUP($A470, taxonomy!$B$2:$T$695, 17, FALSE)","v":0}]
["F7VQT1",{"$f":" VLOOKUP(A471, architecture!D$2:E$73, 2, FALSE)","v":{"$error":"#N/A"}},{"$f":"VLOOKUP(A471, 'PF14702'!B471:C3151, 2, FALSE)","v":1566},{"$f":"VLOOKUP($A471, taxonomy!$B$2:$T$695, 6, FALSE)","v":"Eukaryota"},{"$f":"VLOOKUP($A471, taxonomy!$B$2:$T$695, 7, FALSE)","v":" Fungi"},{"$f":"VLOOKUP($A471, taxonomy!$B$2:$T$695, 8, FALSE)","v":" Dikarya"},{"$f":"VLOOKUP($A471, taxonomy!$B$2:$T$695, 9, FALSE)","v":" Ascomycota"},{"$f":"VLOOKUP($A471, taxonomy!$B$2:$T$695, 10, FALSE)","v":" Pezizomycotina"},{"$f":"VLOOKUP($A471, taxonomy!$B$2:$T$695, 11, FALSE)","v":"Sordariomycetes"},{"$f":"VLOOKUP($A471, taxonomy!$B$2:$T$695, 12, FALSE)","v":" Sordariomycetidae"},{"$f":"VLOOKUP($A471, taxonomy!$B$2:$T$695, 13, FALSE)","v":" Sordariales"},{"$f":"VLOOKUP($A471, taxonomy!$B$2:$T$695, 14, FALSE)","v":" Sordariaceae"},{"$f":"VLOOKUP($A471, taxonomy!$B$2:$T$695, 15, FALSE)","v":"Sordaria."},{"$f":"VLOOKUP($A471, taxonomy!$B$2:$T$695, 16, FALSE)","v":0},{"$f":"VLOOKUP($A471, taxonomy!$B$2:$T$695, 17, FALSE)","v":0}]
["F8Q4P4",{"$f":" VLOOKUP(A472, architecture!D$2:E$73, 2, FALSE)","v":{"$error":"#N/A"}},{"$f":"VLOOKUP(A472, 'PF14702'!B472:C3152, 2, FALSE)","v":1564},{"$f":"VLOOKUP($A472, taxonomy!$B$2:$T$695, 6, FALSE)","v":"Eukaryota"},{"$f":"VLOOKUP($A472, taxonomy!$B$2:$T$695, 7, FALSE)","v":" Fungi"},{"$f":"VLOOKUP($A472, taxonomy!$B$2:$T$695, 8, FALSE)","v":" Dikarya"},{"$f":"VLOOKUP($A472, taxonomy!$B$2:$T$695, 9, FALSE)","v":" Basidiomycota"},{"$f":"VLOOKUP($A472, taxonomy!$B$2:$T$695, 10, FALSE)","v":" Agaricomycotina"},{"$f":"VLOOKUP($A472, taxonomy!$B$2:$T$695, 11, FALSE)","v":"Agaricomycetes"},{"$f":"VLOOKUP($A472, taxonomy!$B$2:$T$695, 12, FALSE)","v":" Agaricomycetidae"},{"$f":"VLOOKUP($A472, taxonomy!$B$2:$T$695, 13, FALSE)","v":" Boletales"},{"$f":"VLOOKUP($A472, taxonomy!$B$2:$T$695, 14, FALSE)","v":" Coniophorineae"},{"$f":"VLOOKUP($A472, taxonomy!$B$2:$T$695, 15, FALSE)","v":"Serpulaceae"},{"$f":"VLOOKUP($A472, taxonomy!$B$2:$T$695, 16, FALSE)","v":" Serpula."},{"$f":"VLOOKUP($A472, taxonomy!$B$2:$T$695, 17, FALSE)","v":0}]
["F8VPN4",{"$f":" VLOOKUP(A473, architecture!D$2:E$73, 2, FALSE)","v":{"$error":"#N/A"}},{"$f":"VLOOKUP(A473, 'PF14702'!B473:C3153, 2, FALSE)","v":1532},{"$f":"VLOOKUP($A473, taxonomy!$B$2:$T$695, 6, FALSE)","v":"Eukaryota"},{"$f":"VLOOKUP($A473, taxonomy!$B$2:$T$695, 7, FALSE)","v":" Metazoa"},{"$f":"VLOOKUP($A473, taxonomy!$B$2:$T$695, 8, FALSE)","v":" Chordata"},{"$f":"VLOOKUP($A473, taxonomy!$B$2:$T$695, 9, FALSE)","v":" Craniata"},{"$f":"VLOOKUP($A473, taxonomy!$B$2:$T$695, 10, FALSE)","v":" Vertebrata"},{"$f":"VLOOKUP($A473, taxonomy!$B$2:$T$695, 11, FALSE)","v":" Euteleostomi"},{"$f":"VLOOKUP($A473, taxonomy!$B$2:$T$695, 12, FALSE)","v":"Mammalia"},{"$f":"VLOOKUP($A473, taxonomy!$B$2:$T$695, 13, FALSE)","v":" Eutheria"},{"$f":"VLOOKUP($A473, taxonomy!$B$2:$T$695, 14, FALSE)","v":" Euarchontoglires"},{"$f":"VLOOKUP($A473, taxonomy!$B$2:$T$695, 15, FALSE)","v":" Glires"},{"$f":"VLOOKUP($A473, taxonomy!$B$2:$T$695, 16, FALSE)","v":" Rodentia"},{"$f":"VLOOKUP($A473, taxonomy!$B$2:$T$695, 17, FALSE)","v":" Myomorpha"}]
["F9FVA4",{"$f":" VLOOKUP(A474, architecture!D$2:E$73, 2, FALSE)","v":{"$error":"#N/A"}},{"$f":"VLOOKUP(A474, 'PF14702'!B474:C3154, 2, FALSE)","v":1556},{"$f":"VLOOKUP($A474, taxonomy!$B$2:$T$695, 6, FALSE)","v":"Eukaryota"},{"$f":"VLOOKUP($A474, taxonomy!$B$2:$T$695, 7, FALSE)","v":" Fungi"},{"$f":"VLOOKUP($A474, taxonomy!$B$2:$T$695, 8, FALSE)","v":" Dikarya"},{"$f":"VLOOKUP($A474, taxonomy!$B$2:$T$695, 9, FALSE)","v":" Ascomycota"},{"$f":"VLOOKUP($A474, taxonomy!$B$2:$T$695, 10, FALSE)","v":" Pezizomycotina"},{"$f":"VLOOKUP($A474, taxonomy!$B$2:$T$695, 11, FALSE)","v":"Sordariomycetes"},{"$f":"VLOOKUP($A474, taxonomy!$B$2:$T$695, 12, FALSE)","v":" Hypocreomycetidae"},{"$f":"VLOOKUP($A474, taxonomy!$B$2:$T$695, 13, FALSE)","v":" Hypocreales"},{"$f":"VLOOKUP($A474, taxonomy!$B$2:$T$695, 14, FALSE)","v":" Nectriaceae"},{"$f":"VLOOKUP($A474, taxonomy!$B$2:$T$695, 15, FALSE)","v":"Fusarium"},{"$f":"VLOOKUP($A474, taxonomy!$B$2:$T$695, 16, FALSE)","v":" Fusarium oxysporum species complex."},{"$f":"VLOOKUP($A474, taxonomy!$B$2:$T$695, 17, FALSE)","v":0}]
["F9XGA6",{"$f":" VLOOKUP(A475, architecture!D$2:E$73, 2, FALSE)","v":{"$error":"#N/A"}},{"$f":"VLOOKUP(A475, 'PF14702'!B475:C3155, 2, FALSE)","v":1549},{"$f":"VLOOKUP($A475, taxonomy!$B$2:$T$695, 6, FALSE)","v":"Eukaryota"},{"$f":"VLOOKUP($A475, taxonomy!$B$2:$T$695, 7, FALSE)","v":" Fungi"},{"$f":"VLOOKUP($A475, taxonomy!$B$2:$T$695, 8, FALSE)","v":" Dikarya"},{"$f":"VLOOKUP($A475, taxonomy!$B$2:$T$695, 9, FALSE)","v":" Ascomycota"},{"$f":"VLOOKUP($A475, taxonomy!$B$2:$T$695, 10, FALSE)","v":" Pezizomycotina"},{"$f":"VLOOKUP($A475, taxonomy!$B$2:$T$695, 11, FALSE)","v":"Dothideomycetes"},{"$f":"VLOOKUP($A475, taxonomy!$B$2:$T$695, 12, FALSE)","v":" Dothideomycetidae"},{"$f":"VLOOKUP($A475, taxonomy!$B$2:$T$695, 13, FALSE)","v":" Capnodiales"},{"$f":"VLOOKUP($A475, taxonomy!$B$2:$T$695, 14, FALSE)","v":" Mycosphaerellaceae"},{"$f":"VLOOKUP($A475, taxonomy!$B$2:$T$695, 15, FALSE)","v":"Zymoseptoria."},{"$f":"VLOOKUP($A475, taxonomy!$B$2:$T$695, 16, FALSE)","v":0},{"$f":"VLOOKUP($A475, taxonomy!$B$2:$T$695, 17, FALSE)","v":0}]
["G0N6Z0",{"$f":" VLOOKUP(A476, architecture!D$2:E$73, 2, FALSE)","v":{"$error":"#N/A"}},{"$f":"VLOOKUP(A476, 'PF14702'!B476:C3156, 2, FALSE)","v":1090},{"$f":"VLOOKUP($A476, taxonomy!$B$2:$T$695, 6, FALSE)","v":"Eukaryota"},{"$f":"VLOOKUP($A476, taxonomy!$B$2:$T$695, 7, FALSE)","v":" Metazoa"},{"$f":"VLOOKUP($A476, taxonomy!$B$2:$T$695, 8, FALSE)","v":" Ecdysozoa"},{"$f":"VLOOKUP($A476, taxonomy!$B$2:$T$695, 9, FALSE)","v":" Nematoda"},{"$f":"VLOOKUP($A476, taxonomy!$B$2:$T$695, 10, FALSE)","v":" Chromadorea"},{"$f":"VLOOKUP($A476, taxonomy!$B$2:$T$695, 11, FALSE)","v":" Rhabditida"},{"$f":"VLOOKUP($A476, taxonomy!$B$2:$T$695, 12, FALSE)","v":"Rhabditoidea"},{"$f":"VLOOKUP($A476, taxonomy!$B$2:$T$695, 13, FALSE)","v":" Rhabditidae"},{"$f":"VLOOKUP($A476, taxonomy!$B$2:$T$695, 14, FALSE)","v":" Peloderinae"},{"$f":"VLOOKUP($A476, taxonomy!$B$2:$T$695, 15, FALSE)","v":" Caenorhabditis."},{"$f":"VLOOKUP($A476, taxonomy!$B$2:$T$695, 16, FALSE)","v":0},{"$f":"VLOOKUP($A476, taxonomy!$B$2:$T$695, 17, FALSE)","v":0}]
["G0PCL2",{"$f":" VLOOKUP(A477, architecture!D$2:E$73, 2, FALSE)","v":{"$error":"#N/A"}},{"$f":"VLOOKUP(A477, 'PF14702'!B477:C3157, 2, FALSE)","v":1464},{"$f":"VLOOKUP($A477, taxonomy!$B$2:$T$695, 6, FALSE)","v":"Eukaryota"},{"$f":"VLOOKUP($A477, taxonomy!$B$2:$T$695, 7, FALSE)","v":" Metazoa"},{"$f":"VLOOKUP($A477, taxonomy!$B$2:$T$695, 8, FALSE)","v":" Ecdysozoa"},{"$f":"VLOOKUP($A477, taxonomy!$B$2:$T$695, 9, FALSE)","v":" Nematoda"},{"$f":"VLOOKUP($A477, taxonomy!$B$2:$T$695, 10, FALSE)","v":" Chromadorea"},{"$f":"VLOOKUP($A477, taxonomy!$B$2:$T$695, 11, FALSE)","v":" Rhabditida"},{"$f":"VLOOKUP($A477, taxonomy!$B$2:$T$695, 12, FALSE)","v":"Rhabditoidea"},{"$f":"VLOOKUP($A477, taxonomy!$B$2:$T$695, 13, FALSE)","v":" Rhabditidae"},{"$f":"VLOOKUP($A477, taxonomy!$B$2:$T$695, 14, FALSE)","v":" Peloderinae"},{"$f":"VLOOKUP($A477, taxonomy!$B$2:$T$695, 15, FALSE)","v":" Caenorhabditis."},{"$f":"VLOOKUP($A477, taxonomy!$B$2:$T$695, 16, FALSE)","v":0},{"$f":"VLOOKUP($A477, taxonomy!$B$2:$T$695, 17, FALSE)","v":0}]
["G0QV62",{"$f":" VLOOKUP(A478, architecture!D$2:E$73, 2, FALSE)","v":{"$error":"#N/A"}},{"$f":"VLOOKUP(A478, 'PF14702'!B478:C3158, 2, FALSE)","v":753},{"$f":"VLOOKUP($A478, taxonomy!$B$2:$T$695, 6, FALSE)","v":"Eukaryota"},{"$f":"VLOOKUP($A478, taxonomy!$B$2:$T$695, 7, FALSE)","v":" Alveolata"},{"$f":"VLOOKUP($A478, taxonomy!$B$2:$T$695, 8, FALSE)","v":" Ciliophora"},{"$f":"VLOOKUP($A478, taxonomy!$B$2:$T$695, 9, FALSE)","v":" Intramacronucleata"},{"$f":"VLOOKUP($A478, taxonomy!$B$2:$T$695, 10, FALSE)","v":"Oligohymenophorea"},{"$f":"VLOOKUP($A478, taxonomy!$B$2:$T$695, 11, FALSE)","v":" Hymenostomatida"},{"$f":"VLOOKUP($A478, taxonomy!$B$2:$T$695, 12, FALSE)","v":" Ophryoglenina"},{"$f":"VLOOKUP($A478, taxonomy!$B$2:$T$695, 13, FALSE)","v":" Ichthyophthirius."},{"$f":"VLOOKUP($A478, taxonomy!$B$2:$T$695, 14, FALSE)","v":0},{"$f":"VLOOKUP($A478, taxonomy!$B$2:$T$695, 15, FALSE)","v":0},{"$f":"VLOOKUP($A478, taxonomy!$B$2:$T$695, 16, FALSE)","v":0},{"$f":"VLOOKUP($A478, taxonomy!$B$2:$T$695, 17, FALSE)","v":0}]
["G0QZ29",{"$f":" VLOOKUP(A479, architecture!D$2:E$73, 2, FALSE)","v":1},{"$f":"VLOOKUP(A479, 'PF14702'!B479:C3159, 2, FALSE)","v":1612},{"$f":"VLOOKUP($A479, taxonomy!$B$2:$T$695, 6, FALSE)","v":"Eukaryota"},{"$f":"VLOOKUP($A479, taxonomy!$B$2:$T$695, 7, FALSE)","v":" Alveolata"},{"$f":"VLOOKUP($A479, taxonomy!$B$2:$T$695, 8, FALSE)","v":" Ciliophora"},{"$f":"VLOOKUP($A479, taxonomy!$B$2:$T$695, 9, FALSE)","v":" Intramacronucleata"},{"$f":"VLOOKUP($A479, taxonomy!$B$2:$T$695, 10, FALSE)","v":"Oligohymenophorea"},{"$f":"VLOOKUP($A479, taxonomy!$B$2:$T$695, 11, FALSE)","v":" Hymenostomatida"},{"$f":"VLOOKUP($A479, taxonomy!$B$2:$T$695, 12, FALSE)","v":" Ophryoglenina"},{"$f":"VLOOKUP($A479, taxonomy!$B$2:$T$695, 13, FALSE)","v":" Ichthyophthirius."},{"$f":"VLOOKUP($A479, taxonomy!$B$2:$T$695, 14, FALSE)","v":0},{"$f":"VLOOKUP($A479, taxonomy!$B$2:$T$695, 15, FALSE)","v":0},{"$f":"VLOOKUP($A479, taxonomy!$B$2:$T$695, 16, FALSE)","v":0},{"$f":"VLOOKUP($A479, taxonomy!$B$2:$T$695, 17, FALSE)","v":0}]
["G0RBU1",{"$f":" VLOOKUP(A480, architecture!D$2:E$73, 2, FALSE)","v":{"$error":"#N/A"}},{"$f":"VLOOKUP(A480, 'PF14702'!B480:C3160, 2, FALSE)","v":1557},{"$f":"VLOOKUP($A480, taxonomy!$B$2:$T$695, 6, FALSE)","v":"Eukaryota"},{"$f":"VLOOKUP($A480, taxonomy!$B$2:$T$695, 7, FALSE)","v":" Fungi"},{"$f":"VLOOKUP($A480, taxonomy!$B$2:$T$695, 8, FALSE)","v":" Dikarya"},{"$f":"VLOOKUP($A480, taxonomy!$B$2:$T$695, 9, FALSE)","v":" Ascomycota"},{"$f":"VLOOKUP($A480, taxonomy!$B$2:$T$695, 10, FALSE)","v":" Pezizomycotina"},{"$f":"VLOOKUP($A480, taxonomy!$B$2:$T$695, 11, FALSE)","v":"Sordariomycetes"},{"$f":"VLOOKUP($A480, taxonomy!$B$2:$T$695, 12, FALSE)","v":" Hypocreomycetidae"},{"$f":"VLOOKUP($A480, taxonomy!$B$2:$T$695, 13, FALSE)","v":" Hypocreales"},{"$f":"VLOOKUP($A480, taxonomy!$B$2:$T$695, 14, FALSE)","v":" Hypocreaceae"},{"$f":"VLOOKUP($A480, taxonomy!$B$2:$T$695, 15, FALSE)","v":"Trichoderma."},{"$f":"VLOOKUP($A480, taxonomy!$B$2:$T$695, 16, FALSE)","v":0},{"$f":"VLOOKUP($A480, taxonomy!$B$2:$T$695, 17, FALSE)","v":0}]
["G0SC60",{"$f":" VLOOKUP(A481, architecture!D$2:E$73, 2, FALSE)","v":{"$error":"#N/A"}},{"$f":"VLOOKUP(A481, 'PF14702'!B481:C3161, 2, FALSE)","v":1567},{"$f":"VLOOKUP($A481, taxonomy!$B$2:$T$695, 6, FALSE)","v":"Eukaryota"},{"$f":"VLOOKUP($A481, taxonomy!$B$2:$T$695, 7, FALSE)","v":" Fungi"},{"$f":"VLOOKUP($A481, taxonomy!$B$2:$T$695, 8, FALSE)","v":" Dikarya"},{"$f":"VLOOKUP($A481, taxonomy!$B$2:$T$695, 9, FALSE)","v":" Ascomycota"},{"$f":"VLOOKUP($A481, taxonomy!$B$2:$T$695, 10, FALSE)","v":" Pezizomycotina"},{"$f":"VLOOKUP($A481, taxonomy!$B$2:$T$695, 11, FALSE)","v":"Sordariomycetes"},{"$f":"VLOOKUP($A481, taxonomy!$B$2:$T$695, 12, FALSE)","v":" Sordariomycetidae"},{"$f":"VLOOKUP($A481, taxonomy!$B$2:$T$695, 13, FALSE)","v":" Sordariales"},{"$f":"VLOOKUP($A481, taxonomy!$B$2:$T$695, 14, FALSE)","v":" Chaetomiaceae"},{"$f":"VLOOKUP($A481, taxonomy!$B$2:$T$695, 15, FALSE)","v":"Chaetomium."},{"$f":"VLOOKUP($A481, taxonomy!$B$2:$T$695, 16, FALSE)","v":0},{"$f":"VLOOKUP($A481, taxonomy!$B$2:$T$695, 17, FALSE)","v":0}]
["G0V9D2",{"$f":" VLOOKUP(A482, architecture!D$2:E$73, 2, FALSE)","v":{"$error":"#N/A"}},{"$f":"VLOOKUP(A482, 'PF14702'!B482:C3162, 2, FALSE)","v":1521},{"$f":"VLOOKUP($A482, taxonomy!$B$2:$T$695, 6, FALSE)","v":"Eukaryota"},{"$f":"VLOOKUP($A482, taxonomy!$B$2:$T$695, 7, FALSE)","v":" Fungi"},{"$f":"VLOOKUP($A482, taxonomy!$B$2:$T$695, 8, FALSE)","v":" Dikarya"},{"$f":"VLOOKUP($A482, taxonomy!$B$2:$T$695, 9, FALSE)","v":" Ascomycota"},{"$f":"VLOOKUP($A482, taxonomy!$B$2:$T$695, 10, FALSE)","v":" Saccharomycotina"},{"$f":"VLOOKUP($A482, taxonomy!$B$2:$T$695, 11, FALSE)","v":"Saccharomycetes"},{"$f":"VLOOKUP($A482, taxonomy!$B$2:$T$695, 12, FALSE)","v":" Saccharomycetales"},{"$f":"VLOOKUP($A482, taxonomy!$B$2:$T$695, 13, FALSE)","v":" Saccharomycetaceae"},{"$f":"VLOOKUP($A482, taxonomy!$B$2:$T$695, 14, FALSE)","v":" Naumovozyma."},{"$f":"VLOOKUP($A482, taxonomy!$B$2:$T$695, 15, FALSE)","v":0},{"$f":"VLOOKUP($A482, taxonomy!$B$2:$T$695, 16, FALSE)","v":0},{"$f":"VLOOKUP($A482, taxonomy!$B$2:$T$695, 17, FALSE)","v":0}]
["G0WHD0",{"$f":" VLOOKUP(A483, architecture!D$2:E$73, 2, FALSE)","v":{"$error":"#N/A"}},{"$f":"VLOOKUP(A483, 'PF14702'!B483:C3163, 2, FALSE)","v":1523},{"$f":"VLOOKUP($A483, taxonomy!$B$2:$T$695, 6, FALSE)","v":"Eukaryota"},{"$f":"VLOOKUP($A483, taxonomy!$B$2:$T$695, 7, FALSE)","v":" Fungi"},{"$f":"VLOOKUP($A483, taxonomy!$B$2:$T$695, 8, FALSE)","v":" Dikarya"},{"$f":"VLOOKUP($A483, taxonomy!$B$2:$T$695, 9, FALSE)","v":" Ascomycota"},{"$f":"VLOOKUP($A483, taxonomy!$B$2:$T$695, 10, FALSE)","v":" Saccharomycotina"},{"$f":"VLOOKUP($A483, taxonomy!$B$2:$T$695, 11, FALSE)","v":"Saccharomycetes"},{"$f":"VLOOKUP($A483, taxonomy!$B$2:$T$695, 12, FALSE)","v":" Saccharomycetales"},{"$f":"VLOOKUP($A483, taxonomy!$B$2:$T$695, 13, FALSE)","v":" Saccharomycetaceae"},{"$f":"VLOOKUP($A483, taxonomy!$B$2:$T$695, 14, FALSE)","v":" Naumovozyma."},{"$f":"VLOOKUP($A483, taxonomy!$B$2:$T$695, 15, FALSE)","v":0},{"$f":"VLOOKUP($A483, taxonomy!$B$2:$T$695, 16, FALSE)","v":0},{"$f":"VLOOKUP($A483, taxonomy!$B$2:$T$695, 17, FALSE)","v":0}]
["G1KCM2",{"$f":" VLOOKUP(A484, architecture!D$2:E$73, 2, FALSE)","v":{"$error":"#N/A"}},{"$f":"VLOOKUP(A484, 'PF14702'!B484:C3164, 2, FALSE)","v":1531},{"$f":"VLOOKUP($A484, taxonomy!$B$2:$T$695, 6, FALSE)","v":"Eukaryota"},{"$f":"VLOOKUP($A484, taxonomy!$B$2:$T$695, 7, FALSE)","v":" Metazoa"},{"$f":"VLOOKUP($A484, taxonomy!$B$2:$T$695, 8, FALSE)","v":" Chordata"},{"$f":"VLOOKUP($A484, taxonomy!$B$2:$T$695, 9, FALSE)","v":" Craniata"},{"$f":"VLOOKUP($A484, taxonomy!$B$2:$T$695, 10, FALSE)","v":" Vertebrata"},{"$f":"VLOOKUP($A484, taxonomy!$B$2:$T$695, 11, FALSE)","v":" Euteleostomi"},{"$f":"VLOOKUP($A484, taxonomy!$B$2:$T$695, 12, FALSE)","v":"Lepidosauria"},{"$f":"VLOOKUP($A484, taxonomy!$B$2:$T$695, 13, FALSE)","v":" Squamata"},{"$f":"VLOOKUP($A484, taxonomy!$B$2:$T$695, 14, FALSE)","v":" Bifurcata"},{"$f":"VLOOKUP($A484, taxonomy!$B$2:$T$695, 15, FALSE)","v":" Unidentata"},{"$f":"VLOOKUP($A484, taxonomy!$B$2:$T$695, 16, FALSE)","v":" Episquamata"},{"$f":"VLOOKUP($A484, taxonomy!$B$2:$T$695, 17, FALSE)","v":"Toxicofera"}]
["G1LR84",{"$f":" VLOOKUP(A485, architecture!D$2:E$73, 2, FALSE)","v":{"$error":"#N/A"}},{"$f":"VLOOKUP(A485, 'PF14702'!B485:C3165, 2, FALSE)","v":1533},{"$f":"VLOOKUP($A485, taxonomy!$B$2:$T$695, 6, FALSE)","v":"Eukaryota"},{"$f":"VLOOKUP($A485, taxonomy!$B$2:$T$695, 7, FALSE)","v":" Metazoa"},{"$f":"VLOOKUP($A485, taxonomy!$B$2:$T$695, 8, FALSE)","v":" Chordata"},{"$f":"VLOOKUP($A485, taxonomy!$B$2:$T$695, 9, FALSE)","v":" Craniata"},{"$f":"VLOOKUP($A485, taxonomy!$B$2:$T$695, 10, FALSE)","v":" Vertebrata"},{"$f":"VLOOKUP($A485, taxonomy!$B$2:$T$695, 11, FALSE)","v":" Euteleostomi"},{"$f":"VLOOKUP($A485, taxonomy!$B$2:$T$695, 12, FALSE)","v":"Mammalia"},{"$f":"VLOOKUP($A485, taxonomy!$B$2:$T$695, 13, FALSE)","v":" Eutheria"},{"$f":"VLOOKUP($A485, taxonomy!$B$2:$T$695, 14, FALSE)","v":" Laurasiatheria"},{"$f":"VLOOKUP($A485, taxonomy!$B$2:$T$695, 15, FALSE)","v":" Carnivora"},{"$f":"VLOOKUP($A485, taxonomy!$B$2:$T$695, 16, FALSE)","v":" Caniformia"},{"$f":"VLOOKUP($A485, taxonomy!$B$2:$T$695, 17, FALSE)","v":" Ursidae"}]
["G1N5J6",{"$f":" VLOOKUP(A486, architecture!D$2:E$73, 2, FALSE)","v":{"$error":"#N/A"}},{"$f":"VLOOKUP(A486, 'PF14702'!B486:C3166, 2, FALSE)","v":1536},{"$f":"VLOOKUP($A486, taxonomy!$B$2:$T$695, 6, FALSE)","v":"Eukaryota"},{"$f":"VLOOKUP($A486, taxonomy!$B$2:$T$695, 7, FALSE)","v":" Metazoa"},{"$f":"VLOOKUP($A486, taxonomy!$B$2:$T$695, 8, FALSE)","v":" Chordata"},{"$f":"VLOOKUP($A486, taxonomy!$B$2:$T$695, 9, FALSE)","v":" Craniata"},{"$f":"VLOOKUP($A486, taxonomy!$B$2:$T$695, 10, FALSE)","v":" Vertebrata"},{"$f":"VLOOKUP($A486, taxonomy!$B$2:$T$695, 11, FALSE)","v":" Euteleostomi"},{"$f":"VLOOKUP($A486, taxonomy!$B$2:$T$695, 12, FALSE)","v":"Archelosauria"},{"$f":"VLOOKUP($A486, taxonomy!$B$2:$T$695, 13, FALSE)","v":" Archosauria"},{"$f":"VLOOKUP($A486, taxonomy!$B$2:$T$695, 14, FALSE)","v":" Dinosauria"},{"$f":"VLOOKUP($A486, taxonomy!$B$2:$T$695, 15, FALSE)","v":" Saurischia"},{"$f":"VLOOKUP($A486, taxonomy!$B$2:$T$695, 16, FALSE)","v":" Theropoda"},{"$f":"VLOOKUP($A486, taxonomy!$B$2:$T$695, 17, FALSE)","v":"Coelurosauria"}]
["G1PTA9",{"$f":" VLOOKUP(A487, architecture!D$2:E$73, 2, FALSE)","v":{"$error":"#N/A"}},{"$f":"VLOOKUP(A487, 'PF14702'!B487:C3167, 2, FALSE)","v":1533},{"$f":"VLOOKUP($A487, taxonomy!$B$2:$T$695, 6, FALSE)","v":"Eukaryota"},{"$f":"VLOOKUP($A487, taxonomy!$B$2:$T$695, 7, FALSE)","v":" Metazoa"},{"$f":"VLOOKUP($A487, taxonomy!$B$2:$T$695, 8, FALSE)","v":" Chordata"},{"$f":"VLOOKUP($A487, taxonomy!$B$2:$T$695, 9, FALSE)","v":" Craniata"},{"$f":"VLOOKUP($A487, taxonomy!$B$2:$T$695, 10, FALSE)","v":" Vertebrata"},{"$f":"VLOOKUP($A487, taxonomy!$B$2:$T$695, 11, FALSE)","v":" Euteleostomi"},{"$f":"VLOOKUP($A487, taxonomy!$B$2:$T$695, 12, FALSE)","v":"Mammalia"},{"$f":"VLOOKUP($A487, taxonomy!$B$2:$T$695, 13, FALSE)","v":" Eutheria"},{"$f":"VLOOKUP($A487, taxonomy!$B$2:$T$695, 14, FALSE)","v":" Laurasiatheria"},{"$f":"VLOOKUP($A487, taxonomy!$B$2:$T$695, 15, FALSE)","v":" Chiroptera"},{"$f":"VLOOKUP($A487, taxonomy!$B$2:$T$695, 16, FALSE)","v":" Microchiroptera"},{"$f":"VLOOKUP($A487, taxonomy!$B$2:$T$695, 17, FALSE)","v":"Vespertilionidae"}]
["G1RLT1",{"$f":" VLOOKUP(A488, architecture!D$2:E$73, 2, FALSE)","v":{"$error":"#N/A"}},{"$f":"VLOOKUP(A488, 'PF14702'!B488:C3168, 2, FALSE)","v":1532},{"$f":"VLOOKUP($A488, taxonomy!$B$2:$T$695, 6, FALSE)","v":"Eukaryota"},{"$f":"VLOOKUP($A488, taxonomy!$B$2:$T$695, 7, FALSE)","v":" Metazoa"},{"$f":"VLOOKUP($A488, taxonomy!$B$2:$T$695, 8, FALSE)","v":" Chordata"},{"$f":"VLOOKUP($A488, taxonomy!$B$2:$T$695, 9, FALSE)","v":" Craniata"},{"$f":"VLOOKUP($A488, taxonomy!$B$2:$T$695, 10, FALSE)","v":" Vertebrata"},{"$f":"VLOOKUP($A488, taxonomy!$B$2:$T$695, 11, FALSE)","v":" Euteleostomi"},{"$f":"VLOOKUP($A488, taxonomy!$B$2:$T$695, 12, FALSE)","v":"Mammalia"},{"$f":"VLOOKUP($A488, taxonomy!$B$2:$T$695, 13, FALSE)","v":" Eutheria"},{"$f":"VLOOKUP($A488, taxonomy!$B$2:$T$695, 14, FALSE)","v":" Euarchontoglires"},{"$f":"VLOOKUP($A488, taxonomy!$B$2:$T$695, 15, FALSE)","v":" Primates"},{"$f":"VLOOKUP($A488, taxonomy!$B$2:$T$695, 16, FALSE)","v":" Haplorrhini"},{"$f":"VLOOKUP($A488, taxonomy!$B$2:$T$695, 17, FALSE)","v":"Catarrhini"}]
["G1TS42",{"$f":" VLOOKUP(A489, architecture!D$2:E$73, 2, FALSE)","v":{"$error":"#N/A"}},{"$f":"VLOOKUP(A489, 'PF14702'!B489:C3169, 2, FALSE)","v":1533},{"$f":"VLOOKUP($A489, taxonomy!$B$2:$T$695, 6, FALSE)","v":"Eukaryota"},{"$f":"VLOOKUP($A489, taxonomy!$B$2:$T$695, 7, FALSE)","v":" Metazoa"},{"$f":"VLOOKUP($A489, taxonomy!$B$2:$T$695, 8, FALSE)","v":" Chordata"},{"$f":"VLOOKUP($A489, taxonomy!$B$2:$T$695, 9, FALSE)","v":" Craniata"},{"$f":"VLOOKUP($A489, taxonomy!$B$2:$T$695, 10, FALSE)","v":" Vertebrata"},{"$f":"VLOOKUP($A489, taxonomy!$B$2:$T$695, 11, FALSE)","v":" Euteleostomi"},{"$f":"VLOOKUP($A489, taxonomy!$B$2:$T$695, 12, FALSE)","v":"Mammalia"},{"$f":"VLOOKUP($A489, taxonomy!$B$2:$T$695, 13, FALSE)","v":" Eutheria"},{"$f":"VLOOKUP($A489, taxonomy!$B$2:$T$695, 14, FALSE)","v":" Euarchontoglires"},{"$f":"VLOOKUP($A489, taxonomy!$B$2:$T$695, 15, FALSE)","v":" Glires"},{"$f":"VLOOKUP($A489, taxonomy!$B$2:$T$695, 16, FALSE)","v":" Lagomorpha"},{"$f":"VLOOKUP($A489, taxonomy!$B$2:$T$695, 17, FALSE)","v":" Leporidae"}]
["G1X7A7",{"$f":" VLOOKUP(A490, architecture!D$2:E$73, 2, FALSE)","v":{"$error":"#N/A"}},{"$f":"VLOOKUP(A490, 'PF14702'!B490:C3170, 2, FALSE)","v":1520},{"$f":"VLOOKUP($A490, taxonomy!$B$2:$T$695, 6, FALSE)","v":"Eukaryota"},{"$f":"VLOOKUP($A490, taxonomy!$B$2:$T$695, 7, FALSE)","v":" Fungi"},{"$f":"VLOOKUP($A490, taxonomy!$B$2:$T$695, 8, FALSE)","v":" Dikarya"},{"$f":"VLOOKUP($A490, taxonomy!$B$2:$T$695, 9, FALSE)","v":" Ascomycota"},{"$f":"VLOOKUP($A490, taxonomy!$B$2:$T$695, 10, FALSE)","v":" Pezizomycotina"},{"$f":"VLOOKUP($A490, taxonomy!$B$2:$T$695, 11, FALSE)","v":" Orbiliomycetes"},{"$f":"VLOOKUP($A490, taxonomy!$B$2:$T$695, 12, FALSE)","v":"Orbiliales"},{"$f":"VLOOKUP($A490, taxonomy!$B$2:$T$695, 13, FALSE)","v":" Orbiliaceae"},{"$f":"VLOOKUP($A490, taxonomy!$B$2:$T$695, 14, FALSE)","v":" Arthrobotrys."},{"$f":"VLOOKUP($A490, taxonomy!$B$2:$T$695, 15, FALSE)","v":0},{"$f":"VLOOKUP($A490, taxonomy!$B$2:$T$695, 16, FALSE)","v":0},{"$f":"VLOOKUP($A490, taxonomy!$B$2:$T$695, 17, FALSE)","v":0}]
["G2Q5G4",{"$f":" VLOOKUP(A491, architecture!D$2:E$73, 2, FALSE)","v":{"$error":"#N/A"}},{"$f":"VLOOKUP(A491, 'PF14702'!B491:C3171, 2, FALSE)","v":1573},{"$f":"VLOOKUP($A491, taxonomy!$B$2:$T$695, 6, FALSE)","v":"Eukaryota"},{"$f":"VLOOKUP($A491, taxonomy!$B$2:$T$695, 7, FALSE)","v":" Fungi"},{"$f":"VLOOKUP($A491, taxonomy!$B$2:$T$695, 8, FALSE)","v":" Dikarya"},{"$f":"VLOOKUP($A491, taxonomy!$B$2:$T$695, 9, FALSE)","v":" Ascomycota"},{"$f":"VLOOKUP($A491, taxonomy!$B$2:$T$695, 10, FALSE)","v":" Pezizomycotina"},{"$f":"VLOOKUP($A491, taxonomy!$B$2:$T$695, 11, FALSE)","v":"Sordariomycetes"},{"$f":"VLOOKUP($A491, taxonomy!$B$2:$T$695, 12, FALSE)","v":" Sordariomycetidae"},{"$f":"VLOOKUP($A491, taxonomy!$B$2:$T$695, 13, FALSE)","v":" Sordariales"},{"$f":"VLOOKUP($A491, taxonomy!$B$2:$T$695, 14, FALSE)","v":" Chaetomiaceae"},{"$f":"VLOOKUP($A491, taxonomy!$B$2:$T$695, 15, FALSE)","v":"Thermothelomyces."},{"$f":"VLOOKUP($A491, taxonomy!$B$2:$T$695, 16, FALSE)","v":0},{"$f":"VLOOKUP($A491, taxonomy!$B$2:$T$695, 17, FALSE)","v":0}]
["G2QYC2",{"$f":" VLOOKUP(A492, architecture!D$2:E$73, 2, FALSE)","v":{"$error":"#N/A"}},{"$f":"VLOOKUP(A492, 'PF14702'!B492:C3172, 2, FALSE)","v":1574},{"$f":"VLOOKUP($A492, taxonomy!$B$2:$T$695, 6, FALSE)","v":"Eukaryota"},{"$f":"VLOOKUP($A492, taxonomy!$B$2:$T$695, 7, FALSE)","v":" Fungi"},{"$f":"VLOOKUP($A492, taxonomy!$B$2:$T$695, 8, FALSE)","v":" Dikarya"},{"$f":"VLOOKUP($A492, taxonomy!$B$2:$T$695, 9, FALSE)","v":" Ascomycota"},{"$f":"VLOOKUP($A492, taxonomy!$B$2:$T$695, 10, FALSE)","v":" Pezizomycotina"},{"$f":"VLOOKUP($A492, taxonomy!$B$2:$T$695, 11, FALSE)","v":"Sordariomycetes"},{"$f":"VLOOKUP($A492, taxonomy!$B$2:$T$695, 12, FALSE)","v":" Sordariomycetidae"},{"$f":"VLOOKUP($A492, taxonomy!$B$2:$T$695, 13, FALSE)","v":" Sordariales"},{"$f":"VLOOKUP($A492, taxonomy!$B$2:$T$695, 14, FALSE)","v":" Chaetomiaceae"},{"$f":"VLOOKUP($A492, taxonomy!$B$2:$T$695, 15, FALSE)","v":"Thielavia."},{"$f":"VLOOKUP($A492, taxonomy!$B$2:$T$695, 16, FALSE)","v":0},{"$f":"VLOOKUP($A492, taxonomy!$B$2:$T$695, 17, FALSE)","v":0}]
["G2XJI1",{"$f":" VLOOKUP(A493, architecture!D$2:E$73, 2, FALSE)","v":{"$error":"#N/A"}},{"$f":"VLOOKUP(A493, 'PF14702'!B493:C3173, 2, FALSE)","v":1566},{"$f":"VLOOKUP($A493, taxonomy!$B$2:$T$695, 6, FALSE)","v":"Eukaryota"},{"$f":"VLOOKUP($A493, taxonomy!$B$2:$T$695, 7, FALSE)","v":" Fungi"},{"$f":"VLOOKUP($A493, taxonomy!$B$2:$T$695, 8, FALSE)","v":" Dikarya"},{"$f":"VLOOKUP($A493, taxonomy!$B$2:$T$695, 9, FALSE)","v":" Ascomycota"},{"$f":"VLOOKUP($A493, taxonomy!$B$2:$T$695, 10, FALSE)","v":" Pezizomycotina"},{"$f":"VLOOKUP($A493, taxonomy!$B$2:$T$695, 11, FALSE)","v":"Sordariomycetes"},{"$f":"VLOOKUP($A493, taxonomy!$B$2:$T$695, 12, FALSE)","v":" Hypocreomycetidae"},{"$f":"VLOOKUP($A493, taxonomy!$B$2:$T$695, 13, FALSE)","v":" Glomerellales"},{"$f":"VLOOKUP($A493, taxonomy!$B$2:$T$695, 14, FALSE)","v":"Plectosphaerellaceae"},{"$f":"VLOOKUP($A493, taxonomy!$B$2:$T$695, 15, FALSE)","v":" Verticillium."},{"$f":"VLOOKUP($A493, taxonomy!$B$2:$T$695, 16, FALSE)","v":0},{"$f":"VLOOKUP($A493, taxonomy!$B$2:$T$695, 17, FALSE)","v":0}]
["G2XQH5",{"$f":" VLOOKUP(A494, architecture!D$2:E$73, 2, FALSE)","v":{"$error":"#N/A"}},{"$f":"VLOOKUP(A494, 'PF14702'!B494:C3174, 2, FALSE)","v":1287},{"$f":"VLOOKUP($A494, taxonomy!$B$2:$T$695, 6, FALSE)","v":"Eukaryota"},{"$f":"VLOOKUP($A494, taxonomy!$B$2:$T$695, 7, FALSE)","v":" Fungi"},{"$f":"VLOOKUP($A494, taxonomy!$B$2:$T$695, 8, FALSE)","v":" Dikarya"},{"$f":"VLOOKUP($A494, taxonomy!$B$2:$T$695, 9, FALSE)","v":" Ascomycota"},{"$f":"VLOOKUP($A494, taxonomy!$B$2:$T$695, 10, FALSE)","v":" Pezizomycotina"},{"$f":"VLOOKUP($A494, taxonomy!$B$2:$T$695, 11, FALSE)","v":" Leotiomycetes"},{"$f":"VLOOKUP($A494, taxonomy!$B$2:$T$695, 12, FALSE)","v":"Helotiales"},{"$f":"VLOOKUP($A494, taxonomy!$B$2:$T$695, 13, FALSE)","v":" Sclerotiniaceae"},{"$f":"VLOOKUP($A494, taxonomy!$B$2:$T$695, 14, FALSE)","v":" Botrytis."},{"$f":"VLOOKUP($A494, taxonomy!$B$2:$T$695, 15, FALSE)","v":0},{"$f":"VLOOKUP($A494, taxonomy!$B$2:$T$695, 16, FALSE)","v":0},{"$f":"VLOOKUP($A494, taxonomy!$B$2:$T$695, 17, FALSE)","v":0}]
["G3AER9",{"$f":" VLOOKUP(A495, architecture!D$2:E$73, 2, FALSE)","v":{"$error":"#N/A"}},{"$f":"VLOOKUP(A495, 'PF14702'!B495:C3175, 2, FALSE)","v":1530},{"$f":"VLOOKUP($A495, taxonomy!$B$2:$T$695, 6, FALSE)","v":"Eukaryota"},{"$f":"VLOOKUP($A495, taxonomy!$B$2:$T$695, 7, FALSE)","v":" Fungi"},{"$f":"VLOOKUP($A495, taxonomy!$B$2:$T$695, 8, FALSE)","v":" Dikarya"},{"$f":"VLOOKUP($A495, taxonomy!$B$2:$T$695, 9, FALSE)","v":" Ascomycota"},{"$f":"VLOOKUP($A495, taxonomy!$B$2:$T$695, 10, FALSE)","v":" Saccharomycotina"},{"$f":"VLOOKUP($A495, taxonomy!$B$2:$T$695, 11, FALSE)","v":"Saccharomycetes"},{"$f":"VLOOKUP($A495, taxonomy!$B$2:$T$695, 12, FALSE)","v":" Saccharomycetales"},{"$f":"VLOOKUP($A495, taxonomy!$B$2:$T$695, 13, FALSE)","v":" Debaryomycetaceae"},{"$f":"VLOOKUP($A495, taxonomy!$B$2:$T$695, 14, FALSE)","v":" Spathaspora."},{"$f":"VLOOKUP($A495, taxonomy!$B$2:$T$695, 15, FALSE)","v":0},{"$f":"VLOOKUP($A495, taxonomy!$B$2:$T$695, 16, FALSE)","v":0},{"$f":"VLOOKUP($A495, taxonomy!$B$2:$T$695, 17, FALSE)","v":0}]
["G3B7R1",{"$f":" VLOOKUP(A496, architecture!D$2:E$73, 2, FALSE)","v":{"$error":"#N/A"}},{"$f":"VLOOKUP(A496, 'PF14702'!B496:C3176, 2, FALSE)","v":1511},{"$f":"VLOOKUP($A496, taxonomy!$B$2:$T$695, 6, FALSE)","v":"Eukaryota"},{"$f":"VLOOKUP($A496, taxonomy!$B$2:$T$695, 7, FALSE)","v":" Fungi"},{"$f":"VLOOKUP($A496, taxonomy!$B$2:$T$695, 8, FALSE)","v":" Dikarya"},{"$f":"VLOOKUP($A496, taxonomy!$B$2:$T$695, 9, FALSE)","v":" Ascomycota"},{"$f":"VLOOKUP($A496, taxonomy!$B$2:$T$695, 10, FALSE)","v":" Saccharomycotina"},{"$f":"VLOOKUP($A496, taxonomy!$B$2:$T$695, 11, FALSE)","v":"Saccharomycetes"},{"$f":"VLOOKUP($A496, taxonomy!$B$2:$T$695, 12, FALSE)","v":" Saccharomycetales"},{"$f":"VLOOKUP($A496, taxonomy!$B$2:$T$695, 13, FALSE)","v":" Debaryomycetaceae"},{"$f":"VLOOKUP($A496, taxonomy!$B$2:$T$695, 14, FALSE)","v":" Yamadazyma"},{"$f":"VLOOKUP($A496, taxonomy!$B$2:$T$695, 15, FALSE)","v":"Yamadazyma/Candida clade."},{"$f":"VLOOKUP($A496, taxonomy!$B$2:$T$695, 16, FALSE)","v":0},{"$f":"VLOOKUP($A496, taxonomy!$B$2:$T$695, 17, FALSE)","v":0}]
["G3JB92",{"$f":" VLOOKUP(A497, architecture!D$2:E$73, 2, FALSE)","v":{"$error":"#N/A"}},{"$f":"VLOOKUP(A497, 'PF14702'!B497:C3177, 2, FALSE)","v":1545},{"$f":"VLOOKUP($A497, taxonomy!$B$2:$T$695, 6, FALSE)","v":"Eukaryota"},{"$f":"VLOOKUP($A497, taxonomy!$B$2:$T$695, 7, FALSE)","v":" Fungi"},{"$f":"VLOOKUP($A497, taxonomy!$B$2:$T$695, 8, FALSE)","v":" Dikarya"},{"$f":"VLOOKUP($A497, taxonomy!$B$2:$T$695, 9, FALSE)","v":" Ascomycota"},{"$f":"VLOOKUP($A497, taxonomy!$B$2:$T$695, 10, FALSE)","v":" Pezizomycotina"},{"$f":"VLOOKUP($A497, taxonomy!$B$2:$T$695, 11, FALSE)","v":"Sordariomycetes"},{"$f":"VLOOKUP($A497, taxonomy!$B$2:$T$695, 12, FALSE)","v":" Hypocreomycetidae"},{"$f":"VLOOKUP($A497, taxonomy!$B$2:$T$695, 13, FALSE)","v":" Hypocreales"},{"$f":"VLOOKUP($A497, taxonomy!$B$2:$T$695, 14, FALSE)","v":" Cordycipitaceae"},{"$f":"VLOOKUP($A497, taxonomy!$B$2:$T$695, 15, FALSE)","v":"Cordyceps."},{"$f":"VLOOKUP($A497, taxonomy!$B$2:$T$695, 16, FALSE)","v":0},{"$f":"VLOOKUP($A497, taxonomy!$B$2:$T$695, 17, FALSE)","v":0}]
["G3PNW0",{"$f":" VLOOKUP(A498, architecture!D$2:E$73, 2, FALSE)","v":{"$error":"#N/A"}},{"$f":"VLOOKUP(A498, 'PF14702'!B498:C3178, 2, FALSE)","v":1559},{"$f":"VLOOKUP($A498, taxonomy!$B$2:$T$695, 6, FALSE)","v":"Eukaryota"},{"$f":"VLOOKUP($A498, taxonomy!$B$2:$T$695, 7, FALSE)","v":" Metazoa"},{"$f":"VLOOKUP($A498, taxonomy!$B$2:$T$695, 8, FALSE)","v":" Chordata"},{"$f":"VLOOKUP($A498, taxonomy!$B$2:$T$695, 9, FALSE)","v":" Craniata"},{"$f":"VLOOKUP($A498, taxonomy!$B$2:$T$695, 10, FALSE)","v":" Vertebrata"},{"$f":"VLOOKUP($A498, taxonomy!$B$2:$T$695, 11, FALSE)","v":" Euteleostomi"},{"$f":"VLOOKUP($A498, taxonomy!$B$2:$T$695, 12, FALSE)","v":"Actinopterygii"},{"$f":"VLOOKUP($A498, taxonomy!$B$2:$T$695, 13, FALSE)","v":" Neopterygii"},{"$f":"VLOOKUP($A498, taxonomy!$B$2:$T$695, 14, FALSE)","v":" Teleostei"},{"$f":"VLOOKUP($A498, taxonomy!$B$2:$T$695, 15, FALSE)","v":" Neoteleostei"},{"$f":"VLOOKUP($A498, taxonomy!$B$2:$T$695, 16, FALSE)","v":" Acanthomorphata"},{"$f":"VLOOKUP($A498, taxonomy!$B$2:$T$695, 17, FALSE)","v":"Eupercaria"}]
["G3SJU0",{"$f":" VLOOKUP(A499, architecture!D$2:E$73, 2, FALSE)","v":{"$error":"#N/A"}},{"$f":"VLOOKUP(A499, 'PF14702'!B499:C3179, 2, FALSE)","v":1363},{"$f":"VLOOKUP($A499, taxonomy!$B$2:$T$695, 6, FALSE)","v":"Eukaryota"},{"$f":"VLOOKUP($A499, taxonomy!$B$2:$T$695, 7, FALSE)","v":" Metazoa"},{"$f":"VLOOKUP($A499, taxonomy!$B$2:$T$695, 8, FALSE)","v":" Chordata"},{"$f":"VLOOKUP($A499, taxonomy!$B$2:$T$695, 9, FALSE)","v":" Craniata"},{"$f":"VLOOKUP($A499, taxonomy!$B$2:$T$695, 10, FALSE)","v":" Vertebrata"},{"$f":"VLOOKUP($A499, taxonomy!$B$2:$T$695, 11, FALSE)","v":" Euteleostomi"},{"$f":"VLOOKUP($A499, taxonomy!$B$2:$T$695, 12, FALSE)","v":"Mammalia"},{"$f":"VLOOKUP($A499, taxonomy!$B$2:$T$695, 13, FALSE)","v":" Eutheria"},{"$f":"VLOOKUP($A499, taxonomy!$B$2:$T$695, 14, FALSE)","v":" Euarchontoglires"},{"$f":"VLOOKUP($A499, taxonomy!$B$2:$T$695, 15, FALSE)","v":" Primates"},{"$f":"VLOOKUP($A499, taxonomy!$B$2:$T$695, 16, FALSE)","v":" Haplorrhini"},{"$f":"VLOOKUP($A499, taxonomy!$B$2:$T$695, 17, FALSE)","v":"Catarrhini"}]
["G3SM26",{"$f":" VLOOKUP(A500, architecture!D$2:E$73, 2, FALSE)","v":{"$error":"#N/A"}},{"$f":"VLOOKUP(A500, 'PF14702'!B500:C3180, 2, FALSE)","v":1554},{"$f":"VLOOKUP($A500, taxonomy!$B$2:$T$695, 6, FALSE)","v":"Eukaryota"},{"$f":"VLOOKUP($A500, taxonomy!$B$2:$T$695, 7, FALSE)","v":" Metazoa"},{"$f":"VLOOKUP($A500, taxonomy!$B$2:$T$695, 8, FALSE)","v":" Chordata"},{"$f":"VLOOKUP($A500, taxonomy!$B$2:$T$695, 9, FALSE)","v":" Craniata"},{"$f":"VLOOKUP($A500, taxonomy!$B$2:$T$695, 10, FALSE)","v":" Vertebrata"},{"$f":"VLOOKUP($A500, taxonomy!$B$2:$T$695, 11, FALSE)","v":" Euteleostomi"},{"$f":"VLOOKUP($A500, taxonomy!$B$2:$T$695, 12, FALSE)","v":"Mammalia"},{"$f":"VLOOKUP($A500, taxonomy!$B$2:$T$695, 13, FALSE)","v":" Eutheria"},{"$f":"VLOOKUP($A500, taxonomy!$B$2:$T$695, 14, FALSE)","v":" Afrotheria"},{"$f":"VLOOKUP($A500, taxonomy!$B$2:$T$695, 15, FALSE)","v":" Proboscidea"},{"$f":"VLOOKUP($A500, taxonomy!$B$2:$T$695, 16, FALSE)","v":" Elephantidae"},{"$f":"VLOOKUP($A500, taxonomy!$B$2:$T$695, 17, FALSE)","v":" Loxodonta."}]
["G3UCH9",{"$f":" VLOOKUP(A501, architecture!D$2:E$73, 2, FALSE)","v":{"$error":"#N/A"}},{"$f":"VLOOKUP(A501, 'PF14702'!B501:C3181, 2, FALSE)","v":1531},{"$f":"VLOOKUP($A501, taxonomy!$B$2:$T$695, 6, FALSE)","v":"Eukaryota"},{"$f":"VLOOKUP($A501, taxonomy!$B$2:$T$695, 7, FALSE)","v":" Metazoa"},{"$f":"VLOOKUP($A501, taxonomy!$B$2:$T$695, 8, FALSE)","v":" Chordata"},{"$f":"VLOOKUP($A501, taxonomy!$B$2:$T$695, 9, FALSE)","v":" Craniata"},{"$f":"VLOOKUP($A501, taxonomy!$B$2:$T$695, 10, FALSE)","v":" Vertebrata"},{"$f":"VLOOKUP($A501, taxonomy!$B$2:$T$695, 11, FALSE)","v":" Euteleostomi"},{"$f":"VLOOKUP($A501, taxonomy!$B$2:$T$695, 12, FALSE)","v":"Mammalia"},{"$f":"VLOOKUP($A501, taxonomy!$B$2:$T$695, 13, FALSE)","v":" Eutheria"},{"$f":"VLOOKUP($A501, taxonomy!$B$2:$T$695, 14, FALSE)","v":" Afrotheria"},{"$f":"VLOOKUP($A501, taxonomy!$B$2:$T$695, 15, FALSE)","v":" Proboscidea"},{"$f":"VLOOKUP($A501, taxonomy!$B$2:$T$695, 16, FALSE)","v":" Elephantidae"},{"$f":"VLOOKUP($A501, taxonomy!$B$2:$T$695, 17, FALSE)","v":" Loxodonta."}]
["G3WP17",{"$f":" VLOOKUP(A502, architecture!D$2:E$73, 2, FALSE)","v":1},{"$f":"VLOOKUP(A502, 'PF14702'!B502:C3182, 2, FALSE)","v":937},{"$f":"VLOOKUP($A502, taxonomy!$B$2:$T$695, 6, FALSE)","v":"Eukaryota"},{"$f":"VLOOKUP($A502, taxonomy!$B$2:$T$695, 7, FALSE)","v":" Metazoa"},{"$f":"VLOOKUP($A502, taxonomy!$B$2:$T$695, 8, FALSE)","v":" Chordata"},{"$f":"VLOOKUP($A502, taxonomy!$B$2:$T$695, 9, FALSE)","v":" Craniata"},{"$f":"VLOOKUP($A502, taxonomy!$B$2:$T$695, 10, FALSE)","v":" Vertebrata"},{"$f":"VLOOKUP($A502, taxonomy!$B$2:$T$695, 11, FALSE)","v":" Euteleostomi"},{"$f":"VLOOKUP($A502, taxonomy!$B$2:$T$695, 12, FALSE)","v":"Mammalia"},{"$f":"VLOOKUP($A502, taxonomy!$B$2:$T$695, 13, FALSE)","v":" Metatheria"},{"$f":"VLOOKUP($A502, taxonomy!$B$2:$T$695, 14, FALSE)","v":" Dasyuromorphia"},{"$f":"VLOOKUP($A502, taxonomy!$B$2:$T$695, 15, FALSE)","v":" Dasyuridae"},{"$f":"VLOOKUP($A502, taxonomy!$B$2:$T$695, 16, FALSE)","v":" Sarcophilus."},{"$f":"VLOOKUP($A502, taxonomy!$B$2:$T$695, 17, FALSE)","v":0}]
["G3WP18",{"$f":" VLOOKUP(A503, architecture!D$2:E$73, 2, FALSE)","v":1},{"$f":"VLOOKUP(A503, 'PF14702'!B503:C3183, 2, FALSE)","v":1182},{"$f":"VLOOKUP($A503, taxonomy!$B$2:$T$695, 6, FALSE)","v":"Eukaryota"},{"$f":"VLOOKUP($A503, taxonomy!$B$2:$T$695, 7, FALSE)","v":" Metazoa"},{"$f":"VLOOKUP($A503, taxonomy!$B$2:$T$695, 8, FALSE)","v":" Chordata"},{"$f":"VLOOKUP($A503, taxonomy!$B$2:$T$695, 9, FALSE)","v":" Craniata"},{"$f":"VLOOKUP($A503, taxonomy!$B$2:$T$695, 10, FALSE)","v":" Vertebrata"},{"$f":"VLOOKUP($A503, taxonomy!$B$2:$T$695, 11, FALSE)","v":" Euteleostomi"},{"$f":"VLOOKUP($A503, taxonomy!$B$2:$T$695, 12, FALSE)","v":"Mammalia"},{"$f":"VLOOKUP($A503, taxonomy!$B$2:$T$695, 13, FALSE)","v":" Metatheria"},{"$f":"VLOOKUP($A503, taxonomy!$B$2:$T$695, 14, FALSE)","v":" Dasyuromorphia"},{"$f":"VLOOKUP($A503, taxonomy!$B$2:$T$695, 15, FALSE)","v":" Dasyuridae"},{"$f":"VLOOKUP($A503, taxonomy!$B$2:$T$695, 16, FALSE)","v":" Sarcophilus."},{"$f":"VLOOKUP($A503, taxonomy!$B$2:$T$695, 17, FALSE)","v":0}]
["G3XSN7",{"$f":" VLOOKUP(A504, architecture!D$2:E$73, 2, FALSE)","v":{"$error":"#N/A"}},{"$f":"VLOOKUP(A504, 'PF14702'!B504:C3184, 2, FALSE)","v":1539},{"$f":"VLOOKUP($A504, taxonomy!$B$2:$T$695, 6, FALSE)","v":"Eukaryota"},{"$f":"VLOOKUP($A504, taxonomy!$B$2:$T$695, 7, FALSE)","v":" Fungi"},{"$f":"VLOOKUP($A504, taxonomy!$B$2:$T$695, 8, FALSE)","v":" Dikarya"},{"$f":"VLOOKUP($A504, taxonomy!$B$2:$T$695, 9, FALSE)","v":" Ascomycota"},{"$f":"VLOOKUP($A504, taxonomy!$B$2:$T$695, 10, FALSE)","v":" Pezizomycotina"},{"$f":"VLOOKUP($A504, taxonomy!$B$2:$T$695, 11, FALSE)","v":" Eurotiomycetes"},{"$f":"VLOOKUP($A504, taxonomy!$B$2:$T$695, 12, FALSE)","v":"Eurotiomycetidae"},{"$f":"VLOOKUP($A504, taxonomy!$B$2:$T$695, 13, FALSE)","v":" Eurotiales"},{"$f":"VLOOKUP($A504, taxonomy!$B$2:$T$695, 14, FALSE)","v":" Aspergillaceae"},{"$f":"VLOOKUP($A504, taxonomy!$B$2:$T$695, 15, FALSE)","v":" Aspergillus."},{"$f":"VLOOKUP($A504, taxonomy!$B$2:$T$695, 16, FALSE)","v":0},{"$f":"VLOOKUP($A504, taxonomy!$B$2:$T$695, 17, FALSE)","v":0}]
["G4NES1",{"$f":" VLOOKUP(A505, architecture!D$2:E$73, 2, FALSE)","v":{"$error":"#N/A"}},{"$f":"VLOOKUP(A505, 'PF14702'!B505:C3185, 2, FALSE)","v":1588},{"$f":"VLOOKUP($A505, taxonomy!$B$2:$T$695, 6, FALSE)","v":"Eukaryota"},{"$f":"VLOOKUP($A505, taxonomy!$B$2:$T$695, 7, FALSE)","v":" Fungi"},{"$f":"VLOOKUP($A505, taxonomy!$B$2:$T$695, 8, FALSE)","v":" Dikarya"},{"$f":"VLOOKUP($A505, taxonomy!$B$2:$T$695, 9, FALSE)","v":" Ascomycota"},{"$f":"VLOOKUP($A505, taxonomy!$B$2:$T$695, 10, FALSE)","v":" Pezizomycotina"},{"$f":"VLOOKUP($A505, taxonomy!$B$2:$T$695, 11, FALSE)","v":"Sordariomycetes"},{"$f":"VLOOKUP($A505, taxonomy!$B$2:$T$695, 12, FALSE)","v":" Sordariomycetidae"},{"$f":"VLOOKUP($A505, taxonomy!$B$2:$T$695, 13, FALSE)","v":" Magnaporthales"},{"$f":"VLOOKUP($A505, taxonomy!$B$2:$T$695, 14, FALSE)","v":" Magnaporthaceae"},{"$f":"VLOOKUP($A505, taxonomy!$B$2:$T$695, 15, FALSE)","v":"Magnaporthe."},{"$f":"VLOOKUP($A505, taxonomy!$B$2:$T$695, 16, FALSE)","v":0},{"$f":"VLOOKUP($A505, taxonomy!$B$2:$T$695, 17, FALSE)","v":0}]
["G4U2U9",{"$f":" VLOOKUP(A506, architecture!D$2:E$73, 2, FALSE)","v":{"$error":"#N/A"}},{"$f":"VLOOKUP(A506, 'PF14702'!B506:C3186, 2, FALSE)","v":1604},{"$f":"VLOOKUP($A506, taxonomy!$B$2:$T$695, 6, FALSE)","v":"Eukaryota"},{"$f":"VLOOKUP($A506, taxonomy!$B$2:$T$695, 7, FALSE)","v":" Fungi"},{"$f":"VLOOKUP($A506, taxonomy!$B$2:$T$695, 8, FALSE)","v":" Dikarya"},{"$f":"VLOOKUP($A506, taxonomy!$B$2:$T$695, 9, FALSE)","v":" Basidiomycota"},{"$f":"VLOOKUP($A506, taxonomy!$B$2:$T$695, 10, FALSE)","v":" Agaricomycotina"},{"$f":"VLOOKUP($A506, taxonomy!$B$2:$T$695, 11, FALSE)","v":"Agaricomycetes"},{"$f":"VLOOKUP($A506, taxonomy!$B$2:$T$695, 12, FALSE)","v":" Sebacinales"},{"$f":"VLOOKUP($A506, taxonomy!$B$2:$T$695, 13, FALSE)","v":" Serendipitaceae"},{"$f":"VLOOKUP($A506, taxonomy!$B$2:$T$695, 14, FALSE)","v":" Serendipita."},{"$f":"VLOOKUP($A506, taxonomy!$B$2:$T$695, 15, FALSE)","v":0},{"$f":"VLOOKUP($A506, taxonomy!$B$2:$T$695, 16, FALSE)","v":0},{"$f":"VLOOKUP($A506, taxonomy!$B$2:$T$695, 17, FALSE)","v":0}]
["G4U8D0",{"$f":" VLOOKUP(A507, architecture!D$2:E$73, 2, FALSE)","v":{"$error":"#N/A"}},{"$f":"VLOOKUP(A507, 'PF14702'!B507:C3187, 2, FALSE)","v":1566},{"$f":"VLOOKUP($A507, taxonomy!$B$2:$T$695, 6, FALSE)","v":"Eukaryota"},{"$f":"VLOOKUP($A507, taxonomy!$B$2:$T$695, 7, FALSE)","v":" Fungi"},{"$f":"VLOOKUP($A507, taxonomy!$B$2:$T$695, 8, FALSE)","v":" Dikarya"},{"$f":"VLOOKUP($A507, taxonomy!$B$2:$T$695, 9, FALSE)","v":" Ascomycota"},{"$f":"VLOOKUP($A507, taxonomy!$B$2:$T$695, 10, FALSE)","v":" Pezizomycotina"},{"$f":"VLOOKUP($A507, taxonomy!$B$2:$T$695, 11, FALSE)","v":"Sordariomycetes"},{"$f":"VLOOKUP($A507, taxonomy!$B$2:$T$695, 12, FALSE)","v":" Sordariomycetidae"},{"$f":"VLOOKUP($A507, taxonomy!$B$2:$T$695, 13, FALSE)","v":" Sordariales"},{"$f":"VLOOKUP($A507, taxonomy!$B$2:$T$695, 14, FALSE)","v":" Sordariaceae"},{"$f":"VLOOKUP($A507, taxonomy!$B$2:$T$695, 15, FALSE)","v":"Neurospora."},{"$f":"VLOOKUP($A507, taxonomy!$B$2:$T$695, 16, FALSE)","v":0},{"$f":"VLOOKUP($A507, taxonomy!$B$2:$T$695, 17, FALSE)","v":0}]
["G4VPZ3",{"$f":" VLOOKUP(A508, architecture!D$2:E$73, 2, FALSE)","v":{"$error":"#N/A"}},{"$f":"VLOOKUP(A508, 'PF14702'!B508:C3188, 2, FALSE)","v":978},{"$f":"VLOOKUP($A508, taxonomy!$B$2:$T$695, 6, FALSE)","v":"Eukaryota"},{"$f":"VLOOKUP($A508, taxonomy!$B$2:$T$695, 7, FALSE)","v":" Metazoa"},{"$f":"VLOOKUP($A508, taxonomy!$B$2:$T$695, 8, FALSE)","v":" Platyhelminthes"},{"$f":"VLOOKUP($A508, taxonomy!$B$2:$T$695, 9, FALSE)","v":" Trematoda"},{"$f":"VLOOKUP($A508, taxonomy!$B$2:$T$695, 10, FALSE)","v":" Digenea"},{"$f":"VLOOKUP($A508, taxonomy!$B$2:$T$695, 11, FALSE)","v":" Strigeidida"},{"$f":"VLOOKUP($A508, taxonomy!$B$2:$T$695, 12, FALSE)","v":"Schistosomatoidea"},{"$f":"VLOOKUP($A508, taxonomy!$B$2:$T$695, 13, FALSE)","v":" Schistosomatidae"},{"$f":"VLOOKUP($A508, taxonomy!$B$2:$T$695, 14, FALSE)","v":" Schistosoma."},{"$f":"VLOOKUP($A508, taxonomy!$B$2:$T$695, 15, FALSE)","v":0},{"$f":"VLOOKUP($A508, taxonomy!$B$2:$T$695, 16, FALSE)","v":0},{"$f":"VLOOKUP($A508, taxonomy!$B$2:$T$695, 17, FALSE)","v":0}]
["G5C720",{"$f":" VLOOKUP(A509, architecture!D$2:E$73, 2, FALSE)","v":{"$error":"#N/A"}},{"$f":"VLOOKUP(A509, 'PF14702'!B509:C3189, 2, FALSE)","v":1523},{"$f":"VLOOKUP($A509, taxonomy!$B$2:$T$695, 6, FALSE)","v":"Eukaryota"},{"$f":"VLOOKUP($A509, taxonomy!$B$2:$T$695, 7, FALSE)","v":" Metazoa"},{"$f":"VLOOKUP($A509, taxonomy!$B$2:$T$695, 8, FALSE)","v":" Chordata"},{"$f":"VLOOKUP($A509, taxonomy!$B$2:$T$695, 9, FALSE)","v":" Craniata"},{"$f":"VLOOKUP($A509, taxonomy!$B$2:$T$695, 10, FALSE)","v":" Vertebrata"},{"$f":"VLOOKUP($A509, taxonomy!$B$2:$T$695, 11, FALSE)","v":" Euteleostomi"},{"$f":"VLOOKUP($A509, taxonomy!$B$2:$T$695, 12, FALSE)","v":"Mammalia"},{"$f":"VLOOKUP($A509, taxonomy!$B$2:$T$695, 13, FALSE)","v":" Eutheria"},{"$f":"VLOOKUP($A509, taxonomy!$B$2:$T$695, 14, FALSE)","v":" Euarchontoglires"},{"$f":"VLOOKUP($A509, taxonomy!$B$2:$T$695, 15, FALSE)","v":" Glires"},{"$f":"VLOOKUP($A509, taxonomy!$B$2:$T$695, 16, FALSE)","v":" Rodentia"},{"$f":"VLOOKUP($A509, taxonomy!$B$2:$T$695, 17, FALSE)","v":"Hystricomorpha"}]
["G6D6T7",{"$f":" VLOOKUP(A510, architecture!D$2:E$73, 2, FALSE)","v":{"$error":"#N/A"}},{"$f":"VLOOKUP(A510, 'PF14702'!B510:C3190, 2, FALSE)","v":1659},{"$f":"VLOOKUP($A510, taxonomy!$B$2:$T$695, 6, FALSE)","v":{"$error":"#N/A"}},{"$f":"VLOOKUP($A510, taxonomy!$B$2:$T$695, 7, FALSE)","v":{"$error":"#N/A"}},{"$f":"VLOOKUP($A510, taxonomy!$B$2:$T$695, 8, FALSE)","v":{"$error":"#N/A"}},{"$f":"VLOOKUP($A510, taxonomy!$B$2:$T$695, 9, FALSE)","v":{"$error":"#N/A"}},{"$f":"VLOOKUP($A510, taxonomy!$B$2:$T$695, 10, FALSE)","v":{"$error":"#N/A"}},{"$f":"VLOOKUP($A510, taxonomy!$B$2:$T$695, 11, FALSE)","v":{"$error":"#N/A"}},{"$f":"VLOOKUP($A510, taxonomy!$B$2:$T$695, 12, FALSE)","v":{"$error":"#N/A"}},{"$f":"VLOOKUP($A510, taxonomy!$B$2:$T$695, 13, FALSE)","v":{"$error":"#N/A"}},{"$f":"VLOOKUP($A510, taxonomy!$B$2:$T$695, 14, FALSE)","v":{"$error":"#N/A"}},{"$f":"VLOOKUP($A510, taxonomy!$B$2:$T$695, 15, FALSE)","v":{"$error":"#N/A"}},{"$f":"VLOOKUP($A510, taxonomy!$B$2:$T$695, 16, FALSE)","v":{"$error":"#N/A"}},{"$f":"VLOOKUP($A510, taxonomy!$B$2:$T$695, 17, FALSE)","v":{"$error":"#N/A"}}]
["G7DTR3",{"$f":" VLOOKUP(A511, architecture!D$2:E$73, 2, FALSE)","v":{"$error":"#N/A"}},{"$f":"VLOOKUP(A511, 'PF14702'!B511:C3191, 2, FALSE)","v":1594},{"$f":"VLOOKUP($A511, taxonomy!$B$2:$T$695, 6, FALSE)","v":"Eukaryota"},{"$f":"VLOOKUP($A511, taxonomy!$B$2:$T$695, 7, FALSE)","v":" Fungi"},{"$f":"VLOOKUP($A511, taxonomy!$B$2:$T$695, 8, FALSE)","v":" Dikarya"},{"$f":"VLOOKUP($A511, taxonomy!$B$2:$T$695, 9, FALSE)","v":" Basidiomycota"},{"$f":"VLOOKUP($A511, taxonomy!$B$2:$T$695, 10, FALSE)","v":" Pucciniomycotina"},{"$f":"VLOOKUP($A511, taxonomy!$B$2:$T$695, 11, FALSE)","v":"Mixiomycetes"},{"$f":"VLOOKUP($A511, taxonomy!$B$2:$T$695, 12, FALSE)","v":" Mixiales"},{"$f":"VLOOKUP($A511, taxonomy!$B$2:$T$695, 13, FALSE)","v":" Mixiaceae"},{"$f":"VLOOKUP($A511, taxonomy!$B$2:$T$695, 14, FALSE)","v":" Mixia."},{"$f":"VLOOKUP($A511, taxonomy!$B$2:$T$695, 15, FALSE)","v":0},{"$f":"VLOOKUP($A511, taxonomy!$B$2:$T$695, 16, FALSE)","v":0},{"$f":"VLOOKUP($A511, taxonomy!$B$2:$T$695, 17, FALSE)","v":0}]
["G7NV22",{"$f":" VLOOKUP(A512, architecture!D$2:E$73, 2, FALSE)","v":{"$error":"#N/A"}},{"$f":"VLOOKUP(A512, 'PF14702'!B512:C3192, 2, FALSE)","v":1533},{"$f":"VLOOKUP($A512, taxonomy!$B$2:$T$695, 6, FALSE)","v":"Eukaryota"},{"$f":"VLOOKUP($A512, taxonomy!$B$2:$T$695, 7, FALSE)","v":" Metazoa"},{"$f":"VLOOKUP($A512, taxonomy!$B$2:$T$695, 8, FALSE)","v":" Chordata"},{"$f":"VLOOKUP($A512, taxonomy!$B$2:$T$695, 9, FALSE)","v":" Craniata"},{"$f":"VLOOKUP($A512, taxonomy!$B$2:$T$695, 10, FALSE)","v":" Vertebrata"},{"$f":"VLOOKUP($A512, taxonomy!$B$2:$T$695, 11, FALSE)","v":" Euteleostomi"},{"$f":"VLOOKUP($A512, taxonomy!$B$2:$T$695, 12, FALSE)","v":"Mammalia"},{"$f":"VLOOKUP($A512, taxonomy!$B$2:$T$695, 13, FALSE)","v":" Eutheria"},{"$f":"VLOOKUP($A512, taxonomy!$B$2:$T$695, 14, FALSE)","v":" Euarchontoglires"},{"$f":"VLOOKUP($A512, taxonomy!$B$2:$T$695, 15, FALSE)","v":" Primates"},{"$f":"VLOOKUP($A512, taxonomy!$B$2:$T$695, 16, FALSE)","v":" Haplorrhini"},{"$f":"VLOOKUP($A512, taxonomy!$B$2:$T$695, 17, FALSE)","v":"Catarrhini"}]
["G7X9C7",{"$f":" VLOOKUP(A513, architecture!D$2:E$73, 2, FALSE)","v":{"$error":"#N/A"}},{"$f":"VLOOKUP(A513, 'PF14702'!B513:C3193, 2, FALSE)","v":1536},{"$f":"VLOOKUP($A513, taxonomy!$B$2:$T$695, 6, FALSE)","v":"Eukaryota"},{"$f":"VLOOKUP($A513, taxonomy!$B$2:$T$695, 7, FALSE)","v":" Fungi"},{"$f":"VLOOKUP($A513, taxonomy!$B$2:$T$695, 8, FALSE)","v":" Dikarya"},{"$f":"VLOOKUP($A513, taxonomy!$B$2:$T$695, 9, FALSE)","v":" Ascomycota"},{"$f":"VLOOKUP($A513, taxonomy!$B$2:$T$695, 10, FALSE)","v":" Pezizomycotina"},{"$f":"VLOOKUP($A513, taxonomy!$B$2:$T$695, 11, FALSE)","v":" Eurotiomycetes"},{"$f":"VLOOKUP($A513, taxonomy!$B$2:$T$695, 12, FALSE)","v":"Eurotiomycetidae"},{"$f":"VLOOKUP($A513, taxonomy!$B$2:$T$695, 13, FALSE)","v":" Eurotiales"},{"$f":"VLOOKUP($A513, taxonomy!$B$2:$T$695, 14, FALSE)","v":" Aspergillaceae"},{"$f":"VLOOKUP($A513, taxonomy!$B$2:$T$695, 15, FALSE)","v":" Aspergillus."},{"$f":"VLOOKUP($A513, taxonomy!$B$2:$T$695, 16, FALSE)","v":0},{"$f":"VLOOKUP($A513, taxonomy!$B$2:$T$695, 17, FALSE)","v":0}]
["G7YQV3",{"$f":" VLOOKUP(A514, architecture!D$2:E$73, 2, FALSE)","v":{"$error":"#N/A"}},{"$f":"VLOOKUP(A514, 'PF14702'!B514:C3194, 2, FALSE)","v":1499},{"$f":"VLOOKUP($A514, taxonomy!$B$2:$T$695, 6, FALSE)","v":"Eukaryota"},{"$f":"VLOOKUP($A514, taxonomy!$B$2:$T$695, 7, FALSE)","v":" Metazoa"},{"$f":"VLOOKUP($A514, taxonomy!$B$2:$T$695, 8, FALSE)","v":" Platyhelminthes"},{"$f":"VLOOKUP($A514, taxonomy!$B$2:$T$695, 9, FALSE)","v":" Trematoda"},{"$f":"VLOOKUP($A514, taxonomy!$B$2:$T$695, 10, FALSE)","v":" Digenea"},{"$f":"VLOOKUP($A514, taxonomy!$B$2:$T$695, 11, FALSE)","v":"Opisthorchiida"},{"$f":"VLOOKUP($A514, taxonomy!$B$2:$T$695, 12, FALSE)","v":" Opisthorchiata"},{"$f":"VLOOKUP($A514, taxonomy!$B$2:$T$695, 13, FALSE)","v":" Opisthorchiidae"},{"$f":"VLOOKUP($A514, taxonomy!$B$2:$T$695, 14, FALSE)","v":" Clonorchis."},{"$f":"VLOOKUP($A514, taxonomy!$B$2:$T$695, 15, FALSE)","v":0},{"$f":"VLOOKUP($A514, taxonomy!$B$2:$T$695, 16, FALSE)","v":0},{"$f":"VLOOKUP($A514, taxonomy!$B$2:$T$695, 17, FALSE)","v":0}]
["G8BH52",{"$f":" VLOOKUP(A515, architecture!D$2:E$73, 2, FALSE)","v":{"$error":"#N/A"}},{"$f":"VLOOKUP(A515, 'PF14702'!B515:C3195, 2, FALSE)","v":1519},{"$f":"VLOOKUP($A515, taxonomy!$B$2:$T$695, 6, FALSE)","v":"Eukaryota"},{"$f":"VLOOKUP($A515, taxonomy!$B$2:$T$695, 7, FALSE)","v":" Fungi"},{"$f":"VLOOKUP($A515, taxonomy!$B$2:$T$695, 8, FALSE)","v":" Dikarya"},{"$f":"VLOOKUP($A515, taxonomy!$B$2:$T$695, 9, FALSE)","v":" Ascomycota"},{"$f":"VLOOKUP($A515, taxonomy!$B$2:$T$695, 10, FALSE)","v":" Saccharomycotina"},{"$f":"VLOOKUP($A515, taxonomy!$B$2:$T$695, 11, FALSE)","v":"Saccharomycetes"},{"$f":"VLOOKUP($A515, taxonomy!$B$2:$T$695, 12, FALSE)","v":" Saccharomycetales"},{"$f":"VLOOKUP($A515, taxonomy!$B$2:$T$695, 13, FALSE)","v":" Debaryomycetaceae"},{"$f":"VLOOKUP($A515, taxonomy!$B$2:$T$695, 14, FALSE)","v":"Candida/Lodderomyces clade"},{"$f":"VLOOKUP($A515, taxonomy!$B$2:$T$695, 15, FALSE)","v":" Candida."},{"$f":"VLOOKUP($A515, taxonomy!$B$2:$T$695, 16, FALSE)","v":0},{"$f":"VLOOKUP($A515, taxonomy!$B$2:$T$695, 17, FALSE)","v":0}]
["G8BY52",{"$f":" VLOOKUP(A516, architecture!D$2:E$73, 2, FALSE)","v":{"$error":"#N/A"}},{"$f":"VLOOKUP(A516, 'PF14702'!B516:C3196, 2, FALSE)","v":1563},{"$f":"VLOOKUP($A516, taxonomy!$B$2:$T$695, 6, FALSE)","v":"Eukaryota"},{"$f":"VLOOKUP($A516, taxonomy!$B$2:$T$695, 7, FALSE)","v":" Fungi"},{"$f":"VLOOKUP($A516, taxonomy!$B$2:$T$695, 8, FALSE)","v":" Dikarya"},{"$f":"VLOOKUP($A516, taxonomy!$B$2:$T$695, 9, FALSE)","v":" Ascomycota"},{"$f":"VLOOKUP($A516, taxonomy!$B$2:$T$695, 10, FALSE)","v":" Saccharomycotina"},{"$f":"VLOOKUP($A516, taxonomy!$B$2:$T$695, 11, FALSE)","v":"Saccharomycetes"},{"$f":"VLOOKUP($A516, taxonomy!$B$2:$T$695, 12, FALSE)","v":" Saccharomycetales"},{"$f":"VLOOKUP($A516, taxonomy!$B$2:$T$695, 13, FALSE)","v":" Saccharomycetaceae"},{"$f":"VLOOKUP($A516, taxonomy!$B$2:$T$695, 14, FALSE)","v":"Tetrapisispora."},{"$f":"VLOOKUP($A516, taxonomy!$B$2:$T$695, 15, FALSE)","v":0},{"$f":"VLOOKUP($A516, taxonomy!$B$2:$T$695, 16, FALSE)","v":0},{"$f":"VLOOKUP($A516, taxonomy!$B$2:$T$695, 17, FALSE)","v":0}]
["G8JQE8",{"$f":" VLOOKUP(A517, architecture!D$2:E$73, 2, FALSE)","v":{"$error":"#N/A"}},{"$f":"VLOOKUP(A517, 'PF14702'!B517:C3197, 2, FALSE)","v":1524},{"$f":"VLOOKUP($A517, taxonomy!$B$2:$T$695, 6, FALSE)","v":"Eukaryota"},{"$f":"VLOOKUP($A517, taxonomy!$B$2:$T$695, 7, FALSE)","v":" Fungi"},{"$f":"VLOOKUP($A517, taxonomy!$B$2:$T$695, 8, FALSE)","v":" Dikarya"},{"$f":"VLOOKUP($A517, taxonomy!$B$2:$T$695, 9, FALSE)","v":" Ascomycota"},{"$f":"VLOOKUP($A517, taxonomy!$B$2:$T$695, 10, FALSE)","v":" Saccharomycotina"},{"$f":"VLOOKUP($A517, taxonomy!$B$2:$T$695, 11, FALSE)","v":"Saccharomycetes"},{"$f":"VLOOKUP($A517, taxonomy!$B$2:$T$695, 12, FALSE)","v":" Saccharomycetales"},{"$f":"VLOOKUP($A517, taxonomy!$B$2:$T$695, 13, FALSE)","v":" Saccharomycetaceae"},{"$f":"VLOOKUP($A517, taxonomy!$B$2:$T$695, 14, FALSE)","v":" Eremothecium."},{"$f":"VLOOKUP($A517, taxonomy!$B$2:$T$695, 15, FALSE)","v":0},{"$f":"VLOOKUP($A517, taxonomy!$B$2:$T$695, 16, FALSE)","v":0},{"$f":"VLOOKUP($A517, taxonomy!$B$2:$T$695, 17, FALSE)","v":0}]
["G8YCT6",{"$f":" VLOOKUP(A518, architecture!D$2:E$73, 2, FALSE)","v":{"$error":"#N/A"}},{"$f":"VLOOKUP(A518, 'PF14702'!B518:C3198, 2, FALSE)","v":1513},{"$f":"VLOOKUP($A518, taxonomy!$B$2:$T$695, 6, FALSE)","v":"Eukaryota"},{"$f":"VLOOKUP($A518, taxonomy!$B$2:$T$695, 7, FALSE)","v":" Fungi"},{"$f":"VLOOKUP($A518, taxonomy!$B$2:$T$695, 8, FALSE)","v":" Dikarya"},{"$f":"VLOOKUP($A518, taxonomy!$B$2:$T$695, 9, FALSE)","v":" Ascomycota"},{"$f":"VLOOKUP($A518, taxonomy!$B$2:$T$695, 10, FALSE)","v":" Saccharomycotina"},{"$f":"VLOOKUP($A518, taxonomy!$B$2:$T$695, 11, FALSE)","v":"Saccharomycetes"},{"$f":"VLOOKUP($A518, taxonomy!$B$2:$T$695, 12, FALSE)","v":" Saccharomycetales"},{"$f":"VLOOKUP($A518, taxonomy!$B$2:$T$695, 13, FALSE)","v":" Debaryomycetaceae"},{"$f":"VLOOKUP($A518, taxonomy!$B$2:$T$695, 14, FALSE)","v":" Millerozyma."},{"$f":"VLOOKUP($A518, taxonomy!$B$2:$T$695, 15, FALSE)","v":0},{"$f":"VLOOKUP($A518, taxonomy!$B$2:$T$695, 16, FALSE)","v":0},{"$f":"VLOOKUP($A518, taxonomy!$B$2:$T$695, 17, FALSE)","v":0}]
["G8YF87",{"$f":" VLOOKUP(A519, architecture!D$2:E$73, 2, FALSE)","v":{"$error":"#N/A"}},{"$f":"VLOOKUP(A519, 'PF14702'!B519:C3199, 2, FALSE)","v":1513},{"$f":"VLOOKUP($A519, taxonomy!$B$2:$T$695, 6, FALSE)","v":"Eukaryota"},{"$f":"VLOOKUP($A519, taxonomy!$B$2:$T$695, 7, FALSE)","v":" Fungi"},{"$f":"VLOOKUP($A519, taxonomy!$B$2:$T$695, 8, FALSE)","v":" Dikarya"},{"$f":"VLOOKUP($A519, taxonomy!$B$2:$T$695, 9, FALSE)","v":" Ascomycota"},{"$f":"VLOOKUP($A519, taxonomy!$B$2:$T$695, 10, FALSE)","v":" Saccharomycotina"},{"$f":"VLOOKUP($A519, taxonomy!$B$2:$T$695, 11, FALSE)","v":"Saccharomycetes"},{"$f":"VLOOKUP($A519, taxonomy!$B$2:$T$695, 12, FALSE)","v":" Saccharomycetales"},{"$f":"VLOOKUP($A519, taxonomy!$B$2:$T$695, 13, FALSE)","v":" Debaryomycetaceae"},{"$f":"VLOOKUP($A519, taxonomy!$B$2:$T$695, 14, FALSE)","v":" Millerozyma."},{"$f":"VLOOKUP($A519, taxonomy!$B$2:$T$695, 15, FALSE)","v":0},{"$f":"VLOOKUP($A519, taxonomy!$B$2:$T$695, 16, FALSE)","v":0},{"$f":"VLOOKUP($A519, taxonomy!$B$2:$T$695, 17, FALSE)","v":0}]
["G8ZZ45",{"$f":" VLOOKUP(A520, architecture!D$2:E$73, 2, FALSE)","v":{"$error":"#N/A"}},{"$f":"VLOOKUP(A520, 'PF14702'!B520:C3200, 2, FALSE)","v":1526},{"$f":"VLOOKUP($A520, taxonomy!$B$2:$T$695, 6, FALSE)","v":"Eukaryota"},{"$f":"VLOOKUP($A520, taxonomy!$B$2:$T$695, 7, FALSE)","v":" Fungi"},{"$f":"VLOOKUP($A520, taxonomy!$B$2:$T$695, 8, FALSE)","v":" Dikarya"},{"$f":"VLOOKUP($A520, taxonomy!$B$2:$T$695, 9, FALSE)","v":" Ascomycota"},{"$f":"VLOOKUP($A520, taxonomy!$B$2:$T$695, 10, FALSE)","v":" Saccharomycotina"},{"$f":"VLOOKUP($A520, taxonomy!$B$2:$T$695, 11, FALSE)","v":"Saccharomycetes"},{"$f":"VLOOKUP($A520, taxonomy!$B$2:$T$695, 12, FALSE)","v":" Saccharomycetales"},{"$f":"VLOOKUP($A520, taxonomy!$B$2:$T$695, 13, FALSE)","v":" Saccharomycetaceae"},{"$f":"VLOOKUP($A520, taxonomy!$B$2:$T$695, 14, FALSE)","v":" Torulaspora."},{"$f":"VLOOKUP($A520, taxonomy!$B$2:$T$695, 15, FALSE)","v":0},{"$f":"VLOOKUP($A520, taxonomy!$B$2:$T$695, 16, FALSE)","v":0},{"$f":"VLOOKUP($A520, taxonomy!$B$2:$T$695, 17, FALSE)","v":0}]
["G9N5P0",{"$f":" VLOOKUP(A521, architecture!D$2:E$73, 2, FALSE)","v":{"$error":"#N/A"}},{"$f":"VLOOKUP(A521, 'PF14702'!B521:C3201, 2, FALSE)","v":1557},{"$f":"VLOOKUP($A521, taxonomy!$B$2:$T$695, 6, FALSE)","v":"Eukaryota"},{"$f":"VLOOKUP($A521, taxonomy!$B$2:$T$695, 7, FALSE)","v":" Fungi"},{"$f":"VLOOKUP($A521, taxonomy!$B$2:$T$695, 8, FALSE)","v":" Dikarya"},{"$f":"VLOOKUP($A521, taxonomy!$B$2:$T$695, 9, FALSE)","v":" Ascomycota"},{"$f":"VLOOKUP($A521, taxonomy!$B$2:$T$695, 10, FALSE)","v":" Pezizomycotina"},{"$f":"VLOOKUP($A521, taxonomy!$B$2:$T$695, 11, FALSE)","v":"Sordariomycetes"},{"$f":"VLOOKUP($A521, taxonomy!$B$2:$T$695, 12, FALSE)","v":" Hypocreomycetidae"},{"$f":"VLOOKUP($A521, taxonomy!$B$2:$T$695, 13, FALSE)","v":" Hypocreales"},{"$f":"VLOOKUP($A521, taxonomy!$B$2:$T$695, 14, FALSE)","v":" Hypocreaceae"},{"$f":"VLOOKUP($A521, taxonomy!$B$2:$T$695, 15, FALSE)","v":"Trichoderma."},{"$f":"VLOOKUP($A521, taxonomy!$B$2:$T$695, 16, FALSE)","v":0},{"$f":"VLOOKUP($A521, taxonomy!$B$2:$T$695, 17, FALSE)","v":0}]
["G9NGJ9",{"$f":" VLOOKUP(A522, architecture!D$2:E$73, 2, FALSE)","v":{"$error":"#N/A"}},{"$f":"VLOOKUP(A522, 'PF14702'!B522:C3202, 2, FALSE)","v":1557},{"$f":"VLOOKUP($A522, taxonomy!$B$2:$T$695, 6, FALSE)","v":"Eukaryota"},{"$f":"VLOOKUP($A522, taxonomy!$B$2:$T$695, 7, FALSE)","v":" Fungi"},{"$f":"VLOOKUP($A522, taxonomy!$B$2:$T$695, 8, FALSE)","v":" Dikarya"},{"$f":"VLOOKUP($A522, taxonomy!$B$2:$T$695, 9, FALSE)","v":" Ascomycota"},{"$f":"VLOOKUP($A522, taxonomy!$B$2:$T$695, 10, FALSE)","v":" Pezizomycotina"},{"$f":"VLOOKUP($A522, taxonomy!$B$2:$T$695, 11, FALSE)","v":"Sordariomycetes"},{"$f":"VLOOKUP($A522, taxonomy!$B$2:$T$695, 12, FALSE)","v":" Hypocreomycetidae"},{"$f":"VLOOKUP($A522, taxonomy!$B$2:$T$695, 13, FALSE)","v":" Hypocreales"},{"$f":"VLOOKUP($A522, taxonomy!$B$2:$T$695, 14, FALSE)","v":" Hypocreaceae"},{"$f":"VLOOKUP($A522, taxonomy!$B$2:$T$695, 15, FALSE)","v":"Trichoderma."},{"$f":"VLOOKUP($A522, taxonomy!$B$2:$T$695, 16, FALSE)","v":0},{"$f":"VLOOKUP($A522, taxonomy!$B$2:$T$695, 17, FALSE)","v":0}]
["H0EHK2",{"$f":" VLOOKUP(A523, architecture!D$2:E$73, 2, FALSE)","v":{"$error":"#N/A"}},{"$f":"VLOOKUP(A523, 'PF14702'!B523:C3203, 2, FALSE)","v":1557},{"$f":"VLOOKUP($A523, taxonomy!$B$2:$T$695, 6, FALSE)","v":"Eukaryota"},{"$f":"VLOOKUP($A523, taxonomy!$B$2:$T$695, 7, FALSE)","v":" Fungi"},{"$f":"VLOOKUP($A523, taxonomy!$B$2:$T$695, 8, FALSE)","v":" Dikarya"},{"$f":"VLOOKUP($A523, taxonomy!$B$2:$T$695, 9, FALSE)","v":" Ascomycota"},{"$f":"VLOOKUP($A523, taxonomy!$B$2:$T$695, 10, FALSE)","v":" Pezizomycotina"},{"$f":"VLOOKUP($A523, taxonomy!$B$2:$T$695, 11, FALSE)","v":" Leotiomycetes"},{"$f":"VLOOKUP($A523, taxonomy!$B$2:$T$695, 12, FALSE)","v":"Helotiales"},{"$f":"VLOOKUP($A523, taxonomy!$B$2:$T$695, 13, FALSE)","v":" Helotiaceae"},{"$f":"VLOOKUP($A523, taxonomy!$B$2:$T$695, 14, FALSE)","v":" Glarea."},{"$f":"VLOOKUP($A523, taxonomy!$B$2:$T$695, 15, FALSE)","v":0},{"$f":"VLOOKUP($A523, taxonomy!$B$2:$T$695, 16, FALSE)","v":0},{"$f":"VLOOKUP($A523, taxonomy!$B$2:$T$695, 17, FALSE)","v":0}]
["H0VJR7",{"$f":" VLOOKUP(A524, architecture!D$2:E$73, 2, FALSE)","v":{"$error":"#N/A"}},{"$f":"VLOOKUP(A524, 'PF14702'!B524:C3204, 2, FALSE)","v":1531},{"$f":"VLOOKUP($A524, taxonomy!$B$2:$T$695, 6, FALSE)","v":"Eukaryota"},{"$f":"VLOOKUP($A524, taxonomy!$B$2:$T$695, 7, FALSE)","v":" Metazoa"},{"$f":"VLOOKUP($A524, taxonomy!$B$2:$T$695, 8, FALSE)","v":" Chordata"},{"$f":"VLOOKUP($A524, taxonomy!$B$2:$T$695, 9, FALSE)","v":" Craniata"},{"$f":"VLOOKUP($A524, taxonomy!$B$2:$T$695, 10, FALSE)","v":" Vertebrata"},{"$f":"VLOOKUP($A524, taxonomy!$B$2:$T$695, 11, FALSE)","v":" Euteleostomi"},{"$f":"VLOOKUP($A524, taxonomy!$B$2:$T$695, 12, FALSE)","v":"Mammalia"},{"$f":"VLOOKUP($A524, taxonomy!$B$2:$T$695, 13, FALSE)","v":" Eutheria"},{"$f":"VLOOKUP($A524, taxonomy!$B$2:$T$695, 14, FALSE)","v":" Euarchontoglires"},{"$f":"VLOOKUP($A524, taxonomy!$B$2:$T$695, 15, FALSE)","v":" Glires"},{"$f":"VLOOKUP($A524, taxonomy!$B$2:$T$695, 16, FALSE)","v":" Rodentia"},{"$f":"VLOOKUP($A524, taxonomy!$B$2:$T$695, 17, FALSE)","v":"Hystricomorpha"}]
["H0WSE9",{"$f":" VLOOKUP(A525, architecture!D$2:E$73, 2, FALSE)","v":{"$error":"#N/A"}},{"$f":"VLOOKUP(A525, 'PF14702'!B525:C3205, 2, FALSE)","v":1554},{"$f":"VLOOKUP($A525, taxonomy!$B$2:$T$695, 6, FALSE)","v":"Eukaryota"},{"$f":"VLOOKUP($A525, taxonomy!$B$2:$T$695, 7, FALSE)","v":" Metazoa"},{"$f":"VLOOKUP($A525, taxonomy!$B$2:$T$695, 8, FALSE)","v":" Chordata"},{"$f":"VLOOKUP($A525, taxonomy!$B$2:$T$695, 9, FALSE)","v":" Craniata"},{"$f":"VLOOKUP($A525, taxonomy!$B$2:$T$695, 10, FALSE)","v":" Vertebrata"},{"$f":"VLOOKUP($A525, taxonomy!$B$2:$T$695, 11, FALSE)","v":" Euteleostomi"},{"$f":"VLOOKUP($A525, taxonomy!$B$2:$T$695, 12, FALSE)","v":"Mammalia"},{"$f":"VLOOKUP($A525, taxonomy!$B$2:$T$695, 13, FALSE)","v":" Eutheria"},{"$f":"VLOOKUP($A525, taxonomy!$B$2:$T$695, 14, FALSE)","v":" Euarchontoglires"},{"$f":"VLOOKUP($A525, taxonomy!$B$2:$T$695, 15, FALSE)","v":" Primates"},{"$f":"VLOOKUP($A525, taxonomy!$B$2:$T$695, 16, FALSE)","v":" Strepsirrhini"},{"$f":"VLOOKUP($A525, taxonomy!$B$2:$T$695, 17, FALSE)","v":"Lorisiformes"}]
["H0XMV7",{"$f":" VLOOKUP(A526, architecture!D$2:E$73, 2, FALSE)","v":{"$error":"#N/A"}},{"$f":"VLOOKUP(A526, 'PF14702'!B526:C3206, 2, FALSE)","v":1532},{"$f":"VLOOKUP($A526, taxonomy!$B$2:$T$695, 6, FALSE)","v":"Eukaryota"},{"$f":"VLOOKUP($A526, taxonomy!$B$2:$T$695, 7, FALSE)","v":" Metazoa"},{"$f":"VLOOKUP($A526, taxonomy!$B$2:$T$695, 8, FALSE)","v":" Chordata"},{"$f":"VLOOKUP($A526, taxonomy!$B$2:$T$695, 9, FALSE)","v":" Craniata"},{"$f":"VLOOKUP($A526, taxonomy!$B$2:$T$695, 10, FALSE)","v":" Vertebrata"},{"$f":"VLOOKUP($A526, taxonomy!$B$2:$T$695, 11, FALSE)","v":" Euteleostomi"},{"$f":"VLOOKUP($A526, taxonomy!$B$2:$T$695, 12, FALSE)","v":"Mammalia"},{"$f":"VLOOKUP($A526, taxonomy!$B$2:$T$695, 13, FALSE)","v":" Eutheria"},{"$f":"VLOOKUP($A526, taxonomy!$B$2:$T$695, 14, FALSE)","v":" Euarchontoglires"},{"$f":"VLOOKUP($A526, taxonomy!$B$2:$T$695, 15, FALSE)","v":" Primates"},{"$f":"VLOOKUP($A526, taxonomy!$B$2:$T$695, 16, FALSE)","v":" Strepsirrhini"},{"$f":"VLOOKUP($A526, taxonomy!$B$2:$T$695, 17, FALSE)","v":"Lorisiformes"}]
["H0Z4Q4",{"$f":" VLOOKUP(A527, architecture!D$2:E$73, 2, FALSE)","v":{"$error":"#N/A"}},{"$f":"VLOOKUP(A527, 'PF14702'!B527:C3207, 2, FALSE)","v":1530},{"$f":"VLOOKUP($A527, taxonomy!$B$2:$T$695, 6, FALSE)","v":"Eukaryota"},{"$f":"VLOOKUP($A527, taxonomy!$B$2:$T$695, 7, FALSE)","v":" Metazoa"},{"$f":"VLOOKUP($A527, taxonomy!$B$2:$T$695, 8, FALSE)","v":" Chordata"},{"$f":"VLOOKUP($A527, taxonomy!$B$2:$T$695, 9, FALSE)","v":" Craniata"},{"$f":"VLOOKUP($A527, taxonomy!$B$2:$T$695, 10, FALSE)","v":" Vertebrata"},{"$f":"VLOOKUP($A527, taxonomy!$B$2:$T$695, 11, FALSE)","v":" Euteleostomi"},{"$f":"VLOOKUP($A527, taxonomy!$B$2:$T$695, 12, FALSE)","v":"Archelosauria"},{"$f":"VLOOKUP($A527, taxonomy!$B$2:$T$695, 13, FALSE)","v":" Archosauria"},{"$f":"VLOOKUP($A527, taxonomy!$B$2:$T$695, 14, FALSE)","v":" Dinosauria"},{"$f":"VLOOKUP($A527, taxonomy!$B$2:$T$695, 15, FALSE)","v":" Saurischia"},{"$f":"VLOOKUP($A527, taxonomy!$B$2:$T$695, 16, FALSE)","v":" Theropoda"},{"$f":"VLOOKUP($A527, taxonomy!$B$2:$T$695, 17, FALSE)","v":"Coelurosauria"}]
["H1UVW2",{"$f":" VLOOKUP(A528, architecture!D$2:E$73, 2, FALSE)","v":{"$error":"#N/A"}},{"$f":"VLOOKUP(A528, 'PF14702'!B528:C3208, 2, FALSE)","v":1571},{"$f":"VLOOKUP($A528, taxonomy!$B$2:$T$695, 6, FALSE)","v":"Eukaryota"},{"$f":"VLOOKUP($A528, taxonomy!$B$2:$T$695, 7, FALSE)","v":" Fungi"},{"$f":"VLOOKUP($A528, taxonomy!$B$2:$T$695, 8, FALSE)","v":" Dikarya"},{"$f":"VLOOKUP($A528, taxonomy!$B$2:$T$695, 9, FALSE)","v":" Ascomycota"},{"$f":"VLOOKUP($A528, taxonomy!$B$2:$T$695, 10, FALSE)","v":" Pezizomycotina"},{"$f":"VLOOKUP($A528, taxonomy!$B$2:$T$695, 11, FALSE)","v":"Sordariomycetes"},{"$f":"VLOOKUP($A528, taxonomy!$B$2:$T$695, 12, FALSE)","v":" Hypocreomycetidae"},{"$f":"VLOOKUP($A528, taxonomy!$B$2:$T$695, 13, FALSE)","v":" Glomerellales"},{"$f":"VLOOKUP($A528, taxonomy!$B$2:$T$695, 14, FALSE)","v":" Glomerellaceae"},{"$f":"VLOOKUP($A528, taxonomy!$B$2:$T$695, 15, FALSE)","v":"Colletotrichum."},{"$f":"VLOOKUP($A528, taxonomy!$B$2:$T$695, 16, FALSE)","v":0},{"$f":"VLOOKUP($A528, taxonomy!$B$2:$T$695, 17, FALSE)","v":0}]
["H2APN0",{"$f":" VLOOKUP(A529, architecture!D$2:E$73, 2, FALSE)","v":{"$error":"#N/A"}},{"$f":"VLOOKUP(A529, 'PF14702'!B529:C3209, 2, FALSE)","v":1529},{"$f":"VLOOKUP($A529, taxonomy!$B$2:$T$695, 6, FALSE)","v":"Eukaryota"},{"$f":"VLOOKUP($A529, taxonomy!$B$2:$T$695, 7, FALSE)","v":" Fungi"},{"$f":"VLOOKUP($A529, taxonomy!$B$2:$T$695, 8, FALSE)","v":" Dikarya"},{"$f":"VLOOKUP($A529, taxonomy!$B$2:$T$695, 9, FALSE)","v":" Ascomycota"},{"$f":"VLOOKUP($A529, taxonomy!$B$2:$T$695, 10, FALSE)","v":" Saccharomycotina"},{"$f":"VLOOKUP($A529, taxonomy!$B$2:$T$695, 11, FALSE)","v":"Saccharomycetes"},{"$f":"VLOOKUP($A529, taxonomy!$B$2:$T$695, 12, FALSE)","v":" Saccharomycetales"},{"$f":"VLOOKUP($A529, taxonomy!$B$2:$T$695, 13, FALSE)","v":" Saccharomycetaceae"},{"$f":"VLOOKUP($A529, taxonomy!$B$2:$T$695, 14, FALSE)","v":" Kazachstania."},{"$f":"VLOOKUP($A529, taxonomy!$B$2:$T$695, 15, FALSE)","v":0},{"$f":"VLOOKUP($A529, taxonomy!$B$2:$T$695, 16, FALSE)","v":0},{"$f":"VLOOKUP($A529, taxonomy!$B$2:$T$695, 17, FALSE)","v":0}]
["H2LLD2",{"$f":" VLOOKUP(A530, architecture!D$2:E$73, 2, FALSE)","v":{"$error":"#N/A"}},{"$f":"VLOOKUP(A530, 'PF14702'!B530:C3210, 2, FALSE)","v":1559},{"$f":"VLOOKUP($A530, taxonomy!$B$2:$T$695, 6, FALSE)","v":"Eukaryota"},{"$f":"VLOOKUP($A530, taxonomy!$B$2:$T$695, 7, FALSE)","v":" Metazoa"},{"$f":"VLOOKUP($A530, taxonomy!$B$2:$T$695, 8, FALSE)","v":" Chordata"},{"$f":"VLOOKUP($A530, taxonomy!$B$2:$T$695, 9, FALSE)","v":" Craniata"},{"$f":"VLOOKUP($A530, taxonomy!$B$2:$T$695, 10, FALSE)","v":" Vertebrata"},{"$f":"VLOOKUP($A530, taxonomy!$B$2:$T$695, 11, FALSE)","v":" Euteleostomi"},{"$f":"VLOOKUP($A530, taxonomy!$B$2:$T$695, 12, FALSE)","v":"Actinopterygii"},{"$f":"VLOOKUP($A530, taxonomy!$B$2:$T$695, 13, FALSE)","v":" Neopterygii"},{"$f":"VLOOKUP($A530, taxonomy!$B$2:$T$695, 14, FALSE)","v":" Teleostei"},{"$f":"VLOOKUP($A530, taxonomy!$B$2:$T$695, 15, FALSE)","v":" Neoteleostei"},{"$f":"VLOOKUP($A530, taxonomy!$B$2:$T$695, 16, FALSE)","v":" Acanthomorphata"},{"$f":"VLOOKUP($A530, taxonomy!$B$2:$T$695, 17, FALSE)","v":"Ovalentaria"}]
["H2N6N7",{"$f":" VLOOKUP(A531, architecture!D$2:E$73, 2, FALSE)","v":{"$error":"#N/A"}},{"$f":"VLOOKUP(A531, 'PF14702'!B531:C3211, 2, FALSE)","v":1299},{"$f":"VLOOKUP($A531, taxonomy!$B$2:$T$695, 6, FALSE)","v":"Eukaryota"},{"$f":"VLOOKUP($A531, taxonomy!$B$2:$T$695, 7, FALSE)","v":" Metazoa"},{"$f":"VLOOKUP($A531, taxonomy!$B$2:$T$695, 8, FALSE)","v":" Chordata"},{"$f":"VLOOKUP($A531, taxonomy!$B$2:$T$695, 9, FALSE)","v":" Craniata"},{"$f":"VLOOKUP($A531, taxonomy!$B$2:$T$695, 10, FALSE)","v":" Vertebrata"},{"$f":"VLOOKUP($A531, taxonomy!$B$2:$T$695, 11, FALSE)","v":" Euteleostomi"},{"$f":"VLOOKUP($A531, taxonomy!$B$2:$T$695, 12, FALSE)","v":"Mammalia"},{"$f":"VLOOKUP($A531, taxonomy!$B$2:$T$695, 13, FALSE)","v":" Eutheria"},{"$f":"VLOOKUP($A531, taxonomy!$B$2:$T$695, 14, FALSE)","v":" Euarchontoglires"},{"$f":"VLOOKUP($A531, taxonomy!$B$2:$T$695, 15, FALSE)","v":" Primates"},{"$f":"VLOOKUP($A531, taxonomy!$B$2:$T$695, 16, FALSE)","v":" Haplorrhini"},{"$f":"VLOOKUP($A531, taxonomy!$B$2:$T$695, 17, FALSE)","v":"Catarrhini"}]
["H2PZG8",{"$f":" VLOOKUP(A532, architecture!D$2:E$73, 2, FALSE)","v":{"$error":"#N/A"}},{"$f":"VLOOKUP(A532, 'PF14702'!B532:C3212, 2, FALSE)","v":1532},{"$f":"VLOOKUP($A532, taxonomy!$B$2:$T$695, 6, FALSE)","v":"Eukaryota"},{"$f":"VLOOKUP($A532, taxonomy!$B$2:$T$695, 7, FALSE)","v":" Metazoa"},{"$f":"VLOOKUP($A532, taxonomy!$B$2:$T$695, 8, FALSE)","v":" Chordata"},{"$f":"VLOOKUP($A532, taxonomy!$B$2:$T$695, 9, FALSE)","v":" Craniata"},{"$f":"VLOOKUP($A532, taxonomy!$B$2:$T$695, 10, FALSE)","v":" Vertebrata"},{"$f":"VLOOKUP($A532, taxonomy!$B$2:$T$695, 11, FALSE)","v":" Euteleostomi"},{"$f":"VLOOKUP($A532, taxonomy!$B$2:$T$695, 12, FALSE)","v":"Mammalia"},{"$f":"VLOOKUP($A532, taxonomy!$B$2:$T$695, 13, FALSE)","v":" Eutheria"},{"$f":"VLOOKUP($A532, taxonomy!$B$2:$T$695, 14, FALSE)","v":" Euarchontoglires"},{"$f":"VLOOKUP($A532, taxonomy!$B$2:$T$695, 15, FALSE)","v":" Primates"},{"$f":"VLOOKUP($A532, taxonomy!$B$2:$T$695, 16, FALSE)","v":" Haplorrhini"},{"$f":"VLOOKUP($A532, taxonomy!$B$2:$T$695, 17, FALSE)","v":"Catarrhini"}]
["H2U5M9",{"$f":" VLOOKUP(A533, architecture!D$2:E$73, 2, FALSE)","v":{"$error":"#N/A"}},{"$f":"VLOOKUP(A533, 'PF14702'!B533:C3213, 2, FALSE)","v":1532},{"$f":"VLOOKUP($A533, taxonomy!$B$2:$T$695, 6, FALSE)","v":"Eukaryota"},{"$f":"VLOOKUP($A533, taxonomy!$B$2:$T$695, 7, FALSE)","v":" Metazoa"},{"$f":"VLOOKUP($A533, taxonomy!$B$2:$T$695, 8, FALSE)","v":" Chordata"},{"$f":"VLOOKUP($A533, taxonomy!$B$2:$T$695, 9, FALSE)","v":" Craniata"},{"$f":"VLOOKUP($A533, taxonomy!$B$2:$T$695, 10, FALSE)","v":" Vertebrata"},{"$f":"VLOOKUP($A533, taxonomy!$B$2:$T$695, 11, FALSE)","v":" Euteleostomi"},{"$f":"VLOOKUP($A533, taxonomy!$B$2:$T$695, 12, FALSE)","v":"Actinopterygii"},{"$f":"VLOOKUP($A533, taxonomy!$B$2:$T$695, 13, FALSE)","v":" Neopterygii"},{"$f":"VLOOKUP($A533, taxonomy!$B$2:$T$695, 14, FALSE)","v":" Teleostei"},{"$f":"VLOOKUP($A533, taxonomy!$B$2:$T$695, 15, FALSE)","v":" Neoteleostei"},{"$f":"VLOOKUP($A533, taxonomy!$B$2:$T$695, 16, FALSE)","v":" Acanthomorphata"},{"$f":"VLOOKUP($A533, taxonomy!$B$2:$T$695, 17, FALSE)","v":"Eupercaria"}]
["H2U5N0",{"$f":" VLOOKUP(A534, architecture!D$2:E$73, 2, FALSE)","v":{"$error":"#N/A"}},{"$f":"VLOOKUP(A534, 'PF14702'!B534:C3214, 2, FALSE)","v":1532},{"$f":"VLOOKUP($A534, taxonomy!$B$2:$T$695, 6, FALSE)","v":"Eukaryota"},{"$f":"VLOOKUP($A534, taxonomy!$B$2:$T$695, 7, FALSE)","v":" Metazoa"},{"$f":"VLOOKUP($A534, taxonomy!$B$2:$T$695, 8, FALSE)","v":" Chordata"},{"$f":"VLOOKUP($A534, taxonomy!$B$2:$T$695, 9, FALSE)","v":" Craniata"},{"$f":"VLOOKUP($A534, taxonomy!$B$2:$T$695, 10, FALSE)","v":" Vertebrata"},{"$f":"VLOOKUP($A534, taxonomy!$B$2:$T$695, 11, FALSE)","v":" Euteleostomi"},{"$f":"VLOOKUP($A534, taxonomy!$B$2:$T$695, 12, FALSE)","v":"Actinopterygii"},{"$f":"VLOOKUP($A534, taxonomy!$B$2:$T$695, 13, FALSE)","v":" Neopterygii"},{"$f":"VLOOKUP($A534, taxonomy!$B$2:$T$695, 14, FALSE)","v":" Teleostei"},{"$f":"VLOOKUP($A534, taxonomy!$B$2:$T$695, 15, FALSE)","v":" Neoteleostei"},{"$f":"VLOOKUP($A534, taxonomy!$B$2:$T$695, 16, FALSE)","v":" Acanthomorphata"},{"$f":"VLOOKUP($A534, taxonomy!$B$2:$T$695, 17, FALSE)","v":"Eupercaria"}]
["H2W410",{"$f":" VLOOKUP(A535, architecture!D$2:E$73, 2, FALSE)","v":{"$error":"#N/A"}},{"$f":"VLOOKUP(A535, 'PF14702'!B535:C3215, 2, FALSE)","v":830},{"$f":"VLOOKUP($A535, taxonomy!$B$2:$T$695, 6, FALSE)","v":{"$error":"#N/A"}},{"$f":"VLOOKUP($A535, taxonomy!$B$2:$T$695, 7, FALSE)","v":{"$error":"#N/A"}},{"$f":"VLOOKUP($A535, taxonomy!$B$2:$T$695, 8, FALSE)","v":{"$error":"#N/A"}},{"$f":"VLOOKUP($A535, taxonomy!$B$2:$T$695, 9, FALSE)","v":{"$error":"#N/A"}},{"$f":"VLOOKUP($A535, taxonomy!$B$2:$T$695, 10, FALSE)","v":{"$error":"#N/A"}},{"$f":"VLOOKUP($A535, taxonomy!$B$2:$T$695, 11, FALSE)","v":{"$error":"#N/A"}},{"$f":"VLOOKUP($A535, taxonomy!$B$2:$T$695, 12, FALSE)","v":{"$error":"#N/A"}},{"$f":"VLOOKUP($A535, taxonomy!$B$2:$T$695, 13, FALSE)","v":{"$error":"#N/A"}},{"$f":"VLOOKUP($A535, taxonomy!$B$2:$T$695, 14, FALSE)","v":{"$error":"#N/A"}},{"$f":"VLOOKUP($A535, taxonomy!$B$2:$T$695, 15, FALSE)","v":{"$error":"#N/A"}},{"$f":"VLOOKUP($A535, taxonomy!$B$2:$T$695, 16, FALSE)","v":{"$error":"#N/A"}},{"$f":"VLOOKUP($A535, taxonomy!$B$2:$T$695, 17, FALSE)","v":{"$error":"#N/A"}}]
["H2ZLQ6",{"$f":" VLOOKUP(A536, architecture!D$2:E$73, 2, FALSE)","v":{"$error":"#N/A"}},{"$f":"VLOOKUP(A536, 'PF14702'!B536:C3216, 2, FALSE)","v":1410},{"$f":"VLOOKUP($A536, taxonomy!$B$2:$T$695, 6, FALSE)","v":"Eukaryota"},{"$f":"VLOOKUP($A536, taxonomy!$B$2:$T$695, 7, FALSE)","v":" Metazoa"},{"$f":"VLOOKUP($A536, taxonomy!$B$2:$T$695, 8, FALSE)","v":" Chordata"},{"$f":"VLOOKUP($A536, taxonomy!$B$2:$T$695, 9, FALSE)","v":" Tunicata"},{"$f":"VLOOKUP($A536, taxonomy!$B$2:$T$695, 10, FALSE)","v":" Ascidiacea"},{"$f":"VLOOKUP($A536, taxonomy!$B$2:$T$695, 11, FALSE)","v":" Enterogona"},{"$f":"VLOOKUP($A536, taxonomy!$B$2:$T$695, 12, FALSE)","v":"Phlebobranchia"},{"$f":"VLOOKUP($A536, taxonomy!$B$2:$T$695, 13, FALSE)","v":" Cionidae"},{"$f":"VLOOKUP($A536, taxonomy!$B$2:$T$695, 14, FALSE)","v":" Ciona."},{"$f":"VLOOKUP($A536, taxonomy!$B$2:$T$695, 15, FALSE)","v":0},{"$f":"VLOOKUP($A536, taxonomy!$B$2:$T$695, 16, FALSE)","v":0},{"$f":"VLOOKUP($A536, taxonomy!$B$2:$T$695, 17, FALSE)","v":0}]
["H3AL55",{"$f":" VLOOKUP(A537, architecture!D$2:E$73, 2, FALSE)","v":{"$error":"#N/A"}},{"$f":"VLOOKUP(A537, 'PF14702'!B537:C3217, 2, FALSE)","v":1533},{"$f":"VLOOKUP($A537, taxonomy!$B$2:$T$695, 6, FALSE)","v":"Eukaryota"},{"$f":"VLOOKUP($A537, taxonomy!$B$2:$T$695, 7, FALSE)","v":" Metazoa"},{"$f":"VLOOKUP($A537, taxonomy!$B$2:$T$695, 8, FALSE)","v":" Chordata"},{"$f":"VLOOKUP($A537, taxonomy!$B$2:$T$695, 9, FALSE)","v":" Craniata"},{"$f":"VLOOKUP($A537, taxonomy!$B$2:$T$695, 10, FALSE)","v":" Vertebrata"},{"$f":"VLOOKUP($A537, taxonomy!$B$2:$T$695, 11, FALSE)","v":" Euteleostomi"},{"$f":"VLOOKUP($A537, taxonomy!$B$2:$T$695, 12, FALSE)","v":"Coelacanthiformes"},{"$f":"VLOOKUP($A537, taxonomy!$B$2:$T$695, 13, FALSE)","v":" Coelacanthidae"},{"$f":"VLOOKUP($A537, taxonomy!$B$2:$T$695, 14, FALSE)","v":" Latimeria."},{"$f":"VLOOKUP($A537, taxonomy!$B$2:$T$695, 15, FALSE)","v":0},{"$f":"VLOOKUP($A537, taxonomy!$B$2:$T$695, 16, FALSE)","v":0},{"$f":"VLOOKUP($A537, taxonomy!$B$2:$T$695, 17, FALSE)","v":0}]
["H3AL56",{"$f":" VLOOKUP(A538, architecture!D$2:E$73, 2, FALSE)","v":{"$error":"#N/A"}},{"$f":"VLOOKUP(A538, 'PF14702'!B538:C3218, 2, FALSE)","v":1533},{"$f":"VLOOKUP($A538, taxonomy!$B$2:$T$695, 6, FALSE)","v":"Eukaryota"},{"$f":"VLOOKUP($A538, taxonomy!$B$2:$T$695, 7, FALSE)","v":" Metazoa"},{"$f":"VLOOKUP($A538, taxonomy!$B$2:$T$695, 8, FALSE)","v":" Chordata"},{"$f":"VLOOKUP($A538, taxonomy!$B$2:$T$695, 9, FALSE)","v":" Craniata"},{"$f":"VLOOKUP($A538, taxonomy!$B$2:$T$695, 10, FALSE)","v":" Vertebrata"},{"$f":"VLOOKUP($A538, taxonomy!$B$2:$T$695, 11, FALSE)","v":" Euteleostomi"},{"$f":"VLOOKUP($A538, taxonomy!$B$2:$T$695, 12, FALSE)","v":"Coelacanthiformes"},{"$f":"VLOOKUP($A538, taxonomy!$B$2:$T$695, 13, FALSE)","v":" Coelacanthidae"},{"$f":"VLOOKUP($A538, taxonomy!$B$2:$T$695, 14, FALSE)","v":" Latimeria."},{"$f":"VLOOKUP($A538, taxonomy!$B$2:$T$695, 15, FALSE)","v":0},{"$f":"VLOOKUP($A538, taxonomy!$B$2:$T$695, 16, FALSE)","v":0},{"$f":"VLOOKUP($A538, taxonomy!$B$2:$T$695, 17, FALSE)","v":0}]
["H3DLB9",{"$f":" VLOOKUP(A539, architecture!D$2:E$73, 2, FALSE)","v":{"$error":"#N/A"}},{"$f":"VLOOKUP(A539, 'PF14702'!B539:C3219, 2, FALSE)","v":1534},{"$f":"VLOOKUP($A539, taxonomy!$B$2:$T$695, 6, FALSE)","v":"Eukaryota"},{"$f":"VLOOKUP($A539, taxonomy!$B$2:$T$695, 7, FALSE)","v":" Metazoa"},{"$f":"VLOOKUP($A539, taxonomy!$B$2:$T$695, 8, FALSE)","v":" Chordata"},{"$f":"VLOOKUP($A539, taxonomy!$B$2:$T$695, 9, FALSE)","v":" Craniata"},{"$f":"VLOOKUP($A539, taxonomy!$B$2:$T$695, 10, FALSE)","v":" Vertebrata"},{"$f":"VLOOKUP($A539, taxonomy!$B$2:$T$695, 11, FALSE)","v":" Euteleostomi"},{"$f":"VLOOKUP($A539, taxonomy!$B$2:$T$695, 12, FALSE)","v":"Actinopterygii"},{"$f":"VLOOKUP($A539, taxonomy!$B$2:$T$695, 13, FALSE)","v":" Neopterygii"},{"$f":"VLOOKUP($A539, taxonomy!$B$2:$T$695, 14, FALSE)","v":" Teleostei"},{"$f":"VLOOKUP($A539, taxonomy!$B$2:$T$695, 15, FALSE)","v":" Neoteleostei"},{"$f":"VLOOKUP($A539, taxonomy!$B$2:$T$695, 16, FALSE)","v":" Acanthomorphata"},{"$f":"VLOOKUP($A539, taxonomy!$B$2:$T$695, 17, FALSE)","v":"Eupercaria"}]
["H3FFD1",{"$f":" VLOOKUP(A540, architecture!D$2:E$73, 2, FALSE)","v":{"$error":"#N/A"}},{"$f":"VLOOKUP(A540, 'PF14702'!B540:C3220, 2, FALSE)","v":685},{"$f":"VLOOKUP($A540, taxonomy!$B$2:$T$695, 6, FALSE)","v":"Eukaryota"},{"$f":"VLOOKUP($A540, taxonomy!$B$2:$T$695, 7, FALSE)","v":" Metazoa"},{"$f":"VLOOKUP($A540, taxonomy!$B$2:$T$695, 8, FALSE)","v":" Ecdysozoa"},{"$f":"VLOOKUP($A540, taxonomy!$B$2:$T$695, 9, FALSE)","v":" Nematoda"},{"$f":"VLOOKUP($A540, taxonomy!$B$2:$T$695, 10, FALSE)","v":" Chromadorea"},{"$f":"VLOOKUP($A540, taxonomy!$B$2:$T$695, 11, FALSE)","v":" Diplogasterida"},{"$f":"VLOOKUP($A540, taxonomy!$B$2:$T$695, 12, FALSE)","v":"Neodiplogasteridae"},{"$f":"VLOOKUP($A540, taxonomy!$B$2:$T$695, 13, FALSE)","v":" Pristionchus."},{"$f":"VLOOKUP($A540, taxonomy!$B$2:$T$695, 14, FALSE)","v":0},{"$f":"VLOOKUP($A540, taxonomy!$B$2:$T$695, 15, FALSE)","v":0},{"$f":"VLOOKUP($A540, taxonomy!$B$2:$T$695, 16, FALSE)","v":0},{"$f":"VLOOKUP($A540, taxonomy!$B$2:$T$695, 17, FALSE)","v":0}]
["H3FFD2",{"$f":" VLOOKUP(A541, architecture!D$2:E$73, 2, FALSE)","v":{"$error":"#N/A"}},{"$f":"VLOOKUP(A541, 'PF14702'!B541:C3221, 2, FALSE)","v":860},{"$f":"VLOOKUP($A541, taxonomy!$B$2:$T$695, 6, FALSE)","v":"Eukaryota"},{"$f":"VLOOKUP($A541, taxonomy!$B$2:$T$695, 7, FALSE)","v":" Metazoa"},{"$f":"VLOOKUP($A541, taxonomy!$B$2:$T$695, 8, FALSE)","v":" Ecdysozoa"},{"$f":"VLOOKUP($A541, taxonomy!$B$2:$T$695, 9, FALSE)","v":" Nematoda"},{"$f":"VLOOKUP($A541, taxonomy!$B$2:$T$695, 10, FALSE)","v":" Chromadorea"},{"$f":"VLOOKUP($A541, taxonomy!$B$2:$T$695, 11, FALSE)","v":" Diplogasterida"},{"$f":"VLOOKUP($A541, taxonomy!$B$2:$T$695, 12, FALSE)","v":"Neodiplogasteridae"},{"$f":"VLOOKUP($A541, taxonomy!$B$2:$T$695, 13, FALSE)","v":" Pristionchus."},{"$f":"VLOOKUP($A541, taxonomy!$B$2:$T$695, 14, FALSE)","v":0},{"$f":"VLOOKUP($A541, taxonomy!$B$2:$T$695, 15, FALSE)","v":0},{"$f":"VLOOKUP($A541, taxonomy!$B$2:$T$695, 16, FALSE)","v":0},{"$f":"VLOOKUP($A541, taxonomy!$B$2:$T$695, 17, FALSE)","v":0}]
["H6BL98",{"$f":" VLOOKUP(A542, architecture!D$2:E$73, 2, FALSE)","v":{"$error":"#N/A"}},{"$f":"VLOOKUP(A542, 'PF14702'!B542:C3222, 2, FALSE)","v":1556},{"$f":"VLOOKUP($A542, taxonomy!$B$2:$T$695, 6, FALSE)","v":"Eukaryota"},{"$f":"VLOOKUP($A542, taxonomy!$B$2:$T$695, 7, FALSE)","v":" Fungi"},{"$f":"VLOOKUP($A542, taxonomy!$B$2:$T$695, 8, FALSE)","v":" Dikarya"},{"$f":"VLOOKUP($A542, taxonomy!$B$2:$T$695, 9, FALSE)","v":" Ascomycota"},{"$f":"VLOOKUP($A542, taxonomy!$B$2:$T$695, 10, FALSE)","v":" Pezizomycotina"},{"$f":"VLOOKUP($A542, taxonomy!$B$2:$T$695, 11, FALSE)","v":" Eurotiomycetes"},{"$f":"VLOOKUP($A542, taxonomy!$B$2:$T$695, 12, FALSE)","v":"Chaetothyriomycetidae"},{"$f":"VLOOKUP($A542, taxonomy!$B$2:$T$695, 13, FALSE)","v":" Chaetothyriales"},{"$f":"VLOOKUP($A542, taxonomy!$B$2:$T$695, 14, FALSE)","v":" Herpotrichiellaceae"},{"$f":"VLOOKUP($A542, taxonomy!$B$2:$T$695, 15, FALSE)","v":"Exophiala."},{"$f":"VLOOKUP($A542, taxonomy!$B$2:$T$695, 16, FALSE)","v":0},{"$f":"VLOOKUP($A542, taxonomy!$B$2:$T$695, 17, FALSE)","v":0}]
["H9JMY5",{"$f":" VLOOKUP(A543, architecture!D$2:E$73, 2, FALSE)","v":{"$error":"#N/A"}},{"$f":"VLOOKUP(A543, 'PF14702'!B543:C3223, 2, FALSE)","v":1138},{"$f":"VLOOKUP($A543, taxonomy!$B$2:$T$695, 6, FALSE)","v":"Eukaryota"},{"$f":"VLOOKUP($A543, taxonomy!$B$2:$T$695, 7, FALSE)","v":" Metazoa"},{"$f":"VLOOKUP($A543, taxonomy!$B$2:$T$695, 8, FALSE)","v":" Ecdysozoa"},{"$f":"VLOOKUP($A543, taxonomy!$B$2:$T$695, 9, FALSE)","v":" Arthropoda"},{"$f":"VLOOKUP($A543, taxonomy!$B$2:$T$695, 10, FALSE)","v":" Hexapoda"},{"$f":"VLOOKUP($A543, taxonomy!$B$2:$T$695, 11, FALSE)","v":" Insecta"},{"$f":"VLOOKUP($A543, taxonomy!$B$2:$T$695, 12, FALSE)","v":"Pterygota"},{"$f":"VLOOKUP($A543, taxonomy!$B$2:$T$695, 13, FALSE)","v":" Neoptera"},{"$f":"VLOOKUP($A543, taxonomy!$B$2:$T$695, 14, FALSE)","v":" Holometabola"},{"$f":"VLOOKUP($A543, taxonomy!$B$2:$T$695, 15, FALSE)","v":" Lepidoptera"},{"$f":"VLOOKUP($A543, taxonomy!$B$2:$T$695, 16, FALSE)","v":" Glossata"},{"$f":"VLOOKUP($A543, taxonomy!$B$2:$T$695, 17, FALSE)","v":" Ditrysia"}]
["I1C152",{"$f":" VLOOKUP(A544, architecture!D$2:E$73, 2, FALSE)","v":{"$error":"#N/A"}},{"$f":"VLOOKUP(A544, 'PF14702'!B544:C3224, 2, FALSE)","v":1499},{"$f":"VLOOKUP($A544, taxonomy!$B$2:$T$695, 6, FALSE)","v":"Eukaryota"},{"$f":"VLOOKUP($A544, taxonomy!$B$2:$T$695, 7, FALSE)","v":" Fungi"},{"$f":"VLOOKUP($A544, taxonomy!$B$2:$T$695, 8, FALSE)","v":" Mucoromycota"},{"$f":"VLOOKUP($A544, taxonomy!$B$2:$T$695, 9, FALSE)","v":" Mucoromycotina"},{"$f":"VLOOKUP($A544, taxonomy!$B$2:$T$695, 10, FALSE)","v":" Mucorales"},{"$f":"VLOOKUP($A544, taxonomy!$B$2:$T$695, 11, FALSE)","v":" Mucorineae"},{"$f":"VLOOKUP($A544, taxonomy!$B$2:$T$695, 12, FALSE)","v":"Rhizopodaceae"},{"$f":"VLOOKUP($A544, taxonomy!$B$2:$T$695, 13, FALSE)","v":" Rhizopus."},{"$f":"VLOOKUP($A544, taxonomy!$B$2:$T$695, 14, FALSE)","v":0},{"$f":"VLOOKUP($A544, taxonomy!$B$2:$T$695, 15, FALSE)","v":0},{"$f":"VLOOKUP($A544, taxonomy!$B$2:$T$695, 16, FALSE)","v":0},{"$f":"VLOOKUP($A544, taxonomy!$B$2:$T$695, 17, FALSE)","v":0}]
["I1FDE0",{"$f":" VLOOKUP(A545, architecture!D$2:E$73, 2, FALSE)","v":{"$error":"#N/A"}},{"$f":"VLOOKUP(A545, 'PF14702'!B545:C3225, 2, FALSE)","v":1425},{"$f":"VLOOKUP($A545, taxonomy!$B$2:$T$695, 6, FALSE)","v":{"$error":"#N/A"}},{"$f":"VLOOKUP($A545, taxonomy!$B$2:$T$695, 7, FALSE)","v":{"$error":"#N/A"}},{"$f":"VLOOKUP($A545, taxonomy!$B$2:$T$695, 8, FALSE)","v":{"$error":"#N/A"}},{"$f":"VLOOKUP($A545, taxonomy!$B$2:$T$695, 9, FALSE)","v":{"$error":"#N/A"}},{"$f":"VLOOKUP($A545, taxonomy!$B$2:$T$695, 10, FALSE)","v":{"$error":"#N/A"}},{"$f":"VLOOKUP($A545, taxonomy!$B$2:$T$695, 11, FALSE)","v":{"$error":"#N/A"}},{"$f":"VLOOKUP($A545, taxonomy!$B$2:$T$695, 12, FALSE)","v":{"$error":"#N/A"}},{"$f":"VLOOKUP($A545, taxonomy!$B$2:$T$695, 13, FALSE)","v":{"$error":"#N/A"}},{"$f":"VLOOKUP($A545, taxonomy!$B$2:$T$695, 14, FALSE)","v":{"$error":"#N/A"}},{"$f":"VLOOKUP($A545, taxonomy!$B$2:$T$695, 15, FALSE)","v":{"$error":"#N/A"}},{"$f":"VLOOKUP($A545, taxonomy!$B$2:$T$695, 16, FALSE)","v":{"$error":"#N/A"}},{"$f":"VLOOKUP($A545, taxonomy!$B$2:$T$695, 17, FALSE)","v":{"$error":"#N/A"}}]
["I1RZ78",{"$f":" VLOOKUP(A546, architecture!D$2:E$73, 2, FALSE)","v":{"$error":"#N/A"}},{"$f":"VLOOKUP(A546, 'PF14702'!B546:C3226, 2, FALSE)","v":1553},{"$f":"VLOOKUP($A546, taxonomy!$B$2:$T$695, 6, FALSE)","v":"Eukaryota"},{"$f":"VLOOKUP($A546, taxonomy!$B$2:$T$695, 7, FALSE)","v":" Fungi"},{"$f":"VLOOKUP($A546, taxonomy!$B$2:$T$695, 8, FALSE)","v":" Dikarya"},{"$f":"VLOOKUP($A546, taxonomy!$B$2:$T$695, 9, FALSE)","v":" Ascomycota"},{"$f":"VLOOKUP($A546, taxonomy!$B$2:$T$695, 10, FALSE)","v":" Pezizomycotina"},{"$f":"VLOOKUP($A546, taxonomy!$B$2:$T$695, 11, FALSE)","v":"Sordariomycetes"},{"$f":"VLOOKUP($A546, taxonomy!$B$2:$T$695, 12, FALSE)","v":" Hypocreomycetidae"},{"$f":"VLOOKUP($A546, taxonomy!$B$2:$T$695, 13, FALSE)","v":" Hypocreales"},{"$f":"VLOOKUP($A546, taxonomy!$B$2:$T$695, 14, FALSE)","v":" Nectriaceae"},{"$f":"VLOOKUP($A546, taxonomy!$B$2:$T$695, 15, FALSE)","v":"Fusarium."},{"$f":"VLOOKUP($A546, taxonomy!$B$2:$T$695, 16, FALSE)","v":0},{"$f":"VLOOKUP($A546, taxonomy!$B$2:$T$695, 17, FALSE)","v":0}]
["I2FPU0",{"$f":" VLOOKUP(A547, architecture!D$2:E$73, 2, FALSE)","v":{"$error":"#N/A"}},{"$f":"VLOOKUP(A547, 'PF14702'!B547:C3227, 2, FALSE)","v":1571},{"$f":"VLOOKUP($A547, taxonomy!$B$2:$T$695, 6, FALSE)","v":"Eukaryota"},{"$f":"VLOOKUP($A547, taxonomy!$B$2:$T$695, 7, FALSE)","v":" Fungi"},{"$f":"VLOOKUP($A547, taxonomy!$B$2:$T$695, 8, FALSE)","v":" Dikarya"},{"$f":"VLOOKUP($A547, taxonomy!$B$2:$T$695, 9, FALSE)","v":" Basidiomycota"},{"$f":"VLOOKUP($A547, taxonomy!$B$2:$T$695, 10, FALSE)","v":" Ustilaginomycotina"},{"$f":"VLOOKUP($A547, taxonomy!$B$2:$T$695, 11, FALSE)","v":"Ustilaginomycetes"},{"$f":"VLOOKUP($A547, taxonomy!$B$2:$T$695, 12, FALSE)","v":" Ustilaginales"},{"$f":"VLOOKUP($A547, taxonomy!$B$2:$T$695, 13, FALSE)","v":" Ustilaginaceae"},{"$f":"VLOOKUP($A547, taxonomy!$B$2:$T$695, 14, FALSE)","v":" Ustilago."},{"$f":"VLOOKUP($A547, taxonomy!$B$2:$T$695, 15, FALSE)","v":0},{"$f":"VLOOKUP($A547, taxonomy!$B$2:$T$695, 16, FALSE)","v":0},{"$f":"VLOOKUP($A547, taxonomy!$B$2:$T$695, 17, FALSE)","v":0}]
["I2H9G0",{"$f":" VLOOKUP(A548, architecture!D$2:E$73, 2, FALSE)","v":{"$error":"#N/A"}},{"$f":"VLOOKUP(A548, 'PF14702'!B548:C3228, 2, FALSE)","v":1533},{"$f":"VLOOKUP($A548, taxonomy!$B$2:$T$695, 6, FALSE)","v":"Eukaryota"},{"$f":"VLOOKUP($A548, taxonomy!$B$2:$T$695, 7, FALSE)","v":" Fungi"},{"$f":"VLOOKUP($A548, taxonomy!$B$2:$T$695, 8, FALSE)","v":" Dikarya"},{"$f":"VLOOKUP($A548, taxonomy!$B$2:$T$695, 9, FALSE)","v":" Ascomycota"},{"$f":"VLOOKUP($A548, taxonomy!$B$2:$T$695, 10, FALSE)","v":" Saccharomycotina"},{"$f":"VLOOKUP($A548, taxonomy!$B$2:$T$695, 11, FALSE)","v":"Saccharomycetes"},{"$f":"VLOOKUP($A548, taxonomy!$B$2:$T$695, 12, FALSE)","v":" Saccharomycetales"},{"$f":"VLOOKUP($A548, taxonomy!$B$2:$T$695, 13, FALSE)","v":" Saccharomycetaceae"},{"$f":"VLOOKUP($A548, taxonomy!$B$2:$T$695, 14, FALSE)","v":"Tetrapisispora."},{"$f":"VLOOKUP($A548, taxonomy!$B$2:$T$695, 15, FALSE)","v":0},{"$f":"VLOOKUP($A548, taxonomy!$B$2:$T$695, 16, FALSE)","v":0},{"$f":"VLOOKUP($A548, taxonomy!$B$2:$T$695, 17, FALSE)","v":0}]
["I2K053",{"$f":" VLOOKUP(A549, architecture!D$2:E$73, 2, FALSE)","v":{"$error":"#N/A"}},{"$f":"VLOOKUP(A549, 'PF14702'!B549:C3229, 2, FALSE)","v":867},{"$f":"VLOOKUP($A549, taxonomy!$B$2:$T$695, 6, FALSE)","v":"Eukaryota"},{"$f":"VLOOKUP($A549, taxonomy!$B$2:$T$695, 7, FALSE)","v":" Fungi"},{"$f":"VLOOKUP($A549, taxonomy!$B$2:$T$695, 8, FALSE)","v":" Dikarya"},{"$f":"VLOOKUP($A549, taxonomy!$B$2:$T$695, 9, FALSE)","v":" Ascomycota"},{"$f":"VLOOKUP($A549, taxonomy!$B$2:$T$695, 10, FALSE)","v":" Saccharomycotina"},{"$f":"VLOOKUP($A549, taxonomy!$B$2:$T$695, 11, FALSE)","v":"Saccharomycetes"},{"$f":"VLOOKUP($A549, taxonomy!$B$2:$T$695, 12, FALSE)","v":" Saccharomycetales"},{"$f":"VLOOKUP($A549, taxonomy!$B$2:$T$695, 13, FALSE)","v":" Pichiaceae"},{"$f":"VLOOKUP($A549, taxonomy!$B$2:$T$695, 14, FALSE)","v":" Brettanomyces."},{"$f":"VLOOKUP($A549, taxonomy!$B$2:$T$695, 15, FALSE)","v":0},{"$f":"VLOOKUP($A549, taxonomy!$B$2:$T$695, 16, FALSE)","v":0},{"$f":"VLOOKUP($A549, taxonomy!$B$2:$T$695, 17, FALSE)","v":0}]
["I3IZN6",{"$f":" VLOOKUP(A550, architecture!D$2:E$73, 2, FALSE)","v":{"$error":"#N/A"}},{"$f":"VLOOKUP(A550, 'PF14702'!B550:C3230, 2, FALSE)","v":1518},{"$f":"VLOOKUP($A550, taxonomy!$B$2:$T$695, 6, FALSE)","v":"Eukaryota"},{"$f":"VLOOKUP($A550, taxonomy!$B$2:$T$695, 7, FALSE)","v":" Metazoa"},{"$f":"VLOOKUP($A550, taxonomy!$B$2:$T$695, 8, FALSE)","v":" Chordata"},{"$f":"VLOOKUP($A550, taxonomy!$B$2:$T$695, 9, FALSE)","v":" Craniata"},{"$f":"VLOOKUP($A550, taxonomy!$B$2:$T$695, 10, FALSE)","v":" Vertebrata"},{"$f":"VLOOKUP($A550, taxonomy!$B$2:$T$695, 11, FALSE)","v":" Euteleostomi"},{"$f":"VLOOKUP($A550, taxonomy!$B$2:$T$695, 12, FALSE)","v":"Actinopterygii"},{"$f":"VLOOKUP($A550, taxonomy!$B$2:$T$695, 13, FALSE)","v":" Neopterygii"},{"$f":"VLOOKUP($A550, taxonomy!$B$2:$T$695, 14, FALSE)","v":" Teleostei"},{"$f":"VLOOKUP($A550, taxonomy!$B$2:$T$695, 15, FALSE)","v":" Neoteleostei"},{"$f":"VLOOKUP($A550, taxonomy!$B$2:$T$695, 16, FALSE)","v":" Acanthomorphata"},{"$f":"VLOOKUP($A550, taxonomy!$B$2:$T$695, 17, FALSE)","v":"Ovalentaria"}]
["J3P6J6",{"$f":" VLOOKUP(A551, architecture!D$2:E$73, 2, FALSE)","v":{"$error":"#N/A"}},{"$f":"VLOOKUP(A551, 'PF14702'!B551:C3231, 2, FALSE)","v":1577},{"$f":"VLOOKUP($A551, taxonomy!$B$2:$T$695, 6, FALSE)","v":"Eukaryota"},{"$f":"VLOOKUP($A551, taxonomy!$B$2:$T$695, 7, FALSE)","v":" Fungi"},{"$f":"VLOOKUP($A551, taxonomy!$B$2:$T$695, 8, FALSE)","v":" Dikarya"},{"$f":"VLOOKUP($A551, taxonomy!$B$2:$T$695, 9, FALSE)","v":" Ascomycota"},{"$f":"VLOOKUP($A551, taxonomy!$B$2:$T$695, 10, FALSE)","v":" Pezizomycotina"},{"$f":"VLOOKUP($A551, taxonomy!$B$2:$T$695, 11, FALSE)","v":"Sordariomycetes"},{"$f":"VLOOKUP($A551, taxonomy!$B$2:$T$695, 12, FALSE)","v":" Sordariomycetidae"},{"$f":"VLOOKUP($A551, taxonomy!$B$2:$T$695, 13, FALSE)","v":" Magnaporthales"},{"$f":"VLOOKUP($A551, taxonomy!$B$2:$T$695, 14, FALSE)","v":" Magnaporthaceae"},{"$f":"VLOOKUP($A551, taxonomy!$B$2:$T$695, 15, FALSE)","v":"Gaeumannomyces."},{"$f":"VLOOKUP($A551, taxonomy!$B$2:$T$695, 16, FALSE)","v":0},{"$f":"VLOOKUP($A551, taxonomy!$B$2:$T$695, 17, FALSE)","v":0}]
["J4GPF6",{"$f":" VLOOKUP(A552, architecture!D$2:E$73, 2, FALSE)","v":{"$error":"#N/A"}},{"$f":"VLOOKUP(A552, 'PF14702'!B552:C3232, 2, FALSE)","v":1611},{"$f":"VLOOKUP($A552, taxonomy!$B$2:$T$695, 6, FALSE)","v":"Eukaryota"},{"$f":"VLOOKUP($A552, taxonomy!$B$2:$T$695, 7, FALSE)","v":" Fungi"},{"$f":"VLOOKUP($A552, taxonomy!$B$2:$T$695, 8, FALSE)","v":" Dikarya"},{"$f":"VLOOKUP($A552, taxonomy!$B$2:$T$695, 9, FALSE)","v":" Basidiomycota"},{"$f":"VLOOKUP($A552, taxonomy!$B$2:$T$695, 10, FALSE)","v":" Agaricomycotina"},{"$f":"VLOOKUP($A552, taxonomy!$B$2:$T$695, 11, FALSE)","v":"Agaricomycetes"},{"$f":"VLOOKUP($A552, taxonomy!$B$2:$T$695, 12, FALSE)","v":" Polyporales"},{"$f":"VLOOKUP($A552, taxonomy!$B$2:$T$695, 13, FALSE)","v":" Polyporales incertae sedis"},{"$f":"VLOOKUP($A552, taxonomy!$B$2:$T$695, 14, FALSE)","v":" Fibroporia."},{"$f":"VLOOKUP($A552, taxonomy!$B$2:$T$695, 15, FALSE)","v":0},{"$f":"VLOOKUP($A552, taxonomy!$B$2:$T$695, 16, FALSE)","v":0},{"$f":"VLOOKUP($A552, taxonomy!$B$2:$T$695, 17, FALSE)","v":0}]
["J4KPW8",{"$f":" VLOOKUP(A553, architecture!D$2:E$73, 2, FALSE)","v":{"$error":"#N/A"}},{"$f":"VLOOKUP(A553, 'PF14702'!B553:C3233, 2, FALSE)","v":1545},{"$f":"VLOOKUP($A553, taxonomy!$B$2:$T$695, 6, FALSE)","v":"Eukaryota"},{"$f":"VLOOKUP($A553, taxonomy!$B$2:$T$695, 7, FALSE)","v":" Fungi"},{"$f":"VLOOKUP($A553, taxonomy!$B$2:$T$695, 8, FALSE)","v":" Dikarya"},{"$f":"VLOOKUP($A553, taxonomy!$B$2:$T$695, 9, FALSE)","v":" Ascomycota"},{"$f":"VLOOKUP($A553, taxonomy!$B$2:$T$695, 10, FALSE)","v":" Pezizomycotina"},{"$f":"VLOOKUP($A553, taxonomy!$B$2:$T$695, 11, FALSE)","v":"Sordariomycetes"},{"$f":"VLOOKUP($A553, taxonomy!$B$2:$T$695, 12, FALSE)","v":" Hypocreomycetidae"},{"$f":"VLOOKUP($A553, taxonomy!$B$2:$T$695, 13, FALSE)","v":" Hypocreales"},{"$f":"VLOOKUP($A553, taxonomy!$B$2:$T$695, 14, FALSE)","v":" Cordycipitaceae"},{"$f":"VLOOKUP($A553, taxonomy!$B$2:$T$695, 15, FALSE)","v":"Beauveria."},{"$f":"VLOOKUP($A553, taxonomy!$B$2:$T$695, 16, FALSE)","v":0},{"$f":"VLOOKUP($A553, taxonomy!$B$2:$T$695, 17, FALSE)","v":0}]
["J7R876",{"$f":" VLOOKUP(A554, architecture!D$2:E$73, 2, FALSE)","v":{"$error":"#N/A"}},{"$f":"VLOOKUP(A554, 'PF14702'!B554:C3234, 2, FALSE)","v":1538},{"$f":"VLOOKUP($A554, taxonomy!$B$2:$T$695, 6, FALSE)","v":"Eukaryota"},{"$f":"VLOOKUP($A554, taxonomy!$B$2:$T$695, 7, FALSE)","v":" Fungi"},{"$f":"VLOOKUP($A554, taxonomy!$B$2:$T$695, 8, FALSE)","v":" Dikarya"},{"$f":"VLOOKUP($A554, taxonomy!$B$2:$T$695, 9, FALSE)","v":" Ascomycota"},{"$f":"VLOOKUP($A554, taxonomy!$B$2:$T$695, 10, FALSE)","v":" Saccharomycotina"},{"$f":"VLOOKUP($A554, taxonomy!$B$2:$T$695, 11, FALSE)","v":"Saccharomycetes"},{"$f":"VLOOKUP($A554, taxonomy!$B$2:$T$695, 12, FALSE)","v":" Saccharomycetales"},{"$f":"VLOOKUP($A554, taxonomy!$B$2:$T$695, 13, FALSE)","v":" Saccharomycetaceae"},{"$f":"VLOOKUP($A554, taxonomy!$B$2:$T$695, 14, FALSE)","v":" Kazachstania."},{"$f":"VLOOKUP($A554, taxonomy!$B$2:$T$695, 15, FALSE)","v":0},{"$f":"VLOOKUP($A554, taxonomy!$B$2:$T$695, 16, FALSE)","v":0},{"$f":"VLOOKUP($A554, taxonomy!$B$2:$T$695, 17, FALSE)","v":0}]
["J9E4Y2",{"$f":" VLOOKUP(A555, architecture!D$2:E$73, 2, FALSE)","v":{"$error":"#N/A"}},{"$f":"VLOOKUP(A555, 'PF14702'!B555:C3235, 2, FALSE)","v":284},{"$f":"VLOOKUP($A555, taxonomy!$B$2:$T$695, 6, FALSE)","v":"Eukaryota"},{"$f":"VLOOKUP($A555, taxonomy!$B$2:$T$695, 7, FALSE)","v":" Metazoa"},{"$f":"VLOOKUP($A555, taxonomy!$B$2:$T$695, 8, FALSE)","v":" Ecdysozoa"},{"$f":"VLOOKUP($A555, taxonomy!$B$2:$T$695, 9, FALSE)","v":" Nematoda"},{"$f":"VLOOKUP($A555, taxonomy!$B$2:$T$695, 10, FALSE)","v":" Chromadorea"},{"$f":"VLOOKUP($A555, taxonomy!$B$2:$T$695, 11, FALSE)","v":" Spirurida"},{"$f":"VLOOKUP($A555, taxonomy!$B$2:$T$695, 12, FALSE)","v":"Spiruromorpha"},{"$f":"VLOOKUP($A555, taxonomy!$B$2:$T$695, 13, FALSE)","v":" Filarioidea"},{"$f":"VLOOKUP($A555, taxonomy!$B$2:$T$695, 14, FALSE)","v":" Onchocercidae"},{"$f":"VLOOKUP($A555, taxonomy!$B$2:$T$695, 15, FALSE)","v":" Wuchereria."},{"$f":"VLOOKUP($A555, taxonomy!$B$2:$T$695, 16, FALSE)","v":0},{"$f":"VLOOKUP($A555, taxonomy!$B$2:$T$695, 17, FALSE)","v":0}]
["J9EHP7",{"$f":" VLOOKUP(A556, architecture!D$2:E$73, 2, FALSE)","v":{"$error":"#N/A"}},{"$f":"VLOOKUP(A556, 'PF14702'!B556:C3236, 2, FALSE)","v":251},{"$f":"VLOOKUP($A556, taxonomy!$B$2:$T$695, 6, FALSE)","v":"Eukaryota"},{"$f":"VLOOKUP($A556, taxonomy!$B$2:$T$695, 7, FALSE)","v":" Metazoa"},{"$f":"VLOOKUP($A556, taxonomy!$B$2:$T$695, 8, FALSE)","v":" Ecdysozoa"},{"$f":"VLOOKUP($A556, taxonomy!$B$2:$T$695, 9, FALSE)","v":" Nematoda"},{"$f":"VLOOKUP($A556, taxonomy!$B$2:$T$695, 10, FALSE)","v":" Chromadorea"},{"$f":"VLOOKUP($A556, taxonomy!$B$2:$T$695, 11, FALSE)","v":" Spirurida"},{"$f":"VLOOKUP($A556, taxonomy!$B$2:$T$695, 12, FALSE)","v":"Spiruromorpha"},{"$f":"VLOOKUP($A556, taxonomy!$B$2:$T$695, 13, FALSE)","v":" Filarioidea"},{"$f":"VLOOKUP($A556, taxonomy!$B$2:$T$695, 14, FALSE)","v":" Onchocercidae"},{"$f":"VLOOKUP($A556, taxonomy!$B$2:$T$695, 15, FALSE)","v":" Wuchereria."},{"$f":"VLOOKUP($A556, taxonomy!$B$2:$T$695, 16, FALSE)","v":0},{"$f":"VLOOKUP($A556, taxonomy!$B$2:$T$695, 17, FALSE)","v":0}]
["J9ICV4",{"$f":" VLOOKUP(A557, architecture!D$2:E$73, 2, FALSE)","v":{"$error":"#N/A"}},{"$f":"VLOOKUP(A557, 'PF14702'!B557:C3237, 2, FALSE)","v":1776},{"$f":"VLOOKUP($A557, taxonomy!$B$2:$T$695, 6, FALSE)","v":"Eukaryota"},{"$f":"VLOOKUP($A557, taxonomy!$B$2:$T$695, 7, FALSE)","v":" Alveolata"},{"$f":"VLOOKUP($A557, taxonomy!$B$2:$T$695, 8, FALSE)","v":" Ciliophora"},{"$f":"VLOOKUP($A557, taxonomy!$B$2:$T$695, 9, FALSE)","v":" Intramacronucleata"},{"$f":"VLOOKUP($A557, taxonomy!$B$2:$T$695, 10, FALSE)","v":" Spirotrichea"},{"$f":"VLOOKUP($A557, taxonomy!$B$2:$T$695, 11, FALSE)","v":"Stichotrichia"},{"$f":"VLOOKUP($A557, taxonomy!$B$2:$T$695, 12, FALSE)","v":" Sporadotrichida"},{"$f":"VLOOKUP($A557, taxonomy!$B$2:$T$695, 13, FALSE)","v":" Oxytrichidae"},{"$f":"VLOOKUP($A557, taxonomy!$B$2:$T$695, 14, FALSE)","v":" Oxytrichinae"},{"$f":"VLOOKUP($A557, taxonomy!$B$2:$T$695, 15, FALSE)","v":" Oxytricha."},{"$f":"VLOOKUP($A557, taxonomy!$B$2:$T$695, 16, FALSE)","v":0},{"$f":"VLOOKUP($A557, taxonomy!$B$2:$T$695, 17, FALSE)","v":0}]
["J9J9U9",{"$f":" VLOOKUP(A558, architecture!D$2:E$73, 2, FALSE)","v":{"$error":"#N/A"}},{"$f":"VLOOKUP(A558, 'PF14702'!B558:C3238, 2, FALSE)","v":1018},{"$f":"VLOOKUP($A558, taxonomy!$B$2:$T$695, 6, FALSE)","v":"Eukaryota"},{"$f":"VLOOKUP($A558, taxonomy!$B$2:$T$695, 7, FALSE)","v":" Alveolata"},{"$f":"VLOOKUP($A558, taxonomy!$B$2:$T$695, 8, FALSE)","v":" Ciliophora"},{"$f":"VLOOKUP($A558, taxonomy!$B$2:$T$695, 9, FALSE)","v":" Intramacronucleata"},{"$f":"VLOOKUP($A558, taxonomy!$B$2:$T$695, 10, FALSE)","v":" Spirotrichea"},{"$f":"VLOOKUP($A558, taxonomy!$B$2:$T$695, 11, FALSE)","v":"Stichotrichia"},{"$f":"VLOOKUP($A558, taxonomy!$B$2:$T$695, 12, FALSE)","v":" Sporadotrichida"},{"$f":"VLOOKUP($A558, taxonomy!$B$2:$T$695, 13, FALSE)","v":" Oxytrichidae"},{"$f":"VLOOKUP($A558, taxonomy!$B$2:$T$695, 14, FALSE)","v":" Oxytrichinae"},{"$f":"VLOOKUP($A558, taxonomy!$B$2:$T$695, 15, FALSE)","v":" Oxytricha."},{"$f":"VLOOKUP($A558, taxonomy!$B$2:$T$695, 16, FALSE)","v":0},{"$f":"VLOOKUP($A558, taxonomy!$B$2:$T$695, 17, FALSE)","v":0}]
["J9JL61",{"$f":" VLOOKUP(A559, architecture!D$2:E$73, 2, FALSE)","v":{"$error":"#N/A"}},{"$f":"VLOOKUP(A559, 'PF14702'!B559:C3239, 2, FALSE)","v":1520},{"$f":"VLOOKUP($A559, taxonomy!$B$2:$T$695, 6, FALSE)","v":"Eukaryota"},{"$f":"VLOOKUP($A559, taxonomy!$B$2:$T$695, 7, FALSE)","v":" Metazoa"},{"$f":"VLOOKUP($A559, taxonomy!$B$2:$T$695, 8, FALSE)","v":" Ecdysozoa"},{"$f":"VLOOKUP($A559, taxonomy!$B$2:$T$695, 9, FALSE)","v":" Arthropoda"},{"$f":"VLOOKUP($A559, taxonomy!$B$2:$T$695, 10, FALSE)","v":" Hexapoda"},{"$f":"VLOOKUP($A559, taxonomy!$B$2:$T$695, 11, FALSE)","v":" Insecta"},{"$f":"VLOOKUP($A559, taxonomy!$B$2:$T$695, 12, FALSE)","v":"Pterygota"},{"$f":"VLOOKUP($A559, taxonomy!$B$2:$T$695, 13, FALSE)","v":" Neoptera"},{"$f":"VLOOKUP($A559, taxonomy!$B$2:$T$695, 14, FALSE)","v":" Paraneoptera"},{"$f":"VLOOKUP($A559, taxonomy!$B$2:$T$695, 15, FALSE)","v":" Hemiptera"},{"$f":"VLOOKUP($A559, taxonomy!$B$2:$T$695, 16, FALSE)","v":" Sternorrhyncha"},{"$f":"VLOOKUP($A559, taxonomy!$B$2:$T$695, 17, FALSE)","v":"Aphidomorpha"}]
["K0KJM8",{"$f":" VLOOKUP(A560, architecture!D$2:E$73, 2, FALSE)","v":{"$error":"#N/A"}},{"$f":"VLOOKUP(A560, 'PF14702'!B560:C3240, 2, FALSE)","v":1501},{"$f":"VLOOKUP($A560, taxonomy!$B$2:$T$695, 6, FALSE)","v":"Eukaryota"},{"$f":"VLOOKUP($A560, taxonomy!$B$2:$T$695, 7, FALSE)","v":" Fungi"},{"$f":"VLOOKUP($A560, taxonomy!$B$2:$T$695, 8, FALSE)","v":" Dikarya"},{"$f":"VLOOKUP($A560, taxonomy!$B$2:$T$695, 9, FALSE)","v":" Ascomycota"},{"$f":"VLOOKUP($A560, taxonomy!$B$2:$T$695, 10, FALSE)","v":" Saccharomycotina"},{"$f":"VLOOKUP($A560, taxonomy!$B$2:$T$695, 11, FALSE)","v":"Saccharomycetes"},{"$f":"VLOOKUP($A560, taxonomy!$B$2:$T$695, 12, FALSE)","v":" Saccharomycetales"},{"$f":"VLOOKUP($A560, taxonomy!$B$2:$T$695, 13, FALSE)","v":" Phaffomycetaceae"},{"$f":"VLOOKUP($A560, taxonomy!$B$2:$T$695, 14, FALSE)","v":" Wickerhamomyces."},{"$f":"VLOOKUP($A560, taxonomy!$B$2:$T$695, 15, FALSE)","v":0},{"$f":"VLOOKUP($A560, taxonomy!$B$2:$T$695, 16, FALSE)","v":0},{"$f":"VLOOKUP($A560, taxonomy!$B$2:$T$695, 17, FALSE)","v":0}]
["K1PW08",{"$f":" VLOOKUP(A561, architecture!D$2:E$73, 2, FALSE)","v":{"$error":"#N/A"}},{"$f":"VLOOKUP(A561, 'PF14702'!B561:C3241, 2, FALSE)","v":1137},{"$f":"VLOOKUP($A561, taxonomy!$B$2:$T$695, 6, FALSE)","v":"Eukaryota"},{"$f":"VLOOKUP($A561, taxonomy!$B$2:$T$695, 7, FALSE)","v":" Metazoa"},{"$f":"VLOOKUP($A561, taxonomy!$B$2:$T$695, 8, FALSE)","v":" Lophotrochozoa"},{"$f":"VLOOKUP($A561, taxonomy!$B$2:$T$695, 9, FALSE)","v":" Mollusca"},{"$f":"VLOOKUP($A561, taxonomy!$B$2:$T$695, 10, FALSE)","v":" Bivalvia"},{"$f":"VLOOKUP($A561, taxonomy!$B$2:$T$695, 11, FALSE)","v":" Pteriomorphia"},{"$f":"VLOOKUP($A561, taxonomy!$B$2:$T$695, 12, FALSE)","v":"Ostreoida"},{"$f":"VLOOKUP($A561, taxonomy!$B$2:$T$695, 13, FALSE)","v":" Ostreoidea"},{"$f":"VLOOKUP($A561, taxonomy!$B$2:$T$695, 14, FALSE)","v":" Ostreidae"},{"$f":"VLOOKUP($A561, taxonomy!$B$2:$T$695, 15, FALSE)","v":" Crassostrea."},{"$f":"VLOOKUP($A561, taxonomy!$B$2:$T$695, 16, FALSE)","v":0},{"$f":"VLOOKUP($A561, taxonomy!$B$2:$T$695, 17, FALSE)","v":0}]
["K1VYD8",{"$f":" VLOOKUP(A562, architecture!D$2:E$73, 2, FALSE)","v":{"$error":"#N/A"}},{"$f":"VLOOKUP(A562, 'PF14702'!B562:C3242, 2, FALSE)","v":1639},{"$f":"VLOOKUP($A562, taxonomy!$B$2:$T$695, 6, FALSE)","v":"Eukaryota"},{"$f":"VLOOKUP($A562, taxonomy!$B$2:$T$695, 7, FALSE)","v":" Fungi"},{"$f":"VLOOKUP($A562, taxonomy!$B$2:$T$695, 8, FALSE)","v":" Dikarya"},{"$f":"VLOOKUP($A562, taxonomy!$B$2:$T$695, 9, FALSE)","v":" Basidiomycota"},{"$f":"VLOOKUP($A562, taxonomy!$B$2:$T$695, 10, FALSE)","v":" Agaricomycotina"},{"$f":"VLOOKUP($A562, taxonomy!$B$2:$T$695, 11, FALSE)","v":"Tremellomycetes"},{"$f":"VLOOKUP($A562, taxonomy!$B$2:$T$695, 12, FALSE)","v":" Trichosporonales"},{"$f":"VLOOKUP($A562, taxonomy!$B$2:$T$695, 13, FALSE)","v":" Trichosporonaceae"},{"$f":"VLOOKUP($A562, taxonomy!$B$2:$T$695, 14, FALSE)","v":" Trichosporon."},{"$f":"VLOOKUP($A562, taxonomy!$B$2:$T$695, 15, FALSE)","v":0},{"$f":"VLOOKUP($A562, taxonomy!$B$2:$T$695, 16, FALSE)","v":0},{"$f":"VLOOKUP($A562, taxonomy!$B$2:$T$695, 17, FALSE)","v":0}]
["K1WXM4",{"$f":" VLOOKUP(A563, architecture!D$2:E$73, 2, FALSE)","v":{"$error":"#N/A"}},{"$f":"VLOOKUP(A563, 'PF14702'!B563:C3243, 2, FALSE)","v":1550},{"$f":"VLOOKUP($A563, taxonomy!$B$2:$T$695, 6, FALSE)","v":"Eukaryota"},{"$f":"VLOOKUP($A563, taxonomy!$B$2:$T$695, 7, FALSE)","v":" Fungi"},{"$f":"VLOOKUP($A563, taxonomy!$B$2:$T$695, 8, FALSE)","v":" Dikarya"},{"$f":"VLOOKUP($A563, taxonomy!$B$2:$T$695, 9, FALSE)","v":" Ascomycota"},{"$f":"VLOOKUP($A563, taxonomy!$B$2:$T$695, 10, FALSE)","v":" Pezizomycotina"},{"$f":"VLOOKUP($A563, taxonomy!$B$2:$T$695, 11, FALSE)","v":" Leotiomycetes"},{"$f":"VLOOKUP($A563, taxonomy!$B$2:$T$695, 12, FALSE)","v":"Helotiales"},{"$f":"VLOOKUP($A563, taxonomy!$B$2:$T$695, 13, FALSE)","v":" Dermateaceae"},{"$f":"VLOOKUP($A563, taxonomy!$B$2:$T$695, 14, FALSE)","v":" Marssonina."},{"$f":"VLOOKUP($A563, taxonomy!$B$2:$T$695, 15, FALSE)","v":0},{"$f":"VLOOKUP($A563, taxonomy!$B$2:$T$695, 16, FALSE)","v":0},{"$f":"VLOOKUP($A563, taxonomy!$B$2:$T$695, 17, FALSE)","v":0}]
["K2RJH2",{"$f":" VLOOKUP(A564, architecture!D$2:E$73, 2, FALSE)","v":{"$error":"#N/A"}},{"$f":"VLOOKUP(A564, 'PF14702'!B564:C3244, 2, FALSE)","v":1545},{"$f":"VLOOKUP($A564, taxonomy!$B$2:$T$695, 6, FALSE)","v":"Eukaryota"},{"$f":"VLOOKUP($A564, taxonomy!$B$2:$T$695, 7, FALSE)","v":" Fungi"},{"$f":"VLOOKUP($A564, taxonomy!$B$2:$T$695, 8, FALSE)","v":" Dikarya"},{"$f":"VLOOKUP($A564, taxonomy!$B$2:$T$695, 9, FALSE)","v":" Ascomycota"},{"$f":"VLOOKUP($A564, taxonomy!$B$2:$T$695, 10, FALSE)","v":" Pezizomycotina"},{"$f":"VLOOKUP($A564, taxonomy!$B$2:$T$695, 11, FALSE)","v":"Dothideomycetes"},{"$f":"VLOOKUP($A564, taxonomy!$B$2:$T$695, 12, FALSE)","v":" Dothideomycetes incertae sedis"},{"$f":"VLOOKUP($A564, taxonomy!$B$2:$T$695, 13, FALSE)","v":" Botryosphaeriales"},{"$f":"VLOOKUP($A564, taxonomy!$B$2:$T$695, 14, FALSE)","v":"Botryosphaeriaceae"},{"$f":"VLOOKUP($A564, taxonomy!$B$2:$T$695, 15, FALSE)","v":" Macrophomina."},{"$f":"VLOOKUP($A564, taxonomy!$B$2:$T$695, 16, FALSE)","v":0},{"$f":"VLOOKUP($A564, taxonomy!$B$2:$T$695, 17, FALSE)","v":0}]
["K3VP26",{"$f":" VLOOKUP(A565, architecture!D$2:E$73, 2, FALSE)","v":{"$error":"#N/A"}},{"$f":"VLOOKUP(A565, 'PF14702'!B565:C3245, 2, FALSE)","v":1553},{"$f":"VLOOKUP($A565, taxonomy!$B$2:$T$695, 6, FALSE)","v":"Eukaryota"},{"$f":"VLOOKUP($A565, taxonomy!$B$2:$T$695, 7, FALSE)","v":" Fungi"},{"$f":"VLOOKUP($A565, taxonomy!$B$2:$T$695, 8, FALSE)","v":" Dikarya"},{"$f":"VLOOKUP($A565, taxonomy!$B$2:$T$695, 9, FALSE)","v":" Ascomycota"},{"$f":"VLOOKUP($A565, taxonomy!$B$2:$T$695, 10, FALSE)","v":" Pezizomycotina"},{"$f":"VLOOKUP($A565, taxonomy!$B$2:$T$695, 11, FALSE)","v":"Sordariomycetes"},{"$f":"VLOOKUP($A565, taxonomy!$B$2:$T$695, 12, FALSE)","v":" Hypocreomycetidae"},{"$f":"VLOOKUP($A565, taxonomy!$B$2:$T$695, 13, FALSE)","v":" Hypocreales"},{"$f":"VLOOKUP($A565, taxonomy!$B$2:$T$695, 14, FALSE)","v":" Nectriaceae"},{"$f":"VLOOKUP($A565, taxonomy!$B$2:$T$695, 15, FALSE)","v":"Fusarium."},{"$f":"VLOOKUP($A565, taxonomy!$B$2:$T$695, 16, FALSE)","v":0},{"$f":"VLOOKUP($A565, taxonomy!$B$2:$T$695, 17, FALSE)","v":0}]
["K5WID5",{"$f":" VLOOKUP(A566, architecture!D$2:E$73, 2, FALSE)","v":{"$error":"#N/A"}},{"$f":"VLOOKUP(A566, 'PF14702'!B566:C3246, 2, FALSE)","v":1611},{"$f":"VLOOKUP($A566, taxonomy!$B$2:$T$695, 6, FALSE)","v":"Eukaryota"},{"$f":"VLOOKUP($A566, taxonomy!$B$2:$T$695, 7, FALSE)","v":" Fungi"},{"$f":"VLOOKUP($A566, taxonomy!$B$2:$T$695, 8, FALSE)","v":" Dikarya"},{"$f":"VLOOKUP($A566, taxonomy!$B$2:$T$695, 9, FALSE)","v":" Basidiomycota"},{"$f":"VLOOKUP($A566, taxonomy!$B$2:$T$695, 10, FALSE)","v":" Agaricomycotina"},{"$f":"VLOOKUP($A566, taxonomy!$B$2:$T$695, 11, FALSE)","v":"Agaricomycetes"},{"$f":"VLOOKUP($A566, taxonomy!$B$2:$T$695, 12, FALSE)","v":" Polyporales"},{"$f":"VLOOKUP($A566, taxonomy!$B$2:$T$695, 13, FALSE)","v":" Phanerochaetaceae"},{"$f":"VLOOKUP($A566, taxonomy!$B$2:$T$695, 14, FALSE)","v":" Phanerochaete."},{"$f":"VLOOKUP($A566, taxonomy!$B$2:$T$695, 15, FALSE)","v":0},{"$f":"VLOOKUP($A566, taxonomy!$B$2:$T$695, 16, FALSE)","v":0},{"$f":"VLOOKUP($A566, taxonomy!$B$2:$T$695, 17, FALSE)","v":0}]
["K5XER8",{"$f":" VLOOKUP(A567, architecture!D$2:E$73, 2, FALSE)","v":{"$error":"#N/A"}},{"$f":"VLOOKUP(A567, 'PF14702'!B567:C3247, 2, FALSE)","v":1544},{"$f":"VLOOKUP($A567, taxonomy!$B$2:$T$695, 6, FALSE)","v":"Eukaryota"},{"$f":"VLOOKUP($A567, taxonomy!$B$2:$T$695, 7, FALSE)","v":" Fungi"},{"$f":"VLOOKUP($A567, taxonomy!$B$2:$T$695, 8, FALSE)","v":" Dikarya"},{"$f":"VLOOKUP($A567, taxonomy!$B$2:$T$695, 9, FALSE)","v":" Basidiomycota"},{"$f":"VLOOKUP($A567, taxonomy!$B$2:$T$695, 10, FALSE)","v":" Agaricomycotina"},{"$f":"VLOOKUP($A567, taxonomy!$B$2:$T$695, 11, FALSE)","v":"Agaricomycetes"},{"$f":"VLOOKUP($A567, taxonomy!$B$2:$T$695, 12, FALSE)","v":" Agaricomycetidae"},{"$f":"VLOOKUP($A567, taxonomy!$B$2:$T$695, 13, FALSE)","v":" Agaricales"},{"$f":"VLOOKUP($A567, taxonomy!$B$2:$T$695, 14, FALSE)","v":" Agaricaceae"},{"$f":"VLOOKUP($A567, taxonomy!$B$2:$T$695, 15, FALSE)","v":" Agaricus."},{"$f":"VLOOKUP($A567, taxonomy!$B$2:$T$695, 16, FALSE)","v":0},{"$f":"VLOOKUP($A567, taxonomy!$B$2:$T$695, 17, FALSE)","v":0}]
["K7G8P8",{"$f":" VLOOKUP(A568, architecture!D$2:E$73, 2, FALSE)","v":{"$error":"#N/A"}},{"$f":"VLOOKUP(A568, 'PF14702'!B568:C3248, 2, FALSE)","v":1531},{"$f":"VLOOKUP($A568, taxonomy!$B$2:$T$695, 6, FALSE)","v":"Eukaryota"},{"$f":"VLOOKUP($A568, taxonomy!$B$2:$T$695, 7, FALSE)","v":" Metazoa"},{"$f":"VLOOKUP($A568, taxonomy!$B$2:$T$695, 8, FALSE)","v":" Chordata"},{"$f":"VLOOKUP($A568, taxonomy!$B$2:$T$695, 9, FALSE)","v":" Craniata"},{"$f":"VLOOKUP($A568, taxonomy!$B$2:$T$695, 10, FALSE)","v":" Vertebrata"},{"$f":"VLOOKUP($A568, taxonomy!$B$2:$T$695, 11, FALSE)","v":" Euteleostomi"},{"$f":"VLOOKUP($A568, taxonomy!$B$2:$T$695, 12, FALSE)","v":"Archelosauria"},{"$f":"VLOOKUP($A568, taxonomy!$B$2:$T$695, 13, FALSE)","v":" Testudines"},{"$f":"VLOOKUP($A568, taxonomy!$B$2:$T$695, 14, FALSE)","v":" Cryptodira"},{"$f":"VLOOKUP($A568, taxonomy!$B$2:$T$695, 15, FALSE)","v":" Trionychia"},{"$f":"VLOOKUP($A568, taxonomy!$B$2:$T$695, 16, FALSE)","v":" Trionychidae"},{"$f":"VLOOKUP($A568, taxonomy!$B$2:$T$695, 17, FALSE)","v":"Pelodiscus."}]
["K7J9S2",{"$f":" VLOOKUP(A569, architecture!D$2:E$73, 2, FALSE)","v":{"$error":"#N/A"}},{"$f":"VLOOKUP(A569, 'PF14702'!B569:C3249, 2, FALSE)","v":1667},{"$f":"VLOOKUP($A569, taxonomy!$B$2:$T$695, 6, FALSE)","v":"Eukaryota"},{"$f":"VLOOKUP($A569, taxonomy!$B$2:$T$695, 7, FALSE)","v":" Metazoa"},{"$f":"VLOOKUP($A569, taxonomy!$B$2:$T$695, 8, FALSE)","v":" Ecdysozoa"},{"$f":"VLOOKUP($A569, taxonomy!$B$2:$T$695, 9, FALSE)","v":" Arthropoda"},{"$f":"VLOOKUP($A569, taxonomy!$B$2:$T$695, 10, FALSE)","v":" Hexapoda"},{"$f":"VLOOKUP($A569, taxonomy!$B$2:$T$695, 11, FALSE)","v":" Insecta"},{"$f":"VLOOKUP($A569, taxonomy!$B$2:$T$695, 12, FALSE)","v":"Pterygota"},{"$f":"VLOOKUP($A569, taxonomy!$B$2:$T$695, 13, FALSE)","v":" Neoptera"},{"$f":"VLOOKUP($A569, taxonomy!$B$2:$T$695, 14, FALSE)","v":" Holometabola"},{"$f":"VLOOKUP($A569, taxonomy!$B$2:$T$695, 15, FALSE)","v":" Hymenoptera"},{"$f":"VLOOKUP($A569, taxonomy!$B$2:$T$695, 16, FALSE)","v":" Apocrita"},{"$f":"VLOOKUP($A569, taxonomy!$B$2:$T$695, 17, FALSE)","v":" Terebrantes"}]
["K9GPV4",{"$f":" VLOOKUP(A570, architecture!D$2:E$73, 2, FALSE)","v":{"$error":"#N/A"}},{"$f":"VLOOKUP(A570, 'PF14702'!B570:C3250, 2, FALSE)","v":1534},{"$f":"VLOOKUP($A570, taxonomy!$B$2:$T$695, 6, FALSE)","v":"Eukaryota"},{"$f":"VLOOKUP($A570, taxonomy!$B$2:$T$695, 7, FALSE)","v":" Fungi"},{"$f":"VLOOKUP($A570, taxonomy!$B$2:$T$695, 8, FALSE)","v":" Dikarya"},{"$f":"VLOOKUP($A570, taxonomy!$B$2:$T$695, 9, FALSE)","v":" Ascomycota"},{"$f":"VLOOKUP($A570, taxonomy!$B$2:$T$695, 10, FALSE)","v":" Pezizomycotina"},{"$f":"VLOOKUP($A570, taxonomy!$B$2:$T$695, 11, FALSE)","v":" Eurotiomycetes"},{"$f":"VLOOKUP($A570, taxonomy!$B$2:$T$695, 12, FALSE)","v":"Eurotiomycetidae"},{"$f":"VLOOKUP($A570, taxonomy!$B$2:$T$695, 13, FALSE)","v":" Eurotiales"},{"$f":"VLOOKUP($A570, taxonomy!$B$2:$T$695, 14, FALSE)","v":" Aspergillaceae"},{"$f":"VLOOKUP($A570, taxonomy!$B$2:$T$695, 15, FALSE)","v":" Penicillium."},{"$f":"VLOOKUP($A570, taxonomy!$B$2:$T$695, 16, FALSE)","v":0},{"$f":"VLOOKUP($A570, taxonomy!$B$2:$T$695, 17, FALSE)","v":0}]
["L0PG12",{"$f":" VLOOKUP(A571, architecture!D$2:E$73, 2, FALSE)","v":{"$error":"#N/A"}},{"$f":"VLOOKUP(A571, 'PF14702'!B571:C3251, 2, FALSE)","v":1786},{"$f":"VLOOKUP($A571, taxonomy!$B$2:$T$695, 6, FALSE)","v":"Eukaryota"},{"$f":"VLOOKUP($A571, taxonomy!$B$2:$T$695, 7, FALSE)","v":" Fungi"},{"$f":"VLOOKUP($A571, taxonomy!$B$2:$T$695, 8, FALSE)","v":" Dikarya"},{"$f":"VLOOKUP($A571, taxonomy!$B$2:$T$695, 9, FALSE)","v":" Ascomycota"},{"$f":"VLOOKUP($A571, taxonomy!$B$2:$T$695, 10, FALSE)","v":" Taphrinomycotina"},{"$f":"VLOOKUP($A571, taxonomy!$B$2:$T$695, 11, FALSE)","v":"Pneumocystidomycetes"},{"$f":"VLOOKUP($A571, taxonomy!$B$2:$T$695, 12, FALSE)","v":" Pneumocystidaceae"},{"$f":"VLOOKUP($A571, taxonomy!$B$2:$T$695, 13, FALSE)","v":" Pneumocystis."},{"$f":"VLOOKUP($A571, taxonomy!$B$2:$T$695, 14, FALSE)","v":0},{"$f":"VLOOKUP($A571, taxonomy!$B$2:$T$695, 15, FALSE)","v":0},{"$f":"VLOOKUP($A571, taxonomy!$B$2:$T$695, 16, FALSE)","v":0},{"$f":"VLOOKUP($A571, taxonomy!$B$2:$T$695, 17, FALSE)","v":0}]
["L2G928",{"$f":" VLOOKUP(A572, architecture!D$2:E$73, 2, FALSE)","v":{"$error":"#N/A"}},{"$f":"VLOOKUP(A572, 'PF14702'!B572:C3252, 2, FALSE)","v":1566},{"$f":"VLOOKUP($A572, taxonomy!$B$2:$T$695, 6, FALSE)","v":"Eukaryota"},{"$f":"VLOOKUP($A572, taxonomy!$B$2:$T$695, 7, FALSE)","v":" Fungi"},{"$f":"VLOOKUP($A572, taxonomy!$B$2:$T$695, 8, FALSE)","v":" Dikarya"},{"$f":"VLOOKUP($A572, taxonomy!$B$2:$T$695, 9, FALSE)","v":" Ascomycota"},{"$f":"VLOOKUP($A572, taxonomy!$B$2:$T$695, 10, FALSE)","v":" Pezizomycotina"},{"$f":"VLOOKUP($A572, taxonomy!$B$2:$T$695, 11, FALSE)","v":"Sordariomycetes"},{"$f":"VLOOKUP($A572, taxonomy!$B$2:$T$695, 12, FALSE)","v":" Hypocreomycetidae"},{"$f":"VLOOKUP($A572, taxonomy!$B$2:$T$695, 13, FALSE)","v":" Glomerellales"},{"$f":"VLOOKUP($A572, taxonomy!$B$2:$T$695, 14, FALSE)","v":" Glomerellaceae"},{"$f":"VLOOKUP($A572, taxonomy!$B$2:$T$695, 15, FALSE)","v":"Colletotrichum."},{"$f":"VLOOKUP($A572, taxonomy!$B$2:$T$695, 16, FALSE)","v":0},{"$f":"VLOOKUP($A572, taxonomy!$B$2:$T$695, 17, FALSE)","v":0}]
["L5K396",{"$f":" VLOOKUP(A573, architecture!D$2:E$73, 2, FALSE)","v":{"$error":"#N/A"}},{"$f":"VLOOKUP(A573, 'PF14702'!B573:C3253, 2, FALSE)","v":1390},{"$f":"VLOOKUP($A573, taxonomy!$B$2:$T$695, 6, FALSE)","v":"Eukaryota"},{"$f":"VLOOKUP($A573, taxonomy!$B$2:$T$695, 7, FALSE)","v":" Metazoa"},{"$f":"VLOOKUP($A573, taxonomy!$B$2:$T$695, 8, FALSE)","v":" Chordata"},{"$f":"VLOOKUP($A573, taxonomy!$B$2:$T$695, 9, FALSE)","v":" Craniata"},{"$f":"VLOOKUP($A573, taxonomy!$B$2:$T$695, 10, FALSE)","v":" Vertebrata"},{"$f":"VLOOKUP($A573, taxonomy!$B$2:$T$695, 11, FALSE)","v":" Euteleostomi"},{"$f":"VLOOKUP($A573, taxonomy!$B$2:$T$695, 12, FALSE)","v":"Mammalia"},{"$f":"VLOOKUP($A573, taxonomy!$B$2:$T$695, 13, FALSE)","v":" Eutheria"},{"$f":"VLOOKUP($A573, taxonomy!$B$2:$T$695, 14, FALSE)","v":" Laurasiatheria"},{"$f":"VLOOKUP($A573, taxonomy!$B$2:$T$695, 15, FALSE)","v":" Chiroptera"},{"$f":"VLOOKUP($A573, taxonomy!$B$2:$T$695, 16, FALSE)","v":" Megachiroptera"},{"$f":"VLOOKUP($A573, taxonomy!$B$2:$T$695, 17, FALSE)","v":"Pteropodidae"}]
["L5LXG2",{"$f":" VLOOKUP(A574, architecture!D$2:E$73, 2, FALSE)","v":{"$error":"#N/A"}},{"$f":"VLOOKUP(A574, 'PF14702'!B574:C3254, 2, FALSE)","v":1536},{"$f":"VLOOKUP($A574, taxonomy!$B$2:$T$695, 6, FALSE)","v":"Eukaryota"},{"$f":"VLOOKUP($A574, taxonomy!$B$2:$T$695, 7, FALSE)","v":" Metazoa"},{"$f":"VLOOKUP($A574, taxonomy!$B$2:$T$695, 8, FALSE)","v":" Chordata"},{"$f":"VLOOKUP($A574, taxonomy!$B$2:$T$695, 9, FALSE)","v":" Craniata"},{"$f":"VLOOKUP($A574, taxonomy!$B$2:$T$695, 10, FALSE)","v":" Vertebrata"},{"$f":"VLOOKUP($A574, taxonomy!$B$2:$T$695, 11, FALSE)","v":" Euteleostomi"},{"$f":"VLOOKUP($A574, taxonomy!$B$2:$T$695, 12, FALSE)","v":"Mammalia"},{"$f":"VLOOKUP($A574, taxonomy!$B$2:$T$695, 13, FALSE)","v":" Eutheria"},{"$f":"VLOOKUP($A574, taxonomy!$B$2:$T$695, 14, FALSE)","v":" Laurasiatheria"},{"$f":"VLOOKUP($A574, taxonomy!$B$2:$T$695, 15, FALSE)","v":" Chiroptera"},{"$f":"VLOOKUP($A574, taxonomy!$B$2:$T$695, 16, FALSE)","v":" Microchiroptera"},{"$f":"VLOOKUP($A574, taxonomy!$B$2:$T$695, 17, FALSE)","v":"Vespertilionidae"}]
["L8FUI4",{"$f":" VLOOKUP(A575, architecture!D$2:E$73, 2, FALSE)","v":1},{"$f":"VLOOKUP(A575, 'PF14702'!B575:C3255, 2, FALSE)","v":1153},{"$f":"VLOOKUP($A575, taxonomy!$B$2:$T$695, 6, FALSE)","v":"Eukaryota"},{"$f":"VLOOKUP($A575, taxonomy!$B$2:$T$695, 7, FALSE)","v":" Fungi"},{"$f":"VLOOKUP($A575, taxonomy!$B$2:$T$695, 8, FALSE)","v":" Dikarya"},{"$f":"VLOOKUP($A575, taxonomy!$B$2:$T$695, 9, FALSE)","v":" Ascomycota"},{"$f":"VLOOKUP($A575, taxonomy!$B$2:$T$695, 10, FALSE)","v":" Pezizomycotina"},{"$f":"VLOOKUP($A575, taxonomy!$B$2:$T$695, 11, FALSE)","v":" Leotiomycetes"},{"$f":"VLOOKUP($A575, taxonomy!$B$2:$T$695, 12, FALSE)","v":"Leotiomycetes incertae sedis"},{"$f":"VLOOKUP($A575, taxonomy!$B$2:$T$695, 13, FALSE)","v":" Pseudeurotiaceae"},{"$f":"VLOOKUP($A575, taxonomy!$B$2:$T$695, 14, FALSE)","v":" Pseudogymnoascus."},{"$f":"VLOOKUP($A575, taxonomy!$B$2:$T$695, 15, FALSE)","v":0},{"$f":"VLOOKUP($A575, taxonomy!$B$2:$T$695, 16, FALSE)","v":0},{"$f":"VLOOKUP($A575, taxonomy!$B$2:$T$695, 17, FALSE)","v":0}]
["L8X4Q1",{"$f":" VLOOKUP(A576, architecture!D$2:E$73, 2, FALSE)","v":{"$error":"#N/A"}},{"$f":"VLOOKUP(A576, 'PF14702'!B576:C3256, 2, FALSE)","v":1629},{"$f":"VLOOKUP($A576, taxonomy!$B$2:$T$695, 6, FALSE)","v":"Eukaryota"},{"$f":"VLOOKUP($A576, taxonomy!$B$2:$T$695, 7, FALSE)","v":" Fungi"},{"$f":"VLOOKUP($A576, taxonomy!$B$2:$T$695, 8, FALSE)","v":" Dikarya"},{"$f":"VLOOKUP($A576, taxonomy!$B$2:$T$695, 9, FALSE)","v":" Basidiomycota"},{"$f":"VLOOKUP($A576, taxonomy!$B$2:$T$695, 10, FALSE)","v":" Agaricomycotina"},{"$f":"VLOOKUP($A576, taxonomy!$B$2:$T$695, 11, FALSE)","v":"Agaricomycetes"},{"$f":"VLOOKUP($A576, taxonomy!$B$2:$T$695, 12, FALSE)","v":" Cantharellales"},{"$f":"VLOOKUP($A576, taxonomy!$B$2:$T$695, 13, FALSE)","v":" Ceratobasidiaceae"},{"$f":"VLOOKUP($A576, taxonomy!$B$2:$T$695, 14, FALSE)","v":" Rhizoctonia."},{"$f":"VLOOKUP($A576, taxonomy!$B$2:$T$695, 15, FALSE)","v":0},{"$f":"VLOOKUP($A576, taxonomy!$B$2:$T$695, 16, FALSE)","v":0},{"$f":"VLOOKUP($A576, taxonomy!$B$2:$T$695, 17, FALSE)","v":0}]
["L8Y2P5",{"$f":" VLOOKUP(A577, architecture!D$2:E$73, 2, FALSE)","v":{"$error":"#N/A"}},{"$f":"VLOOKUP(A577, 'PF14702'!B577:C3257, 2, FALSE)","v":1039},{"$f":"VLOOKUP($A577, taxonomy!$B$2:$T$695, 6, FALSE)","v":"Eukaryota"},{"$f":"VLOOKUP($A577, taxonomy!$B$2:$T$695, 7, FALSE)","v":" Metazoa"},{"$f":"VLOOKUP($A577, taxonomy!$B$2:$T$695, 8, FALSE)","v":" Chordata"},{"$f":"VLOOKUP($A577, taxonomy!$B$2:$T$695, 9, FALSE)","v":" Craniata"},{"$f":"VLOOKUP($A577, taxonomy!$B$2:$T$695, 10, FALSE)","v":" Vertebrata"},{"$f":"VLOOKUP($A577, taxonomy!$B$2:$T$695, 11, FALSE)","v":" Euteleostomi"},{"$f":"VLOOKUP($A577, taxonomy!$B$2:$T$695, 12, FALSE)","v":"Mammalia"},{"$f":"VLOOKUP($A577, taxonomy!$B$2:$T$695, 13, FALSE)","v":" Eutheria"},{"$f":"VLOOKUP($A577, taxonomy!$B$2:$T$695, 14, FALSE)","v":" Euarchontoglires"},{"$f":"VLOOKUP($A577, taxonomy!$B$2:$T$695, 15, FALSE)","v":" Scandentia"},{"$f":"VLOOKUP($A577, taxonomy!$B$2:$T$695, 16, FALSE)","v":" Tupaiidae"},{"$f":"VLOOKUP($A577, taxonomy!$B$2:$T$695, 17, FALSE)","v":" Tupaia."}]
["M1W1F8",{"$f":" VLOOKUP(A578, architecture!D$2:E$73, 2, FALSE)","v":{"$error":"#N/A"}},{"$f":"VLOOKUP(A578, 'PF14702'!B578:C3258, 2, FALSE)","v":1559},{"$f":"VLOOKUP($A578, taxonomy!$B$2:$T$695, 6, FALSE)","v":"Eukaryota"},{"$f":"VLOOKUP($A578, taxonomy!$B$2:$T$695, 7, FALSE)","v":" Fungi"},{"$f":"VLOOKUP($A578, taxonomy!$B$2:$T$695, 8, FALSE)","v":" Dikarya"},{"$f":"VLOOKUP($A578, taxonomy!$B$2:$T$695, 9, FALSE)","v":" Ascomycota"},{"$f":"VLOOKUP($A578, taxonomy!$B$2:$T$695, 10, FALSE)","v":" Pezizomycotina"},{"$f":"VLOOKUP($A578, taxonomy!$B$2:$T$695, 11, FALSE)","v":"Sordariomycetes"},{"$f":"VLOOKUP($A578, taxonomy!$B$2:$T$695, 12, FALSE)","v":" Hypocreomycetidae"},{"$f":"VLOOKUP($A578, taxonomy!$B$2:$T$695, 13, FALSE)","v":" Hypocreales"},{"$f":"VLOOKUP($A578, taxonomy!$B$2:$T$695, 14, FALSE)","v":" Clavicipitaceae"},{"$f":"VLOOKUP($A578, taxonomy!$B$2:$T$695, 15, FALSE)","v":"Claviceps."},{"$f":"VLOOKUP($A578, taxonomy!$B$2:$T$695, 16, FALSE)","v":0},{"$f":"VLOOKUP($A578, taxonomy!$B$2:$T$695, 17, FALSE)","v":0}]
["M2M3S2",{"$f":" VLOOKUP(A579, architecture!D$2:E$73, 2, FALSE)","v":{"$error":"#N/A"}},{"$f":"VLOOKUP(A579, 'PF14702'!B579:C3259, 2, FALSE)","v":1559},{"$f":"VLOOKUP($A579, taxonomy!$B$2:$T$695, 6, FALSE)","v":"Eukaryota"},{"$f":"VLOOKUP($A579, taxonomy!$B$2:$T$695, 7, FALSE)","v":" Fungi"},{"$f":"VLOOKUP($A579, taxonomy!$B$2:$T$695, 8, FALSE)","v":" Dikarya"},{"$f":"VLOOKUP($A579, taxonomy!$B$2:$T$695, 9, FALSE)","v":" Ascomycota"},{"$f":"VLOOKUP($A579, taxonomy!$B$2:$T$695, 10, FALSE)","v":" Pezizomycotina"},{"$f":"VLOOKUP($A579, taxonomy!$B$2:$T$695, 11, FALSE)","v":"Dothideomycetes"},{"$f":"VLOOKUP($A579, taxonomy!$B$2:$T$695, 12, FALSE)","v":" Dothideomycetidae"},{"$f":"VLOOKUP($A579, taxonomy!$B$2:$T$695, 13, FALSE)","v":" Capnodiales"},{"$f":"VLOOKUP($A579, taxonomy!$B$2:$T$695, 14, FALSE)","v":" Teratosphaeriaceae"},{"$f":"VLOOKUP($A579, taxonomy!$B$2:$T$695, 15, FALSE)","v":"Baudoinia."},{"$f":"VLOOKUP($A579, taxonomy!$B$2:$T$695, 16, FALSE)","v":0},{"$f":"VLOOKUP($A579, taxonomy!$B$2:$T$695, 17, FALSE)","v":0}]
["M2RJS3",{"$f":" VLOOKUP(A580, architecture!D$2:E$73, 2, FALSE)","v":{"$error":"#N/A"}},{"$f":"VLOOKUP(A580, 'PF14702'!B580:C3260, 2, FALSE)","v":1516},{"$f":"VLOOKUP($A580, taxonomy!$B$2:$T$695, 6, FALSE)","v":"Eukaryota"},{"$f":"VLOOKUP($A580, taxonomy!$B$2:$T$695, 7, FALSE)","v":" Fungi"},{"$f":"VLOOKUP($A580, taxonomy!$B$2:$T$695, 8, FALSE)","v":" Dikarya"},{"$f":"VLOOKUP($A580, taxonomy!$B$2:$T$695, 9, FALSE)","v":" Basidiomycota"},{"$f":"VLOOKUP($A580, taxonomy!$B$2:$T$695, 10, FALSE)","v":" Agaricomycotina"},{"$f":"VLOOKUP($A580, taxonomy!$B$2:$T$695, 11, FALSE)","v":"Agaricomycetes"},{"$f":"VLOOKUP($A580, taxonomy!$B$2:$T$695, 12, FALSE)","v":" Polyporales"},{"$f":"VLOOKUP($A580, taxonomy!$B$2:$T$695, 13, FALSE)","v":" Gelatoporiaceae"},{"$f":"VLOOKUP($A580, taxonomy!$B$2:$T$695, 14, FALSE)","v":" Gelatoporia."},{"$f":"VLOOKUP($A580, taxonomy!$B$2:$T$695, 15, FALSE)","v":0},{"$f":"VLOOKUP($A580, taxonomy!$B$2:$T$695, 16, FALSE)","v":0},{"$f":"VLOOKUP($A580, taxonomy!$B$2:$T$695, 17, FALSE)","v":0}]
["M2S4D3",{"$f":" VLOOKUP(A581, architecture!D$2:E$73, 2, FALSE)","v":{"$error":"#N/A"}},{"$f":"VLOOKUP(A581, 'PF14702'!B581:C3261, 2, FALSE)","v":1559},{"$f":"VLOOKUP($A581, taxonomy!$B$2:$T$695, 6, FALSE)","v":"Eukaryota"},{"$f":"VLOOKUP($A581, taxonomy!$B$2:$T$695, 7, FALSE)","v":" Fungi"},{"$f":"VLOOKUP($A581, taxonomy!$B$2:$T$695, 8, FALSE)","v":" Dikarya"},{"$f":"VLOOKUP($A581, taxonomy!$B$2:$T$695, 9, FALSE)","v":" Ascomycota"},{"$f":"VLOOKUP($A581, taxonomy!$B$2:$T$695, 10, FALSE)","v":" Pezizomycotina"},{"$f":"VLOOKUP($A581, taxonomy!$B$2:$T$695, 11, FALSE)","v":"Dothideomycetes"},{"$f":"VLOOKUP($A581, taxonomy!$B$2:$T$695, 12, FALSE)","v":" Pleosporomycetidae"},{"$f":"VLOOKUP($A581, taxonomy!$B$2:$T$695, 13, FALSE)","v":" Pleosporales"},{"$f":"VLOOKUP($A581, taxonomy!$B$2:$T$695, 14, FALSE)","v":" Pleosporineae"},{"$f":"VLOOKUP($A581, taxonomy!$B$2:$T$695, 15, FALSE)","v":"Pleosporaceae"},{"$f":"VLOOKUP($A581, taxonomy!$B$2:$T$695, 16, FALSE)","v":" Bipolaris."},{"$f":"VLOOKUP($A581, taxonomy!$B$2:$T$695, 17, FALSE)","v":0}]
["M2TWV8",{"$f":" VLOOKUP(A582, architecture!D$2:E$73, 2, FALSE)","v":{"$error":"#N/A"}},{"$f":"VLOOKUP(A582, 'PF14702'!B582:C3262, 2, FALSE)","v":1559},{"$f":"VLOOKUP($A582, taxonomy!$B$2:$T$695, 6, FALSE)","v":"Eukaryota"},{"$f":"VLOOKUP($A582, taxonomy!$B$2:$T$695, 7, FALSE)","v":" Fungi"},{"$f":"VLOOKUP($A582, taxonomy!$B$2:$T$695, 8, FALSE)","v":" Dikarya"},{"$f":"VLOOKUP($A582, taxonomy!$B$2:$T$695, 9, FALSE)","v":" Ascomycota"},{"$f":"VLOOKUP($A582, taxonomy!$B$2:$T$695, 10, FALSE)","v":" Pezizomycotina"},{"$f":"VLOOKUP($A582, taxonomy!$B$2:$T$695, 11, FALSE)","v":"Dothideomycetes"},{"$f":"VLOOKUP($A582, taxonomy!$B$2:$T$695, 12, FALSE)","v":" Pleosporomycetidae"},{"$f":"VLOOKUP($A582, taxonomy!$B$2:$T$695, 13, FALSE)","v":" Pleosporales"},{"$f":"VLOOKUP($A582, taxonomy!$B$2:$T$695, 14, FALSE)","v":" Pleosporineae"},{"$f":"VLOOKUP($A582, taxonomy!$B$2:$T$695, 15, FALSE)","v":"Pleosporaceae"},{"$f":"VLOOKUP($A582, taxonomy!$B$2:$T$695, 16, FALSE)","v":" Bipolaris."},{"$f":"VLOOKUP($A582, taxonomy!$B$2:$T$695, 17, FALSE)","v":0}]
["M2YK58",{"$f":" VLOOKUP(A583, architecture!D$2:E$73, 2, FALSE)","v":{"$error":"#N/A"}},{"$f":"VLOOKUP(A583, 'PF14702'!B583:C3263, 2, FALSE)","v":1553},{"$f":"VLOOKUP($A583, taxonomy!$B$2:$T$695, 6, FALSE)","v":"Eukaryota"},{"$f":"VLOOKUP($A583, taxonomy!$B$2:$T$695, 7, FALSE)","v":" Fungi"},{"$f":"VLOOKUP($A583, taxonomy!$B$2:$T$695, 8, FALSE)","v":" Dikarya"},{"$f":"VLOOKUP($A583, taxonomy!$B$2:$T$695, 9, FALSE)","v":" Ascomycota"},{"$f":"VLOOKUP($A583, taxonomy!$B$2:$T$695, 10, FALSE)","v":" Pezizomycotina"},{"$f":"VLOOKUP($A583, taxonomy!$B$2:$T$695, 11, FALSE)","v":"Dothideomycetes"},{"$f":"VLOOKUP($A583, taxonomy!$B$2:$T$695, 12, FALSE)","v":" Dothideomycetidae"},{"$f":"VLOOKUP($A583, taxonomy!$B$2:$T$695, 13, FALSE)","v":" Capnodiales"},{"$f":"VLOOKUP($A583, taxonomy!$B$2:$T$695, 14, FALSE)","v":" Mycosphaerellaceae"},{"$f":"VLOOKUP($A583, taxonomy!$B$2:$T$695, 15, FALSE)","v":"Dothistroma."},{"$f":"VLOOKUP($A583, taxonomy!$B$2:$T$695, 16, FALSE)","v":0},{"$f":"VLOOKUP($A583, taxonomy!$B$2:$T$695, 17, FALSE)","v":0}]
["M3A760",{"$f":" VLOOKUP(A584, architecture!D$2:E$73, 2, FALSE)","v":{"$error":"#N/A"}},{"$f":"VLOOKUP(A584, 'PF14702'!B584:C3264, 2, FALSE)","v":1554},{"$f":"VLOOKUP($A584, taxonomy!$B$2:$T$695, 6, FALSE)","v":"Eukaryota"},{"$f":"VLOOKUP($A584, taxonomy!$B$2:$T$695, 7, FALSE)","v":" Fungi"},{"$f":"VLOOKUP($A584, taxonomy!$B$2:$T$695, 8, FALSE)","v":" Dikarya"},{"$f":"VLOOKUP($A584, taxonomy!$B$2:$T$695, 9, FALSE)","v":" Ascomycota"},{"$f":"VLOOKUP($A584, taxonomy!$B$2:$T$695, 10, FALSE)","v":" Pezizomycotina"},{"$f":"VLOOKUP($A584, taxonomy!$B$2:$T$695, 11, FALSE)","v":"Dothideomycetes"},{"$f":"VLOOKUP($A584, taxonomy!$B$2:$T$695, 12, FALSE)","v":" Dothideomycetidae"},{"$f":"VLOOKUP($A584, taxonomy!$B$2:$T$695, 13, FALSE)","v":" Capnodiales"},{"$f":"VLOOKUP($A584, taxonomy!$B$2:$T$695, 14, FALSE)","v":" Mycosphaerellaceae"},{"$f":"VLOOKUP($A584, taxonomy!$B$2:$T$695, 15, FALSE)","v":"Pseudocercospora."},{"$f":"VLOOKUP($A584, taxonomy!$B$2:$T$695, 16, FALSE)","v":0},{"$f":"VLOOKUP($A584, taxonomy!$B$2:$T$695, 17, FALSE)","v":0}]
["M3BU19",{"$f":" VLOOKUP(A585, architecture!D$2:E$73, 2, FALSE)","v":{"$error":"#N/A"}},{"$f":"VLOOKUP(A585, 'PF14702'!B585:C3265, 2, FALSE)","v":1552},{"$f":"VLOOKUP($A585, taxonomy!$B$2:$T$695, 6, FALSE)","v":"Eukaryota"},{"$f":"VLOOKUP($A585, taxonomy!$B$2:$T$695, 7, FALSE)","v":" Fungi"},{"$f":"VLOOKUP($A585, taxonomy!$B$2:$T$695, 8, FALSE)","v":" Dikarya"},{"$f":"VLOOKUP($A585, taxonomy!$B$2:$T$695, 9, FALSE)","v":" Ascomycota"},{"$f":"VLOOKUP($A585, taxonomy!$B$2:$T$695, 10, FALSE)","v":" Pezizomycotina"},{"$f":"VLOOKUP($A585, taxonomy!$B$2:$T$695, 11, FALSE)","v":"Dothideomycetes"},{"$f":"VLOOKUP($A585, taxonomy!$B$2:$T$695, 12, FALSE)","v":" Dothideomycetidae"},{"$f":"VLOOKUP($A585, taxonomy!$B$2:$T$695, 13, FALSE)","v":" Capnodiales"},{"$f":"VLOOKUP($A585, taxonomy!$B$2:$T$695, 14, FALSE)","v":" Mycosphaerellaceae"},{"$f":"VLOOKUP($A585, taxonomy!$B$2:$T$695, 15, FALSE)","v":"Sphaerulina."},{"$f":"VLOOKUP($A585, taxonomy!$B$2:$T$695, 16, FALSE)","v":0},{"$f":"VLOOKUP($A585, taxonomy!$B$2:$T$695, 17, FALSE)","v":0}]
["M3JST8",{"$f":" VLOOKUP(A586, architecture!D$2:E$73, 2, FALSE)","v":{"$error":"#N/A"}},{"$f":"VLOOKUP(A586, 'PF14702'!B586:C3266, 2, FALSE)","v":1530},{"$f":"VLOOKUP($A586, taxonomy!$B$2:$T$695, 6, FALSE)","v":"Eukaryota"},{"$f":"VLOOKUP($A586, taxonomy!$B$2:$T$695, 7, FALSE)","v":" Fungi"},{"$f":"VLOOKUP($A586, taxonomy!$B$2:$T$695, 8, FALSE)","v":" Dikarya"},{"$f":"VLOOKUP($A586, taxonomy!$B$2:$T$695, 9, FALSE)","v":" Ascomycota"},{"$f":"VLOOKUP($A586, taxonomy!$B$2:$T$695, 10, FALSE)","v":" Saccharomycotina"},{"$f":"VLOOKUP($A586, taxonomy!$B$2:$T$695, 11, FALSE)","v":"Saccharomycetes"},{"$f":"VLOOKUP($A586, taxonomy!$B$2:$T$695, 12, FALSE)","v":" Saccharomycetales"},{"$f":"VLOOKUP($A586, taxonomy!$B$2:$T$695, 13, FALSE)","v":" Debaryomycetaceae"},{"$f":"VLOOKUP($A586, taxonomy!$B$2:$T$695, 14, FALSE)","v":"Candida/Lodderomyces clade"},{"$f":"VLOOKUP($A586, taxonomy!$B$2:$T$695, 15, FALSE)","v":" Candida."},{"$f":"VLOOKUP($A586, taxonomy!$B$2:$T$695, 16, FALSE)","v":0},{"$f":"VLOOKUP($A586, taxonomy!$B$2:$T$695, 17, FALSE)","v":0}]
["M3X112",{"$f":" VLOOKUP(A587, architecture!D$2:E$73, 2, FALSE)","v":{"$error":"#N/A"}},{"$f":"VLOOKUP(A587, 'PF14702'!B587:C3267, 2, FALSE)","v":1532},{"$f":"VLOOKUP($A587, taxonomy!$B$2:$T$695, 6, FALSE)","v":"Eukaryota"},{"$f":"VLOOKUP($A587, taxonomy!$B$2:$T$695, 7, FALSE)","v":" Metazoa"},{"$f":"VLOOKUP($A587, taxonomy!$B$2:$T$695, 8, FALSE)","v":" Chordata"},{"$f":"VLOOKUP($A587, taxonomy!$B$2:$T$695, 9, FALSE)","v":" Craniata"},{"$f":"VLOOKUP($A587, taxonomy!$B$2:$T$695, 10, FALSE)","v":" Vertebrata"},{"$f":"VLOOKUP($A587, taxonomy!$B$2:$T$695, 11, FALSE)","v":" Euteleostomi"},{"$f":"VLOOKUP($A587, taxonomy!$B$2:$T$695, 12, FALSE)","v":"Mammalia"},{"$f":"VLOOKUP($A587, taxonomy!$B$2:$T$695, 13, FALSE)","v":" Eutheria"},{"$f":"VLOOKUP($A587, taxonomy!$B$2:$T$695, 14, FALSE)","v":" Laurasiatheria"},{"$f":"VLOOKUP($A587, taxonomy!$B$2:$T$695, 15, FALSE)","v":" Carnivora"},{"$f":"VLOOKUP($A587, taxonomy!$B$2:$T$695, 16, FALSE)","v":" Feliformia"},{"$f":"VLOOKUP($A587, taxonomy!$B$2:$T$695, 17, FALSE)","v":" Felidae"}]
["M3YLH2",{"$f":" VLOOKUP(A588, architecture!D$2:E$73, 2, FALSE)","v":{"$error":"#N/A"}},{"$f":"VLOOKUP(A588, 'PF14702'!B588:C3268, 2, FALSE)","v":1533},{"$f":"VLOOKUP($A588, taxonomy!$B$2:$T$695, 6, FALSE)","v":"Eukaryota"},{"$f":"VLOOKUP($A588, taxonomy!$B$2:$T$695, 7, FALSE)","v":" Metazoa"},{"$f":"VLOOKUP($A588, taxonomy!$B$2:$T$695, 8, FALSE)","v":" Chordata"},{"$f":"VLOOKUP($A588, taxonomy!$B$2:$T$695, 9, FALSE)","v":" Craniata"},{"$f":"VLOOKUP($A588, taxonomy!$B$2:$T$695, 10, FALSE)","v":" Vertebrata"},{"$f":"VLOOKUP($A588, taxonomy!$B$2:$T$695, 11, FALSE)","v":" Euteleostomi"},{"$f":"VLOOKUP($A588, taxonomy!$B$2:$T$695, 12, FALSE)","v":"Mammalia"},{"$f":"VLOOKUP($A588, taxonomy!$B$2:$T$695, 13, FALSE)","v":" Eutheria"},{"$f":"VLOOKUP($A588, taxonomy!$B$2:$T$695, 14, FALSE)","v":" Laurasiatheria"},{"$f":"VLOOKUP($A588, taxonomy!$B$2:$T$695, 15, FALSE)","v":" Carnivora"},{"$f":"VLOOKUP($A588, taxonomy!$B$2:$T$695, 16, FALSE)","v":" Caniformia"},{"$f":"VLOOKUP($A588, taxonomy!$B$2:$T$695, 17, FALSE)","v":" Mustelidae"}]
["M3ZFB7",{"$f":" VLOOKUP(A589, architecture!D$2:E$73, 2, FALSE)","v":{"$error":"#N/A"}},{"$f":"VLOOKUP(A589, 'PF14702'!B589:C3269, 2, FALSE)","v":1529},{"$f":"VLOOKUP($A589, taxonomy!$B$2:$T$695, 6, FALSE)","v":"Eukaryota"},{"$f":"VLOOKUP($A589, taxonomy!$B$2:$T$695, 7, FALSE)","v":" Metazoa"},{"$f":"VLOOKUP($A589, taxonomy!$B$2:$T$695, 8, FALSE)","v":" Chordata"},{"$f":"VLOOKUP($A589, taxonomy!$B$2:$T$695, 9, FALSE)","v":" Craniata"},{"$f":"VLOOKUP($A589, taxonomy!$B$2:$T$695, 10, FALSE)","v":" Vertebrata"},{"$f":"VLOOKUP($A589, taxonomy!$B$2:$T$695, 11, FALSE)","v":" Euteleostomi"},{"$f":"VLOOKUP($A589, taxonomy!$B$2:$T$695, 12, FALSE)","v":"Actinopterygii"},{"$f":"VLOOKUP($A589, taxonomy!$B$2:$T$695, 13, FALSE)","v":" Neopterygii"},{"$f":"VLOOKUP($A589, taxonomy!$B$2:$T$695, 14, FALSE)","v":" Teleostei"},{"$f":"VLOOKUP($A589, taxonomy!$B$2:$T$695, 15, FALSE)","v":" Neoteleostei"},{"$f":"VLOOKUP($A589, taxonomy!$B$2:$T$695, 16, FALSE)","v":" Acanthomorphata"},{"$f":"VLOOKUP($A589, taxonomy!$B$2:$T$695, 17, FALSE)","v":"Ovalentaria"}]
["M5BPU2",{"$f":" VLOOKUP(A590, architecture!D$2:E$73, 2, FALSE)","v":{"$error":"#N/A"}},{"$f":"VLOOKUP(A590, 'PF14702'!B590:C3270, 2, FALSE)","v":2104},{"$f":"VLOOKUP($A590, taxonomy!$B$2:$T$695, 6, FALSE)","v":"Eukaryota"},{"$f":"VLOOKUP($A590, taxonomy!$B$2:$T$695, 7, FALSE)","v":" Fungi"},{"$f":"VLOOKUP($A590, taxonomy!$B$2:$T$695, 8, FALSE)","v":" Dikarya"},{"$f":"VLOOKUP($A590, taxonomy!$B$2:$T$695, 9, FALSE)","v":" Basidiomycota"},{"$f":"VLOOKUP($A590, taxonomy!$B$2:$T$695, 10, FALSE)","v":" Agaricomycotina"},{"$f":"VLOOKUP($A590, taxonomy!$B$2:$T$695, 11, FALSE)","v":"Agaricomycetes"},{"$f":"VLOOKUP($A590, taxonomy!$B$2:$T$695, 12, FALSE)","v":" Cantharellales"},{"$f":"VLOOKUP($A590, taxonomy!$B$2:$T$695, 13, FALSE)","v":" Ceratobasidiaceae"},{"$f":"VLOOKUP($A590, taxonomy!$B$2:$T$695, 14, FALSE)","v":" Rhizoctonia."},{"$f":"VLOOKUP($A590, taxonomy!$B$2:$T$695, 15, FALSE)","v":0},{"$f":"VLOOKUP($A590, taxonomy!$B$2:$T$695, 16, FALSE)","v":0},{"$f":"VLOOKUP($A590, taxonomy!$B$2:$T$695, 17, FALSE)","v":0}]
["M5FZW2",{"$f":" VLOOKUP(A591, architecture!D$2:E$73, 2, FALSE)","v":{"$error":"#N/A"}},{"$f":"VLOOKUP(A591, 'PF14702'!B591:C3271, 2, FALSE)","v":1596},{"$f":"VLOOKUP($A591, taxonomy!$B$2:$T$695, 6, FALSE)","v":"Eukaryota"},{"$f":"VLOOKUP($A591, taxonomy!$B$2:$T$695, 7, FALSE)","v":" Fungi"},{"$f":"VLOOKUP($A591, taxonomy!$B$2:$T$695, 8, FALSE)","v":" Dikarya"},{"$f":"VLOOKUP($A591, taxonomy!$B$2:$T$695, 9, FALSE)","v":" Basidiomycota"},{"$f":"VLOOKUP($A591, taxonomy!$B$2:$T$695, 10, FALSE)","v":" Agaricomycotina"},{"$f":"VLOOKUP($A591, taxonomy!$B$2:$T$695, 11, FALSE)","v":"Dacrymycetes"},{"$f":"VLOOKUP($A591, taxonomy!$B$2:$T$695, 12, FALSE)","v":" Dacrymycetales"},{"$f":"VLOOKUP($A591, taxonomy!$B$2:$T$695, 13, FALSE)","v":" Dacrymycetaceae"},{"$f":"VLOOKUP($A591, taxonomy!$B$2:$T$695, 14, FALSE)","v":" Dacryopinax."},{"$f":"VLOOKUP($A591, taxonomy!$B$2:$T$695, 15, FALSE)","v":0},{"$f":"VLOOKUP($A591, taxonomy!$B$2:$T$695, 16, FALSE)","v":0},{"$f":"VLOOKUP($A591, taxonomy!$B$2:$T$695, 17, FALSE)","v":0}]
["M7B7S1",{"$f":" VLOOKUP(A592, architecture!D$2:E$73, 2, FALSE)","v":{"$error":"#N/A"}},{"$f":"VLOOKUP(A592, 'PF14702'!B592:C3272, 2, FALSE)","v":1748},{"$f":"VLOOKUP($A592, taxonomy!$B$2:$T$695, 6, FALSE)","v":"Eukaryota"},{"$f":"VLOOKUP($A592, taxonomy!$B$2:$T$695, 7, FALSE)","v":" Metazoa"},{"$f":"VLOOKUP($A592, taxonomy!$B$2:$T$695, 8, FALSE)","v":" Chordata"},{"$f":"VLOOKUP($A592, taxonomy!$B$2:$T$695, 9, FALSE)","v":" Craniata"},{"$f":"VLOOKUP($A592, taxonomy!$B$2:$T$695, 10, FALSE)","v":" Vertebrata"},{"$f":"VLOOKUP($A592, taxonomy!$B$2:$T$695, 11, FALSE)","v":" Euteleostomi"},{"$f":"VLOOKUP($A592, taxonomy!$B$2:$T$695, 12, FALSE)","v":"Archelosauria"},{"$f":"VLOOKUP($A592, taxonomy!$B$2:$T$695, 13, FALSE)","v":" Testudines"},{"$f":"VLOOKUP($A592, taxonomy!$B$2:$T$695, 14, FALSE)","v":" Cryptodira"},{"$f":"VLOOKUP($A592, taxonomy!$B$2:$T$695, 15, FALSE)","v":" Durocryptodira"},{"$f":"VLOOKUP($A592, taxonomy!$B$2:$T$695, 16, FALSE)","v":" Americhelydia"},{"$f":"VLOOKUP($A592, taxonomy!$B$2:$T$695, 17, FALSE)","v":"Chelonioidea"}]
["M7PC58",{"$f":" VLOOKUP(A593, architecture!D$2:E$73, 2, FALSE)","v":{"$error":"#N/A"}},{"$f":"VLOOKUP(A593, 'PF14702'!B593:C3273, 2, FALSE)","v":1516},{"$f":"VLOOKUP($A593, taxonomy!$B$2:$T$695, 6, FALSE)","v":"Eukaryota"},{"$f":"VLOOKUP($A593, taxonomy!$B$2:$T$695, 7, FALSE)","v":" Fungi"},{"$f":"VLOOKUP($A593, taxonomy!$B$2:$T$695, 8, FALSE)","v":" Dikarya"},{"$f":"VLOOKUP($A593, taxonomy!$B$2:$T$695, 9, FALSE)","v":" Ascomycota"},{"$f":"VLOOKUP($A593, taxonomy!$B$2:$T$695, 10, FALSE)","v":" Taphrinomycotina"},{"$f":"VLOOKUP($A593, taxonomy!$B$2:$T$695, 11, FALSE)","v":"Pneumocystidomycetes"},{"$f":"VLOOKUP($A593, taxonomy!$B$2:$T$695, 12, FALSE)","v":" Pneumocystidaceae"},{"$f":"VLOOKUP($A593, taxonomy!$B$2:$T$695, 13, FALSE)","v":" Pneumocystis."},{"$f":"VLOOKUP($A593, taxonomy!$B$2:$T$695, 14, FALSE)","v":0},{"$f":"VLOOKUP($A593, taxonomy!$B$2:$T$695, 15, FALSE)","v":0},{"$f":"VLOOKUP($A593, taxonomy!$B$2:$T$695, 16, FALSE)","v":0},{"$f":"VLOOKUP($A593, taxonomy!$B$2:$T$695, 17, FALSE)","v":0}]
["M7SMT2",{"$f":" VLOOKUP(A594, architecture!D$2:E$73, 2, FALSE)","v":{"$error":"#N/A"}},{"$f":"VLOOKUP(A594, 'PF14702'!B594:C3274, 2, FALSE)","v":1551},{"$f":"VLOOKUP($A594, taxonomy!$B$2:$T$695, 6, FALSE)","v":"Eukaryota"},{"$f":"VLOOKUP($A594, taxonomy!$B$2:$T$695, 7, FALSE)","v":" Fungi"},{"$f":"VLOOKUP($A594, taxonomy!$B$2:$T$695, 8, FALSE)","v":" Dikarya"},{"$f":"VLOOKUP($A594, taxonomy!$B$2:$T$695, 9, FALSE)","v":" Ascomycota"},{"$f":"VLOOKUP($A594, taxonomy!$B$2:$T$695, 10, FALSE)","v":" Pezizomycotina"},{"$f":"VLOOKUP($A594, taxonomy!$B$2:$T$695, 11, FALSE)","v":"Sordariomycetes"},{"$f":"VLOOKUP($A594, taxonomy!$B$2:$T$695, 12, FALSE)","v":" Xylariomycetidae"},{"$f":"VLOOKUP($A594, taxonomy!$B$2:$T$695, 13, FALSE)","v":" Xylariales"},{"$f":"VLOOKUP($A594, taxonomy!$B$2:$T$695, 14, FALSE)","v":" Diatrypaceae"},{"$f":"VLOOKUP($A594, taxonomy!$B$2:$T$695, 15, FALSE)","v":" Eutypa."},{"$f":"VLOOKUP($A594, taxonomy!$B$2:$T$695, 16, FALSE)","v":0},{"$f":"VLOOKUP($A594, taxonomy!$B$2:$T$695, 17, FALSE)","v":0}]
["M7TLI0",{"$f":" VLOOKUP(A595, architecture!D$2:E$73, 2, FALSE)","v":{"$error":"#N/A"}},{"$f":"VLOOKUP(A595, 'PF14702'!B595:C3275, 2, FALSE)","v":1551},{"$f":"VLOOKUP($A595, taxonomy!$B$2:$T$695, 6, FALSE)","v":"Eukaryota"},{"$f":"VLOOKUP($A595, taxonomy!$B$2:$T$695, 7, FALSE)","v":" Fungi"},{"$f":"VLOOKUP($A595, taxonomy!$B$2:$T$695, 8, FALSE)","v":" Dikarya"},{"$f":"VLOOKUP($A595, taxonomy!$B$2:$T$695, 9, FALSE)","v":" Ascomycota"},{"$f":"VLOOKUP($A595, taxonomy!$B$2:$T$695, 10, FALSE)","v":" Pezizomycotina"},{"$f":"VLOOKUP($A595, taxonomy!$B$2:$T$695, 11, FALSE)","v":" Leotiomycetes"},{"$f":"VLOOKUP($A595, taxonomy!$B$2:$T$695, 12, FALSE)","v":"Helotiales"},{"$f":"VLOOKUP($A595, taxonomy!$B$2:$T$695, 13, FALSE)","v":" Sclerotiniaceae"},{"$f":"VLOOKUP($A595, taxonomy!$B$2:$T$695, 14, FALSE)","v":" Botrytis."},{"$f":"VLOOKUP($A595, taxonomy!$B$2:$T$695, 15, FALSE)","v":0},{"$f":"VLOOKUP($A595, taxonomy!$B$2:$T$695, 16, FALSE)","v":0},{"$f":"VLOOKUP($A595, taxonomy!$B$2:$T$695, 17, FALSE)","v":0}]
["M7XLS6",{"$f":" VLOOKUP(A596, architecture!D$2:E$73, 2, FALSE)","v":{"$error":"#N/A"}},{"$f":"VLOOKUP(A596, 'PF14702'!B596:C3276, 2, FALSE)","v":1597},{"$f":"VLOOKUP($A596, taxonomy!$B$2:$T$695, 6, FALSE)","v":"Eukaryota"},{"$f":"VLOOKUP($A596, taxonomy!$B$2:$T$695, 7, FALSE)","v":" Fungi"},{"$f":"VLOOKUP($A596, taxonomy!$B$2:$T$695, 8, FALSE)","v":" Dikarya"},{"$f":"VLOOKUP($A596, taxonomy!$B$2:$T$695, 9, FALSE)","v":" Basidiomycota"},{"$f":"VLOOKUP($A596, taxonomy!$B$2:$T$695, 10, FALSE)","v":" Pucciniomycotina"},{"$f":"VLOOKUP($A596, taxonomy!$B$2:$T$695, 11, FALSE)","v":"Microbotryomycetes"},{"$f":"VLOOKUP($A596, taxonomy!$B$2:$T$695, 12, FALSE)","v":" Sporidiobolales"},{"$f":"VLOOKUP($A596, taxonomy!$B$2:$T$695, 13, FALSE)","v":" Sporidiobolaceae"},{"$f":"VLOOKUP($A596, taxonomy!$B$2:$T$695, 14, FALSE)","v":" Rhodotorula."},{"$f":"VLOOKUP($A596, taxonomy!$B$2:$T$695, 15, FALSE)","v":0},{"$f":"VLOOKUP($A596, taxonomy!$B$2:$T$695, 16, FALSE)","v":0},{"$f":"VLOOKUP($A596, taxonomy!$B$2:$T$695, 17, FALSE)","v":0}]
["M9MG38",{"$f":" VLOOKUP(A597, architecture!D$2:E$73, 2, FALSE)","v":{"$error":"#N/A"}},{"$f":"VLOOKUP(A597, 'PF14702'!B597:C3277, 2, FALSE)","v":1581},{"$f":"VLOOKUP($A597, taxonomy!$B$2:$T$695, 6, FALSE)","v":"Eukaryota"},{"$f":"VLOOKUP($A597, taxonomy!$B$2:$T$695, 7, FALSE)","v":" Fungi"},{"$f":"VLOOKUP($A597, taxonomy!$B$2:$T$695, 8, FALSE)","v":" Dikarya"},{"$f":"VLOOKUP($A597, taxonomy!$B$2:$T$695, 9, FALSE)","v":" Basidiomycota"},{"$f":"VLOOKUP($A597, taxonomy!$B$2:$T$695, 10, FALSE)","v":" Ustilaginomycotina"},{"$f":"VLOOKUP($A597, taxonomy!$B$2:$T$695, 11, FALSE)","v":"Ustilaginomycetes"},{"$f":"VLOOKUP($A597, taxonomy!$B$2:$T$695, 12, FALSE)","v":" Ustilaginales"},{"$f":"VLOOKUP($A597, taxonomy!$B$2:$T$695, 13, FALSE)","v":" Ustilaginaceae"},{"$f":"VLOOKUP($A597, taxonomy!$B$2:$T$695, 14, FALSE)","v":" Moesziomyces."},{"$f":"VLOOKUP($A597, taxonomy!$B$2:$T$695, 15, FALSE)","v":0},{"$f":"VLOOKUP($A597, taxonomy!$B$2:$T$695, 16, FALSE)","v":0},{"$f":"VLOOKUP($A597, taxonomy!$B$2:$T$695, 17, FALSE)","v":0}]
["N1J6R0",{"$f":" VLOOKUP(A598, architecture!D$2:E$73, 2, FALSE)","v":{"$error":"#N/A"}},{"$f":"VLOOKUP(A598, 'PF14702'!B598:C3278, 2, FALSE)","v":1558},{"$f":"VLOOKUP($A598, taxonomy!$B$2:$T$695, 6, FALSE)","v":"Eukaryota"},{"$f":"VLOOKUP($A598, taxonomy!$B$2:$T$695, 7, FALSE)","v":" Fungi"},{"$f":"VLOOKUP($A598, taxonomy!$B$2:$T$695, 8, FALSE)","v":" Dikarya"},{"$f":"VLOOKUP($A598, taxonomy!$B$2:$T$695, 9, FALSE)","v":" Ascomycota"},{"$f":"VLOOKUP($A598, taxonomy!$B$2:$T$695, 10, FALSE)","v":" Pezizomycotina"},{"$f":"VLOOKUP($A598, taxonomy!$B$2:$T$695, 11, FALSE)","v":" Leotiomycetes"},{"$f":"VLOOKUP($A598, taxonomy!$B$2:$T$695, 12, FALSE)","v":"Erysiphales"},{"$f":"VLOOKUP($A598, taxonomy!$B$2:$T$695, 13, FALSE)","v":" Erysiphaceae"},{"$f":"VLOOKUP($A598, taxonomy!$B$2:$T$695, 14, FALSE)","v":" Blumeria."},{"$f":"VLOOKUP($A598, taxonomy!$B$2:$T$695, 15, FALSE)","v":0},{"$f":"VLOOKUP($A598, taxonomy!$B$2:$T$695, 16, FALSE)","v":0},{"$f":"VLOOKUP($A598, taxonomy!$B$2:$T$695, 17, FALSE)","v":0}]
["N1RE77",{"$f":" VLOOKUP(A599, architecture!D$2:E$73, 2, FALSE)","v":{"$error":"#N/A"}},{"$f":"VLOOKUP(A599, 'PF14702'!B599:C3279, 2, FALSE)","v":1556},{"$f":"VLOOKUP($A599, taxonomy!$B$2:$T$695, 6, FALSE)","v":"Eukaryota"},{"$f":"VLOOKUP($A599, taxonomy!$B$2:$T$695, 7, FALSE)","v":" Fungi"},{"$f":"VLOOKUP($A599, taxonomy!$B$2:$T$695, 8, FALSE)","v":" Dikarya"},{"$f":"VLOOKUP($A599, taxonomy!$B$2:$T$695, 9, FALSE)","v":" Ascomycota"},{"$f":"VLOOKUP($A599, taxonomy!$B$2:$T$695, 10, FALSE)","v":" Pezizomycotina"},{"$f":"VLOOKUP($A599, taxonomy!$B$2:$T$695, 11, FALSE)","v":"Sordariomycetes"},{"$f":"VLOOKUP($A599, taxonomy!$B$2:$T$695, 12, FALSE)","v":" Hypocreomycetidae"},{"$f":"VLOOKUP($A599, taxonomy!$B$2:$T$695, 13, FALSE)","v":" Hypocreales"},{"$f":"VLOOKUP($A599, taxonomy!$B$2:$T$695, 14, FALSE)","v":" Nectriaceae"},{"$f":"VLOOKUP($A599, taxonomy!$B$2:$T$695, 15, FALSE)","v":"Fusarium"},{"$f":"VLOOKUP($A599, taxonomy!$B$2:$T$695, 16, FALSE)","v":" Fusarium oxysporum species complex."},{"$f":"VLOOKUP($A599, taxonomy!$B$2:$T$695, 17, FALSE)","v":0}]
["N4UG34",{"$f":" VLOOKUP(A600, architecture!D$2:E$73, 2, FALSE)","v":{"$error":"#N/A"}},{"$f":"VLOOKUP(A600, 'PF14702'!B600:C3280, 2, FALSE)","v":1556},{"$f":"VLOOKUP($A600, taxonomy!$B$2:$T$695, 6, FALSE)","v":"Eukaryota"},{"$f":"VLOOKUP($A600, taxonomy!$B$2:$T$695, 7, FALSE)","v":" Fungi"},{"$f":"VLOOKUP($A600, taxonomy!$B$2:$T$695, 8, FALSE)","v":" Dikarya"},{"$f":"VLOOKUP($A600, taxonomy!$B$2:$T$695, 9, FALSE)","v":" Ascomycota"},{"$f":"VLOOKUP($A600, taxonomy!$B$2:$T$695, 10, FALSE)","v":" Pezizomycotina"},{"$f":"VLOOKUP($A600, taxonomy!$B$2:$T$695, 11, FALSE)","v":"Sordariomycetes"},{"$f":"VLOOKUP($A600, taxonomy!$B$2:$T$695, 12, FALSE)","v":" Hypocreomycetidae"},{"$f":"VLOOKUP($A600, taxonomy!$B$2:$T$695, 13, FALSE)","v":" Hypocreales"},{"$f":"VLOOKUP($A600, taxonomy!$B$2:$T$695, 14, FALSE)","v":" Nectriaceae"},{"$f":"VLOOKUP($A600, taxonomy!$B$2:$T$695, 15, FALSE)","v":"Fusarium"},{"$f":"VLOOKUP($A600, taxonomy!$B$2:$T$695, 16, FALSE)","v":" Fusarium oxysporum species complex."},{"$f":"VLOOKUP($A600, taxonomy!$B$2:$T$695, 17, FALSE)","v":0}]
["N4VNG1",{"$f":" VLOOKUP(A601, architecture!D$2:E$73, 2, FALSE)","v":{"$error":"#N/A"}},{"$f":"VLOOKUP(A601, 'PF14702'!B601:C3281, 2, FALSE)","v":1571},{"$f":"VLOOKUP($A601, taxonomy!$B$2:$T$695, 6, FALSE)","v":"Eukaryota"},{"$f":"VLOOKUP($A601, taxonomy!$B$2:$T$695, 7, FALSE)","v":" Fungi"},{"$f":"VLOOKUP($A601, taxonomy!$B$2:$T$695, 8, FALSE)","v":" Dikarya"},{"$f":"VLOOKUP($A601, taxonomy!$B$2:$T$695, 9, FALSE)","v":" Ascomycota"},{"$f":"VLOOKUP($A601, taxonomy!$B$2:$T$695, 10, FALSE)","v":" Pezizomycotina"},{"$f":"VLOOKUP($A601, taxonomy!$B$2:$T$695, 11, FALSE)","v":"Sordariomycetes"},{"$f":"VLOOKUP($A601, taxonomy!$B$2:$T$695, 12, FALSE)","v":" Hypocreomycetidae"},{"$f":"VLOOKUP($A601, taxonomy!$B$2:$T$695, 13, FALSE)","v":" Glomerellales"},{"$f":"VLOOKUP($A601, taxonomy!$B$2:$T$695, 14, FALSE)","v":" Glomerellaceae"},{"$f":"VLOOKUP($A601, taxonomy!$B$2:$T$695, 15, FALSE)","v":"Colletotrichum."},{"$f":"VLOOKUP($A601, taxonomy!$B$2:$T$695, 16, FALSE)","v":0},{"$f":"VLOOKUP($A601, taxonomy!$B$2:$T$695, 17, FALSE)","v":0}]
["O62334",{"$f":" VLOOKUP(A602, architecture!D$2:E$73, 2, FALSE)","v":{"$error":"#N/A"}},{"$f":"VLOOKUP(A602, 'PF14702'!B602:C3282, 2, FALSE)","v":1467},{"$f":"VLOOKUP($A602, taxonomy!$B$2:$T$695, 6, FALSE)","v":"Eukaryota"},{"$f":"VLOOKUP($A602, taxonomy!$B$2:$T$695, 7, FALSE)","v":" Metazoa"},{"$f":"VLOOKUP($A602, taxonomy!$B$2:$T$695, 8, FALSE)","v":" Ecdysozoa"},{"$f":"VLOOKUP($A602, taxonomy!$B$2:$T$695, 9, FALSE)","v":" Nematoda"},{"$f":"VLOOKUP($A602, taxonomy!$B$2:$T$695, 10, FALSE)","v":" Chromadorea"},{"$f":"VLOOKUP($A602, taxonomy!$B$2:$T$695, 11, FALSE)","v":" Rhabditida"},{"$f":"VLOOKUP($A602, taxonomy!$B$2:$T$695, 12, FALSE)","v":"Rhabditoidea"},{"$f":"VLOOKUP($A602, taxonomy!$B$2:$T$695, 13, FALSE)","v":" Rhabditidae"},{"$f":"VLOOKUP($A602, taxonomy!$B$2:$T$695, 14, FALSE)","v":" Peloderinae"},{"$f":"VLOOKUP($A602, taxonomy!$B$2:$T$695, 15, FALSE)","v":" Caenorhabditis."},{"$f":"VLOOKUP($A602, taxonomy!$B$2:$T$695, 16, FALSE)","v":0},{"$f":"VLOOKUP($A602, taxonomy!$B$2:$T$695, 17, FALSE)","v":0}]
["P35573",{"$f":" VLOOKUP(A603, architecture!D$2:E$73, 2, FALSE)","v":{"$error":"#N/A"}},{"$f":"VLOOKUP(A603, 'PF14702'!B603:C3283, 2, FALSE)","v":1532},{"$f":"VLOOKUP($A603, taxonomy!$B$2:$T$695, 6, FALSE)","v":"Eukaryota"},{"$f":"VLOOKUP($A603, taxonomy!$B$2:$T$695, 7, FALSE)","v":" Metazoa"},{"$f":"VLOOKUP($A603, taxonomy!$B$2:$T$695, 8, FALSE)","v":" Chordata"},{"$f":"VLOOKUP($A603, taxonomy!$B$2:$T$695, 9, FALSE)","v":" Craniata"},{"$f":"VLOOKUP($A603, taxonomy!$B$2:$T$695, 10, FALSE)","v":" Vertebrata"},{"$f":"VLOOKUP($A603, taxonomy!$B$2:$T$695, 11, FALSE)","v":" Euteleostomi"},{"$f":"VLOOKUP($A603, taxonomy!$B$2:$T$695, 12, FALSE)","v":"Mammalia"},{"$f":"VLOOKUP($A603, taxonomy!$B$2:$T$695, 13, FALSE)","v":" Eutheria"},{"$f":"VLOOKUP($A603, taxonomy!$B$2:$T$695, 14, FALSE)","v":" Euarchontoglires"},{"$f":"VLOOKUP($A603, taxonomy!$B$2:$T$695, 15, FALSE)","v":" Primates"},{"$f":"VLOOKUP($A603, taxonomy!$B$2:$T$695, 16, FALSE)","v":" Haplorrhini"},{"$f":"VLOOKUP($A603, taxonomy!$B$2:$T$695, 17, FALSE)","v":"Catarrhini"}]
["P35574",{"$f":" VLOOKUP(A604, architecture!D$2:E$73, 2, FALSE)","v":{"$error":"#N/A"}},{"$f":"VLOOKUP(A604, 'PF14702'!B604:C3284, 2, FALSE)","v":1555},{"$f":"VLOOKUP($A604, taxonomy!$B$2:$T$695, 6, FALSE)","v":"Eukaryota"},{"$f":"VLOOKUP($A604, taxonomy!$B$2:$T$695, 7, FALSE)","v":" Metazoa"},{"$f":"VLOOKUP($A604, taxonomy!$B$2:$T$695, 8, FALSE)","v":" Chordata"},{"$f":"VLOOKUP($A604, taxonomy!$B$2:$T$695, 9, FALSE)","v":" Craniata"},{"$f":"VLOOKUP($A604, taxonomy!$B$2:$T$695, 10, FALSE)","v":" Vertebrata"},{"$f":"VLOOKUP($A604, taxonomy!$B$2:$T$695, 11, FALSE)","v":" Euteleostomi"},{"$f":"VLOOKUP($A604, taxonomy!$B$2:$T$695, 12, FALSE)","v":"Mammalia"},{"$f":"VLOOKUP($A604, taxonomy!$B$2:$T$695, 13, FALSE)","v":" Eutheria"},{"$f":"VLOOKUP($A604, taxonomy!$B$2:$T$695, 14, FALSE)","v":" Euarchontoglires"},{"$f":"VLOOKUP($A604, taxonomy!$B$2:$T$695, 15, FALSE)","v":" Glires"},{"$f":"VLOOKUP($A604, taxonomy!$B$2:$T$695, 16, FALSE)","v":" Lagomorpha"},{"$f":"VLOOKUP($A604, taxonomy!$B$2:$T$695, 17, FALSE)","v":" Leporidae"}]
["Q06625",{"$f":" VLOOKUP(A605, architecture!D$2:E$73, 2, FALSE)","v":{"$error":"#N/A"}},{"$f":"VLOOKUP(A605, 'PF14702'!B605:C3285, 2, FALSE)","v":1536},{"$f":"VLOOKUP($A605, taxonomy!$B$2:$T$695, 6, FALSE)","v":"Eukaryota"},{"$f":"VLOOKUP($A605, taxonomy!$B$2:$T$695, 7, FALSE)","v":" Fungi"},{"$f":"VLOOKUP($A605, taxonomy!$B$2:$T$695, 8, FALSE)","v":" Dikarya"},{"$f":"VLOOKUP($A605, taxonomy!$B$2:$T$695, 9, FALSE)","v":" Ascomycota"},{"$f":"VLOOKUP($A605, taxonomy!$B$2:$T$695, 10, FALSE)","v":" Saccharomycotina"},{"$f":"VLOOKUP($A605, taxonomy!$B$2:$T$695, 11, FALSE)","v":"Saccharomycetes"},{"$f":"VLOOKUP($A605, taxonomy!$B$2:$T$695, 12, FALSE)","v":" Saccharomycetales"},{"$f":"VLOOKUP($A605, taxonomy!$B$2:$T$695, 13, FALSE)","v":" Saccharomycetaceae"},{"$f":"VLOOKUP($A605, taxonomy!$B$2:$T$695, 14, FALSE)","v":" Saccharomyces."},{"$f":"VLOOKUP($A605, taxonomy!$B$2:$T$695, 15, FALSE)","v":0},{"$f":"VLOOKUP($A605, taxonomy!$B$2:$T$695, 16, FALSE)","v":0},{"$f":"VLOOKUP($A605, taxonomy!$B$2:$T$695, 17, FALSE)","v":0}]
["Q0CN55",{"$f":" VLOOKUP(A606, architecture!D$2:E$73, 2, FALSE)","v":{"$error":"#N/A"}},{"$f":"VLOOKUP(A606, 'PF14702'!B606:C3286, 2, FALSE)","v":1544},{"$f":"VLOOKUP($A606, taxonomy!$B$2:$T$695, 6, FALSE)","v":"Eukaryota"},{"$f":"VLOOKUP($A606, taxonomy!$B$2:$T$695, 7, FALSE)","v":" Fungi"},{"$f":"VLOOKUP($A606, taxonomy!$B$2:$T$695, 8, FALSE)","v":" Dikarya"},{"$f":"VLOOKUP($A606, taxonomy!$B$2:$T$695, 9, FALSE)","v":" Ascomycota"},{"$f":"VLOOKUP($A606, taxonomy!$B$2:$T$695, 10, FALSE)","v":" Pezizomycotina"},{"$f":"VLOOKUP($A606, taxonomy!$B$2:$T$695, 11, FALSE)","v":" Eurotiomycetes"},{"$f":"VLOOKUP($A606, taxonomy!$B$2:$T$695, 12, FALSE)","v":"Eurotiomycetidae"},{"$f":"VLOOKUP($A606, taxonomy!$B$2:$T$695, 13, FALSE)","v":" Eurotiales"},{"$f":"VLOOKUP($A606, taxonomy!$B$2:$T$695, 14, FALSE)","v":" Aspergillaceae"},{"$f":"VLOOKUP($A606, taxonomy!$B$2:$T$695, 15, FALSE)","v":" Aspergillus."},{"$f":"VLOOKUP($A606, taxonomy!$B$2:$T$695, 16, FALSE)","v":0},{"$f":"VLOOKUP($A606, taxonomy!$B$2:$T$695, 17, FALSE)","v":0}]
["Q0UXB3",{"$f":" VLOOKUP(A607, architecture!D$2:E$73, 2, FALSE)","v":{"$error":"#N/A"}},{"$f":"VLOOKUP(A607, 'PF14702'!B607:C3287, 2, FALSE)","v":1563},{"$f":"VLOOKUP($A607, taxonomy!$B$2:$T$695, 6, FALSE)","v":"Eukaryota"},{"$f":"VLOOKUP($A607, taxonomy!$B$2:$T$695, 7, FALSE)","v":" Fungi"},{"$f":"VLOOKUP($A607, taxonomy!$B$2:$T$695, 8, FALSE)","v":" Dikarya"},{"$f":"VLOOKUP($A607, taxonomy!$B$2:$T$695, 9, FALSE)","v":" Ascomycota"},{"$f":"VLOOKUP($A607, taxonomy!$B$2:$T$695, 10, FALSE)","v":" Pezizomycotina"},{"$f":"VLOOKUP($A607, taxonomy!$B$2:$T$695, 11, FALSE)","v":"Dothideomycetes"},{"$f":"VLOOKUP($A607, taxonomy!$B$2:$T$695, 12, FALSE)","v":" Pleosporomycetidae"},{"$f":"VLOOKUP($A607, taxonomy!$B$2:$T$695, 13, FALSE)","v":" Pleosporales"},{"$f":"VLOOKUP($A607, taxonomy!$B$2:$T$695, 14, FALSE)","v":" Pleosporineae"},{"$f":"VLOOKUP($A607, taxonomy!$B$2:$T$695, 15, FALSE)","v":"Phaeosphaeriaceae"},{"$f":"VLOOKUP($A607, taxonomy!$B$2:$T$695, 16, FALSE)","v":" Parastagonospora."},{"$f":"VLOOKUP($A607, taxonomy!$B$2:$T$695, 17, FALSE)","v":0}]
["Q16UP5",{"$f":" VLOOKUP(A608, architecture!D$2:E$73, 2, FALSE)","v":{"$error":"#N/A"}},{"$f":"VLOOKUP(A608, 'PF14702'!B608:C3288, 2, FALSE)","v":1550},{"$f":"VLOOKUP($A608, taxonomy!$B$2:$T$695, 6, FALSE)","v":"Eukaryota"},{"$f":"VLOOKUP($A608, taxonomy!$B$2:$T$695, 7, FALSE)","v":" Metazoa"},{"$f":"VLOOKUP($A608, taxonomy!$B$2:$T$695, 8, FALSE)","v":" Ecdysozoa"},{"$f":"VLOOKUP($A608, taxonomy!$B$2:$T$695, 9, FALSE)","v":" Arthropoda"},{"$f":"VLOOKUP($A608, taxonomy!$B$2:$T$695, 10, FALSE)","v":" Hexapoda"},{"$f":"VLOOKUP($A608, taxonomy!$B$2:$T$695, 11, FALSE)","v":" Insecta"},{"$f":"VLOOKUP($A608, taxonomy!$B$2:$T$695, 12, FALSE)","v":"Pterygota"},{"$f":"VLOOKUP($A608, taxonomy!$B$2:$T$695, 13, FALSE)","v":" Neoptera"},{"$f":"VLOOKUP($A608, taxonomy!$B$2:$T$695, 14, FALSE)","v":" Holometabola"},{"$f":"VLOOKUP($A608, taxonomy!$B$2:$T$695, 15, FALSE)","v":" Diptera"},{"$f":"VLOOKUP($A608, taxonomy!$B$2:$T$695, 16, FALSE)","v":" Nematocera"},{"$f":"VLOOKUP($A608, taxonomy!$B$2:$T$695, 17, FALSE)","v":" Culicoidea"}]
["Q291U7",{"$f":" VLOOKUP(A609, architecture!D$2:E$73, 2, FALSE)","v":{"$error":"#N/A"}},{"$f":"VLOOKUP(A609, 'PF14702'!B609:C3289, 2, FALSE)","v":1564},{"$f":"VLOOKUP($A609, taxonomy!$B$2:$T$695, 6, FALSE)","v":"Eukaryota"},{"$f":"VLOOKUP($A609, taxonomy!$B$2:$T$695, 7, FALSE)","v":" Metazoa"},{"$f":"VLOOKUP($A609, taxonomy!$B$2:$T$695, 8, FALSE)","v":" Ecdysozoa"},{"$f":"VLOOKUP($A609, taxonomy!$B$2:$T$695, 9, FALSE)","v":" Arthropoda"},{"$f":"VLOOKUP($A609, taxonomy!$B$2:$T$695, 10, FALSE)","v":" Hexapoda"},{"$f":"VLOOKUP($A609, taxonomy!$B$2:$T$695, 11, FALSE)","v":" Insecta"},{"$f":"VLOOKUP($A609, taxonomy!$B$2:$T$695, 12, FALSE)","v":"Pterygota"},{"$f":"VLOOKUP($A609, taxonomy!$B$2:$T$695, 13, FALSE)","v":" Neoptera"},{"$f":"VLOOKUP($A609, taxonomy!$B$2:$T$695, 14, FALSE)","v":" Holometabola"},{"$f":"VLOOKUP($A609, taxonomy!$B$2:$T$695, 15, FALSE)","v":" Diptera"},{"$f":"VLOOKUP($A609, taxonomy!$B$2:$T$695, 16, FALSE)","v":" Brachycera"},{"$f":"VLOOKUP($A609, taxonomy!$B$2:$T$695, 17, FALSE)","v":" Muscomorpha"}]
["Q2HF43",{"$f":" VLOOKUP(A610, architecture!D$2:E$73, 2, FALSE)","v":{"$error":"#N/A"}},{"$f":"VLOOKUP(A610, 'PF14702'!B610:C3290, 2, FALSE)","v":1563},{"$f":"VLOOKUP($A610, taxonomy!$B$2:$T$695, 6, FALSE)","v":"Eukaryota"},{"$f":"VLOOKUP($A610, taxonomy!$B$2:$T$695, 7, FALSE)","v":" Fungi"},{"$f":"VLOOKUP($A610, taxonomy!$B$2:$T$695, 8, FALSE)","v":" Dikarya"},{"$f":"VLOOKUP($A610, taxonomy!$B$2:$T$695, 9, FALSE)","v":" Ascomycota"},{"$f":"VLOOKUP($A610, taxonomy!$B$2:$T$695, 10, FALSE)","v":" Pezizomycotina"},{"$f":"VLOOKUP($A610, taxonomy!$B$2:$T$695, 11, FALSE)","v":"Sordariomycetes"},{"$f":"VLOOKUP($A610, taxonomy!$B$2:$T$695, 12, FALSE)","v":" Sordariomycetidae"},{"$f":"VLOOKUP($A610, taxonomy!$B$2:$T$695, 13, FALSE)","v":" Sordariales"},{"$f":"VLOOKUP($A610, taxonomy!$B$2:$T$695, 14, FALSE)","v":" Chaetomiaceae"},{"$f":"VLOOKUP($A610, taxonomy!$B$2:$T$695, 15, FALSE)","v":"Chaetomium."},{"$f":"VLOOKUP($A610, taxonomy!$B$2:$T$695, 16, FALSE)","v":0},{"$f":"VLOOKUP($A610, taxonomy!$B$2:$T$695, 17, FALSE)","v":0}]
["Q2PQH8",{"$f":" VLOOKUP(A611, architecture!D$2:E$73, 2, FALSE)","v":{"$error":"#N/A"}},{"$f":"VLOOKUP(A611, 'PF14702'!B611:C3291, 2, FALSE)","v":1533},{"$f":"VLOOKUP($A611, taxonomy!$B$2:$T$695, 6, FALSE)","v":"Eukaryota"},{"$f":"VLOOKUP($A611, taxonomy!$B$2:$T$695, 7, FALSE)","v":" Metazoa"},{"$f":"VLOOKUP($A611, taxonomy!$B$2:$T$695, 8, FALSE)","v":" Chordata"},{"$f":"VLOOKUP($A611, taxonomy!$B$2:$T$695, 9, FALSE)","v":" Craniata"},{"$f":"VLOOKUP($A611, taxonomy!$B$2:$T$695, 10, FALSE)","v":" Vertebrata"},{"$f":"VLOOKUP($A611, taxonomy!$B$2:$T$695, 11, FALSE)","v":" Euteleostomi"},{"$f":"VLOOKUP($A611, taxonomy!$B$2:$T$695, 12, FALSE)","v":"Mammalia"},{"$f":"VLOOKUP($A611, taxonomy!$B$2:$T$695, 13, FALSE)","v":" Eutheria"},{"$f":"VLOOKUP($A611, taxonomy!$B$2:$T$695, 14, FALSE)","v":" Laurasiatheria"},{"$f":"VLOOKUP($A611, taxonomy!$B$2:$T$695, 15, FALSE)","v":" Carnivora"},{"$f":"VLOOKUP($A611, taxonomy!$B$2:$T$695, 16, FALSE)","v":" Caniformia"},{"$f":"VLOOKUP($A611, taxonomy!$B$2:$T$695, 17, FALSE)","v":" Canidae"}]
["Q2URC4",{"$f":" VLOOKUP(A612, architecture!D$2:E$73, 2, FALSE)","v":{"$error":"#N/A"}},{"$f":"VLOOKUP(A612, 'PF14702'!B612:C3292, 2, FALSE)","v":1537},{"$f":"VLOOKUP($A612, taxonomy!$B$2:$T$695, 6, FALSE)","v":"Eukaryota"},{"$f":"VLOOKUP($A612, taxonomy!$B$2:$T$695, 7, FALSE)","v":" Fungi"},{"$f":"VLOOKUP($A612, taxonomy!$B$2:$T$695, 8, FALSE)","v":" Dikarya"},{"$f":"VLOOKUP($A612, taxonomy!$B$2:$T$695, 9, FALSE)","v":" Ascomycota"},{"$f":"VLOOKUP($A612, taxonomy!$B$2:$T$695, 10, FALSE)","v":" Pezizomycotina"},{"$f":"VLOOKUP($A612, taxonomy!$B$2:$T$695, 11, FALSE)","v":" Eurotiomycetes"},{"$f":"VLOOKUP($A612, taxonomy!$B$2:$T$695, 12, FALSE)","v":"Eurotiomycetidae"},{"$f":"VLOOKUP($A612, taxonomy!$B$2:$T$695, 13, FALSE)","v":" Eurotiales"},{"$f":"VLOOKUP($A612, taxonomy!$B$2:$T$695, 14, FALSE)","v":" Aspergillaceae"},{"$f":"VLOOKUP($A612, taxonomy!$B$2:$T$695, 15, FALSE)","v":" Aspergillus."},{"$f":"VLOOKUP($A612, taxonomy!$B$2:$T$695, 16, FALSE)","v":0},{"$f":"VLOOKUP($A612, taxonomy!$B$2:$T$695, 17, FALSE)","v":0}]
["Q4WKK6",{"$f":" VLOOKUP(A613, architecture!D$2:E$73, 2, FALSE)","v":{"$error":"#N/A"}},{"$f":"VLOOKUP(A613, 'PF14702'!B613:C3293, 2, FALSE)","v":1612},{"$f":"VLOOKUP($A613, taxonomy!$B$2:$T$695, 6, FALSE)","v":"Eukaryota"},{"$f":"VLOOKUP($A613, taxonomy!$B$2:$T$695, 7, FALSE)","v":" Fungi"},{"$f":"VLOOKUP($A613, taxonomy!$B$2:$T$695, 8, FALSE)","v":" Dikarya"},{"$f":"VLOOKUP($A613, taxonomy!$B$2:$T$695, 9, FALSE)","v":" Ascomycota"},{"$f":"VLOOKUP($A613, taxonomy!$B$2:$T$695, 10, FALSE)","v":" Pezizomycotina"},{"$f":"VLOOKUP($A613, taxonomy!$B$2:$T$695, 11, FALSE)","v":" Eurotiomycetes"},{"$f":"VLOOKUP($A613, taxonomy!$B$2:$T$695, 12, FALSE)","v":"Eurotiomycetidae"},{"$f":"VLOOKUP($A613, taxonomy!$B$2:$T$695, 13, FALSE)","v":" Eurotiales"},{"$f":"VLOOKUP($A613, taxonomy!$B$2:$T$695, 14, FALSE)","v":" Aspergillaceae"},{"$f":"VLOOKUP($A613, taxonomy!$B$2:$T$695, 15, FALSE)","v":" Aspergillus."},{"$f":"VLOOKUP($A613, taxonomy!$B$2:$T$695, 16, FALSE)","v":0},{"$f":"VLOOKUP($A613, taxonomy!$B$2:$T$695, 17, FALSE)","v":0}]
["Q54K94",{"$f":" VLOOKUP(A614, architecture!D$2:E$73, 2, FALSE)","v":1},{"$f":"VLOOKUP(A614, 'PF14702'!B614:C3294, 2, FALSE)","v":1608},{"$f":"VLOOKUP($A614, taxonomy!$B$2:$T$695, 6, FALSE)","v":"Eukaryota"},{"$f":"VLOOKUP($A614, taxonomy!$B$2:$T$695, 7, FALSE)","v":" Amoebozoa"},{"$f":"VLOOKUP($A614, taxonomy!$B$2:$T$695, 8, FALSE)","v":" Mycetozoa"},{"$f":"VLOOKUP($A614, taxonomy!$B$2:$T$695, 9, FALSE)","v":" Dictyostelids"},{"$f":"VLOOKUP($A614, taxonomy!$B$2:$T$695, 10, FALSE)","v":" Dictyosteliales"},{"$f":"VLOOKUP($A614, taxonomy!$B$2:$T$695, 11, FALSE)","v":"Dictyosteliaceae"},{"$f":"VLOOKUP($A614, taxonomy!$B$2:$T$695, 12, FALSE)","v":" Dictyostelium."},{"$f":"VLOOKUP($A614, taxonomy!$B$2:$T$695, 13, FALSE)","v":0},{"$f":"VLOOKUP($A614, taxonomy!$B$2:$T$695, 14, FALSE)","v":0},{"$f":"VLOOKUP($A614, taxonomy!$B$2:$T$695, 15, FALSE)","v":0},{"$f":"VLOOKUP($A614, taxonomy!$B$2:$T$695, 16, FALSE)","v":0},{"$f":"VLOOKUP($A614, taxonomy!$B$2:$T$695, 17, FALSE)","v":0}]
["Q59MN2",{"$f":" VLOOKUP(A615, architecture!D$2:E$73, 2, FALSE)","v":{"$error":"#N/A"}},{"$f":"VLOOKUP(A615, 'PF14702'!B615:C3295, 2, FALSE)","v":1527},{"$f":"VLOOKUP($A615, taxonomy!$B$2:$T$695, 6, FALSE)","v":"Eukaryota"},{"$f":"VLOOKUP($A615, taxonomy!$B$2:$T$695, 7, FALSE)","v":" Fungi"},{"$f":"VLOOKUP($A615, taxonomy!$B$2:$T$695, 8, FALSE)","v":" Dikarya"},{"$f":"VLOOKUP($A615, taxonomy!$B$2:$T$695, 9, FALSE)","v":" Ascomycota"},{"$f":"VLOOKUP($A615, taxonomy!$B$2:$T$695, 10, FALSE)","v":" Saccharomycotina"},{"$f":"VLOOKUP($A615, taxonomy!$B$2:$T$695, 11, FALSE)","v":"Saccharomycetes"},{"$f":"VLOOKUP($A615, taxonomy!$B$2:$T$695, 12, FALSE)","v":" Saccharomycetales"},{"$f":"VLOOKUP($A615, taxonomy!$B$2:$T$695, 13, FALSE)","v":" Debaryomycetaceae"},{"$f":"VLOOKUP($A615, taxonomy!$B$2:$T$695, 14, FALSE)","v":"Candida/Lodderomyces clade"},{"$f":"VLOOKUP($A615, taxonomy!$B$2:$T$695, 15, FALSE)","v":" Candida."},{"$f":"VLOOKUP($A615, taxonomy!$B$2:$T$695, 16, FALSE)","v":0},{"$f":"VLOOKUP($A615, taxonomy!$B$2:$T$695, 17, FALSE)","v":0}]
["Q5CXJ2",{"$f":" VLOOKUP(A616, architecture!D$2:E$73, 2, FALSE)","v":{"$error":"#N/A"}},{"$f":"VLOOKUP(A616, 'PF14702'!B616:C3296, 2, FALSE)","v":1891},{"$f":"VLOOKUP($A616, taxonomy!$B$2:$T$695, 6, FALSE)","v":"Eukaryota"},{"$f":"VLOOKUP($A616, taxonomy!$B$2:$T$695, 7, FALSE)","v":" Alveolata"},{"$f":"VLOOKUP($A616, taxonomy!$B$2:$T$695, 8, FALSE)","v":" Apicomplexa"},{"$f":"VLOOKUP($A616, taxonomy!$B$2:$T$695, 9, FALSE)","v":" Conoidasida"},{"$f":"VLOOKUP($A616, taxonomy!$B$2:$T$695, 10, FALSE)","v":" Coccidia"},{"$f":"VLOOKUP($A616, taxonomy!$B$2:$T$695, 11, FALSE)","v":"Eucoccidiorida"},{"$f":"VLOOKUP($A616, taxonomy!$B$2:$T$695, 12, FALSE)","v":" Eimeriorina"},{"$f":"VLOOKUP($A616, taxonomy!$B$2:$T$695, 13, FALSE)","v":" Cryptosporidiidae"},{"$f":"VLOOKUP($A616, taxonomy!$B$2:$T$695, 14, FALSE)","v":" Cryptosporidium."},{"$f":"VLOOKUP($A616, taxonomy!$B$2:$T$695, 15, FALSE)","v":0},{"$f":"VLOOKUP($A616, taxonomy!$B$2:$T$695, 16, FALSE)","v":0},{"$f":"VLOOKUP($A616, taxonomy!$B$2:$T$695, 17, FALSE)","v":0}]
["Q5KA48",{"$f":" VLOOKUP(A617, architecture!D$2:E$73, 2, FALSE)","v":{"$error":"#N/A"}},{"$f":"VLOOKUP(A617, 'PF14702'!B617:C3297, 2, FALSE)","v":1593},{"$f":"VLOOKUP($A617, taxonomy!$B$2:$T$695, 6, FALSE)","v":"Eukaryota"},{"$f":"VLOOKUP($A617, taxonomy!$B$2:$T$695, 7, FALSE)","v":" Fungi"},{"$f":"VLOOKUP($A617, taxonomy!$B$2:$T$695, 8, FALSE)","v":" Dikarya"},{"$f":"VLOOKUP($A617, taxonomy!$B$2:$T$695, 9, FALSE)","v":" Basidiomycota"},{"$f":"VLOOKUP($A617, taxonomy!$B$2:$T$695, 10, FALSE)","v":" Agaricomycotina"},{"$f":"VLOOKUP($A617, taxonomy!$B$2:$T$695, 11, FALSE)","v":"Tremellomycetes"},{"$f":"VLOOKUP($A617, taxonomy!$B$2:$T$695, 12, FALSE)","v":" Tremellales"},{"$f":"VLOOKUP($A617, taxonomy!$B$2:$T$695, 13, FALSE)","v":" Cryptococcaceae"},{"$f":"VLOOKUP($A617, taxonomy!$B$2:$T$695, 14, FALSE)","v":" Cryptococcus"},{"$f":"VLOOKUP($A617, taxonomy!$B$2:$T$695, 15, FALSE)","v":"Cryptococcus neoformans species complex."},{"$f":"VLOOKUP($A617, taxonomy!$B$2:$T$695, 16, FALSE)","v":0},{"$f":"VLOOKUP($A617, taxonomy!$B$2:$T$695, 17, FALSE)","v":0}]
["Q6BUY8",{"$f":" VLOOKUP(A618, architecture!D$2:E$73, 2, FALSE)","v":{"$error":"#N/A"}},{"$f":"VLOOKUP(A618, 'PF14702'!B618:C3298, 2, FALSE)","v":1521},{"$f":"VLOOKUP($A618, taxonomy!$B$2:$T$695, 6, FALSE)","v":"Eukaryota"},{"$f":"VLOOKUP($A618, taxonomy!$B$2:$T$695, 7, FALSE)","v":" Fungi"},{"$f":"VLOOKUP($A618, taxonomy!$B$2:$T$695, 8, FALSE)","v":" Dikarya"},{"$f":"VLOOKUP($A618, taxonomy!$B$2:$T$695, 9, FALSE)","v":" Ascomycota"},{"$f":"VLOOKUP($A618, taxonomy!$B$2:$T$695, 10, FALSE)","v":" Saccharomycotina"},{"$f":"VLOOKUP($A618, taxonomy!$B$2:$T$695, 11, FALSE)","v":"Saccharomycetes"},{"$f":"VLOOKUP($A618, taxonomy!$B$2:$T$695, 12, FALSE)","v":" Saccharomycetales"},{"$f":"VLOOKUP($A618, taxonomy!$B$2:$T$695, 13, FALSE)","v":" Debaryomycetaceae"},{"$f":"VLOOKUP($A618, taxonomy!$B$2:$T$695, 14, FALSE)","v":" Debaryomyces."},{"$f":"VLOOKUP($A618, taxonomy!$B$2:$T$695, 15, FALSE)","v":0},{"$f":"VLOOKUP($A618, taxonomy!$B$2:$T$695, 16, FALSE)","v":0},{"$f":"VLOOKUP($A618, taxonomy!$B$2:$T$695, 17, FALSE)","v":0}]
["Q6CGI3",{"$f":" VLOOKUP(A619, architecture!D$2:E$73, 2, FALSE)","v":{"$error":"#N/A"}},{"$f":"VLOOKUP(A619, 'PF14702'!B619:C3299, 2, FALSE)","v":1494},{"$f":"VLOOKUP($A619, taxonomy!$B$2:$T$695, 6, FALSE)","v":"Eukaryota"},{"$f":"VLOOKUP($A619, taxonomy!$B$2:$T$695, 7, FALSE)","v":" Fungi"},{"$f":"VLOOKUP($A619, taxonomy!$B$2:$T$695, 8, FALSE)","v":" Dikarya"},{"$f":"VLOOKUP($A619, taxonomy!$B$2:$T$695, 9, FALSE)","v":" Ascomycota"},{"$f":"VLOOKUP($A619, taxonomy!$B$2:$T$695, 10, FALSE)","v":" Saccharomycotina"},{"$f":"VLOOKUP($A619, taxonomy!$B$2:$T$695, 11, FALSE)","v":"Saccharomycetes"},{"$f":"VLOOKUP($A619, taxonomy!$B$2:$T$695, 12, FALSE)","v":" Saccharomycetales"},{"$f":"VLOOKUP($A619, taxonomy!$B$2:$T$695, 13, FALSE)","v":" Dipodascaceae"},{"$f":"VLOOKUP($A619, taxonomy!$B$2:$T$695, 14, FALSE)","v":" Yarrowia."},{"$f":"VLOOKUP($A619, taxonomy!$B$2:$T$695, 15, FALSE)","v":0},{"$f":"VLOOKUP($A619, taxonomy!$B$2:$T$695, 16, FALSE)","v":0},{"$f":"VLOOKUP($A619, taxonomy!$B$2:$T$695, 17, FALSE)","v":0}]
["Q6FSK0",{"$f":" VLOOKUP(A620, architecture!D$2:E$73, 2, FALSE)","v":{"$error":"#N/A"}},{"$f":"VLOOKUP(A620, 'PF14702'!B620:C3300, 2, FALSE)","v":1528},{"$f":"VLOOKUP($A620, taxonomy!$B$2:$T$695, 6, FALSE)","v":"Eukaryota"},{"$f":"VLOOKUP($A620, taxonomy!$B$2:$T$695, 7, FALSE)","v":" Fungi"},{"$f":"VLOOKUP($A620, taxonomy!$B$2:$T$695, 8, FALSE)","v":" Dikarya"},{"$f":"VLOOKUP($A620, taxonomy!$B$2:$T$695, 9, FALSE)","v":" Ascomycota"},{"$f":"VLOOKUP($A620, taxonomy!$B$2:$T$695, 10, FALSE)","v":" Saccharomycotina"},{"$f":"VLOOKUP($A620, taxonomy!$B$2:$T$695, 11, FALSE)","v":"Saccharomycetes"},{"$f":"VLOOKUP($A620, taxonomy!$B$2:$T$695, 12, FALSE)","v":" Saccharomycetales"},{"$f":"VLOOKUP($A620, taxonomy!$B$2:$T$695, 13, FALSE)","v":" Saccharomycetaceae"},{"$f":"VLOOKUP($A620, taxonomy!$B$2:$T$695, 14, FALSE)","v":" Nakaseomyces"},{"$f":"VLOOKUP($A620, taxonomy!$B$2:$T$695, 15, FALSE)","v":"Nakaseomyces/Candida clade."},{"$f":"VLOOKUP($A620, taxonomy!$B$2:$T$695, 16, FALSE)","v":0},{"$f":"VLOOKUP($A620, taxonomy!$B$2:$T$695, 17, FALSE)","v":0}]
["Q758N1",{"$f":" VLOOKUP(A621, architecture!D$2:E$73, 2, FALSE)","v":{"$error":"#N/A"}},{"$f":"VLOOKUP(A621, 'PF14702'!B621:C3301, 2, FALSE)","v":1518},{"$f":"VLOOKUP($A621, taxonomy!$B$2:$T$695, 6, FALSE)","v":"Eukaryota"},{"$f":"VLOOKUP($A621, taxonomy!$B$2:$T$695, 7, FALSE)","v":" Fungi"},{"$f":"VLOOKUP($A621, taxonomy!$B$2:$T$695, 8, FALSE)","v":" Dikarya"},{"$f":"VLOOKUP($A621, taxonomy!$B$2:$T$695, 9, FALSE)","v":" Ascomycota"},{"$f":"VLOOKUP($A621, taxonomy!$B$2:$T$695, 10, FALSE)","v":" Saccharomycotina"},{"$f":"VLOOKUP($A621, taxonomy!$B$2:$T$695, 11, FALSE)","v":"Saccharomycetes"},{"$f":"VLOOKUP($A621, taxonomy!$B$2:$T$695, 12, FALSE)","v":" Saccharomycetales"},{"$f":"VLOOKUP($A621, taxonomy!$B$2:$T$695, 13, FALSE)","v":" Saccharomycetaceae"},{"$f":"VLOOKUP($A621, taxonomy!$B$2:$T$695, 14, FALSE)","v":" Eremothecium."},{"$f":"VLOOKUP($A621, taxonomy!$B$2:$T$695, 15, FALSE)","v":0},{"$f":"VLOOKUP($A621, taxonomy!$B$2:$T$695, 16, FALSE)","v":0},{"$f":"VLOOKUP($A621, taxonomy!$B$2:$T$695, 17, FALSE)","v":0}]
["Q7KVP4",{"$f":" VLOOKUP(A622, architecture!D$2:E$73, 2, FALSE)","v":{"$error":"#N/A"}},{"$f":"VLOOKUP(A622, 'PF14702'!B622:C3302, 2, FALSE)","v":1542},{"$f":"VLOOKUP($A622, taxonomy!$B$2:$T$695, 6, FALSE)","v":"Eukaryota"},{"$f":"VLOOKUP($A622, taxonomy!$B$2:$T$695, 7, FALSE)","v":" Metazoa"},{"$f":"VLOOKUP($A622, taxonomy!$B$2:$T$695, 8, FALSE)","v":" Ecdysozoa"},{"$f":"VLOOKUP($A622, taxonomy!$B$2:$T$695, 9, FALSE)","v":" Arthropoda"},{"$f":"VLOOKUP($A622, taxonomy!$B$2:$T$695, 10, FALSE)","v":" Hexapoda"},{"$f":"VLOOKUP($A622, taxonomy!$B$2:$T$695, 11, FALSE)","v":" Insecta"},{"$f":"VLOOKUP($A622, taxonomy!$B$2:$T$695, 12, FALSE)","v":"Pterygota"},{"$f":"VLOOKUP($A622, taxonomy!$B$2:$T$695, 13, FALSE)","v":" Neoptera"},{"$f":"VLOOKUP($A622, taxonomy!$B$2:$T$695, 14, FALSE)","v":" Holometabola"},{"$f":"VLOOKUP($A622, taxonomy!$B$2:$T$695, 15, FALSE)","v":" Diptera"},{"$f":"VLOOKUP($A622, taxonomy!$B$2:$T$695, 16, FALSE)","v":" Brachycera"},{"$f":"VLOOKUP($A622, taxonomy!$B$2:$T$695, 17, FALSE)","v":" Muscomorpha"}]
["Q7PX40",{"$f":" VLOOKUP(A623, architecture!D$2:E$73, 2, FALSE)","v":{"$error":"#N/A"}},{"$f":"VLOOKUP(A623, 'PF14702'!B623:C3303, 2, FALSE)","v":1557},{"$f":"VLOOKUP($A623, taxonomy!$B$2:$T$695, 6, FALSE)","v":"Eukaryota"},{"$f":"VLOOKUP($A623, taxonomy!$B$2:$T$695, 7, FALSE)","v":" Metazoa"},{"$f":"VLOOKUP($A623, taxonomy!$B$2:$T$695, 8, FALSE)","v":" Ecdysozoa"},{"$f":"VLOOKUP($A623, taxonomy!$B$2:$T$695, 9, FALSE)","v":" Arthropoda"},{"$f":"VLOOKUP($A623, taxonomy!$B$2:$T$695, 10, FALSE)","v":" Hexapoda"},{"$f":"VLOOKUP($A623, taxonomy!$B$2:$T$695, 11, FALSE)","v":" Insecta"},{"$f":"VLOOKUP($A623, taxonomy!$B$2:$T$695, 12, FALSE)","v":"Pterygota"},{"$f":"VLOOKUP($A623, taxonomy!$B$2:$T$695, 13, FALSE)","v":" Neoptera"},{"$f":"VLOOKUP($A623, taxonomy!$B$2:$T$695, 14, FALSE)","v":" Holometabola"},{"$f":"VLOOKUP($A623, taxonomy!$B$2:$T$695, 15, FALSE)","v":" Diptera"},{"$f":"VLOOKUP($A623, taxonomy!$B$2:$T$695, 16, FALSE)","v":" Nematocera"},{"$f":"VLOOKUP($A623, taxonomy!$B$2:$T$695, 17, FALSE)","v":" Culicoidea"}]
["Q7SED5",{"$f":" VLOOKUP(A624, architecture!D$2:E$73, 2, FALSE)","v":{"$error":"#N/A"}},{"$f":"VLOOKUP(A624, 'PF14702'!B624:C3304, 2, FALSE)","v":1566},{"$f":"VLOOKUP($A624, taxonomy!$B$2:$T$695, 6, FALSE)","v":"Eukaryota"},{"$f":"VLOOKUP($A624, taxonomy!$B$2:$T$695, 7, FALSE)","v":" Fungi"},{"$f":"VLOOKUP($A624, taxonomy!$B$2:$T$695, 8, FALSE)","v":" Dikarya"},{"$f":"VLOOKUP($A624, taxonomy!$B$2:$T$695, 9, FALSE)","v":" Ascomycota"},{"$f":"VLOOKUP($A624, taxonomy!$B$2:$T$695, 10, FALSE)","v":" Pezizomycotina"},{"$f":"VLOOKUP($A624, taxonomy!$B$2:$T$695, 11, FALSE)","v":"Sordariomycetes"},{"$f":"VLOOKUP($A624, taxonomy!$B$2:$T$695, 12, FALSE)","v":" Sordariomycetidae"},{"$f":"VLOOKUP($A624, taxonomy!$B$2:$T$695, 13, FALSE)","v":" Sordariales"},{"$f":"VLOOKUP($A624, taxonomy!$B$2:$T$695, 14, FALSE)","v":" Sordariaceae"},{"$f":"VLOOKUP($A624, taxonomy!$B$2:$T$695, 15, FALSE)","v":"Neurospora."},{"$f":"VLOOKUP($A624, taxonomy!$B$2:$T$695, 16, FALSE)","v":0},{"$f":"VLOOKUP($A624, taxonomy!$B$2:$T$695, 17, FALSE)","v":0}]
["Q86BS7",{"$f":" VLOOKUP(A625, architecture!D$2:E$73, 2, FALSE)","v":{"$error":"#N/A"}},{"$f":"VLOOKUP(A625, 'PF14702'!B625:C3305, 2, FALSE)","v":1546},{"$f":"VLOOKUP($A625, taxonomy!$B$2:$T$695, 6, FALSE)","v":"Eukaryota"},{"$f":"VLOOKUP($A625, taxonomy!$B$2:$T$695, 7, FALSE)","v":" Metazoa"},{"$f":"VLOOKUP($A625, taxonomy!$B$2:$T$695, 8, FALSE)","v":" Ecdysozoa"},{"$f":"VLOOKUP($A625, taxonomy!$B$2:$T$695, 9, FALSE)","v":" Arthropoda"},{"$f":"VLOOKUP($A625, taxonomy!$B$2:$T$695, 10, FALSE)","v":" Hexapoda"},{"$f":"VLOOKUP($A625, taxonomy!$B$2:$T$695, 11, FALSE)","v":" Insecta"},{"$f":"VLOOKUP($A625, taxonomy!$B$2:$T$695, 12, FALSE)","v":"Pterygota"},{"$f":"VLOOKUP($A625, taxonomy!$B$2:$T$695, 13, FALSE)","v":" Neoptera"},{"$f":"VLOOKUP($A625, taxonomy!$B$2:$T$695, 14, FALSE)","v":" Holometabola"},{"$f":"VLOOKUP($A625, taxonomy!$B$2:$T$695, 15, FALSE)","v":" Diptera"},{"$f":"VLOOKUP($A625, taxonomy!$B$2:$T$695, 16, FALSE)","v":" Brachycera"},{"$f":"VLOOKUP($A625, taxonomy!$B$2:$T$695, 17, FALSE)","v":" Muscomorpha"}]
["Q9W2H8",{"$f":" VLOOKUP(A626, architecture!D$2:E$73, 2, FALSE)","v":{"$error":"#N/A"}},{"$f":"VLOOKUP(A626, 'PF14702'!B626:C3306, 2, FALSE)","v":1629},{"$f":"VLOOKUP($A626, taxonomy!$B$2:$T$695, 6, FALSE)","v":"Eukaryota"},{"$f":"VLOOKUP($A626, taxonomy!$B$2:$T$695, 7, FALSE)","v":" Metazoa"},{"$f":"VLOOKUP($A626, taxonomy!$B$2:$T$695, 8, FALSE)","v":" Ecdysozoa"},{"$f":"VLOOKUP($A626, taxonomy!$B$2:$T$695, 9, FALSE)","v":" Arthropoda"},{"$f":"VLOOKUP($A626, taxonomy!$B$2:$T$695, 10, FALSE)","v":" Hexapoda"},{"$f":"VLOOKUP($A626, taxonomy!$B$2:$T$695, 11, FALSE)","v":" Insecta"},{"$f":"VLOOKUP($A626, taxonomy!$B$2:$T$695, 12, FALSE)","v":"Pterygota"},{"$f":"VLOOKUP($A626, taxonomy!$B$2:$T$695, 13, FALSE)","v":" Neoptera"},{"$f":"VLOOKUP($A626, taxonomy!$B$2:$T$695, 14, FALSE)","v":" Holometabola"},{"$f":"VLOOKUP($A626, taxonomy!$B$2:$T$695, 15, FALSE)","v":" Diptera"},{"$f":"VLOOKUP($A626, taxonomy!$B$2:$T$695, 16, FALSE)","v":" Brachycera"},{"$f":"VLOOKUP($A626, taxonomy!$B$2:$T$695, 17, FALSE)","v":" Muscomorpha"}]
["R0I5E7",{"$f":" VLOOKUP(A627, architecture!D$2:E$73, 2, FALSE)","v":{"$error":"#N/A"}},{"$f":"VLOOKUP(A627, 'PF14702'!B627:C3307, 2, FALSE)","v":1564},{"$f":"VLOOKUP($A627, taxonomy!$B$2:$T$695, 6, FALSE)","v":"Eukaryota"},{"$f":"VLOOKUP($A627, taxonomy!$B$2:$T$695, 7, FALSE)","v":" Fungi"},{"$f":"VLOOKUP($A627, taxonomy!$B$2:$T$695, 8, FALSE)","v":" Dikarya"},{"$f":"VLOOKUP($A627, taxonomy!$B$2:$T$695, 9, FALSE)","v":" Ascomycota"},{"$f":"VLOOKUP($A627, taxonomy!$B$2:$T$695, 10, FALSE)","v":" Pezizomycotina"},{"$f":"VLOOKUP($A627, taxonomy!$B$2:$T$695, 11, FALSE)","v":"Dothideomycetes"},{"$f":"VLOOKUP($A627, taxonomy!$B$2:$T$695, 12, FALSE)","v":" Pleosporomycetidae"},{"$f":"VLOOKUP($A627, taxonomy!$B$2:$T$695, 13, FALSE)","v":" Pleosporales"},{"$f":"VLOOKUP($A627, taxonomy!$B$2:$T$695, 14, FALSE)","v":" Pleosporineae"},{"$f":"VLOOKUP($A627, taxonomy!$B$2:$T$695, 15, FALSE)","v":"Pleosporaceae"},{"$f":"VLOOKUP($A627, taxonomy!$B$2:$T$695, 16, FALSE)","v":" Setosphaeria."},{"$f":"VLOOKUP($A627, taxonomy!$B$2:$T$695, 17, FALSE)","v":0}]
["R1ENZ2",{"$f":" VLOOKUP(A628, architecture!D$2:E$73, 2, FALSE)","v":{"$error":"#N/A"}},{"$f":"VLOOKUP(A628, 'PF14702'!B628:C3308, 2, FALSE)","v":1546},{"$f":"VLOOKUP($A628, taxonomy!$B$2:$T$695, 6, FALSE)","v":"Eukaryota"},{"$f":"VLOOKUP($A628, taxonomy!$B$2:$T$695, 7, FALSE)","v":" Fungi"},{"$f":"VLOOKUP($A628, taxonomy!$B$2:$T$695, 8, FALSE)","v":" Dikarya"},{"$f":"VLOOKUP($A628, taxonomy!$B$2:$T$695, 9, FALSE)","v":" Ascomycota"},{"$f":"VLOOKUP($A628, taxonomy!$B$2:$T$695, 10, FALSE)","v":" Pezizomycotina"},{"$f":"VLOOKUP($A628, taxonomy!$B$2:$T$695, 11, FALSE)","v":"Dothideomycetes"},{"$f":"VLOOKUP($A628, taxonomy!$B$2:$T$695, 12, FALSE)","v":" Dothideomycetes incertae sedis"},{"$f":"VLOOKUP($A628, taxonomy!$B$2:$T$695, 13, FALSE)","v":" Botryosphaeriales"},{"$f":"VLOOKUP($A628, taxonomy!$B$2:$T$695, 14, FALSE)","v":"Botryosphaeriaceae"},{"$f":"VLOOKUP($A628, taxonomy!$B$2:$T$695, 15, FALSE)","v":" Neofusicoccum."},{"$f":"VLOOKUP($A628, taxonomy!$B$2:$T$695, 16, FALSE)","v":0},{"$f":"VLOOKUP($A628, taxonomy!$B$2:$T$695, 17, FALSE)","v":0}]
["R4X711",{"$f":" VLOOKUP(A629, architecture!D$2:E$73, 2, FALSE)","v":{"$error":"#N/A"}},{"$f":"VLOOKUP(A629, 'PF14702'!B629:C3309, 2, FALSE)","v":1511},{"$f":"VLOOKUP($A629, taxonomy!$B$2:$T$695, 6, FALSE)","v":"Eukaryota"},{"$f":"VLOOKUP($A629, taxonomy!$B$2:$T$695, 7, FALSE)","v":" Fungi"},{"$f":"VLOOKUP($A629, taxonomy!$B$2:$T$695, 8, FALSE)","v":" Dikarya"},{"$f":"VLOOKUP($A629, taxonomy!$B$2:$T$695, 9, FALSE)","v":" Ascomycota"},{"$f":"VLOOKUP($A629, taxonomy!$B$2:$T$695, 10, FALSE)","v":" Taphrinomycotina"},{"$f":"VLOOKUP($A629, taxonomy!$B$2:$T$695, 11, FALSE)","v":"Taphrinomycetes"},{"$f":"VLOOKUP($A629, taxonomy!$B$2:$T$695, 12, FALSE)","v":" Taphrinales"},{"$f":"VLOOKUP($A629, taxonomy!$B$2:$T$695, 13, FALSE)","v":" Taphrinaceae"},{"$f":"VLOOKUP($A629, taxonomy!$B$2:$T$695, 14, FALSE)","v":" Taphrina."},{"$f":"VLOOKUP($A629, taxonomy!$B$2:$T$695, 15, FALSE)","v":0},{"$f":"VLOOKUP($A629, taxonomy!$B$2:$T$695, 16, FALSE)","v":0},{"$f":"VLOOKUP($A629, taxonomy!$B$2:$T$695, 17, FALSE)","v":0}]
["R7YY15",{"$f":" VLOOKUP(A630, architecture!D$2:E$73, 2, FALSE)","v":{"$error":"#N/A"}},{"$f":"VLOOKUP(A630, 'PF14702'!B630:C3310, 2, FALSE)","v":1554},{"$f":"VLOOKUP($A630, taxonomy!$B$2:$T$695, 6, FALSE)","v":"Eukaryota"},{"$f":"VLOOKUP($A630, taxonomy!$B$2:$T$695, 7, FALSE)","v":" Fungi"},{"$f":"VLOOKUP($A630, taxonomy!$B$2:$T$695, 8, FALSE)","v":" Dikarya"},{"$f":"VLOOKUP($A630, taxonomy!$B$2:$T$695, 9, FALSE)","v":" Ascomycota"},{"$f":"VLOOKUP($A630, taxonomy!$B$2:$T$695, 10, FALSE)","v":" Pezizomycotina"},{"$f":"VLOOKUP($A630, taxonomy!$B$2:$T$695, 11, FALSE)","v":"Dothideomycetes"},{"$f":"VLOOKUP($A630, taxonomy!$B$2:$T$695, 12, FALSE)","v":" Dothideomycetes incertae sedis"},{"$f":"VLOOKUP($A630, taxonomy!$B$2:$T$695, 13, FALSE)","v":" Coniosporium."},{"$f":"VLOOKUP($A630, taxonomy!$B$2:$T$695, 14, FALSE)","v":0},{"$f":"VLOOKUP($A630, taxonomy!$B$2:$T$695, 15, FALSE)","v":0},{"$f":"VLOOKUP($A630, taxonomy!$B$2:$T$695, 16, FALSE)","v":0},{"$f":"VLOOKUP($A630, taxonomy!$B$2:$T$695, 17, FALSE)","v":0}]
["R8BET4",{"$f":" VLOOKUP(A631, architecture!D$2:E$73, 2, FALSE)","v":{"$error":"#N/A"}},{"$f":"VLOOKUP(A631, 'PF14702'!B631:C3311, 2, FALSE)","v":1561},{"$f":"VLOOKUP($A631, taxonomy!$B$2:$T$695, 6, FALSE)","v":"Eukaryota"},{"$f":"VLOOKUP($A631, taxonomy!$B$2:$T$695, 7, FALSE)","v":" Fungi"},{"$f":"VLOOKUP($A631, taxonomy!$B$2:$T$695, 8, FALSE)","v":" Dikarya"},{"$f":"VLOOKUP($A631, taxonomy!$B$2:$T$695, 9, FALSE)","v":" Ascomycota"},{"$f":"VLOOKUP($A631, taxonomy!$B$2:$T$695, 10, FALSE)","v":" Pezizomycotina"},{"$f":"VLOOKUP($A631, taxonomy!$B$2:$T$695, 11, FALSE)","v":"Sordariomycetes"},{"$f":"VLOOKUP($A631, taxonomy!$B$2:$T$695, 12, FALSE)","v":" Sordariomycetidae"},{"$f":"VLOOKUP($A631, taxonomy!$B$2:$T$695, 13, FALSE)","v":" Togniniales"},{"$f":"VLOOKUP($A631, taxonomy!$B$2:$T$695, 14, FALSE)","v":" Togniniaceae"},{"$f":"VLOOKUP($A631, taxonomy!$B$2:$T$695, 15, FALSE)","v":"Phaeoacremonium."},{"$f":"VLOOKUP($A631, taxonomy!$B$2:$T$695, 16, FALSE)","v":0},{"$f":"VLOOKUP($A631, taxonomy!$B$2:$T$695, 17, FALSE)","v":0}]
["R9PE26",{"$f":" VLOOKUP(A632, architecture!D$2:E$73, 2, FALSE)","v":{"$error":"#N/A"}},{"$f":"VLOOKUP(A632, 'PF14702'!B632:C3312, 2, FALSE)","v":1568},{"$f":"VLOOKUP($A632, taxonomy!$B$2:$T$695, 6, FALSE)","v":"Eukaryota"},{"$f":"VLOOKUP($A632, taxonomy!$B$2:$T$695, 7, FALSE)","v":" Fungi"},{"$f":"VLOOKUP($A632, taxonomy!$B$2:$T$695, 8, FALSE)","v":" Dikarya"},{"$f":"VLOOKUP($A632, taxonomy!$B$2:$T$695, 9, FALSE)","v":" Basidiomycota"},{"$f":"VLOOKUP($A632, taxonomy!$B$2:$T$695, 10, FALSE)","v":" Ustilaginomycotina"},{"$f":"VLOOKUP($A632, taxonomy!$B$2:$T$695, 11, FALSE)","v":"Ustilaginomycetes"},{"$f":"VLOOKUP($A632, taxonomy!$B$2:$T$695, 12, FALSE)","v":" Ustilaginales"},{"$f":"VLOOKUP($A632, taxonomy!$B$2:$T$695, 13, FALSE)","v":" Ustilaginaceae"},{"$f":"VLOOKUP($A632, taxonomy!$B$2:$T$695, 14, FALSE)","v":" Pseudozyma."},{"$f":"VLOOKUP($A632, taxonomy!$B$2:$T$695, 15, FALSE)","v":0},{"$f":"VLOOKUP($A632, taxonomy!$B$2:$T$695, 16, FALSE)","v":0},{"$f":"VLOOKUP($A632, taxonomy!$B$2:$T$695, 17, FALSE)","v":0}]
["S0DU02",{"$f":" VLOOKUP(A633, architecture!D$2:E$73, 2, FALSE)","v":{"$error":"#N/A"}},{"$f":"VLOOKUP(A633, 'PF14702'!B633:C3313, 2, FALSE)","v":1556},{"$f":"VLOOKUP($A633, taxonomy!$B$2:$T$695, 6, FALSE)","v":"Eukaryota"},{"$f":"VLOOKUP($A633, taxonomy!$B$2:$T$695, 7, FALSE)","v":" Fungi"},{"$f":"VLOOKUP($A633, taxonomy!$B$2:$T$695, 8, FALSE)","v":" Dikarya"},{"$f":"VLOOKUP($A633, taxonomy!$B$2:$T$695, 9, FALSE)","v":" Ascomycota"},{"$f":"VLOOKUP($A633, taxonomy!$B$2:$T$695, 10, FALSE)","v":" Pezizomycotina"},{"$f":"VLOOKUP($A633, taxonomy!$B$2:$T$695, 11, FALSE)","v":"Sordariomycetes"},{"$f":"VLOOKUP($A633, taxonomy!$B$2:$T$695, 12, FALSE)","v":" Hypocreomycetidae"},{"$f":"VLOOKUP($A633, taxonomy!$B$2:$T$695, 13, FALSE)","v":" Hypocreales"},{"$f":"VLOOKUP($A633, taxonomy!$B$2:$T$695, 14, FALSE)","v":" Nectriaceae"},{"$f":"VLOOKUP($A633, taxonomy!$B$2:$T$695, 15, FALSE)","v":"Fusarium"},{"$f":"VLOOKUP($A633, taxonomy!$B$2:$T$695, 16, FALSE)","v":" Fusarium fujikuroi species complex."},{"$f":"VLOOKUP($A633, taxonomy!$B$2:$T$695, 17, FALSE)","v":0}]
["S2JV67",{"$f":" VLOOKUP(A634, architecture!D$2:E$73, 2, FALSE)","v":{"$error":"#N/A"}},{"$f":"VLOOKUP(A634, 'PF14702'!B634:C3314, 2, FALSE)","v":1522},{"$f":"VLOOKUP($A634, taxonomy!$B$2:$T$695, 6, FALSE)","v":"Eukaryota"},{"$f":"VLOOKUP($A634, taxonomy!$B$2:$T$695, 7, FALSE)","v":" Fungi"},{"$f":"VLOOKUP($A634, taxonomy!$B$2:$T$695, 8, FALSE)","v":" Mucoromycota"},{"$f":"VLOOKUP($A634, taxonomy!$B$2:$T$695, 9, FALSE)","v":" Mucoromycotina"},{"$f":"VLOOKUP($A634, taxonomy!$B$2:$T$695, 10, FALSE)","v":" Mucorales"},{"$f":"VLOOKUP($A634, taxonomy!$B$2:$T$695, 11, FALSE)","v":" Mucorineae"},{"$f":"VLOOKUP($A634, taxonomy!$B$2:$T$695, 12, FALSE)","v":"Mucoraceae"},{"$f":"VLOOKUP($A634, taxonomy!$B$2:$T$695, 13, FALSE)","v":" Mucor."},{"$f":"VLOOKUP($A634, taxonomy!$B$2:$T$695, 14, FALSE)","v":0},{"$f":"VLOOKUP($A634, taxonomy!$B$2:$T$695, 15, FALSE)","v":0},{"$f":"VLOOKUP($A634, taxonomy!$B$2:$T$695, 16, FALSE)","v":0},{"$f":"VLOOKUP($A634, taxonomy!$B$2:$T$695, 17, FALSE)","v":0}]
["S3BXP7",{"$f":" VLOOKUP(A635, architecture!D$2:E$73, 2, FALSE)","v":{"$error":"#N/A"}},{"$f":"VLOOKUP(A635, 'PF14702'!B635:C3315, 2, FALSE)","v":1569},{"$f":"VLOOKUP($A635, taxonomy!$B$2:$T$695, 6, FALSE)","v":"Eukaryota"},{"$f":"VLOOKUP($A635, taxonomy!$B$2:$T$695, 7, FALSE)","v":" Fungi"},{"$f":"VLOOKUP($A635, taxonomy!$B$2:$T$695, 8, FALSE)","v":" Dikarya"},{"$f":"VLOOKUP($A635, taxonomy!$B$2:$T$695, 9, FALSE)","v":" Ascomycota"},{"$f":"VLOOKUP($A635, taxonomy!$B$2:$T$695, 10, FALSE)","v":" Pezizomycotina"},{"$f":"VLOOKUP($A635, taxonomy!$B$2:$T$695, 11, FALSE)","v":"Sordariomycetes"},{"$f":"VLOOKUP($A635, taxonomy!$B$2:$T$695, 12, FALSE)","v":" Sordariomycetidae"},{"$f":"VLOOKUP($A635, taxonomy!$B$2:$T$695, 13, FALSE)","v":" Ophiostomatales"},{"$f":"VLOOKUP($A635, taxonomy!$B$2:$T$695, 14, FALSE)","v":" Ophiostomataceae"},{"$f":"VLOOKUP($A635, taxonomy!$B$2:$T$695, 15, FALSE)","v":"Ophiostoma."},{"$f":"VLOOKUP($A635, taxonomy!$B$2:$T$695, 16, FALSE)","v":0},{"$f":"VLOOKUP($A635, taxonomy!$B$2:$T$695, 17, FALSE)","v":0}]
["S3CNJ0",{"$f":" VLOOKUP(A636, architecture!D$2:E$73, 2, FALSE)","v":{"$error":"#N/A"}},{"$f":"VLOOKUP(A636, 'PF14702'!B636:C3316, 2, FALSE)","v":1557},{"$f":"VLOOKUP($A636, taxonomy!$B$2:$T$695, 6, FALSE)","v":"Eukaryota"},{"$f":"VLOOKUP($A636, taxonomy!$B$2:$T$695, 7, FALSE)","v":" Fungi"},{"$f":"VLOOKUP($A636, taxonomy!$B$2:$T$695, 8, FALSE)","v":" Dikarya"},{"$f":"VLOOKUP($A636, taxonomy!$B$2:$T$695, 9, FALSE)","v":" Ascomycota"},{"$f":"VLOOKUP($A636, taxonomy!$B$2:$T$695, 10, FALSE)","v":" Pezizomycotina"},{"$f":"VLOOKUP($A636, taxonomy!$B$2:$T$695, 11, FALSE)","v":" Leotiomycetes"},{"$f":"VLOOKUP($A636, taxonomy!$B$2:$T$695, 12, FALSE)","v":"Helotiales"},{"$f":"VLOOKUP($A636, taxonomy!$B$2:$T$695, 13, FALSE)","v":" Helotiaceae"},{"$f":"VLOOKUP($A636, taxonomy!$B$2:$T$695, 14, FALSE)","v":" Glarea."},{"$f":"VLOOKUP($A636, taxonomy!$B$2:$T$695, 15, FALSE)","v":0},{"$f":"VLOOKUP($A636, taxonomy!$B$2:$T$695, 16, FALSE)","v":0},{"$f":"VLOOKUP($A636, taxonomy!$B$2:$T$695, 17, FALSE)","v":0}]
["S6F5Y1",{"$f":" VLOOKUP(A637, architecture!D$2:E$73, 2, FALSE)","v":{"$error":"#N/A"}},{"$f":"VLOOKUP(A637, 'PF14702'!B637:C3317, 2, FALSE)","v":1524},{"$f":"VLOOKUP($A637, taxonomy!$B$2:$T$695, 6, FALSE)","v":"Eukaryota"},{"$f":"VLOOKUP($A637, taxonomy!$B$2:$T$695, 7, FALSE)","v":" Fungi"},{"$f":"VLOOKUP($A637, taxonomy!$B$2:$T$695, 8, FALSE)","v":" Dikarya"},{"$f":"VLOOKUP($A637, taxonomy!$B$2:$T$695, 9, FALSE)","v":" Ascomycota"},{"$f":"VLOOKUP($A637, taxonomy!$B$2:$T$695, 10, FALSE)","v":" Saccharomycotina"},{"$f":"VLOOKUP($A637, taxonomy!$B$2:$T$695, 11, FALSE)","v":"Saccharomycetes"},{"$f":"VLOOKUP($A637, taxonomy!$B$2:$T$695, 12, FALSE)","v":" Saccharomycetales"},{"$f":"VLOOKUP($A637, taxonomy!$B$2:$T$695, 13, FALSE)","v":" Saccharomycetaceae"},{"$f":"VLOOKUP($A637, taxonomy!$B$2:$T$695, 14, FALSE)","v":"Zygosaccharomyces."},{"$f":"VLOOKUP($A637, taxonomy!$B$2:$T$695, 15, FALSE)","v":0},{"$f":"VLOOKUP($A637, taxonomy!$B$2:$T$695, 16, FALSE)","v":0},{"$f":"VLOOKUP($A637, taxonomy!$B$2:$T$695, 17, FALSE)","v":0}]
["S7Q397",{"$f":" VLOOKUP(A638, architecture!D$2:E$73, 2, FALSE)","v":{"$error":"#N/A"}},{"$f":"VLOOKUP(A638, 'PF14702'!B638:C3318, 2, FALSE)","v":1512},{"$f":"VLOOKUP($A638, taxonomy!$B$2:$T$695, 6, FALSE)","v":"Eukaryota"},{"$f":"VLOOKUP($A638, taxonomy!$B$2:$T$695, 7, FALSE)","v":" Metazoa"},{"$f":"VLOOKUP($A638, taxonomy!$B$2:$T$695, 8, FALSE)","v":" Chordata"},{"$f":"VLOOKUP($A638, taxonomy!$B$2:$T$695, 9, FALSE)","v":" Craniata"},{"$f":"VLOOKUP($A638, taxonomy!$B$2:$T$695, 10, FALSE)","v":" Vertebrata"},{"$f":"VLOOKUP($A638, taxonomy!$B$2:$T$695, 11, FALSE)","v":" Euteleostomi"},{"$f":"VLOOKUP($A638, taxonomy!$B$2:$T$695, 12, FALSE)","v":"Mammalia"},{"$f":"VLOOKUP($A638, taxonomy!$B$2:$T$695, 13, FALSE)","v":" Eutheria"},{"$f":"VLOOKUP($A638, taxonomy!$B$2:$T$695, 14, FALSE)","v":" Laurasiatheria"},{"$f":"VLOOKUP($A638, taxonomy!$B$2:$T$695, 15, FALSE)","v":" Chiroptera"},{"$f":"VLOOKUP($A638, taxonomy!$B$2:$T$695, 16, FALSE)","v":" Microchiroptera"},{"$f":"VLOOKUP($A638, taxonomy!$B$2:$T$695, 17, FALSE)","v":"Vespertilionidae"}]
["S7RTJ5",{"$f":" VLOOKUP(A639, architecture!D$2:E$73, 2, FALSE)","v":{"$error":"#N/A"}},{"$f":"VLOOKUP(A639, 'PF14702'!B639:C3319, 2, FALSE)","v":1609},{"$f":"VLOOKUP($A639, taxonomy!$B$2:$T$695, 6, FALSE)","v":"Eukaryota"},{"$f":"VLOOKUP($A639, taxonomy!$B$2:$T$695, 7, FALSE)","v":" Fungi"},{"$f":"VLOOKUP($A639, taxonomy!$B$2:$T$695, 8, FALSE)","v":" Dikarya"},{"$f":"VLOOKUP($A639, taxonomy!$B$2:$T$695, 9, FALSE)","v":" Basidiomycota"},{"$f":"VLOOKUP($A639, taxonomy!$B$2:$T$695, 10, FALSE)","v":" Agaricomycotina"},{"$f":"VLOOKUP($A639, taxonomy!$B$2:$T$695, 11, FALSE)","v":"Agaricomycetes"},{"$f":"VLOOKUP($A639, taxonomy!$B$2:$T$695, 12, FALSE)","v":" Gloeophyllales"},{"$f":"VLOOKUP($A639, taxonomy!$B$2:$T$695, 13, FALSE)","v":" Gloeophyllaceae"},{"$f":"VLOOKUP($A639, taxonomy!$B$2:$T$695, 14, FALSE)","v":" Gloeophyllum."},{"$f":"VLOOKUP($A639, taxonomy!$B$2:$T$695, 15, FALSE)","v":0},{"$f":"VLOOKUP($A639, taxonomy!$B$2:$T$695, 16, FALSE)","v":0},{"$f":"VLOOKUP($A639, taxonomy!$B$2:$T$695, 17, FALSE)","v":0}]
["S7ZFX6",{"$f":" VLOOKUP(A640, architecture!D$2:E$73, 2, FALSE)","v":{"$error":"#N/A"}},{"$f":"VLOOKUP(A640, 'PF14702'!B640:C3320, 2, FALSE)","v":1531},{"$f":"VLOOKUP($A640, taxonomy!$B$2:$T$695, 6, FALSE)","v":"Eukaryota"},{"$f":"VLOOKUP($A640, taxonomy!$B$2:$T$695, 7, FALSE)","v":" Fungi"},{"$f":"VLOOKUP($A640, taxonomy!$B$2:$T$695, 8, FALSE)","v":" Dikarya"},{"$f":"VLOOKUP($A640, taxonomy!$B$2:$T$695, 9, FALSE)","v":" Ascomycota"},{"$f":"VLOOKUP($A640, taxonomy!$B$2:$T$695, 10, FALSE)","v":" Pezizomycotina"},{"$f":"VLOOKUP($A640, taxonomy!$B$2:$T$695, 11, FALSE)","v":" Eurotiomycetes"},{"$f":"VLOOKUP($A640, taxonomy!$B$2:$T$695, 12, FALSE)","v":"Eurotiomycetidae"},{"$f":"VLOOKUP($A640, taxonomy!$B$2:$T$695, 13, FALSE)","v":" Eurotiales"},{"$f":"VLOOKUP($A640, taxonomy!$B$2:$T$695, 14, FALSE)","v":" Aspergillaceae"},{"$f":"VLOOKUP($A640, taxonomy!$B$2:$T$695, 15, FALSE)","v":" Penicillium."},{"$f":"VLOOKUP($A640, taxonomy!$B$2:$T$695, 16, FALSE)","v":0},{"$f":"VLOOKUP($A640, taxonomy!$B$2:$T$695, 17, FALSE)","v":0}]
["S8AGT1",{"$f":" VLOOKUP(A641, architecture!D$2:E$73, 2, FALSE)","v":{"$error":"#N/A"}},{"$f":"VLOOKUP(A641, 'PF14702'!B641:C3321, 2, FALSE)","v":1520},{"$f":"VLOOKUP($A641, taxonomy!$B$2:$T$695, 6, FALSE)","v":"Eukaryota"},{"$f":"VLOOKUP($A641, taxonomy!$B$2:$T$695, 7, FALSE)","v":" Fungi"},{"$f":"VLOOKUP($A641, taxonomy!$B$2:$T$695, 8, FALSE)","v":" Dikarya"},{"$f":"VLOOKUP($A641, taxonomy!$B$2:$T$695, 9, FALSE)","v":" Ascomycota"},{"$f":"VLOOKUP($A641, taxonomy!$B$2:$T$695, 10, FALSE)","v":" Pezizomycotina"},{"$f":"VLOOKUP($A641, taxonomy!$B$2:$T$695, 11, FALSE)","v":" Orbiliomycetes"},{"$f":"VLOOKUP($A641, taxonomy!$B$2:$T$695, 12, FALSE)","v":"Orbiliales"},{"$f":"VLOOKUP($A641, taxonomy!$B$2:$T$695, 13, FALSE)","v":" Orbiliaceae"},{"$f":"VLOOKUP($A641, taxonomy!$B$2:$T$695, 14, FALSE)","v":" Dactylellina."},{"$f":"VLOOKUP($A641, taxonomy!$B$2:$T$695, 15, FALSE)","v":0},{"$f":"VLOOKUP($A641, taxonomy!$B$2:$T$695, 16, FALSE)","v":0},{"$f":"VLOOKUP($A641, taxonomy!$B$2:$T$695, 17, FALSE)","v":0}]
["S8FR05",{"$f":" VLOOKUP(A642, architecture!D$2:E$73, 2, FALSE)","v":{"$error":"#N/A"}},{"$f":"VLOOKUP(A642, 'PF14702'!B642:C3322, 2, FALSE)","v":1523},{"$f":"VLOOKUP($A642, taxonomy!$B$2:$T$695, 6, FALSE)","v":"Eukaryota"},{"$f":"VLOOKUP($A642, taxonomy!$B$2:$T$695, 7, FALSE)","v":" Fungi"},{"$f":"VLOOKUP($A642, taxonomy!$B$2:$T$695, 8, FALSE)","v":" Dikarya"},{"$f":"VLOOKUP($A642, taxonomy!$B$2:$T$695, 9, FALSE)","v":" Basidiomycota"},{"$f":"VLOOKUP($A642, taxonomy!$B$2:$T$695, 10, FALSE)","v":" Agaricomycotina"},{"$f":"VLOOKUP($A642, taxonomy!$B$2:$T$695, 11, FALSE)","v":"Agaricomycetes"},{"$f":"VLOOKUP($A642, taxonomy!$B$2:$T$695, 12, FALSE)","v":" Polyporales"},{"$f":"VLOOKUP($A642, taxonomy!$B$2:$T$695, 13, FALSE)","v":" Fomitopsis."},{"$f":"VLOOKUP($A642, taxonomy!$B$2:$T$695, 14, FALSE)","v":0},{"$f":"VLOOKUP($A642, taxonomy!$B$2:$T$695, 15, FALSE)","v":0},{"$f":"VLOOKUP($A642, taxonomy!$B$2:$T$695, 16, FALSE)","v":0},{"$f":"VLOOKUP($A642, taxonomy!$B$2:$T$695, 17, FALSE)","v":0}]
["S9WDR6",{"$f":" VLOOKUP(A643, architecture!D$2:E$73, 2, FALSE)","v":{"$error":"#N/A"}},{"$f":"VLOOKUP(A643, 'PF14702'!B643:C3323, 2, FALSE)","v":786},{"$f":"VLOOKUP($A643, taxonomy!$B$2:$T$695, 6, FALSE)","v":"Eukaryota"},{"$f":"VLOOKUP($A643, taxonomy!$B$2:$T$695, 7, FALSE)","v":" Metazoa"},{"$f":"VLOOKUP($A643, taxonomy!$B$2:$T$695, 8, FALSE)","v":" Chordata"},{"$f":"VLOOKUP($A643, taxonomy!$B$2:$T$695, 9, FALSE)","v":" Craniata"},{"$f":"VLOOKUP($A643, taxonomy!$B$2:$T$695, 10, FALSE)","v":" Vertebrata"},{"$f":"VLOOKUP($A643, taxonomy!$B$2:$T$695, 11, FALSE)","v":" Euteleostomi"},{"$f":"VLOOKUP($A643, taxonomy!$B$2:$T$695, 12, FALSE)","v":"Mammalia"},{"$f":"VLOOKUP($A643, taxonomy!$B$2:$T$695, 13, FALSE)","v":" Eutheria"},{"$f":"VLOOKUP($A643, taxonomy!$B$2:$T$695, 14, FALSE)","v":" Laurasiatheria"},{"$f":"VLOOKUP($A643, taxonomy!$B$2:$T$695, 15, FALSE)","v":" Cetartiodactyla"},{"$f":"VLOOKUP($A643, taxonomy!$B$2:$T$695, 16, FALSE)","v":" Tylopoda"},{"$f":"VLOOKUP($A643, taxonomy!$B$2:$T$695, 17, FALSE)","v":"Camelidae"}]
["T0K3Z4",{"$f":" VLOOKUP(A644, architecture!D$2:E$73, 2, FALSE)","v":{"$error":"#N/A"}},{"$f":"VLOOKUP(A644, 'PF14702'!B644:C3324, 2, FALSE)","v":1565},{"$f":"VLOOKUP($A644, taxonomy!$B$2:$T$695, 6, FALSE)","v":"Eukaryota"},{"$f":"VLOOKUP($A644, taxonomy!$B$2:$T$695, 7, FALSE)","v":" Fungi"},{"$f":"VLOOKUP($A644, taxonomy!$B$2:$T$695, 8, FALSE)","v":" Dikarya"},{"$f":"VLOOKUP($A644, taxonomy!$B$2:$T$695, 9, FALSE)","v":" Ascomycota"},{"$f":"VLOOKUP($A644, taxonomy!$B$2:$T$695, 10, FALSE)","v":" Pezizomycotina"},{"$f":"VLOOKUP($A644, taxonomy!$B$2:$T$695, 11, FALSE)","v":"Sordariomycetes"},{"$f":"VLOOKUP($A644, taxonomy!$B$2:$T$695, 12, FALSE)","v":" Hypocreomycetidae"},{"$f":"VLOOKUP($A644, taxonomy!$B$2:$T$695, 13, FALSE)","v":" Glomerellales"},{"$f":"VLOOKUP($A644, taxonomy!$B$2:$T$695, 14, FALSE)","v":" Glomerellaceae"},{"$f":"VLOOKUP($A644, taxonomy!$B$2:$T$695, 15, FALSE)","v":"Colletotrichum."},{"$f":"VLOOKUP($A644, taxonomy!$B$2:$T$695, 16, FALSE)","v":0},{"$f":"VLOOKUP($A644, taxonomy!$B$2:$T$695, 17, FALSE)","v":0}]
["T1EEV2",{"$f":" VLOOKUP(A645, architecture!D$2:E$73, 2, FALSE)","v":{"$error":"#N/A"}},{"$f":"VLOOKUP(A645, 'PF14702'!B645:C3325, 2, FALSE)","v":1530},{"$f":"VLOOKUP($A645, taxonomy!$B$2:$T$695, 6, FALSE)","v":"Eukaryota"},{"$f":"VLOOKUP($A645, taxonomy!$B$2:$T$695, 7, FALSE)","v":" Metazoa"},{"$f":"VLOOKUP($A645, taxonomy!$B$2:$T$695, 8, FALSE)","v":" Lophotrochozoa"},{"$f":"VLOOKUP($A645, taxonomy!$B$2:$T$695, 9, FALSE)","v":" Annelida"},{"$f":"VLOOKUP($A645, taxonomy!$B$2:$T$695, 10, FALSE)","v":" Clitellata"},{"$f":"VLOOKUP($A645, taxonomy!$B$2:$T$695, 11, FALSE)","v":" Hirudinea"},{"$f":"VLOOKUP($A645, taxonomy!$B$2:$T$695, 12, FALSE)","v":"Rhynchobdellida"},{"$f":"VLOOKUP($A645, taxonomy!$B$2:$T$695, 13, FALSE)","v":" Glossiphoniidae"},{"$f":"VLOOKUP($A645, taxonomy!$B$2:$T$695, 14, FALSE)","v":" Helobdella."},{"$f":"VLOOKUP($A645, taxonomy!$B$2:$T$695, 15, FALSE)","v":0},{"$f":"VLOOKUP($A645, taxonomy!$B$2:$T$695, 16, FALSE)","v":0},{"$f":"VLOOKUP($A645, taxonomy!$B$2:$T$695, 17, FALSE)","v":0}]
["T1GKN8",{"$f":" VLOOKUP(A646, architecture!D$2:E$73, 2, FALSE)","v":{"$error":"#N/A"}},{"$f":"VLOOKUP(A646, 'PF14702'!B646:C3326, 2, FALSE)","v":536},{"$f":"VLOOKUP($A646, taxonomy!$B$2:$T$695, 6, FALSE)","v":"Eukaryota"},{"$f":"VLOOKUP($A646, taxonomy!$B$2:$T$695, 7, FALSE)","v":" Metazoa"},{"$f":"VLOOKUP($A646, taxonomy!$B$2:$T$695, 8, FALSE)","v":" Ecdysozoa"},{"$f":"VLOOKUP($A646, taxonomy!$B$2:$T$695, 9, FALSE)","v":" Arthropoda"},{"$f":"VLOOKUP($A646, taxonomy!$B$2:$T$695, 10, FALSE)","v":" Hexapoda"},{"$f":"VLOOKUP($A646, taxonomy!$B$2:$T$695, 11, FALSE)","v":" Insecta"},{"$f":"VLOOKUP($A646, taxonomy!$B$2:$T$695, 12, FALSE)","v":"Pterygota"},{"$f":"VLOOKUP($A646, taxonomy!$B$2:$T$695, 13, FALSE)","v":" Neoptera"},{"$f":"VLOOKUP($A646, taxonomy!$B$2:$T$695, 14, FALSE)","v":" Holometabola"},{"$f":"VLOOKUP($A646, taxonomy!$B$2:$T$695, 15, FALSE)","v":" Diptera"},{"$f":"VLOOKUP($A646, taxonomy!$B$2:$T$695, 16, FALSE)","v":" Brachycera"},{"$f":"VLOOKUP($A646, taxonomy!$B$2:$T$695, 17, FALSE)","v":" Muscomorpha"}]
["T1HQC3",{"$f":" VLOOKUP(A647, architecture!D$2:E$73, 2, FALSE)","v":{"$error":"#N/A"}},{"$f":"VLOOKUP(A647, 'PF14702'!B647:C3327, 2, FALSE)","v":1474},{"$f":"VLOOKUP($A647, taxonomy!$B$2:$T$695, 6, FALSE)","v":"Eukaryota"},{"$f":"VLOOKUP($A647, taxonomy!$B$2:$T$695, 7, FALSE)","v":" Metazoa"},{"$f":"VLOOKUP($A647, taxonomy!$B$2:$T$695, 8, FALSE)","v":" Ecdysozoa"},{"$f":"VLOOKUP($A647, taxonomy!$B$2:$T$695, 9, FALSE)","v":" Arthropoda"},{"$f":"VLOOKUP($A647, taxonomy!$B$2:$T$695, 10, FALSE)","v":" Hexapoda"},{"$f":"VLOOKUP($A647, taxonomy!$B$2:$T$695, 11, FALSE)","v":" Insecta"},{"$f":"VLOOKUP($A647, taxonomy!$B$2:$T$695, 12, FALSE)","v":"Pterygota"},{"$f":"VLOOKUP($A647, taxonomy!$B$2:$T$695, 13, FALSE)","v":" Neoptera"},{"$f":"VLOOKUP($A647, taxonomy!$B$2:$T$695, 14, FALSE)","v":" Paraneoptera"},{"$f":"VLOOKUP($A647, taxonomy!$B$2:$T$695, 15, FALSE)","v":" Hemiptera"},{"$f":"VLOOKUP($A647, taxonomy!$B$2:$T$695, 16, FALSE)","v":" Heteroptera"},{"$f":"VLOOKUP($A647, taxonomy!$B$2:$T$695, 17, FALSE)","v":"Panheteroptera"}]
["T1J746",{"$f":" VLOOKUP(A648, architecture!D$2:E$73, 2, FALSE)","v":{"$error":"#N/A"}},{"$f":"VLOOKUP(A648, 'PF14702'!B648:C3328, 2, FALSE)","v":1569},{"$f":"VLOOKUP($A648, taxonomy!$B$2:$T$695, 6, FALSE)","v":"Eukaryota"},{"$f":"VLOOKUP($A648, taxonomy!$B$2:$T$695, 7, FALSE)","v":" Metazoa"},{"$f":"VLOOKUP($A648, taxonomy!$B$2:$T$695, 8, FALSE)","v":" Ecdysozoa"},{"$f":"VLOOKUP($A648, taxonomy!$B$2:$T$695, 9, FALSE)","v":" Arthropoda"},{"$f":"VLOOKUP($A648, taxonomy!$B$2:$T$695, 10, FALSE)","v":" Myriapoda"},{"$f":"VLOOKUP($A648, taxonomy!$B$2:$T$695, 11, FALSE)","v":" Chilopoda"},{"$f":"VLOOKUP($A648, taxonomy!$B$2:$T$695, 12, FALSE)","v":"Pleurostigmophora"},{"$f":"VLOOKUP($A648, taxonomy!$B$2:$T$695, 13, FALSE)","v":" Geophilomorpha"},{"$f":"VLOOKUP($A648, taxonomy!$B$2:$T$695, 14, FALSE)","v":" Linotaeniidae"},{"$f":"VLOOKUP($A648, taxonomy!$B$2:$T$695, 15, FALSE)","v":" Strigamia."},{"$f":"VLOOKUP($A648, taxonomy!$B$2:$T$695, 16, FALSE)","v":0},{"$f":"VLOOKUP($A648, taxonomy!$B$2:$T$695, 17, FALSE)","v":0}]
["T1JUG0",{"$f":" VLOOKUP(A649, architecture!D$2:E$73, 2, FALSE)","v":{"$error":"#N/A"}},{"$f":"VLOOKUP(A649, 'PF14702'!B649:C3329, 2, FALSE)","v":1532},{"$f":"VLOOKUP($A649, taxonomy!$B$2:$T$695, 6, FALSE)","v":"Eukaryota"},{"$f":"VLOOKUP($A649, taxonomy!$B$2:$T$695, 7, FALSE)","v":" Metazoa"},{"$f":"VLOOKUP($A649, taxonomy!$B$2:$T$695, 8, FALSE)","v":" Ecdysozoa"},{"$f":"VLOOKUP($A649, taxonomy!$B$2:$T$695, 9, FALSE)","v":" Arthropoda"},{"$f":"VLOOKUP($A649, taxonomy!$B$2:$T$695, 10, FALSE)","v":" Chelicerata"},{"$f":"VLOOKUP($A649, taxonomy!$B$2:$T$695, 11, FALSE)","v":" Arachnida"},{"$f":"VLOOKUP($A649, taxonomy!$B$2:$T$695, 12, FALSE)","v":"Acari"},{"$f":"VLOOKUP($A649, taxonomy!$B$2:$T$695, 13, FALSE)","v":" Acariformes"},{"$f":"VLOOKUP($A649, taxonomy!$B$2:$T$695, 14, FALSE)","v":" Trombidiformes"},{"$f":"VLOOKUP($A649, taxonomy!$B$2:$T$695, 15, FALSE)","v":" Prostigmata"},{"$f":"VLOOKUP($A649, taxonomy!$B$2:$T$695, 16, FALSE)","v":" Eleutherengona"},{"$f":"VLOOKUP($A649, taxonomy!$B$2:$T$695, 17, FALSE)","v":"Raphignathae"}]
["T1JUL4",{"$f":" VLOOKUP(A650, architecture!D$2:E$73, 2, FALSE)","v":{"$error":"#N/A"}},{"$f":"VLOOKUP(A650, 'PF14702'!B650:C3330, 2, FALSE)","v":1307},{"$f":"VLOOKUP($A650, taxonomy!$B$2:$T$695, 6, FALSE)","v":"Eukaryota"},{"$f":"VLOOKUP($A650, taxonomy!$B$2:$T$695, 7, FALSE)","v":" Metazoa"},{"$f":"VLOOKUP($A650, taxonomy!$B$2:$T$695, 8, FALSE)","v":" Ecdysozoa"},{"$f":"VLOOKUP($A650, taxonomy!$B$2:$T$695, 9, FALSE)","v":" Arthropoda"},{"$f":"VLOOKUP($A650, taxonomy!$B$2:$T$695, 10, FALSE)","v":" Chelicerata"},{"$f":"VLOOKUP($A650, taxonomy!$B$2:$T$695, 11, FALSE)","v":" Arachnida"},{"$f":"VLOOKUP($A650, taxonomy!$B$2:$T$695, 12, FALSE)","v":"Acari"},{"$f":"VLOOKUP($A650, taxonomy!$B$2:$T$695, 13, FALSE)","v":" Acariformes"},{"$f":"VLOOKUP($A650, taxonomy!$B$2:$T$695, 14, FALSE)","v":" Trombidiformes"},{"$f":"VLOOKUP($A650, taxonomy!$B$2:$T$695, 15, FALSE)","v":" Prostigmata"},{"$f":"VLOOKUP($A650, taxonomy!$B$2:$T$695, 16, FALSE)","v":" Eleutherengona"},{"$f":"VLOOKUP($A650, taxonomy!$B$2:$T$695, 17, FALSE)","v":"Raphignathae"}]
["T5AFY6",{"$f":" VLOOKUP(A651, architecture!D$2:E$73, 2, FALSE)","v":{"$error":"#N/A"}},{"$f":"VLOOKUP(A651, 'PF14702'!B651:C3331, 2, FALSE)","v":1594},{"$f":"VLOOKUP($A651, taxonomy!$B$2:$T$695, 6, FALSE)","v":"Eukaryota"},{"$f":"VLOOKUP($A651, taxonomy!$B$2:$T$695, 7, FALSE)","v":" Fungi"},{"$f":"VLOOKUP($A651, taxonomy!$B$2:$T$695, 8, FALSE)","v":" Dikarya"},{"$f":"VLOOKUP($A651, taxonomy!$B$2:$T$695, 9, FALSE)","v":" Ascomycota"},{"$f":"VLOOKUP($A651, taxonomy!$B$2:$T$695, 10, FALSE)","v":" Pezizomycotina"},{"$f":"VLOOKUP($A651, taxonomy!$B$2:$T$695, 11, FALSE)","v":"Sordariomycetes"},{"$f":"VLOOKUP($A651, taxonomy!$B$2:$T$695, 12, FALSE)","v":" Hypocreomycetidae"},{"$f":"VLOOKUP($A651, taxonomy!$B$2:$T$695, 13, FALSE)","v":" Hypocreales"},{"$f":"VLOOKUP($A651, taxonomy!$B$2:$T$695, 14, FALSE)","v":" Ophiocordycipitaceae"},{"$f":"VLOOKUP($A651, taxonomy!$B$2:$T$695, 15, FALSE)","v":"Ophiocordyceps."},{"$f":"VLOOKUP($A651, taxonomy!$B$2:$T$695, 16, FALSE)","v":0},{"$f":"VLOOKUP($A651, taxonomy!$B$2:$T$695, 17, FALSE)","v":0}]
["U1HM11",{"$f":" VLOOKUP(A652, architecture!D$2:E$73, 2, FALSE)","v":{"$error":"#N/A"}},{"$f":"VLOOKUP(A652, 'PF14702'!B652:C3332, 2, FALSE)","v":1546},{"$f":"VLOOKUP($A652, taxonomy!$B$2:$T$695, 6, FALSE)","v":"Eukaryota"},{"$f":"VLOOKUP($A652, taxonomy!$B$2:$T$695, 7, FALSE)","v":" Fungi"},{"$f":"VLOOKUP($A652, taxonomy!$B$2:$T$695, 8, FALSE)","v":" Dikarya"},{"$f":"VLOOKUP($A652, taxonomy!$B$2:$T$695, 9, FALSE)","v":" Ascomycota"},{"$f":"VLOOKUP($A652, taxonomy!$B$2:$T$695, 10, FALSE)","v":" Pezizomycotina"},{"$f":"VLOOKUP($A652, taxonomy!$B$2:$T$695, 11, FALSE)","v":" Eurotiomycetes"},{"$f":"VLOOKUP($A652, taxonomy!$B$2:$T$695, 12, FALSE)","v":"Chaetothyriomycetidae"},{"$f":"VLOOKUP($A652, taxonomy!$B$2:$T$695, 13, FALSE)","v":" Verrucariales"},{"$f":"VLOOKUP($A652, taxonomy!$B$2:$T$695, 14, FALSE)","v":" Verrucariaceae"},{"$f":"VLOOKUP($A652, taxonomy!$B$2:$T$695, 15, FALSE)","v":" Endocarpon."},{"$f":"VLOOKUP($A652, taxonomy!$B$2:$T$695, 16, FALSE)","v":0},{"$f":"VLOOKUP($A652, taxonomy!$B$2:$T$695, 17, FALSE)","v":0}]
["U1MI54",{"$f":" VLOOKUP(A653, architecture!D$2:E$73, 2, FALSE)","v":1},{"$f":"VLOOKUP(A653, 'PF14702'!B653:C3333, 2, FALSE)","v":1477},{"$f":"VLOOKUP($A653, taxonomy!$B$2:$T$695, 6, FALSE)","v":{"$error":"#N/A"}},{"$f":"VLOOKUP($A653, taxonomy!$B$2:$T$695, 7, FALSE)","v":{"$error":"#N/A"}},{"$f":"VLOOKUP($A653, taxonomy!$B$2:$T$695, 8, FALSE)","v":{"$error":"#N/A"}},{"$f":"VLOOKUP($A653, taxonomy!$B$2:$T$695, 9, FALSE)","v":{"$error":"#N/A"}},{"$f":"VLOOKUP($A653, taxonomy!$B$2:$T$695, 10, FALSE)","v":{"$error":"#N/A"}},{"$f":"VLOOKUP($A653, taxonomy!$B$2:$T$695, 11, FALSE)","v":{"$error":"#N/A"}},{"$f":"VLOOKUP($A653, taxonomy!$B$2:$T$695, 12, FALSE)","v":{"$error":"#N/A"}},{"$f":"VLOOKUP($A653, taxonomy!$B$2:$T$695, 13, FALSE)","v":{"$error":"#N/A"}},{"$f":"VLOOKUP($A653, taxonomy!$B$2:$T$695, 14, FALSE)","v":{"$error":"#N/A"}},{"$f":"VLOOKUP($A653, taxonomy!$B$2:$T$695, 15, FALSE)","v":{"$error":"#N/A"}},{"$f":"VLOOKUP($A653, taxonomy!$B$2:$T$695, 16, FALSE)","v":{"$error":"#N/A"}},{"$f":"VLOOKUP($A653, taxonomy!$B$2:$T$695, 17, FALSE)","v":{"$error":"#N/A"}}]
["U3J1L9",{"$f":" VLOOKUP(A654, architecture!D$2:E$73, 2, FALSE)","v":1},{"$f":"VLOOKUP(A654, 'PF14702'!B654:C3334, 2, FALSE)","v":1312},{"$f":"VLOOKUP($A654, taxonomy!$B$2:$T$695, 6, FALSE)","v":"Eukaryota"},{"$f":"VLOOKUP($A654, taxonomy!$B$2:$T$695, 7, FALSE)","v":" Metazoa"},{"$f":"VLOOKUP($A654, taxonomy!$B$2:$T$695, 8, FALSE)","v":" Chordata"},{"$f":"VLOOKUP($A654, taxonomy!$B$2:$T$695, 9, FALSE)","v":" Craniata"},{"$f":"VLOOKUP($A654, taxonomy!$B$2:$T$695, 10, FALSE)","v":" Vertebrata"},{"$f":"VLOOKUP($A654, taxonomy!$B$2:$T$695, 11, FALSE)","v":" Euteleostomi"},{"$f":"VLOOKUP($A654, taxonomy!$B$2:$T$695, 12, FALSE)","v":"Archelosauria"},{"$f":"VLOOKUP($A654, taxonomy!$B$2:$T$695, 13, FALSE)","v":" Archosauria"},{"$f":"VLOOKUP($A654, taxonomy!$B$2:$T$695, 14, FALSE)","v":" Dinosauria"},{"$f":"VLOOKUP($A654, taxonomy!$B$2:$T$695, 15, FALSE)","v":" Saurischia"},{"$f":"VLOOKUP($A654, taxonomy!$B$2:$T$695, 16, FALSE)","v":" Theropoda"},{"$f":"VLOOKUP($A654, taxonomy!$B$2:$T$695, 17, FALSE)","v":"Coelurosauria"}]
["U3JI98",{"$f":" VLOOKUP(A655, architecture!D$2:E$73, 2, FALSE)","v":{"$error":"#N/A"}},{"$f":"VLOOKUP(A655, 'PF14702'!B655:C3335, 2, FALSE)","v":1530},{"$f":"VLOOKUP($A655, taxonomy!$B$2:$T$695, 6, FALSE)","v":"Eukaryota"},{"$f":"VLOOKUP($A655, taxonomy!$B$2:$T$695, 7, FALSE)","v":" Metazoa"},{"$f":"VLOOKUP($A655, taxonomy!$B$2:$T$695, 8, FALSE)","v":" Chordata"},{"$f":"VLOOKUP($A655, taxonomy!$B$2:$T$695, 9, FALSE)","v":" Craniata"},{"$f":"VLOOKUP($A655, taxonomy!$B$2:$T$695, 10, FALSE)","v":" Vertebrata"},{"$f":"VLOOKUP($A655, taxonomy!$B$2:$T$695, 11, FALSE)","v":" Euteleostomi"},{"$f":"VLOOKUP($A655, taxonomy!$B$2:$T$695, 12, FALSE)","v":"Archelosauria"},{"$f":"VLOOKUP($A655, taxonomy!$B$2:$T$695, 13, FALSE)","v":" Archosauria"},{"$f":"VLOOKUP($A655, taxonomy!$B$2:$T$695, 14, FALSE)","v":" Dinosauria"},{"$f":"VLOOKUP($A655, taxonomy!$B$2:$T$695, 15, FALSE)","v":" Saurischia"},{"$f":"VLOOKUP($A655, taxonomy!$B$2:$T$695, 16, FALSE)","v":" Theropoda"},{"$f":"VLOOKUP($A655, taxonomy!$B$2:$T$695, 17, FALSE)","v":"Coelurosauria"}]
["U4KYJ0",{"$f":" VLOOKUP(A656, architecture!D$2:E$73, 2, FALSE)","v":{"$error":"#N/A"}},{"$f":"VLOOKUP(A656, 'PF14702'!B656:C3336, 2, FALSE)","v":1525},{"$f":"VLOOKUP($A656, taxonomy!$B$2:$T$695, 6, FALSE)","v":"Eukaryota"},{"$f":"VLOOKUP($A656, taxonomy!$B$2:$T$695, 7, FALSE)","v":" Fungi"},{"$f":"VLOOKUP($A656, taxonomy!$B$2:$T$695, 8, FALSE)","v":" Dikarya"},{"$f":"VLOOKUP($A656, taxonomy!$B$2:$T$695, 9, FALSE)","v":" Ascomycota"},{"$f":"VLOOKUP($A656, taxonomy!$B$2:$T$695, 10, FALSE)","v":" Pezizomycotina"},{"$f":"VLOOKUP($A656, taxonomy!$B$2:$T$695, 11, FALSE)","v":" Pezizomycetes"},{"$f":"VLOOKUP($A656, taxonomy!$B$2:$T$695, 12, FALSE)","v":"Pezizales"},{"$f":"VLOOKUP($A656, taxonomy!$B$2:$T$695, 13, FALSE)","v":" Pyronemataceae"},{"$f":"VLOOKUP($A656, taxonomy!$B$2:$T$695, 14, FALSE)","v":" Pyronema."},{"$f":"VLOOKUP($A656, taxonomy!$B$2:$T$695, 15, FALSE)","v":0},{"$f":"VLOOKUP($A656, taxonomy!$B$2:$T$695, 16, FALSE)","v":0},{"$f":"VLOOKUP($A656, taxonomy!$B$2:$T$695, 17, FALSE)","v":0}]
["U4UE49",{"$f":" VLOOKUP(A657, architecture!D$2:E$73, 2, FALSE)","v":{"$error":"#N/A"}},{"$f":"VLOOKUP(A657, 'PF14702'!B657:C3337, 2, FALSE)","v":1718},{"$f":"VLOOKUP($A657, taxonomy!$B$2:$T$695, 6, FALSE)","v":"Eukaryota"},{"$f":"VLOOKUP($A657, taxonomy!$B$2:$T$695, 7, FALSE)","v":" Metazoa"},{"$f":"VLOOKUP($A657, taxonomy!$B$2:$T$695, 8, FALSE)","v":" Ecdysozoa"},{"$f":"VLOOKUP($A657, taxonomy!$B$2:$T$695, 9, FALSE)","v":" Arthropoda"},{"$f":"VLOOKUP($A657, taxonomy!$B$2:$T$695, 10, FALSE)","v":" Hexapoda"},{"$f":"VLOOKUP($A657, taxonomy!$B$2:$T$695, 11, FALSE)","v":" Insecta"},{"$f":"VLOOKUP($A657, taxonomy!$B$2:$T$695, 12, FALSE)","v":"Pterygota"},{"$f":"VLOOKUP($A657, taxonomy!$B$2:$T$695, 13, FALSE)","v":" Neoptera"},{"$f":"VLOOKUP($A657, taxonomy!$B$2:$T$695, 14, FALSE)","v":" Holometabola"},{"$f":"VLOOKUP($A657, taxonomy!$B$2:$T$695, 15, FALSE)","v":" Coleoptera"},{"$f":"VLOOKUP($A657, taxonomy!$B$2:$T$695, 16, FALSE)","v":" Polyphaga"},{"$f":"VLOOKUP($A657, taxonomy!$B$2:$T$695, 17, FALSE)","v":"Cucujiformia"}]
["U5H663",{"$f":" VLOOKUP(A658, architecture!D$2:E$73, 2, FALSE)","v":{"$error":"#N/A"}},{"$f":"VLOOKUP(A658, 'PF14702'!B658:C3338, 2, FALSE)","v":1565},{"$f":"VLOOKUP($A658, taxonomy!$B$2:$T$695, 6, FALSE)","v":"Eukaryota"},{"$f":"VLOOKUP($A658, taxonomy!$B$2:$T$695, 7, FALSE)","v":" Fungi"},{"$f":"VLOOKUP($A658, taxonomy!$B$2:$T$695, 8, FALSE)","v":" Dikarya"},{"$f":"VLOOKUP($A658, taxonomy!$B$2:$T$695, 9, FALSE)","v":" Basidiomycota"},{"$f":"VLOOKUP($A658, taxonomy!$B$2:$T$695, 10, FALSE)","v":" Pucciniomycotina"},{"$f":"VLOOKUP($A658, taxonomy!$B$2:$T$695, 11, FALSE)","v":"Microbotryomycetes"},{"$f":"VLOOKUP($A658, taxonomy!$B$2:$T$695, 12, FALSE)","v":" Microbotryales"},{"$f":"VLOOKUP($A658, taxonomy!$B$2:$T$695, 13, FALSE)","v":" Microbotryaceae"},{"$f":"VLOOKUP($A658, taxonomy!$B$2:$T$695, 14, FALSE)","v":" Microbotryum."},{"$f":"VLOOKUP($A658, taxonomy!$B$2:$T$695, 15, FALSE)","v":0},{"$f":"VLOOKUP($A658, taxonomy!$B$2:$T$695, 16, FALSE)","v":0},{"$f":"VLOOKUP($A658, taxonomy!$B$2:$T$695, 17, FALSE)","v":0}]
["U6GUU5",{"$f":" VLOOKUP(A659, architecture!D$2:E$73, 2, FALSE)","v":{"$error":"#N/A"}},{"$f":"VLOOKUP(A659, 'PF14702'!B659:C3339, 2, FALSE)","v":1171},{"$f":"VLOOKUP($A659, taxonomy!$B$2:$T$695, 6, FALSE)","v":"Eukaryota"},{"$f":"VLOOKUP($A659, taxonomy!$B$2:$T$695, 7, FALSE)","v":" Alveolata"},{"$f":"VLOOKUP($A659, taxonomy!$B$2:$T$695, 8, FALSE)","v":" Apicomplexa"},{"$f":"VLOOKUP($A659, taxonomy!$B$2:$T$695, 9, FALSE)","v":" Conoidasida"},{"$f":"VLOOKUP($A659, taxonomy!$B$2:$T$695, 10, FALSE)","v":" Coccidia"},{"$f":"VLOOKUP($A659, taxonomy!$B$2:$T$695, 11, FALSE)","v":"Eucoccidiorida"},{"$f":"VLOOKUP($A659, taxonomy!$B$2:$T$695, 12, FALSE)","v":" Eimeriorina"},{"$f":"VLOOKUP($A659, taxonomy!$B$2:$T$695, 13, FALSE)","v":" Eimeriidae"},{"$f":"VLOOKUP($A659, taxonomy!$B$2:$T$695, 14, FALSE)","v":" Eimeria."},{"$f":"VLOOKUP($A659, taxonomy!$B$2:$T$695, 15, FALSE)","v":0},{"$f":"VLOOKUP($A659, taxonomy!$B$2:$T$695, 16, FALSE)","v":0},{"$f":"VLOOKUP($A659, taxonomy!$B$2:$T$695, 17, FALSE)","v":0}]
["U6JZI1",{"$f":" VLOOKUP(A660, architecture!D$2:E$73, 2, FALSE)","v":{"$error":"#N/A"}},{"$f":"VLOOKUP(A660, 'PF14702'!B660:C3340, 2, FALSE)","v":774},{"$f":"VLOOKUP($A660, taxonomy!$B$2:$T$695, 6, FALSE)","v":"Eukaryota"},{"$f":"VLOOKUP($A660, taxonomy!$B$2:$T$695, 7, FALSE)","v":" Alveolata"},{"$f":"VLOOKUP($A660, taxonomy!$B$2:$T$695, 8, FALSE)","v":" Apicomplexa"},{"$f":"VLOOKUP($A660, taxonomy!$B$2:$T$695, 9, FALSE)","v":" Conoidasida"},{"$f":"VLOOKUP($A660, taxonomy!$B$2:$T$695, 10, FALSE)","v":" Coccidia"},{"$f":"VLOOKUP($A660, taxonomy!$B$2:$T$695, 11, FALSE)","v":"Eucoccidiorida"},{"$f":"VLOOKUP($A660, taxonomy!$B$2:$T$695, 12, FALSE)","v":" Eimeriorina"},{"$f":"VLOOKUP($A660, taxonomy!$B$2:$T$695, 13, FALSE)","v":" Eimeriidae"},{"$f":"VLOOKUP($A660, taxonomy!$B$2:$T$695, 14, FALSE)","v":" Eimeria."},{"$f":"VLOOKUP($A660, taxonomy!$B$2:$T$695, 15, FALSE)","v":0},{"$f":"VLOOKUP($A660, taxonomy!$B$2:$T$695, 16, FALSE)","v":0},{"$f":"VLOOKUP($A660, taxonomy!$B$2:$T$695, 17, FALSE)","v":0}]
["U6L804",{"$f":" VLOOKUP(A661, architecture!D$2:E$73, 2, FALSE)","v":{"$error":"#N/A"}},{"$f":"VLOOKUP(A661, 'PF14702'!B661:C3341, 2, FALSE)","v":571},{"$f":"VLOOKUP($A661, taxonomy!$B$2:$T$695, 6, FALSE)","v":"Eukaryota"},{"$f":"VLOOKUP($A661, taxonomy!$B$2:$T$695, 7, FALSE)","v":" Alveolata"},{"$f":"VLOOKUP($A661, taxonomy!$B$2:$T$695, 8, FALSE)","v":" Apicomplexa"},{"$f":"VLOOKUP($A661, taxonomy!$B$2:$T$695, 9, FALSE)","v":" Conoidasida"},{"$f":"VLOOKUP($A661, taxonomy!$B$2:$T$695, 10, FALSE)","v":" Coccidia"},{"$f":"VLOOKUP($A661, taxonomy!$B$2:$T$695, 11, FALSE)","v":"Eucoccidiorida"},{"$f":"VLOOKUP($A661, taxonomy!$B$2:$T$695, 12, FALSE)","v":" Eimeriorina"},{"$f":"VLOOKUP($A661, taxonomy!$B$2:$T$695, 13, FALSE)","v":" Eimeriidae"},{"$f":"VLOOKUP($A661, taxonomy!$B$2:$T$695, 14, FALSE)","v":" Eimeria."},{"$f":"VLOOKUP($A661, taxonomy!$B$2:$T$695, 15, FALSE)","v":0},{"$f":"VLOOKUP($A661, taxonomy!$B$2:$T$695, 16, FALSE)","v":0},{"$f":"VLOOKUP($A661, taxonomy!$B$2:$T$695, 17, FALSE)","v":0}]
["U6LN22",{"$f":" VLOOKUP(A662, architecture!D$2:E$73, 2, FALSE)","v":1},{"$f":"VLOOKUP(A662, 'PF14702'!B662:C3342, 2, FALSE)","v":1381},{"$f":"VLOOKUP($A662, taxonomy!$B$2:$T$695, 6, FALSE)","v":"Eukaryota"},{"$f":"VLOOKUP($A662, taxonomy!$B$2:$T$695, 7, FALSE)","v":" Alveolata"},{"$f":"VLOOKUP($A662, taxonomy!$B$2:$T$695, 8, FALSE)","v":" Apicomplexa"},{"$f":"VLOOKUP($A662, taxonomy!$B$2:$T$695, 9, FALSE)","v":" Conoidasida"},{"$f":"VLOOKUP($A662, taxonomy!$B$2:$T$695, 10, FALSE)","v":" Coccidia"},{"$f":"VLOOKUP($A662, taxonomy!$B$2:$T$695, 11, FALSE)","v":"Eucoccidiorida"},{"$f":"VLOOKUP($A662, taxonomy!$B$2:$T$695, 12, FALSE)","v":" Eimeriorina"},{"$f":"VLOOKUP($A662, taxonomy!$B$2:$T$695, 13, FALSE)","v":" Eimeriidae"},{"$f":"VLOOKUP($A662, taxonomy!$B$2:$T$695, 14, FALSE)","v":" Eimeria."},{"$f":"VLOOKUP($A662, taxonomy!$B$2:$T$695, 15, FALSE)","v":0},{"$f":"VLOOKUP($A662, taxonomy!$B$2:$T$695, 16, FALSE)","v":0},{"$f":"VLOOKUP($A662, taxonomy!$B$2:$T$695, 17, FALSE)","v":0}]
["U6N4S6",{"$f":" VLOOKUP(A663, architecture!D$2:E$73, 2, FALSE)","v":{"$error":"#N/A"}},{"$f":"VLOOKUP(A663, 'PF14702'!B663:C3343, 2, FALSE)","v":1183},{"$f":"VLOOKUP($A663, taxonomy!$B$2:$T$695, 6, FALSE)","v":"Eukaryota"},{"$f":"VLOOKUP($A663, taxonomy!$B$2:$T$695, 7, FALSE)","v":" Alveolata"},{"$f":"VLOOKUP($A663, taxonomy!$B$2:$T$695, 8, FALSE)","v":" Apicomplexa"},{"$f":"VLOOKUP($A663, taxonomy!$B$2:$T$695, 9, FALSE)","v":" Conoidasida"},{"$f":"VLOOKUP($A663, taxonomy!$B$2:$T$695, 10, FALSE)","v":" Coccidia"},{"$f":"VLOOKUP($A663, taxonomy!$B$2:$T$695, 11, FALSE)","v":"Eucoccidiorida"},{"$f":"VLOOKUP($A663, taxonomy!$B$2:$T$695, 12, FALSE)","v":" Eimeriorina"},{"$f":"VLOOKUP($A663, taxonomy!$B$2:$T$695, 13, FALSE)","v":" Eimeriidae"},{"$f":"VLOOKUP($A663, taxonomy!$B$2:$T$695, 14, FALSE)","v":" Eimeria."},{"$f":"VLOOKUP($A663, taxonomy!$B$2:$T$695, 15, FALSE)","v":0},{"$f":"VLOOKUP($A663, taxonomy!$B$2:$T$695, 16, FALSE)","v":0},{"$f":"VLOOKUP($A663, taxonomy!$B$2:$T$695, 17, FALSE)","v":0}]
["U6P8Q5",{"$f":" VLOOKUP(A664, architecture!D$2:E$73, 2, FALSE)","v":{"$error":"#N/A"}},{"$f":"VLOOKUP(A664, 'PF14702'!B664:C3344, 2, FALSE)","v":1509},{"$f":"VLOOKUP($A664, taxonomy!$B$2:$T$695, 6, FALSE)","v":"Eukaryota"},{"$f":"VLOOKUP($A664, taxonomy!$B$2:$T$695, 7, FALSE)","v":" Metazoa"},{"$f":"VLOOKUP($A664, taxonomy!$B$2:$T$695, 8, FALSE)","v":" Ecdysozoa"},{"$f":"VLOOKUP($A664, taxonomy!$B$2:$T$695, 9, FALSE)","v":" Nematoda"},{"$f":"VLOOKUP($A664, taxonomy!$B$2:$T$695, 10, FALSE)","v":" Chromadorea"},{"$f":"VLOOKUP($A664, taxonomy!$B$2:$T$695, 11, FALSE)","v":" Rhabditida"},{"$f":"VLOOKUP($A664, taxonomy!$B$2:$T$695, 12, FALSE)","v":"Strongylida"},{"$f":"VLOOKUP($A664, taxonomy!$B$2:$T$695, 13, FALSE)","v":" Trichostrongyloidea"},{"$f":"VLOOKUP($A664, taxonomy!$B$2:$T$695, 14, FALSE)","v":" Haemonchidae"},{"$f":"VLOOKUP($A664, taxonomy!$B$2:$T$695, 15, FALSE)","v":" Haemonchinae"},{"$f":"VLOOKUP($A664, taxonomy!$B$2:$T$695, 16, FALSE)","v":"Haemonchus."},{"$f":"VLOOKUP($A664, taxonomy!$B$2:$T$695, 17, FALSE)","v":0}]
["U7PL85",{"$f":" VLOOKUP(A665, architecture!D$2:E$73, 2, FALSE)","v":{"$error":"#N/A"}},{"$f":"VLOOKUP(A665, 'PF14702'!B665:C3345, 2, FALSE)","v":1582},{"$f":"VLOOKUP($A665, taxonomy!$B$2:$T$695, 6, FALSE)","v":"Eukaryota"},{"$f":"VLOOKUP($A665, taxonomy!$B$2:$T$695, 7, FALSE)","v":" Fungi"},{"$f":"VLOOKUP($A665, taxonomy!$B$2:$T$695, 8, FALSE)","v":" Dikarya"},{"$f":"VLOOKUP($A665, taxonomy!$B$2:$T$695, 9, FALSE)","v":" Ascomycota"},{"$f":"VLOOKUP($A665, taxonomy!$B$2:$T$695, 10, FALSE)","v":" Pezizomycotina"},{"$f":"VLOOKUP($A665, taxonomy!$B$2:$T$695, 11, FALSE)","v":"Sordariomycetes"},{"$f":"VLOOKUP($A665, taxonomy!$B$2:$T$695, 12, FALSE)","v":" Sordariomycetidae"},{"$f":"VLOOKUP($A665, taxonomy!$B$2:$T$695, 13, FALSE)","v":" Ophiostomatales"},{"$f":"VLOOKUP($A665, taxonomy!$B$2:$T$695, 14, FALSE)","v":" Ophiostomataceae"},{"$f":"VLOOKUP($A665, taxonomy!$B$2:$T$695, 15, FALSE)","v":"Sporothrix."},{"$f":"VLOOKUP($A665, taxonomy!$B$2:$T$695, 16, FALSE)","v":0},{"$f":"VLOOKUP($A665, taxonomy!$B$2:$T$695, 17, FALSE)","v":0}]
["U9T0T6",{"$f":" VLOOKUP(A666, architecture!D$2:E$73, 2, FALSE)","v":{"$error":"#N/A"}},{"$f":"VLOOKUP(A666, 'PF14702'!B666:C3346, 2, FALSE)","v":1613},{"$f":"VLOOKUP($A666, taxonomy!$B$2:$T$695, 6, FALSE)","v":"Eukaryota"},{"$f":"VLOOKUP($A666, taxonomy!$B$2:$T$695, 7, FALSE)","v":" Fungi"},{"$f":"VLOOKUP($A666, taxonomy!$B$2:$T$695, 8, FALSE)","v":" Mucoromycota"},{"$f":"VLOOKUP($A666, taxonomy!$B$2:$T$695, 9, FALSE)","v":" Glomeromycotina"},{"$f":"VLOOKUP($A666, taxonomy!$B$2:$T$695, 10, FALSE)","v":" Glomeromycetes"},{"$f":"VLOOKUP($A666, taxonomy!$B$2:$T$695, 11, FALSE)","v":"Glomerales"},{"$f":"VLOOKUP($A666, taxonomy!$B$2:$T$695, 12, FALSE)","v":" Glomeraceae"},{"$f":"VLOOKUP($A666, taxonomy!$B$2:$T$695, 13, FALSE)","v":" Rhizophagus."},{"$f":"VLOOKUP($A666, taxonomy!$B$2:$T$695, 14, FALSE)","v":0},{"$f":"VLOOKUP($A666, taxonomy!$B$2:$T$695, 15, FALSE)","v":0},{"$f":"VLOOKUP($A666, taxonomy!$B$2:$T$695, 16, FALSE)","v":0},{"$f":"VLOOKUP($A666, taxonomy!$B$2:$T$695, 17, FALSE)","v":0}]
["V2YXH6",{"$f":" VLOOKUP(A667, architecture!D$2:E$73, 2, FALSE)","v":{"$error":"#N/A"}},{"$f":"VLOOKUP(A667, 'PF14702'!B667:C3347, 2, FALSE)","v":1594},{"$f":"VLOOKUP($A667, taxonomy!$B$2:$T$695, 6, FALSE)","v":"Eukaryota"},{"$f":"VLOOKUP($A667, taxonomy!$B$2:$T$695, 7, FALSE)","v":" Fungi"},{"$f":"VLOOKUP($A667, taxonomy!$B$2:$T$695, 8, FALSE)","v":" Dikarya"},{"$f":"VLOOKUP($A667, taxonomy!$B$2:$T$695, 9, FALSE)","v":" Basidiomycota"},{"$f":"VLOOKUP($A667, taxonomy!$B$2:$T$695, 10, FALSE)","v":" Agaricomycotina"},{"$f":"VLOOKUP($A667, taxonomy!$B$2:$T$695, 11, FALSE)","v":"Agaricomycetes"},{"$f":"VLOOKUP($A667, taxonomy!$B$2:$T$695, 12, FALSE)","v":" Agaricomycetidae"},{"$f":"VLOOKUP($A667, taxonomy!$B$2:$T$695, 13, FALSE)","v":" Agaricales"},{"$f":"VLOOKUP($A667, taxonomy!$B$2:$T$695, 14, FALSE)","v":" Marasmiaceae"},{"$f":"VLOOKUP($A667, taxonomy!$B$2:$T$695, 15, FALSE)","v":"Moniliophthora."},{"$f":"VLOOKUP($A667, taxonomy!$B$2:$T$695, 16, FALSE)","v":0},{"$f":"VLOOKUP($A667, taxonomy!$B$2:$T$695, 17, FALSE)","v":0}]
["V4ALP1",{"$f":" VLOOKUP(A668, architecture!D$2:E$73, 2, FALSE)","v":{"$error":"#N/A"}},{"$f":"VLOOKUP(A668, 'PF14702'!B668:C3348, 2, FALSE)","v":1563},{"$f":"VLOOKUP($A668, taxonomy!$B$2:$T$695, 6, FALSE)","v":"Eukaryota"},{"$f":"VLOOKUP($A668, taxonomy!$B$2:$T$695, 7, FALSE)","v":" Metazoa"},{"$f":"VLOOKUP($A668, taxonomy!$B$2:$T$695, 8, FALSE)","v":" Lophotrochozoa"},{"$f":"VLOOKUP($A668, taxonomy!$B$2:$T$695, 9, FALSE)","v":" Mollusca"},{"$f":"VLOOKUP($A668, taxonomy!$B$2:$T$695, 10, FALSE)","v":" Gastropoda"},{"$f":"VLOOKUP($A668, taxonomy!$B$2:$T$695, 11, FALSE)","v":"Patellogastropoda"},{"$f":"VLOOKUP($A668, taxonomy!$B$2:$T$695, 12, FALSE)","v":" Lottioidea"},{"$f":"VLOOKUP($A668, taxonomy!$B$2:$T$695, 13, FALSE)","v":" Lottiidae"},{"$f":"VLOOKUP($A668, taxonomy!$B$2:$T$695, 14, FALSE)","v":" Lottia."},{"$f":"VLOOKUP($A668, taxonomy!$B$2:$T$695, 15, FALSE)","v":0},{"$f":"VLOOKUP($A668, taxonomy!$B$2:$T$695, 16, FALSE)","v":0},{"$f":"VLOOKUP($A668, taxonomy!$B$2:$T$695, 17, FALSE)","v":0}]
["V4ZBE9",{"$f":" VLOOKUP(A669, architecture!D$2:E$73, 2, FALSE)","v":{"$error":"#N/A"}},{"$f":"VLOOKUP(A669, 'PF14702'!B669:C3349, 2, FALSE)","v":1880},{"$f":"VLOOKUP($A669, taxonomy!$B$2:$T$695, 6, FALSE)","v":"Eukaryota"},{"$f":"VLOOKUP($A669, taxonomy!$B$2:$T$695, 7, FALSE)","v":" Alveolata"},{"$f":"VLOOKUP($A669, taxonomy!$B$2:$T$695, 8, FALSE)","v":" Apicomplexa"},{"$f":"VLOOKUP($A669, taxonomy!$B$2:$T$695, 9, FALSE)","v":" Conoidasida"},{"$f":"VLOOKUP($A669, taxonomy!$B$2:$T$695, 10, FALSE)","v":" Coccidia"},{"$f":"VLOOKUP($A669, taxonomy!$B$2:$T$695, 11, FALSE)","v":"Eucoccidiorida"},{"$f":"VLOOKUP($A669, taxonomy!$B$2:$T$695, 12, FALSE)","v":" Eimeriorina"},{"$f":"VLOOKUP($A669, taxonomy!$B$2:$T$695, 13, FALSE)","v":" Sarcocystidae"},{"$f":"VLOOKUP($A669, taxonomy!$B$2:$T$695, 14, FALSE)","v":" Toxoplasma."},{"$f":"VLOOKUP($A669, taxonomy!$B$2:$T$695, 15, FALSE)","v":0},{"$f":"VLOOKUP($A669, taxonomy!$B$2:$T$695, 16, FALSE)","v":0},{"$f":"VLOOKUP($A669, taxonomy!$B$2:$T$695, 17, FALSE)","v":0}]
["V5E335",{"$f":" VLOOKUP(A670, architecture!D$2:E$73, 2, FALSE)","v":{"$error":"#N/A"}},{"$f":"VLOOKUP(A670, 'PF14702'!B670:C3350, 2, FALSE)","v":1570},{"$f":"VLOOKUP($A670, taxonomy!$B$2:$T$695, 6, FALSE)","v":"Eukaryota"},{"$f":"VLOOKUP($A670, taxonomy!$B$2:$T$695, 7, FALSE)","v":" Fungi"},{"$f":"VLOOKUP($A670, taxonomy!$B$2:$T$695, 8, FALSE)","v":" Dikarya"},{"$f":"VLOOKUP($A670, taxonomy!$B$2:$T$695, 9, FALSE)","v":" Basidiomycota"},{"$f":"VLOOKUP($A670, taxonomy!$B$2:$T$695, 10, FALSE)","v":" Ustilaginomycotina"},{"$f":"VLOOKUP($A670, taxonomy!$B$2:$T$695, 11, FALSE)","v":"Ustilaginomycetes"},{"$f":"VLOOKUP($A670, taxonomy!$B$2:$T$695, 12, FALSE)","v":" Ustilaginales"},{"$f":"VLOOKUP($A670, taxonomy!$B$2:$T$695, 13, FALSE)","v":" Ustilaginaceae"},{"$f":"VLOOKUP($A670, taxonomy!$B$2:$T$695, 14, FALSE)","v":" Kalmanozyma."},{"$f":"VLOOKUP($A670, taxonomy!$B$2:$T$695, 15, FALSE)","v":0},{"$f":"VLOOKUP($A670, taxonomy!$B$2:$T$695, 16, FALSE)","v":0},{"$f":"VLOOKUP($A670, taxonomy!$B$2:$T$695, 17, FALSE)","v":0}]
["V5FW38",{"$f":" VLOOKUP(A671, architecture!D$2:E$73, 2, FALSE)","v":{"$error":"#N/A"}},{"$f":"VLOOKUP(A671, 'PF14702'!B671:C3351, 2, FALSE)","v":1536},{"$f":"VLOOKUP($A671, taxonomy!$B$2:$T$695, 6, FALSE)","v":"Eukaryota"},{"$f":"VLOOKUP($A671, taxonomy!$B$2:$T$695, 7, FALSE)","v":" Fungi"},{"$f":"VLOOKUP($A671, taxonomy!$B$2:$T$695, 8, FALSE)","v":" Dikarya"},{"$f":"VLOOKUP($A671, taxonomy!$B$2:$T$695, 9, FALSE)","v":" Ascomycota"},{"$f":"VLOOKUP($A671, taxonomy!$B$2:$T$695, 10, FALSE)","v":" Pezizomycotina"},{"$f":"VLOOKUP($A671, taxonomy!$B$2:$T$695, 11, FALSE)","v":" Eurotiomycetes"},{"$f":"VLOOKUP($A671, taxonomy!$B$2:$T$695, 12, FALSE)","v":"Eurotiomycetidae"},{"$f":"VLOOKUP($A671, taxonomy!$B$2:$T$695, 13, FALSE)","v":" Eurotiales"},{"$f":"VLOOKUP($A671, taxonomy!$B$2:$T$695, 14, FALSE)","v":" Thermoascaceae"},{"$f":"VLOOKUP($A671, taxonomy!$B$2:$T$695, 15, FALSE)","v":" Byssochlamys."},{"$f":"VLOOKUP($A671, taxonomy!$B$2:$T$695, 16, FALSE)","v":0},{"$f":"VLOOKUP($A671, taxonomy!$B$2:$T$695, 17, FALSE)","v":0}]
["V6LPQ1",{"$f":" VLOOKUP(A672, architecture!D$2:E$73, 2, FALSE)","v":1},{"$f":"VLOOKUP(A672, 'PF14702'!B672:C3352, 2, FALSE)","v":1428},{"$f":"VLOOKUP($A672, taxonomy!$B$2:$T$695, 6, FALSE)","v":"Eukaryota"},{"$f":"VLOOKUP($A672, taxonomy!$B$2:$T$695, 7, FALSE)","v":" Diplomonadida"},{"$f":"VLOOKUP($A672, taxonomy!$B$2:$T$695, 8, FALSE)","v":" Hexamitidae"},{"$f":"VLOOKUP($A672, taxonomy!$B$2:$T$695, 9, FALSE)","v":" Hexamitinae"},{"$f":"VLOOKUP($A672, taxonomy!$B$2:$T$695, 10, FALSE)","v":" Spironucleus."},{"$f":"VLOOKUP($A672, taxonomy!$B$2:$T$695, 11, FALSE)","v":0},{"$f":"VLOOKUP($A672, taxonomy!$B$2:$T$695, 12, FALSE)","v":0},{"$f":"VLOOKUP($A672, taxonomy!$B$2:$T$695, 13, FALSE)","v":0},{"$f":"VLOOKUP($A672, taxonomy!$B$2:$T$695, 14, FALSE)","v":0},{"$f":"VLOOKUP($A672, taxonomy!$B$2:$T$695, 15, FALSE)","v":0},{"$f":"VLOOKUP($A672, taxonomy!$B$2:$T$695, 16, FALSE)","v":0},{"$f":"VLOOKUP($A672, taxonomy!$B$2:$T$695, 17, FALSE)","v":0}]
["V6TUL1",{"$f":" VLOOKUP(A673, architecture!D$2:E$73, 2, FALSE)","v":{"$error":"#N/A"}},{"$f":"VLOOKUP(A673, 'PF14702'!B673:C3353, 2, FALSE)","v":1735},{"$f":"VLOOKUP($A673, taxonomy!$B$2:$T$695, 6, FALSE)","v":"Eukaryota"},{"$f":"VLOOKUP($A673, taxonomy!$B$2:$T$695, 7, FALSE)","v":" Diplomonadida"},{"$f":"VLOOKUP($A673, taxonomy!$B$2:$T$695, 8, FALSE)","v":" Hexamitidae"},{"$f":"VLOOKUP($A673, taxonomy!$B$2:$T$695, 9, FALSE)","v":" Giardiinae"},{"$f":"VLOOKUP($A673, taxonomy!$B$2:$T$695, 10, FALSE)","v":" Giardia."},{"$f":"VLOOKUP($A673, taxonomy!$B$2:$T$695, 11, FALSE)","v":0},{"$f":"VLOOKUP($A673, taxonomy!$B$2:$T$695, 12, FALSE)","v":0},{"$f":"VLOOKUP($A673, taxonomy!$B$2:$T$695, 13, FALSE)","v":0},{"$f":"VLOOKUP($A673, taxonomy!$B$2:$T$695, 14, FALSE)","v":0},{"$f":"VLOOKUP($A673, taxonomy!$B$2:$T$695, 15, FALSE)","v":0},{"$f":"VLOOKUP($A673, taxonomy!$B$2:$T$695, 16, FALSE)","v":0},{"$f":"VLOOKUP($A673, taxonomy!$B$2:$T$695, 17, FALSE)","v":0}]
["V8PGB5",{"$f":" VLOOKUP(A674, architecture!D$2:E$73, 2, FALSE)","v":{"$error":"#N/A"}},{"$f":"VLOOKUP(A674, 'PF14702'!B674:C3354, 2, FALSE)","v":1479},{"$f":"VLOOKUP($A674, taxonomy!$B$2:$T$695, 6, FALSE)","v":"Eukaryota"},{"$f":"VLOOKUP($A674, taxonomy!$B$2:$T$695, 7, FALSE)","v":" Metazoa"},{"$f":"VLOOKUP($A674, taxonomy!$B$2:$T$695, 8, FALSE)","v":" Chordata"},{"$f":"VLOOKUP($A674, taxonomy!$B$2:$T$695, 9, FALSE)","v":" Craniata"},{"$f":"VLOOKUP($A674, taxonomy!$B$2:$T$695, 10, FALSE)","v":" Vertebrata"},{"$f":"VLOOKUP($A674, taxonomy!$B$2:$T$695, 11, FALSE)","v":" Euteleostomi"},{"$f":"VLOOKUP($A674, taxonomy!$B$2:$T$695, 12, FALSE)","v":"Lepidosauria"},{"$f":"VLOOKUP($A674, taxonomy!$B$2:$T$695, 13, FALSE)","v":" Squamata"},{"$f":"VLOOKUP($A674, taxonomy!$B$2:$T$695, 14, FALSE)","v":" Bifurcata"},{"$f":"VLOOKUP($A674, taxonomy!$B$2:$T$695, 15, FALSE)","v":" Unidentata"},{"$f":"VLOOKUP($A674, taxonomy!$B$2:$T$695, 16, FALSE)","v":" Episquamata"},{"$f":"VLOOKUP($A674, taxonomy!$B$2:$T$695, 17, FALSE)","v":"Toxicofera"}]
["W1QEP6",{"$f":" VLOOKUP(A675, architecture!D$2:E$73, 2, FALSE)","v":{"$error":"#N/A"}},{"$f":"VLOOKUP(A675, 'PF14702'!B675:C3355, 2, FALSE)","v":1512},{"$f":"VLOOKUP($A675, taxonomy!$B$2:$T$695, 6, FALSE)","v":"Eukaryota"},{"$f":"VLOOKUP($A675, taxonomy!$B$2:$T$695, 7, FALSE)","v":" Fungi"},{"$f":"VLOOKUP($A675, taxonomy!$B$2:$T$695, 8, FALSE)","v":" Dikarya"},{"$f":"VLOOKUP($A675, taxonomy!$B$2:$T$695, 9, FALSE)","v":" Ascomycota"},{"$f":"VLOOKUP($A675, taxonomy!$B$2:$T$695, 10, FALSE)","v":" Saccharomycotina"},{"$f":"VLOOKUP($A675, taxonomy!$B$2:$T$695, 11, FALSE)","v":"Saccharomycetes"},{"$f":"VLOOKUP($A675, taxonomy!$B$2:$T$695, 12, FALSE)","v":" Saccharomycetales"},{"$f":"VLOOKUP($A675, taxonomy!$B$2:$T$695, 13, FALSE)","v":" Pichiaceae"},{"$f":"VLOOKUP($A675, taxonomy!$B$2:$T$695, 14, FALSE)","v":" Ogataea."},{"$f":"VLOOKUP($A675, taxonomy!$B$2:$T$695, 15, FALSE)","v":0},{"$f":"VLOOKUP($A675, taxonomy!$B$2:$T$695, 16, FALSE)","v":0},{"$f":"VLOOKUP($A675, taxonomy!$B$2:$T$695, 17, FALSE)","v":0}]
["W2RR45",{"$f":" VLOOKUP(A676, architecture!D$2:E$73, 2, FALSE)","v":{"$error":"#N/A"}},{"$f":"VLOOKUP(A676, 'PF14702'!B676:C3356, 2, FALSE)","v":1553},{"$f":"VLOOKUP($A676, taxonomy!$B$2:$T$695, 6, FALSE)","v":"Eukaryota"},{"$f":"VLOOKUP($A676, taxonomy!$B$2:$T$695, 7, FALSE)","v":" Fungi"},{"$f":"VLOOKUP($A676, taxonomy!$B$2:$T$695, 8, FALSE)","v":" Dikarya"},{"$f":"VLOOKUP($A676, taxonomy!$B$2:$T$695, 9, FALSE)","v":" Ascomycota"},{"$f":"VLOOKUP($A676, taxonomy!$B$2:$T$695, 10, FALSE)","v":" Pezizomycotina"},{"$f":"VLOOKUP($A676, taxonomy!$B$2:$T$695, 11, FALSE)","v":" Eurotiomycetes"},{"$f":"VLOOKUP($A676, taxonomy!$B$2:$T$695, 12, FALSE)","v":"Chaetothyriomycetidae"},{"$f":"VLOOKUP($A676, taxonomy!$B$2:$T$695, 13, FALSE)","v":" Chaetothyriales"},{"$f":"VLOOKUP($A676, taxonomy!$B$2:$T$695, 14, FALSE)","v":" Cyphellophoraceae"},{"$f":"VLOOKUP($A676, taxonomy!$B$2:$T$695, 15, FALSE)","v":"Cyphellophora."},{"$f":"VLOOKUP($A676, taxonomy!$B$2:$T$695, 16, FALSE)","v":0},{"$f":"VLOOKUP($A676, taxonomy!$B$2:$T$695, 17, FALSE)","v":0}]
["W2THL3",{"$f":" VLOOKUP(A677, architecture!D$2:E$73, 2, FALSE)","v":{"$error":"#N/A"}},{"$f":"VLOOKUP(A677, 'PF14702'!B677:C3357, 2, FALSE)","v":1286},{"$f":"VLOOKUP($A677, taxonomy!$B$2:$T$695, 6, FALSE)","v":"Eukaryota"},{"$f":"VLOOKUP($A677, taxonomy!$B$2:$T$695, 7, FALSE)","v":" Metazoa"},{"$f":"VLOOKUP($A677, taxonomy!$B$2:$T$695, 8, FALSE)","v":" Ecdysozoa"},{"$f":"VLOOKUP($A677, taxonomy!$B$2:$T$695, 9, FALSE)","v":" Nematoda"},{"$f":"VLOOKUP($A677, taxonomy!$B$2:$T$695, 10, FALSE)","v":" Chromadorea"},{"$f":"VLOOKUP($A677, taxonomy!$B$2:$T$695, 11, FALSE)","v":" Rhabditida"},{"$f":"VLOOKUP($A677, taxonomy!$B$2:$T$695, 12, FALSE)","v":"Strongylida"},{"$f":"VLOOKUP($A677, taxonomy!$B$2:$T$695, 13, FALSE)","v":" Ancylostomatoidea"},{"$f":"VLOOKUP($A677, taxonomy!$B$2:$T$695, 14, FALSE)","v":" Ancylostomatidae"},{"$f":"VLOOKUP($A677, taxonomy!$B$2:$T$695, 15, FALSE)","v":" Bunostominae"},{"$f":"VLOOKUP($A677, taxonomy!$B$2:$T$695, 16, FALSE)","v":"Necator."},{"$f":"VLOOKUP($A677, taxonomy!$B$2:$T$695, 17, FALSE)","v":0}]
["W3XM16",{"$f":" VLOOKUP(A678, architecture!D$2:E$73, 2, FALSE)","v":{"$error":"#N/A"}},{"$f":"VLOOKUP(A678, 'PF14702'!B678:C3358, 2, FALSE)","v":1547},{"$f":"VLOOKUP($A678, taxonomy!$B$2:$T$695, 6, FALSE)","v":"Eukaryota"},{"$f":"VLOOKUP($A678, taxonomy!$B$2:$T$695, 7, FALSE)","v":" Fungi"},{"$f":"VLOOKUP($A678, taxonomy!$B$2:$T$695, 8, FALSE)","v":" Dikarya"},{"$f":"VLOOKUP($A678, taxonomy!$B$2:$T$695, 9, FALSE)","v":" Ascomycota"},{"$f":"VLOOKUP($A678, taxonomy!$B$2:$T$695, 10, FALSE)","v":" Pezizomycotina"},{"$f":"VLOOKUP($A678, taxonomy!$B$2:$T$695, 11, FALSE)","v":"Sordariomycetes"},{"$f":"VLOOKUP($A678, taxonomy!$B$2:$T$695, 12, FALSE)","v":" Xylariomycetidae"},{"$f":"VLOOKUP($A678, taxonomy!$B$2:$T$695, 13, FALSE)","v":" Xylariales"},{"$f":"VLOOKUP($A678, taxonomy!$B$2:$T$695, 14, FALSE)","v":" Sporocadaceae"},{"$f":"VLOOKUP($A678, taxonomy!$B$2:$T$695, 15, FALSE)","v":"Pestalotiopsis."},{"$f":"VLOOKUP($A678, taxonomy!$B$2:$T$695, 16, FALSE)","v":0},{"$f":"VLOOKUP($A678, taxonomy!$B$2:$T$695, 17, FALSE)","v":0}]
["W4K1A9",{"$f":" VLOOKUP(A679, architecture!D$2:E$73, 2, FALSE)","v":{"$error":"#N/A"}},{"$f":"VLOOKUP(A679, 'PF14702'!B679:C3359, 2, FALSE)","v":1586},{"$f":"VLOOKUP($A679, taxonomy!$B$2:$T$695, 6, FALSE)","v":"Eukaryota"},{"$f":"VLOOKUP($A679, taxonomy!$B$2:$T$695, 7, FALSE)","v":" Fungi"},{"$f":"VLOOKUP($A679, taxonomy!$B$2:$T$695, 8, FALSE)","v":" Dikarya"},{"$f":"VLOOKUP($A679, taxonomy!$B$2:$T$695, 9, FALSE)","v":" Basidiomycota"},{"$f":"VLOOKUP($A679, taxonomy!$B$2:$T$695, 10, FALSE)","v":" Agaricomycotina"},{"$f":"VLOOKUP($A679, taxonomy!$B$2:$T$695, 11, FALSE)","v":"Agaricomycetes"},{"$f":"VLOOKUP($A679, taxonomy!$B$2:$T$695, 12, FALSE)","v":" Russulales"},{"$f":"VLOOKUP($A679, taxonomy!$B$2:$T$695, 13, FALSE)","v":" Bondarzewiaceae"},{"$f":"VLOOKUP($A679, taxonomy!$B$2:$T$695, 14, FALSE)","v":" Heterobasidion"},{"$f":"VLOOKUP($A679, taxonomy!$B$2:$T$695, 15, FALSE)","v":"Heterobasidion annosum species complex."},{"$f":"VLOOKUP($A679, taxonomy!$B$2:$T$695, 16, FALSE)","v":0},{"$f":"VLOOKUP($A679, taxonomy!$B$2:$T$695, 17, FALSE)","v":0}]
["W4Z8R1",{"$f":" VLOOKUP(A680, architecture!D$2:E$73, 2, FALSE)","v":{"$error":"#N/A"}},{"$f":"VLOOKUP(A680, 'PF14702'!B680:C3360, 2, FALSE)","v":1368},{"$f":"VLOOKUP($A680, taxonomy!$B$2:$T$695, 6, FALSE)","v":"Eukaryota"},{"$f":"VLOOKUP($A680, taxonomy!$B$2:$T$695, 7, FALSE)","v":" Metazoa"},{"$f":"VLOOKUP($A680, taxonomy!$B$2:$T$695, 8, FALSE)","v":" Echinodermata"},{"$f":"VLOOKUP($A680, taxonomy!$B$2:$T$695, 9, FALSE)","v":" Eleutherozoa"},{"$f":"VLOOKUP($A680, taxonomy!$B$2:$T$695, 10, FALSE)","v":" Echinozoa"},{"$f":"VLOOKUP($A680, taxonomy!$B$2:$T$695, 11, FALSE)","v":"Echinoidea"},{"$f":"VLOOKUP($A680, taxonomy!$B$2:$T$695, 12, FALSE)","v":" Euechinoidea"},{"$f":"VLOOKUP($A680, taxonomy!$B$2:$T$695, 13, FALSE)","v":" Echinacea"},{"$f":"VLOOKUP($A680, taxonomy!$B$2:$T$695, 14, FALSE)","v":" Echinoida"},{"$f":"VLOOKUP($A680, taxonomy!$B$2:$T$695, 15, FALSE)","v":" Strongylocentrotidae"},{"$f":"VLOOKUP($A680, taxonomy!$B$2:$T$695, 16, FALSE)","v":"Strongylocentrotus."},{"$f":"VLOOKUP($A680, taxonomy!$B$2:$T$695, 17, FALSE)","v":0}]
["W5J8I8",{"$f":" VLOOKUP(A681, architecture!D$2:E$73, 2, FALSE)","v":{"$error":"#N/A"}},{"$f":"VLOOKUP(A681, 'PF14702'!B681:C3361, 2, FALSE)","v":1558},{"$f":"VLOOKUP($A681, taxonomy!$B$2:$T$695, 6, FALSE)","v":"Eukaryota"},{"$f":"VLOOKUP($A681, taxonomy!$B$2:$T$695, 7, FALSE)","v":" Metazoa"},{"$f":"VLOOKUP($A681, taxonomy!$B$2:$T$695, 8, FALSE)","v":" Ecdysozoa"},{"$f":"VLOOKUP($A681, taxonomy!$B$2:$T$695, 9, FALSE)","v":" Arthropoda"},{"$f":"VLOOKUP($A681, taxonomy!$B$2:$T$695, 10, FALSE)","v":" Hexapoda"},{"$f":"VLOOKUP($A681, taxonomy!$B$2:$T$695, 11, FALSE)","v":" Insecta"},{"$f":"VLOOKUP($A681, taxonomy!$B$2:$T$695, 12, FALSE)","v":"Pterygota"},{"$f":"VLOOKUP($A681, taxonomy!$B$2:$T$695, 13, FALSE)","v":" Neoptera"},{"$f":"VLOOKUP($A681, taxonomy!$B$2:$T$695, 14, FALSE)","v":" Holometabola"},{"$f":"VLOOKUP($A681, taxonomy!$B$2:$T$695, 15, FALSE)","v":" Diptera"},{"$f":"VLOOKUP($A681, taxonomy!$B$2:$T$695, 16, FALSE)","v":" Nematocera"},{"$f":"VLOOKUP($A681, taxonomy!$B$2:$T$695, 17, FALSE)","v":" Culicoidea"}]
["W5KD30",{"$f":" VLOOKUP(A682, architecture!D$2:E$73, 2, FALSE)","v":{"$error":"#N/A"}},{"$f":"VLOOKUP(A682, 'PF14702'!B682:C3362, 2, FALSE)","v":1516},{"$f":"VLOOKUP($A682, taxonomy!$B$2:$T$695, 6, FALSE)","v":"Eukaryota"},{"$f":"VLOOKUP($A682, taxonomy!$B$2:$T$695, 7, FALSE)","v":" Metazoa"},{"$f":"VLOOKUP($A682, taxonomy!$B$2:$T$695, 8, FALSE)","v":" Chordata"},{"$f":"VLOOKUP($A682, taxonomy!$B$2:$T$695, 9, FALSE)","v":" Craniata"},{"$f":"VLOOKUP($A682, taxonomy!$B$2:$T$695, 10, FALSE)","v":" Vertebrata"},{"$f":"VLOOKUP($A682, taxonomy!$B$2:$T$695, 11, FALSE)","v":" Euteleostomi"},{"$f":"VLOOKUP($A682, taxonomy!$B$2:$T$695, 12, FALSE)","v":"Actinopterygii"},{"$f":"VLOOKUP($A682, taxonomy!$B$2:$T$695, 13, FALSE)","v":" Neopterygii"},{"$f":"VLOOKUP($A682, taxonomy!$B$2:$T$695, 14, FALSE)","v":" Teleostei"},{"$f":"VLOOKUP($A682, taxonomy!$B$2:$T$695, 15, FALSE)","v":" Ostariophysi"},{"$f":"VLOOKUP($A682, taxonomy!$B$2:$T$695, 16, FALSE)","v":" Characiformes"},{"$f":"VLOOKUP($A682, taxonomy!$B$2:$T$695, 17, FALSE)","v":"Characoidei"}]
["W5LJR7",{"$f":" VLOOKUP(A683, architecture!D$2:E$73, 2, FALSE)","v":1},{"$f":"VLOOKUP(A683, 'PF14702'!B683:C3363, 2, FALSE)","v":1407},{"$f":"VLOOKUP($A683, taxonomy!$B$2:$T$695, 6, FALSE)","v":"Eukaryota"},{"$f":"VLOOKUP($A683, taxonomy!$B$2:$T$695, 7, FALSE)","v":" Metazoa"},{"$f":"VLOOKUP($A683, taxonomy!$B$2:$T$695, 8, FALSE)","v":" Chordata"},{"$f":"VLOOKUP($A683, taxonomy!$B$2:$T$695, 9, FALSE)","v":" Craniata"},{"$f":"VLOOKUP($A683, taxonomy!$B$2:$T$695, 10, FALSE)","v":" Vertebrata"},{"$f":"VLOOKUP($A683, taxonomy!$B$2:$T$695, 11, FALSE)","v":" Euteleostomi"},{"$f":"VLOOKUP($A683, taxonomy!$B$2:$T$695, 12, FALSE)","v":"Actinopterygii"},{"$f":"VLOOKUP($A683, taxonomy!$B$2:$T$695, 13, FALSE)","v":" Neopterygii"},{"$f":"VLOOKUP($A683, taxonomy!$B$2:$T$695, 14, FALSE)","v":" Teleostei"},{"$f":"VLOOKUP($A683, taxonomy!$B$2:$T$695, 15, FALSE)","v":" Ostariophysi"},{"$f":"VLOOKUP($A683, taxonomy!$B$2:$T$695, 16, FALSE)","v":" Characiformes"},{"$f":"VLOOKUP($A683, taxonomy!$B$2:$T$695, 17, FALSE)","v":"Characoidei"}]
["W5LYQ0",{"$f":" VLOOKUP(A684, architecture!D$2:E$73, 2, FALSE)","v":{"$error":"#N/A"}},{"$f":"VLOOKUP(A684, 'PF14702'!B684:C3364, 2, FALSE)","v":1534},{"$f":"VLOOKUP($A684, taxonomy!$B$2:$T$695, 6, FALSE)","v":"Eukaryota"},{"$f":"VLOOKUP($A684, taxonomy!$B$2:$T$695, 7, FALSE)","v":" Metazoa"},{"$f":"VLOOKUP($A684, taxonomy!$B$2:$T$695, 8, FALSE)","v":" Chordata"},{"$f":"VLOOKUP($A684, taxonomy!$B$2:$T$695, 9, FALSE)","v":" Craniata"},{"$f":"VLOOKUP($A684, taxonomy!$B$2:$T$695, 10, FALSE)","v":" Vertebrata"},{"$f":"VLOOKUP($A684, taxonomy!$B$2:$T$695, 11, FALSE)","v":" Euteleostomi"},{"$f":"VLOOKUP($A684, taxonomy!$B$2:$T$695, 12, FALSE)","v":"Actinopterygii"},{"$f":"VLOOKUP($A684, taxonomy!$B$2:$T$695, 13, FALSE)","v":" Neopterygii"},{"$f":"VLOOKUP($A684, taxonomy!$B$2:$T$695, 14, FALSE)","v":" Holostei"},{"$f":"VLOOKUP($A684, taxonomy!$B$2:$T$695, 15, FALSE)","v":" Semionotiformes"},{"$f":"VLOOKUP($A684, taxonomy!$B$2:$T$695, 16, FALSE)","v":" Lepisosteidae"},{"$f":"VLOOKUP($A684, taxonomy!$B$2:$T$695, 17, FALSE)","v":"Lepisosteus."}]
["W5Q8M3",{"$f":" VLOOKUP(A685, architecture!D$2:E$73, 2, FALSE)","v":{"$error":"#N/A"}},{"$f":"VLOOKUP(A685, 'PF14702'!B685:C3365, 2, FALSE)","v":1532},{"$f":"VLOOKUP($A685, taxonomy!$B$2:$T$695, 6, FALSE)","v":"Eukaryota"},{"$f":"VLOOKUP($A685, taxonomy!$B$2:$T$695, 7, FALSE)","v":" Metazoa"},{"$f":"VLOOKUP($A685, taxonomy!$B$2:$T$695, 8, FALSE)","v":" Chordata"},{"$f":"VLOOKUP($A685, taxonomy!$B$2:$T$695, 9, FALSE)","v":" Craniata"},{"$f":"VLOOKUP($A685, taxonomy!$B$2:$T$695, 10, FALSE)","v":" Vertebrata"},{"$f":"VLOOKUP($A685, taxonomy!$B$2:$T$695, 11, FALSE)","v":" Euteleostomi"},{"$f":"VLOOKUP($A685, taxonomy!$B$2:$T$695, 12, FALSE)","v":"Mammalia"},{"$f":"VLOOKUP($A685, taxonomy!$B$2:$T$695, 13, FALSE)","v":" Eutheria"},{"$f":"VLOOKUP($A685, taxonomy!$B$2:$T$695, 14, FALSE)","v":" Laurasiatheria"},{"$f":"VLOOKUP($A685, taxonomy!$B$2:$T$695, 15, FALSE)","v":" Cetartiodactyla"},{"$f":"VLOOKUP($A685, taxonomy!$B$2:$T$695, 16, FALSE)","v":" Ruminantia"},{"$f":"VLOOKUP($A685, taxonomy!$B$2:$T$695, 17, FALSE)","v":"Pecora"}]
["W6MVH6",{"$f":" VLOOKUP(A686, architecture!D$2:E$73, 2, FALSE)","v":{"$error":"#N/A"}},{"$f":"VLOOKUP(A686, 'PF14702'!B686:C3366, 2, FALSE)","v":1528},{"$f":"VLOOKUP($A686, taxonomy!$B$2:$T$695, 6, FALSE)","v":"Eukaryota"},{"$f":"VLOOKUP($A686, taxonomy!$B$2:$T$695, 7, FALSE)","v":" Fungi"},{"$f":"VLOOKUP($A686, taxonomy!$B$2:$T$695, 8, FALSE)","v":" Dikarya"},{"$f":"VLOOKUP($A686, taxonomy!$B$2:$T$695, 9, FALSE)","v":" Ascomycota"},{"$f":"VLOOKUP($A686, taxonomy!$B$2:$T$695, 10, FALSE)","v":" Saccharomycotina"},{"$f":"VLOOKUP($A686, taxonomy!$B$2:$T$695, 11, FALSE)","v":"Saccharomycetes"},{"$f":"VLOOKUP($A686, taxonomy!$B$2:$T$695, 12, FALSE)","v":" Saccharomycetales"},{"$f":"VLOOKUP($A686, taxonomy!$B$2:$T$695, 13, FALSE)","v":" Saccharomycetales incertae sedis"},{"$f":"VLOOKUP($A686, taxonomy!$B$2:$T$695, 14, FALSE)","v":"Kuraishia."},{"$f":"VLOOKUP($A686, taxonomy!$B$2:$T$695, 15, FALSE)","v":0},{"$f":"VLOOKUP($A686, taxonomy!$B$2:$T$695, 16, FALSE)","v":0},{"$f":"VLOOKUP($A686, taxonomy!$B$2:$T$695, 17, FALSE)","v":0}]
["W6PTC3",{"$f":" VLOOKUP(A687, architecture!D$2:E$73, 2, FALSE)","v":{"$error":"#N/A"}},{"$f":"VLOOKUP(A687, 'PF14702'!B687:C3367, 2, FALSE)","v":1534},{"$f":"VLOOKUP($A687, taxonomy!$B$2:$T$695, 6, FALSE)","v":"Eukaryota"},{"$f":"VLOOKUP($A687, taxonomy!$B$2:$T$695, 7, FALSE)","v":" Fungi"},{"$f":"VLOOKUP($A687, taxonomy!$B$2:$T$695, 8, FALSE)","v":" Dikarya"},{"$f":"VLOOKUP($A687, taxonomy!$B$2:$T$695, 9, FALSE)","v":" Ascomycota"},{"$f":"VLOOKUP($A687, taxonomy!$B$2:$T$695, 10, FALSE)","v":" Pezizomycotina"},{"$f":"VLOOKUP($A687, taxonomy!$B$2:$T$695, 11, FALSE)","v":" Eurotiomycetes"},{"$f":"VLOOKUP($A687, taxonomy!$B$2:$T$695, 12, FALSE)","v":"Eurotiomycetidae"},{"$f":"VLOOKUP($A687, taxonomy!$B$2:$T$695, 13, FALSE)","v":" Eurotiales"},{"$f":"VLOOKUP($A687, taxonomy!$B$2:$T$695, 14, FALSE)","v":" Aspergillaceae"},{"$f":"VLOOKUP($A687, taxonomy!$B$2:$T$695, 15, FALSE)","v":" Penicillium."},{"$f":"VLOOKUP($A687, taxonomy!$B$2:$T$695, 16, FALSE)","v":0},{"$f":"VLOOKUP($A687, taxonomy!$B$2:$T$695, 17, FALSE)","v":0}]
["W6V9C7",{"$f":" VLOOKUP(A688, architecture!D$2:E$73, 2, FALSE)","v":1},{"$f":"VLOOKUP(A688, 'PF14702'!B688:C3368, 2, FALSE)","v":1225},{"$f":"VLOOKUP($A688, taxonomy!$B$2:$T$695, 6, FALSE)","v":"Eukaryota"},{"$f":"VLOOKUP($A688, taxonomy!$B$2:$T$695, 7, FALSE)","v":" Metazoa"},{"$f":"VLOOKUP($A688, taxonomy!$B$2:$T$695, 8, FALSE)","v":" Platyhelminthes"},{"$f":"VLOOKUP($A688, taxonomy!$B$2:$T$695, 9, FALSE)","v":" Cestoda"},{"$f":"VLOOKUP($A688, taxonomy!$B$2:$T$695, 10, FALSE)","v":" Eucestoda"},{"$f":"VLOOKUP($A688, taxonomy!$B$2:$T$695, 11, FALSE)","v":"Cyclophyllidea"},{"$f":"VLOOKUP($A688, taxonomy!$B$2:$T$695, 12, FALSE)","v":" Taeniidae"},{"$f":"VLOOKUP($A688, taxonomy!$B$2:$T$695, 13, FALSE)","v":" Echinococcus."},{"$f":"VLOOKUP($A688, taxonomy!$B$2:$T$695, 14, FALSE)","v":0},{"$f":"VLOOKUP($A688, taxonomy!$B$2:$T$695, 15, FALSE)","v":0},{"$f":"VLOOKUP($A688, taxonomy!$B$2:$T$695, 16, FALSE)","v":0},{"$f":"VLOOKUP($A688, taxonomy!$B$2:$T$695, 17, FALSE)","v":0}]
["W6YBJ1",{"$f":" VLOOKUP(A689, architecture!D$2:E$73, 2, FALSE)","v":{"$error":"#N/A"}},{"$f":"VLOOKUP(A689, 'PF14702'!B689:C3369, 2, FALSE)","v":1559},{"$f":"VLOOKUP($A689, taxonomy!$B$2:$T$695, 6, FALSE)","v":"Eukaryota"},{"$f":"VLOOKUP($A689, taxonomy!$B$2:$T$695, 7, FALSE)","v":" Fungi"},{"$f":"VLOOKUP($A689, taxonomy!$B$2:$T$695, 8, FALSE)","v":" Dikarya"},{"$f":"VLOOKUP($A689, taxonomy!$B$2:$T$695, 9, FALSE)","v":" Ascomycota"},{"$f":"VLOOKUP($A689, taxonomy!$B$2:$T$695, 10, FALSE)","v":" Pezizomycotina"},{"$f":"VLOOKUP($A689, taxonomy!$B$2:$T$695, 11, FALSE)","v":"Dothideomycetes"},{"$f":"VLOOKUP($A689, taxonomy!$B$2:$T$695, 12, FALSE)","v":" Pleosporomycetidae"},{"$f":"VLOOKUP($A689, taxonomy!$B$2:$T$695, 13, FALSE)","v":" Pleosporales"},{"$f":"VLOOKUP($A689, taxonomy!$B$2:$T$695, 14, FALSE)","v":" Pleosporineae"},{"$f":"VLOOKUP($A689, taxonomy!$B$2:$T$695, 15, FALSE)","v":"Pleosporaceae"},{"$f":"VLOOKUP($A689, taxonomy!$B$2:$T$695, 16, FALSE)","v":" Bipolaris."},{"$f":"VLOOKUP($A689, taxonomy!$B$2:$T$695, 17, FALSE)","v":0}]
["W7M3J4",{"$f":" VLOOKUP(A690, architecture!D$2:E$73, 2, FALSE)","v":{"$error":"#N/A"}},{"$f":"VLOOKUP(A690, 'PF14702'!B690:C3370, 2, FALSE)","v":1556},{"$f":"VLOOKUP($A690, taxonomy!$B$2:$T$695, 6, FALSE)","v":"Eukaryota"},{"$f":"VLOOKUP($A690, taxonomy!$B$2:$T$695, 7, FALSE)","v":" Fungi"},{"$f":"VLOOKUP($A690, taxonomy!$B$2:$T$695, 8, FALSE)","v":" Dikarya"},{"$f":"VLOOKUP($A690, taxonomy!$B$2:$T$695, 9, FALSE)","v":" Ascomycota"},{"$f":"VLOOKUP($A690, taxonomy!$B$2:$T$695, 10, FALSE)","v":" Pezizomycotina"},{"$f":"VLOOKUP($A690, taxonomy!$B$2:$T$695, 11, FALSE)","v":"Sordariomycetes"},{"$f":"VLOOKUP($A690, taxonomy!$B$2:$T$695, 12, FALSE)","v":" Hypocreomycetidae"},{"$f":"VLOOKUP($A690, taxonomy!$B$2:$T$695, 13, FALSE)","v":" Hypocreales"},{"$f":"VLOOKUP($A690, taxonomy!$B$2:$T$695, 14, FALSE)","v":" Nectriaceae"},{"$f":"VLOOKUP($A690, taxonomy!$B$2:$T$695, 15, FALSE)","v":"Fusarium"},{"$f":"VLOOKUP($A690, taxonomy!$B$2:$T$695, 16, FALSE)","v":" Fusarium fujikuroi species complex."},{"$f":"VLOOKUP($A690, taxonomy!$B$2:$T$695, 17, FALSE)","v":0}]
["W7MLL3",{"$f":" VLOOKUP(A691, architecture!D$2:E$73, 2, FALSE)","v":1},{"$f":"VLOOKUP(A691, 'PF14702'!B691:C3371, 2, FALSE)","v":1396},{"$f":"VLOOKUP($A691, taxonomy!$B$2:$T$695, 6, FALSE)","v":"Eukaryota"},{"$f":"VLOOKUP($A691, taxonomy!$B$2:$T$695, 7, FALSE)","v":" Fungi"},{"$f":"VLOOKUP($A691, taxonomy!$B$2:$T$695, 8, FALSE)","v":" Dikarya"},{"$f":"VLOOKUP($A691, taxonomy!$B$2:$T$695, 9, FALSE)","v":" Ascomycota"},{"$f":"VLOOKUP($A691, taxonomy!$B$2:$T$695, 10, FALSE)","v":" Pezizomycotina"},{"$f":"VLOOKUP($A691, taxonomy!$B$2:$T$695, 11, FALSE)","v":"Sordariomycetes"},{"$f":"VLOOKUP($A691, taxonomy!$B$2:$T$695, 12, FALSE)","v":" Hypocreomycetidae"},{"$f":"VLOOKUP($A691, taxonomy!$B$2:$T$695, 13, FALSE)","v":" Hypocreales"},{"$f":"VLOOKUP($A691, taxonomy!$B$2:$T$695, 14, FALSE)","v":" Nectriaceae"},{"$f":"VLOOKUP($A691, taxonomy!$B$2:$T$695, 15, FALSE)","v":"Fusarium"},{"$f":"VLOOKUP($A691, taxonomy!$B$2:$T$695, 16, FALSE)","v":" Fusarium fujikuroi species complex."},{"$f":"VLOOKUP($A691, taxonomy!$B$2:$T$695, 17, FALSE)","v":0}]
["W7XI56",{"$f":" VLOOKUP(A692, architecture!D$2:E$73, 2, FALSE)","v":{"$error":"#N/A"}},{"$f":"VLOOKUP(A692, 'PF14702'!B692:C3372, 2, FALSE)","v":1735},{"$f":"VLOOKUP($A692, taxonomy!$B$2:$T$695, 6, FALSE)","v":"Eukaryota"},{"$f":"VLOOKUP($A692, taxonomy!$B$2:$T$695, 7, FALSE)","v":" Alveolata"},{"$f":"VLOOKUP($A692, taxonomy!$B$2:$T$695, 8, FALSE)","v":" Ciliophora"},{"$f":"VLOOKUP($A692, taxonomy!$B$2:$T$695, 9, FALSE)","v":" Intramacronucleata"},{"$f":"VLOOKUP($A692, taxonomy!$B$2:$T$695, 10, FALSE)","v":"Oligohymenophorea"},{"$f":"VLOOKUP($A692, taxonomy!$B$2:$T$695, 11, FALSE)","v":" Hymenostomatida"},{"$f":"VLOOKUP($A692, taxonomy!$B$2:$T$695, 12, FALSE)","v":" Tetrahymenina"},{"$f":"VLOOKUP($A692, taxonomy!$B$2:$T$695, 13, FALSE)","v":" Tetrahymenidae"},{"$f":"VLOOKUP($A692, taxonomy!$B$2:$T$695, 14, FALSE)","v":"Tetrahymena."},{"$f":"VLOOKUP($A692, taxonomy!$B$2:$T$695, 15, FALSE)","v":0},{"$f":"VLOOKUP($A692, taxonomy!$B$2:$T$695, 16, FALSE)","v":0},{"$f":"VLOOKUP($A692, taxonomy!$B$2:$T$695, 17, FALSE)","v":0}]
["W9CJT9",{"$f":" VLOOKUP(A693, architecture!D$2:E$73, 2, FALSE)","v":{"$error":"#N/A"}},{"$f":"VLOOKUP(A693, 'PF14702'!B693:C3373, 2, FALSE)","v":1551},{"$f":"VLOOKUP($A693, taxonomy!$B$2:$T$695, 6, FALSE)","v":"Eukaryota"},{"$f":"VLOOKUP($A693, taxonomy!$B$2:$T$695, 7, FALSE)","v":" Fungi"},{"$f":"VLOOKUP($A693, taxonomy!$B$2:$T$695, 8, FALSE)","v":" Dikarya"},{"$f":"VLOOKUP($A693, taxonomy!$B$2:$T$695, 9, FALSE)","v":" Ascomycota"},{"$f":"VLOOKUP($A693, taxonomy!$B$2:$T$695, 10, FALSE)","v":" Pezizomycotina"},{"$f":"VLOOKUP($A693, taxonomy!$B$2:$T$695, 11, FALSE)","v":" Leotiomycetes"},{"$f":"VLOOKUP($A693, taxonomy!$B$2:$T$695, 12, FALSE)","v":"Helotiales"},{"$f":"VLOOKUP($A693, taxonomy!$B$2:$T$695, 13, FALSE)","v":" Sclerotiniaceae"},{"$f":"VLOOKUP($A693, taxonomy!$B$2:$T$695, 14, FALSE)","v":" Sclerotinia."},{"$f":"VLOOKUP($A693, taxonomy!$B$2:$T$695, 15, FALSE)","v":0},{"$f":"VLOOKUP($A693, taxonomy!$B$2:$T$695, 16, FALSE)","v":0},{"$f":"VLOOKUP($A693, taxonomy!$B$2:$T$695, 17, FALSE)","v":0}]
["W9W037",{"$f":" VLOOKUP(A694, architecture!D$2:E$73, 2, FALSE)","v":{"$error":"#N/A"}},{"$f":"VLOOKUP(A694, 'PF14702'!B694:C3374, 2, FALSE)","v":1544},{"$f":"VLOOKUP($A694, taxonomy!$B$2:$T$695, 6, FALSE)","v":"Eukaryota"},{"$f":"VLOOKUP($A694, taxonomy!$B$2:$T$695, 7, FALSE)","v":" Fungi"},{"$f":"VLOOKUP($A694, taxonomy!$B$2:$T$695, 8, FALSE)","v":" Dikarya"},{"$f":"VLOOKUP($A694, taxonomy!$B$2:$T$695, 9, FALSE)","v":" Ascomycota"},{"$f":"VLOOKUP($A694, taxonomy!$B$2:$T$695, 10, FALSE)","v":" Pezizomycotina"},{"$f":"VLOOKUP($A694, taxonomy!$B$2:$T$695, 11, FALSE)","v":" Eurotiomycetes"},{"$f":"VLOOKUP($A694, taxonomy!$B$2:$T$695, 12, FALSE)","v":"Chaetothyriomycetidae"},{"$f":"VLOOKUP($A694, taxonomy!$B$2:$T$695, 13, FALSE)","v":" Chaetothyriales"},{"$f":"VLOOKUP($A694, taxonomy!$B$2:$T$695, 14, FALSE)","v":" Herpotrichiellaceae"},{"$f":"VLOOKUP($A694, taxonomy!$B$2:$T$695, 15, FALSE)","v":"Cladophialophora."},{"$f":"VLOOKUP($A694, taxonomy!$B$2:$T$695, 16, FALSE)","v":0},{"$f":"VLOOKUP($A694, taxonomy!$B$2:$T$695, 17, FALSE)","v":0}]
["W9W9T5",{"$f":" VLOOKUP(A695, architecture!D$2:E$73, 2, FALSE)","v":{"$error":"#N/A"}},{"$f":"VLOOKUP(A695, 'PF14702'!B695:C3375, 2, FALSE)","v":1552},{"$f":"VLOOKUP($A695, taxonomy!$B$2:$T$695, 6, FALSE)","v":"Eukaryota"},{"$f":"VLOOKUP($A695, taxonomy!$B$2:$T$695, 7, FALSE)","v":" Fungi"},{"$f":"VLOOKUP($A695, taxonomy!$B$2:$T$695, 8, FALSE)","v":" Dikarya"},{"$f":"VLOOKUP($A695, taxonomy!$B$2:$T$695, 9, FALSE)","v":" Ascomycota"},{"$f":"VLOOKUP($A695, taxonomy!$B$2:$T$695, 10, FALSE)","v":" Pezizomycotina"},{"$f":"VLOOKUP($A695, taxonomy!$B$2:$T$695, 11, FALSE)","v":" Eurotiomycetes"},{"$f":"VLOOKUP($A695, taxonomy!$B$2:$T$695, 12, FALSE)","v":"Chaetothyriomycetidae"},{"$f":"VLOOKUP($A695, taxonomy!$B$2:$T$695, 13, FALSE)","v":" Chaetothyriales"},{"$f":"VLOOKUP($A695, taxonomy!$B$2:$T$695, 14, FALSE)","v":" Herpotrichiellaceae"},{"$f":"VLOOKUP($A695, taxonomy!$B$2:$T$695, 15, FALSE)","v":"Cladophialophora."},{"$f":"VLOOKUP($A695, taxonomy!$B$2:$T$695, 16, FALSE)","v":0},{"$f":"VLOOKUP($A695, taxonomy!$B$2:$T$695, 17, FALSE)","v":0}]
["W9XNU5",{"$f":" VLOOKUP(A696, architecture!D$2:E$73, 2, FALSE)","v":{"$error":"#N/A"}},{"$f":"VLOOKUP(A696, 'PF14702'!B696:C3376, 2, FALSE)","v":1556},{"$f":"VLOOKUP($A696, taxonomy!$B$2:$T$695, 6, FALSE)","v":"Eukaryota"},{"$f":"VLOOKUP($A696, taxonomy!$B$2:$T$695, 7, FALSE)","v":" Fungi"},{"$f":"VLOOKUP($A696, taxonomy!$B$2:$T$695, 8, FALSE)","v":" Dikarya"},{"$f":"VLOOKUP($A696, taxonomy!$B$2:$T$695, 9, FALSE)","v":" Ascomycota"},{"$f":"VLOOKUP($A696, taxonomy!$B$2:$T$695, 10, FALSE)","v":" Pezizomycotina"},{"$f":"VLOOKUP($A696, taxonomy!$B$2:$T$695, 11, FALSE)","v":" Eurotiomycetes"},{"$f":"VLOOKUP($A696, taxonomy!$B$2:$T$695, 12, FALSE)","v":"Chaetothyriomycetidae"},{"$f":"VLOOKUP($A696, taxonomy!$B$2:$T$695, 13, FALSE)","v":" Chaetothyriales"},{"$f":"VLOOKUP($A696, taxonomy!$B$2:$T$695, 14, FALSE)","v":" Herpotrichiellaceae"},{"$f":"VLOOKUP($A696, taxonomy!$B$2:$T$695, 15, FALSE)","v":" Capronia."},{"$f":"VLOOKUP($A696, taxonomy!$B$2:$T$695, 16, FALSE)","v":0},{"$f":"VLOOKUP($A696, taxonomy!$B$2:$T$695, 17, FALSE)","v":0}]
["W9ZPQ4",{"$f":" VLOOKUP(A697, architecture!D$2:E$73, 2, FALSE)","v":{"$error":"#N/A"}},{"$f":"VLOOKUP(A697, 'PF14702'!B697:C3377, 2, FALSE)","v":1561},{"$f":"VLOOKUP($A697, taxonomy!$B$2:$T$695, 6, FALSE)","v":"Eukaryota"},{"$f":"VLOOKUP($A697, taxonomy!$B$2:$T$695, 7, FALSE)","v":" Fungi"},{"$f":"VLOOKUP($A697, taxonomy!$B$2:$T$695, 8, FALSE)","v":" Dikarya"},{"$f":"VLOOKUP($A697, taxonomy!$B$2:$T$695, 9, FALSE)","v":" Ascomycota"},{"$f":"VLOOKUP($A697, taxonomy!$B$2:$T$695, 10, FALSE)","v":" Pezizomycotina"},{"$f":"VLOOKUP($A697, taxonomy!$B$2:$T$695, 11, FALSE)","v":" Eurotiomycetes"},{"$f":"VLOOKUP($A697, taxonomy!$B$2:$T$695, 12, FALSE)","v":"Chaetothyriomycetidae"},{"$f":"VLOOKUP($A697, taxonomy!$B$2:$T$695, 13, FALSE)","v":" Chaetothyriales"},{"$f":"VLOOKUP($A697, taxonomy!$B$2:$T$695, 14, FALSE)","v":" Herpotrichiellaceae"},{"$f":"VLOOKUP($A697, taxonomy!$B$2:$T$695, 15, FALSE)","v":" Capronia."},{"$f":"VLOOKUP($A697, taxonomy!$B$2:$T$695, 16, FALSE)","v":0},{"$f":"VLOOKUP($A697, taxonomy!$B$2:$T$695, 17, FALSE)","v":0}]
["X0CDJ6",{"$f":" VLOOKUP(A698, architecture!D$2:E$73, 2, FALSE)","v":1},{"$f":"VLOOKUP(A698, 'PF14702'!B698:C3378, 2, FALSE)","v":1396},{"$f":"VLOOKUP($A698, taxonomy!$B$2:$T$695, 6, FALSE)","v":"Eukaryota"},{"$f":"VLOOKUP($A698, taxonomy!$B$2:$T$695, 7, FALSE)","v":" Fungi"},{"$f":"VLOOKUP($A698, taxonomy!$B$2:$T$695, 8, FALSE)","v":" Dikarya"},{"$f":"VLOOKUP($A698, taxonomy!$B$2:$T$695, 9, FALSE)","v":" Ascomycota"},{"$f":"VLOOKUP($A698, taxonomy!$B$2:$T$695, 10, FALSE)","v":" Pezizomycotina"},{"$f":"VLOOKUP($A698, taxonomy!$B$2:$T$695, 11, FALSE)","v":"Sordariomycetes"},{"$f":"VLOOKUP($A698, taxonomy!$B$2:$T$695, 12, FALSE)","v":" Hypocreomycetidae"},{"$f":"VLOOKUP($A698, taxonomy!$B$2:$T$695, 13, FALSE)","v":" Hypocreales"},{"$f":"VLOOKUP($A698, taxonomy!$B$2:$T$695, 14, FALSE)","v":" Nectriaceae"},{"$f":"VLOOKUP($A698, taxonomy!$B$2:$T$695, 15, FALSE)","v":"Fusarium"},{"$f":"VLOOKUP($A698, taxonomy!$B$2:$T$695, 16, FALSE)","v":" Fusarium oxysporum species complex."},{"$f":"VLOOKUP($A698, taxonomy!$B$2:$T$695, 17, FALSE)","v":0}]
["X0CNT7",{"$f":" VLOOKUP(A699, architecture!D$2:E$73, 2, FALSE)","v":{"$error":"#N/A"}},{"$f":"VLOOKUP(A699, 'PF14702'!B699:C3379, 2, FALSE)","v":1556},{"$f":"VLOOKUP($A699, taxonomy!$B$2:$T$695, 6, FALSE)","v":"Eukaryota"},{"$f":"VLOOKUP($A699, taxonomy!$B$2:$T$695, 7, FALSE)","v":" Fungi"},{"$f":"VLOOKUP($A699, taxonomy!$B$2:$T$695, 8, FALSE)","v":" Dikarya"},{"$f":"VLOOKUP($A699, taxonomy!$B$2:$T$695, 9, FALSE)","v":" Ascomycota"},{"$f":"VLOOKUP($A699, taxonomy!$B$2:$T$695, 10, FALSE)","v":" Pezizomycotina"},{"$f":"VLOOKUP($A699, taxonomy!$B$2:$T$695, 11, FALSE)","v":"Sordariomycetes"},{"$f":"VLOOKUP($A699, taxonomy!$B$2:$T$695, 12, FALSE)","v":" Hypocreomycetidae"},{"$f":"VLOOKUP($A699, taxonomy!$B$2:$T$695, 13, FALSE)","v":" Hypocreales"},{"$f":"VLOOKUP($A699, taxonomy!$B$2:$T$695, 14, FALSE)","v":" Nectriaceae"},{"$f":"VLOOKUP($A699, taxonomy!$B$2:$T$695, 15, FALSE)","v":"Fusarium"},{"$f":"VLOOKUP($A699, taxonomy!$B$2:$T$695, 16, FALSE)","v":" Fusarium oxysporum species complex."},{"$f":"VLOOKUP($A699, taxonomy!$B$2:$T$695, 17, FALSE)","v":0}]
["X0JV77",{"$f":" VLOOKUP(A700, architecture!D$2:E$73, 2, FALSE)","v":{"$error":"#N/A"}},{"$f":"VLOOKUP(A700, 'PF14702'!B700:C3380, 2, FALSE)","v":1396},{"$f":"VLOOKUP($A700, taxonomy!$B$2:$T$695, 6, FALSE)","v":"Eukaryota"},{"$f":"VLOOKUP($A700, taxonomy!$B$2:$T$695, 7, FALSE)","v":" Fungi"},{"$f":"VLOOKUP($A700, taxonomy!$B$2:$T$695, 8, FALSE)","v":" Dikarya"},{"$f":"VLOOKUP($A700, taxonomy!$B$2:$T$695, 9, FALSE)","v":" Ascomycota"},{"$f":"VLOOKUP($A700, taxonomy!$B$2:$T$695, 10, FALSE)","v":" Pezizomycotina"},{"$f":"VLOOKUP($A700, taxonomy!$B$2:$T$695, 11, FALSE)","v":"Sordariomycetes"},{"$f":"VLOOKUP($A700, taxonomy!$B$2:$T$695, 12, FALSE)","v":" Hypocreomycetidae"},{"$f":"VLOOKUP($A700, taxonomy!$B$2:$T$695, 13, FALSE)","v":" Hypocreales"},{"$f":"VLOOKUP($A700, taxonomy!$B$2:$T$695, 14, FALSE)","v":" Nectriaceae"},{"$f":"VLOOKUP($A700, taxonomy!$B$2:$T$695, 15, FALSE)","v":"Fusarium"},{"$f":"VLOOKUP($A700, taxonomy!$B$2:$T$695, 16, FALSE)","v":" Fusarium oxysporum species complex."},{"$f":"VLOOKUP($A700, taxonomy!$B$2:$T$695, 17, FALSE)","v":0}]
["X0JVI1",{"$f":" VLOOKUP(A701, architecture!D$2:E$73, 2, FALSE)","v":{"$error":"#N/A"}},{"$f":"VLOOKUP(A701, 'PF14702'!B701:C3381, 2, FALSE)","v":1556},{"$f":"VLOOKUP($A701, taxonomy!$B$2:$T$695, 6, FALSE)","v":"Eukaryota"},{"$f":"VLOOKUP($A701, taxonomy!$B$2:$T$695, 7, FALSE)","v":" Fungi"},{"$f":"VLOOKUP($A701, taxonomy!$B$2:$T$695, 8, FALSE)","v":" Dikarya"},{"$f":"VLOOKUP($A701, taxonomy!$B$2:$T$695, 9, FALSE)","v":" Ascomycota"},{"$f":"VLOOKUP($A701, taxonomy!$B$2:$T$695, 10, FALSE)","v":" Pezizomycotina"},{"$f":"VLOOKUP($A701, taxonomy!$B$2:$T$695, 11, FALSE)","v":"Sordariomycetes"},{"$f":"VLOOKUP($A701, taxonomy!$B$2:$T$695, 12, FALSE)","v":" Hypocreomycetidae"},{"$f":"VLOOKUP($A701, taxonomy!$B$2:$T$695, 13, FALSE)","v":" Hypocreales"},{"$f":"VLOOKUP($A701, taxonomy!$B$2:$T$695, 14, FALSE)","v":" Nectriaceae"},{"$f":"VLOOKUP($A701, taxonomy!$B$2:$T$695, 15, FALSE)","v":"Fusarium"},{"$f":"VLOOKUP($A701, taxonomy!$B$2:$T$695, 16, FALSE)","v":" Fusarium oxysporum species complex."},{"$f":"VLOOKUP($A701, taxonomy!$B$2:$T$695, 17, FALSE)","v":0}]

{"sheet":"3_tab","index":7,"n_rows":630,"n_cols":15,"rows_kept":630,"cut":false,"hidden":true,"merged":[]}
["AC","Архитектура","Длина домена PF14702","Таксономия","--","--2","--3","--4","--5","--6","--7","--8","--9","--10","--11"]
["A0A010QTU3",{"$f":"VLOOKUP(A2, architecture!D2:E104, 2, FALSE)","v":3},1568,"Eukaryota"," Fungi"," Dikarya"," Ascomycota"," Pezizomycotina","Sordariomycetes"," Hypocreomycetidae"," Glomerellales"," Glomerellaceae","Colletotrichum.",0,0]
["A0A023AYK6",{"$f":"VLOOKUP(A3, architecture!D3:E105, 2, FALSE)","v":{"$error":"#N/A"}},1800,"Eukaryota"," Alveolata"," Apicomplexa"," Conoidasida"," Gregarinasina","Eugregarinorida"," Gregarinidae"," Gregarina.",0,0,0,0]
["A0A026W7M0",{"$f":"VLOOKUP(A4, architecture!D4:E106, 2, FALSE)","v":3},1968,"Eukaryota"," Metazoa"," Ecdysozoa"," Arthropoda"," Hexapoda"," Insecta","Pterygota"," Neoptera"," Holometabola"," Hymenoptera"," Apocrita"," Aculeata"]
["A0A058Z1Q6",{"$f":"VLOOKUP(A5, architecture!D5:E107, 2, FALSE)","v":{"$error":"#N/A"}},2944,"Eukaryota"," Nucleariidae and Fonticula group"," Fonticula.",0,0,0,0,0,0,0,0,0]
["A0A059JG84",{"$f":"VLOOKUP(A6, architecture!D6:E108, 2, FALSE)","v":3},1523,"Eukaryota"," Fungi"," Dikarya"," Ascomycota"," Pezizomycotina"," Eurotiomycetes","Eurotiomycetidae"," Onygenales"," Arthrodermataceae"," Trichophyton.",0,0]
["A0A060SM73",{"$f":"VLOOKUP(A7, architecture!D7:E109, 2, FALSE)","v":3},1597,"Eukaryota"," Fungi"," Dikarya"," Basidiomycota"," Agaricomycotina","Agaricomycetes"," Polyporales"," Polyporaceae"," Trametes.",0,0,0]
["A0A061HK78",{"$f":"VLOOKUP(A8, architecture!D8:E110, 2, FALSE)","v":3},1558,"Eukaryota"," Fungi"," Dikarya"," Ascomycota"," Pezizomycotina"," Leotiomycetes","Erysiphales"," Erysiphaceae"," Blumeria.",0,0,0]
["A0A063C724",{"$f":"VLOOKUP(A9, architecture!D9:E111, 2, FALSE)","v":3},1582,"Eukaryota"," Fungi"," Dikarya"," Ascomycota"," Pezizomycotina","Sordariomycetes"," Hypocreomycetidae"," Hypocreales","Hypocreales incertae sedis"," Ustilaginoidea.",0,0]
["A0A066VMY2",{"$f":"VLOOKUP(A10, architecture!D10:E112, 2, FALSE)","v":3},1552,"Eukaryota"," Fungi"," Dikarya"," Basidiomycota"," Agaricomycotina","Agaricomycetes"," Cantharellales"," Ceratobasidiaceae"," Rhizoctonia.",0,0,0]
["A0A066VPH2",{"$f":"VLOOKUP(A11, architecture!D11:E113, 2, FALSE)","v":3},1557,"Eukaryota"," Fungi"," Dikarya"," Basidiomycota"," Ustilaginomycotina","Exobasidiomycetes"," Georgefischeriales"," Tilletiariaceae"," Tilletiaria.",0,0,0]
["A0A066XER0",{"$f":"VLOOKUP(A12, architecture!D12:E114, 2, FALSE)","v":3},1568,"Eukaryota"," Fungi"," Dikarya"," Ascomycota"," Pezizomycotina","Sordariomycetes"," Hypocreomycetidae"," Glomerellales"," Glomerellaceae","Colletotrichum.",0,0]
["A0A067MEC5",{"$f":"VLOOKUP(A13, architecture!D13:E115, 2, FALSE)","v":3},1597,"Eukaryota"," Fungi"," Dikarya"," Basidiomycota"," Agaricomycotina","Agaricomycetes"," Cantharellales"," Botryobasidiaceae"," Botryobasidium.",0,0,0]
["A0A067NTR2",{"$f":"VLOOKUP(A14, architecture!D14:E116, 2, FALSE)","v":3},1591,"Eukaryota"," Fungi"," Dikarya"," Basidiomycota"," Agaricomycotina","Agaricomycetes"," Agaricomycetidae"," Agaricales"," Pleurotaceae"," Pleurotus.",0,0]
["A0A067Q6F6",{"$f":"VLOOKUP(A15, architecture!D15:E117, 2, FALSE)","v":3},1608,"Eukaryota"," Fungi"," Dikarya"," Basidiomycota"," Agaricomycotina","Agaricomycetes"," Agaricomycetidae"," Jaapiales"," Jaapiaceae"," Jaapia.",0,0]
["A0A067R0B7",{"$f":"VLOOKUP(A16, architecture!D16:E118, 2, FALSE)","v":{"$error":"#N/A"}},1500,"Eukaryota"," Metazoa"," Ecdysozoa"," Arthropoda"," Hexapoda"," Insecta","Pterygota"," Neoptera"," Polyneoptera"," Dictyoptera"," Blattodea"," Blattoidea"]
["A0A067S4G4",{"$f":"VLOOKUP(A17, architecture!D17:E119, 2, FALSE)","v":3},1593,"Eukaryota"," Fungi"," Dikarya"," Basidiomycota"," Agaricomycotina","Agaricomycetes"," Agaricomycetidae"," Agaricales"," Strophariaceae","Galerina.",0,0]
["A0A068S7K8",{"$f":"VLOOKUP(A18, architecture!D18:E120, 2, FALSE)","v":3},1533,"Eukaryota"," Fungi"," Mucoromycota"," Mucoromycotina"," Mucorales","Lichtheimiaceae"," Lichtheimia.",0,0,0,0,0]
["A0A068S963",{"$f":"VLOOKUP(A19, architecture!D19:E121, 2, FALSE)","v":3},1501,"Eukaryota"," Fungi"," Mucoromycota"," Mucoromycotina"," Mucorales","Lichtheimiaceae"," Lichtheimia.",0,0,0,0,0]
["A0A068X5G4",{"$f":"VLOOKUP(A20, architecture!D20:E122, 2, FALSE)","v":3},1667,"Eukaryota"," Metazoa"," Platyhelminthes"," Cestoda"," Eucestoda","Cyclophyllidea"," Hymenolepididae"," Hymenolepis.",0,0,0,0]
["A0A072P3F0",{"$f":"VLOOKUP(A21, architecture!D21:E123, 2, FALSE)","v":3},1553,"Eukaryota"," Fungi"," Dikarya"," Ascomycota"," Pezizomycotina"," Eurotiomycetes","Chaetothyriomycetidae"," Chaetothyriales"," Herpotrichiellaceae","Exophiala.",0,0]
["A0A074SCB3",{"$f":"VLOOKUP(A22, architecture!D22:E124, 2, FALSE)","v":3},1609,"Eukaryota"," Fungi"," Dikarya"," Basidiomycota"," Agaricomycotina","Agaricomycetes"," Cantharellales"," Ceratobasidiaceae"," Rhizoctonia.",0,0,0]
["A0A074TF13",{"$f":"VLOOKUP(A23, architecture!D23:E125, 2, FALSE)","v":{"$error":"#N/A"}},1877,"Eukaryota"," Alveolata"," Apicomplexa"," Conoidasida"," Coccidia","Eucoccidiorida"," Eimeriorina"," Sarcocystidae"," Hammondia.",0,0,0]
["A0A074WED3",{"$f":"VLOOKUP(A24, architecture!D24:E126, 2, FALSE)","v":3},1541,"Eukaryota"," Fungi"," Dikarya"," Ascomycota"," Pezizomycotina","Dothideomycetes"," Dothideomycetidae"," Dothideales"," Saccotheciaceae","Aureobasidium.",0,0]
["A0A074X1S4",{"$f":"VLOOKUP(A25, architecture!D25:E127, 2, FALSE)","v":3},1541,"Eukaryota"," Fungi"," Dikarya"," Ascomycota"," Pezizomycotina","Dothideomycetes"," Dothideomycetidae"," Dothideales"," Saccotheciaceae","Aureobasidium.",0,0]
["A0A074Y8R4",{"$f":"VLOOKUP(A26, architecture!D26:E128, 2, FALSE)","v":3},1541,"Eukaryota"," Fungi"," Dikarya"," Ascomycota"," Pezizomycotina","Dothideomycetes"," Dothideomycetidae"," Dothideales"," Saccotheciaceae","Aureobasidium.",0,0]
["A0A074YD67",{"$f":"VLOOKUP(A27, architecture!D27:E129, 2, FALSE)","v":3},1541,"Eukaryota"," Fungi"," Dikarya"," Ascomycota"," Pezizomycotina","Dothideomycetes"," Dothideomycetidae"," Dothideales"," Saccotheciaceae","Aureobasidium.",0,0]
["A0A075A357",{"$f":"VLOOKUP(A28, architecture!D28:E130, 2, FALSE)","v":3},1693,"Eukaryota"," Metazoa"," Platyhelminthes"," Trematoda"," Digenea","Opisthorchiida"," Opisthorchiata"," Opisthorchiidae"," Opisthorchis.",0,0,0]
["A0A075AYU9",{"$f":"VLOOKUP(A29, architecture!D29:E131, 2, FALSE)","v":{"$error":"#N/A"}},1618,"Eukaryota"," Fungi"," Cryptomycota"," Rozella.",0,0,0,0,0,0,0,0]
["A0A077Z661",{"$f":"VLOOKUP(A30, architecture!D30:E132, 2, FALSE)","v":{"$error":"#N/A"}},1538,"Eukaryota"," Metazoa"," Ecdysozoa"," Nematoda"," Enoplea"," Dorylaimia","Trichinellida"," Trichuridae"," Trichuris.",0,0,0]
["A0A078A3A7",{"$f":"VLOOKUP(A31, architecture!D31:E133, 2, FALSE)","v":{"$error":"#N/A"}},1661,"Eukaryota"," Alveolata"," Ciliophora"," Intramacronucleata"," Spirotrichea","Stichotrichia"," Sporadotrichida"," Oxytrichidae"," Stylonychinae","Stylonychia.",0,0]
["A0A078AI91",{"$f":"VLOOKUP(A32, architecture!D32:E134, 2, FALSE)","v":{"$error":"#N/A"}},816,"Eukaryota"," Alveolata"," Ciliophora"," Intramacronucleata"," Spirotrichea","Stichotrichia"," Sporadotrichida"," Oxytrichidae"," Stylonychinae","Stylonychia.",0,0]
["A0A081CN43",{"$f":"VLOOKUP(A33, architecture!D33:E135, 2, FALSE)","v":3},1628,"Eukaryota"," Fungi"," Dikarya"," Basidiomycota"," Ustilaginomycotina","Ustilaginomycetes"," Ustilaginales"," Ustilaginaceae"," Moesziomyces.",0,0,0]
["A0A084GGA7",{"$f":"VLOOKUP(A34, architecture!D34:E136, 2, FALSE)","v":3},1566,"Eukaryota"," Fungi"," Dikarya"," Ascomycota"," Pezizomycotina","Sordariomycetes"," Hypocreomycetidae"," Microascales"," Microascaceae","Scedosporium.",0,0]
["A0A084QI67",{"$f":"VLOOKUP(A35, architecture!D35:E137, 2, FALSE)","v":3},1563,"Eukaryota"," Fungi"," Dikarya"," Ascomycota"," Pezizomycotina","Sordariomycetes"," Hypocreomycetidae"," Hypocreales"," Stachybotryaceae","Stachybotrys.",0,0]
["A0A084W0C3",{"$f":"VLOOKUP(A36, architecture!D36:E138, 2, FALSE)","v":3},1558,"Eukaryota"," Metazoa"," Ecdysozoa"," Arthropoda"," Hexapoda"," Insecta","Pterygota"," Neoptera"," Holometabola"," Diptera"," Nematocera"," Culicoidea"]
["A0A086THF9",{"$f":"VLOOKUP(A37, architecture!D37:E139, 2, FALSE)","v":3},1561,"Eukaryota"," Fungi"," Dikarya"," Ascomycota"," Pezizomycotina","Sordariomycetes"," Hypocreomycetidae"," Hypocreales","Hypocreales incertae sedis"," Acremonium.",0,0]
["A0A087QMK8",{"$f":"VLOOKUP(A38, architecture!D38:E140, 2, FALSE)","v":3},1504,"Eukaryota"," Metazoa"," Chordata"," Craniata"," Vertebrata"," Euteleostomi","Archelosauria"," Archosauria"," Dinosauria"," Saurischia"," Theropoda","Coelurosauria"]
["A0A087X458",{"$f":"VLOOKUP(A39, architecture!D39:E141, 2, FALSE)","v":3},1534,"Eukaryota"," Metazoa"," Chordata"," Craniata"," Vertebrata"," Euteleostomi","Actinopterygii"," Neopterygii"," Teleostei"," Neoteleostei"," Acanthomorphata","Ovalentaria"]
["A0A088ALS8",{"$f":"VLOOKUP(A40, architecture!D40:E142, 2, FALSE)","v":3},1556,"Eukaryota"," Metazoa"," Ecdysozoa"," Arthropoda"," Hexapoda"," Insecta","Pterygota"," Neoptera"," Holometabola"," Hymenoptera"," Apocrita"," Aculeata"]
["A0A091D443",{"$f":"VLOOKUP(A41, architecture!D41:E143, 2, FALSE)","v":{"$error":"#N/A"}},1351,"Eukaryota"," Metazoa"," Chordata"," Craniata"," Vertebrata"," Euteleostomi","Mammalia"," Eutheria"," Euarchontoglires"," Glires"," Rodentia","Hystricomorpha"]
["A0A091EIV1",{"$f":"VLOOKUP(A42, architecture!D42:E144, 2, FALSE)","v":3},1517,"Eukaryota"," Metazoa"," Chordata"," Craniata"," Vertebrata"," Euteleostomi","Archelosauria"," Archosauria"," Dinosauria"," Saurischia"," Theropoda","Coelurosauria"]
["A0A091G6W5",{"$f":"VLOOKUP(A43, architecture!D43:E145, 2, FALSE)","v":3},1502,"Eukaryota"," Metazoa"," Chordata"," Craniata"," Vertebrata"," Euteleostomi","Archelosauria"," Archosauria"," Dinosauria"," Saurischia"," Theropoda","Coelurosauria"]
["A0A091GQE9",{"$f":"VLOOKUP(A44, architecture!D44:E146, 2, FALSE)","v":3},1504,"Eukaryota"," Metazoa"," Chordata"," Craniata"," Vertebrata"," Euteleostomi","Archelosauria"," Archosauria"," Dinosauria"," Saurischia"," Theropoda","Coelurosauria"]
["A0A091HRX4",{"$f":"VLOOKUP(A45, architecture!D45:E147, 2, FALSE)","v":3},1512,"Eukaryota"," Metazoa"," Chordata"," Craniata"," Vertebrata"," Euteleostomi","Archelosauria"," Archosauria"," Dinosauria"," Saurischia"," Theropoda","Coelurosauria"]
["A0A091KHC9",{"$f":"VLOOKUP(A46, architecture!D46:E148, 2, FALSE)","v":3},1504,"Eukaryota"," Metazoa"," Chordata"," Craniata"," Vertebrata"," Euteleostomi","Archelosauria"," Archosauria"," Dinosauria"," Saurischia"," Theropoda","Coelurosauria"]
["A0A091KUT8",{"$f":"VLOOKUP(A47, architecture!D47:E149, 2, FALSE)","v":3},1504,"Eukaryota"," Metazoa"," Chordata"," Craniata"," Vertebrata"," Euteleostomi","Archelosauria"," Archosauria"," Dinosauria"," Saurischia"," Theropoda","Coelurosauria"]
["A0A091LLM9",{"$f":"VLOOKUP(A48, architecture!D48:E150, 2, FALSE)","v":3},1504,"Eukaryota"," Metazoa"," Chordata"," Craniata"," Vertebrata"," Euteleostomi","Archelosauria"," Archosauria"," Dinosauria"," Saurischia"," Theropoda","Coelurosauria"]
["A0A091MDQ5",{"$f":"VLOOKUP(A49, architecture!D49:E151, 2, FALSE)","v":3},1504,"Eukaryota"," Metazoa"," Chordata"," Craniata"," Vertebrata"," Euteleostomi","Archelosauria"," Archosauria"," Dinosauria"," Saurischia"," Theropoda","Coelurosauria"]
["A0A091NKW9",{"$f":"VLOOKUP(A50, architecture!D50:E152, 2, FALSE)","v":3},1504,"Eukaryota"," Metazoa"," Chordata"," Craniata"," Vertebrata"," Euteleostomi","Archelosauria"," Archosauria"," Dinosauria"," Saurischia"," Theropoda","Coelurosauria"]
["A0A091P1S7",{"$f":"VLOOKUP(A51, architecture!D51:E153, 2, FALSE)","v":3},1504,"Eukaryota"," Metazoa"," Chordata"," Craniata"," Vertebrata"," Euteleostomi","Archelosauria"," Archosauria"," Dinosauria"," Saurischia"," Theropoda","Coelurosauria"]
["A0A091QG56",{"$f":"VLOOKUP(A52, architecture!D52:E154, 2, FALSE)","v":3},1504,"Eukaryota"," Metazoa"," Chordata"," Craniata"," Vertebrata"," Euteleostomi","Archelosauria"," Archosauria"," Dinosauria"," Saurischia"," Theropoda","Coelurosauria"]
["A0A091RCN7",{"$f":"VLOOKUP(A53, architecture!D53:E155, 2, FALSE)","v":{"$error":"#N/A"}},910,"Eukaryota"," Metazoa"," Chordata"," Craniata"," Vertebrata"," Euteleostomi","Archelosauria"," Archosauria"," Dinosauria"," Saurischia"," Theropoda","Coelurosauria"]
["A0A091T2P6",{"$f":"VLOOKUP(A54, architecture!D54:E156, 2, FALSE)","v":{"$error":"#N/A"}},866,"Eukaryota"," Metazoa"," Chordata"," Craniata"," Vertebrata"," Euteleostomi","Archelosauria"," Archosauria"," Dinosauria"," Saurischia"," Theropoda","Coelurosauria"]
["A0A091TI76",{"$f":"VLOOKUP(A55, architecture!D55:E157, 2, FALSE)","v":3},1504,"Eukaryota"," Metazoa"," Chordata"," Craniata"," Vertebrata"," Euteleostomi","Archelosauria"," Archosauria"," Dinosauria"," Saurischia"," Theropoda","Coelurosauria"]
["A0A091TXK1",{"$f":"VLOOKUP(A56, architecture!D56:E158, 2, FALSE)","v":{"$error":"#N/A"}},954,"Eukaryota"," Metazoa"," Chordata"," Craniata"," Vertebrata"," Euteleostomi","Archelosauria"," Archosauria"," Dinosauria"," Saurischia"," Theropoda","Coelurosauria"]
["A0A091UFK0",{"$f":"VLOOKUP(A57, architecture!D57:E159, 2, FALSE)","v":3},1504,"Eukaryota"," Metazoa"," Chordata"," Craniata"," Vertebrata"," Euteleostomi","Archelosauria"," Archosauria"," Dinosauria"," Saurischia"," Theropoda","Coelurosauria"]
["A0A091VAU0",{"$f":"VLOOKUP(A58, architecture!D58:E160, 2, FALSE)","v":3},1504,"Eukaryota"," Metazoa"," Chordata"," Craniata"," Vertebrata"," Euteleostomi","Archelosauria"," Archosauria"," Dinosauria"," Saurischia"," Theropoda","Coelurosauria"]
["A0A091XK00",{"$f":"VLOOKUP(A59, architecture!D59:E161, 2, FALSE)","v":3},1534,"Eukaryota"," Metazoa"," Chordata"," Craniata"," Vertebrata"," Euteleostomi","Archelosauria"," Archosauria"," Dinosauria"," Saurischia"," Theropoda","Coelurosauria"]
["A0A093CNC6",{"$f":"VLOOKUP(A60, architecture!D60:E162, 2, FALSE)","v":3},1504,"Eukaryota"," Metazoa"," Chordata"," Craniata"," Vertebrata"," Euteleostomi","Archelosauria"," Archosauria"," Dinosauria"," Saurischia"," Theropoda","Coelurosauria"]
["A0A093CQ14",{"$f":"VLOOKUP(A61, architecture!D61:E163, 2, FALSE)","v":3},1504,"Eukaryota"," Metazoa"," Chordata"," Craniata"," Vertebrata"," Euteleostomi","Archelosauria"," Archosauria"," Dinosauria"," Saurischia"," Theropoda","Coelurosauria"]
["A0A093EJE1",{"$f":"VLOOKUP(A62, architecture!D62:E164, 2, FALSE)","v":3},1499,"Eukaryota"," Metazoa"," Chordata"," Craniata"," Vertebrata"," Euteleostomi","Archelosauria"," Archosauria"," Dinosauria"," Saurischia"," Theropoda","Coelurosauria"]
["A0A093H545",{"$f":"VLOOKUP(A63, architecture!D63:E165, 2, FALSE)","v":3},1502,"Eukaryota"," Metazoa"," Chordata"," Craniata"," Vertebrata"," Euteleostomi","Archelosauria"," Archosauria"," Dinosauria"," Saurischia"," Theropoda","Coelurosauria"]
["A0A093J624",{"$f":"VLOOKUP(A64, architecture!D64:E166, 2, FALSE)","v":3},1502,"Eukaryota"," Metazoa"," Chordata"," Craniata"," Vertebrata"," Euteleostomi","Archelosauria"," Archosauria"," Dinosauria"," Saurischia"," Theropoda","Coelurosauria"]
["A0A093LME3",{"$f":"VLOOKUP(A65, architecture!D65:E167, 2, FALSE)","v":3},1504,"Eukaryota"," Metazoa"," Chordata"," Craniata"," Vertebrata"," Euteleostomi","Archelosauria"," Archosauria"," Dinosauria"," Saurischia"," Theropoda","Coelurosauria"]
["A0A093PRZ8",{"$f":"VLOOKUP(A66, architecture!D66:E168, 2, FALSE)","v":3},1533,"Eukaryota"," Metazoa"," Chordata"," Craniata"," Vertebrata"," Euteleostomi","Archelosauria"," Archosauria"," Dinosauria"," Saurischia"," Theropoda","Coelurosauria"]
["A0A093Y8C9",{"$f":"VLOOKUP(A67, architecture!D67:E169, 2, FALSE)","v":3},1539,"Eukaryota"," Fungi"," Dikarya"," Ascomycota"," Pezizomycotina"," Leotiomycetes","Leotiomycetes incertae sedis"," Pseudeurotiaceae"," Pseudogymnoascus.",0,0,0]
["A0A093Y8Z0",{"$f":"VLOOKUP(A68, architecture!D68:E170, 2, FALSE)","v":3},1539,"Eukaryota"," Fungi"," Dikarya"," Ascomycota"," Pezizomycotina"," Leotiomycetes","Leotiomycetes incertae sedis"," Pseudeurotiaceae"," Pseudogymnoascus.",0,0,0]
["A0A093ZDG4",{"$f":"VLOOKUP(A69, architecture!D69:E171, 2, FALSE)","v":3},1538,"Eukaryota"," Fungi"," Dikarya"," Ascomycota"," Pezizomycotina"," Leotiomycetes","Leotiomycetes incertae sedis"," Pseudeurotiaceae"," Pseudogymnoascus.",0,0,0]
["A0A094A6U6",{"$f":"VLOOKUP(A70, architecture!D70:E172, 2, FALSE)","v":3},1544,"Eukaryota"," Fungi"," Dikarya"," Ascomycota"," Pezizomycotina"," Leotiomycetes","Leotiomycetes incertae sedis"," Pseudeurotiaceae"," Pseudogymnoascus.",0,0,0]
["A0A094AGV0",{"$f":"VLOOKUP(A71, architecture!D71:E173, 2, FALSE)","v":3},1533,"Eukaryota"," Fungi"," Dikarya"," Ascomycota"," Pezizomycotina"," Leotiomycetes","Leotiomycetes incertae sedis"," Pseudeurotiaceae"," Pseudogymnoascus.",0,0,0]
["A0A094BZU4",{"$f":"VLOOKUP(A72, architecture!D72:E174, 2, FALSE)","v":3},1538,"Eukaryota"," Fungi"," Dikarya"," Ascomycota"," Pezizomycotina"," Leotiomycetes","Leotiomycetes incertae sedis"," Pseudeurotiaceae"," Pseudogymnoascus.",0,0,0]
["A0A094CBT3",{"$f":"VLOOKUP(A73, architecture!D73:E175, 2, FALSE)","v":3},1539,"Eukaryota"," Fungi"," Dikarya"," Ascomycota"," Pezizomycotina"," Leotiomycetes","Leotiomycetes incertae sedis"," Pseudeurotiaceae"," Pseudogymnoascus.",0,0,0]
["A0A094DFK1",{"$f":"VLOOKUP(A74, architecture!D74:E176, 2, FALSE)","v":3},1539,"Eukaryota"," Fungi"," Dikarya"," Ascomycota"," Pezizomycotina"," Leotiomycetes","Leotiomycetes incertae sedis"," Pseudeurotiaceae"," Pseudogymnoascus.",0,0,0]
["A0A094EPV8",{"$f":"VLOOKUP(A75, architecture!D75:E177, 2, FALSE)","v":3},1538,"Eukaryota"," Fungi"," Dikarya"," Ascomycota"," Pezizomycotina"," Leotiomycetes","Leotiomycetes incertae sedis"," Pseudeurotiaceae"," Pseudogymnoascus.",0,0,0]
["A0A094FZP8",{"$f":"VLOOKUP(A76, architecture!D76:E178, 2, FALSE)","v":3},1544,"Eukaryota"," Fungi"," Dikarya"," Ascomycota"," Pezizomycotina"," Leotiomycetes","Leotiomycetes incertae sedis"," Pseudeurotiaceae"," Pseudogymnoascus.",0,0,0]
["A0A094GBR2",{"$f":"VLOOKUP(A77, architecture!D77:E179, 2, FALSE)","v":3},1539,"Eukaryota"," Fungi"," Dikarya"," Ascomycota"," Pezizomycotina"," Leotiomycetes","Leotiomycetes incertae sedis"," Pseudeurotiaceae"," Pseudogymnoascus.",0,0,0]
["A0A094H8A7",{"$f":"VLOOKUP(A78, architecture!D78:E180, 2, FALSE)","v":3},1544,"Eukaryota"," Fungi"," Dikarya"," Ascomycota"," Pezizomycotina"," Leotiomycetes","Leotiomycetes incertae sedis"," Pseudeurotiaceae"," Pseudogymnoascus.",0,0,0]
["A0A094JA99",{"$f":"VLOOKUP(A79, architecture!D79:E181, 2, FALSE)","v":3},1538,"Eukaryota"," Fungi"," Dikarya"," Ascomycota"," Pezizomycotina"," Leotiomycetes","Leotiomycetes incertae sedis"," Pseudeurotiaceae"," Pseudogymnoascus.",0,0,0]
["A0A094ZFT4",{"$f":"VLOOKUP(A80, architecture!D80:E182, 2, FALSE)","v":3},1588,"Eukaryota"," Metazoa"," Platyhelminthes"," Trematoda"," Digenea"," Strigeidida","Schistosomatoidea"," Schistosomatidae"," Schistosoma.",0,0,0]
["A0A095DHE2",{"$f":"VLOOKUP(A81, architecture!D81:E183, 2, FALSE)","v":3},1593,"Eukaryota"," Fungi"," Dikarya"," Basidiomycota"," Agaricomycotina","Tremellomycetes"," Tremellales"," Cryptococcaceae"," Cryptococcus","Cryptococcus gattii species complex.",0,0]
["A0A096N6Q6",{"$f":"VLOOKUP(A82, architecture!D82:E184, 2, FALSE)","v":3},1526,"Eukaryota"," Metazoa"," Chordata"," Craniata"," Vertebrata"," Euteleostomi","Mammalia"," Eutheria"," Euarchontoglires"," Primates"," Haplorrhini","Catarrhini"]
["A0A099P130",{"$f":"VLOOKUP(A83, architecture!D83:E185, 2, FALSE)","v":3},1535,"Eukaryota"," Fungi"," Dikarya"," Ascomycota"," Saccharomycotina","Saccharomycetes"," Saccharomycetales"," Pichiaceae"," Pichia.",0,0,0]
["A0A0A0AG33",{"$f":"VLOOKUP(A84, architecture!D84:E186, 2, FALSE)","v":3},1531,"Eukaryota"," Metazoa"," Chordata"," Craniata"," Vertebrata"," Euteleostomi","Archelosauria"," Archosauria"," Dinosauria"," Saurischia"," Theropoda","Coelurosauria"]
["A0A0A1NX13",{"$f":"VLOOKUP(A85, architecture!D85:E187, 2, FALSE)","v":{"$error":"#N/A"}},764,"Eukaryota"," Fungi"," Mucoromycota"," Mucoromycotina"," Mucorales"," Mucorineae","Rhizopodaceae"," Rhizopus.",0,0,0,0]
["A0A0A1P236",{"$f":"VLOOKUP(A86, architecture!D86:E188, 2, FALSE)","v":{"$error":"#N/A"}},764,"Eukaryota"," Fungi"," Mucoromycota"," Mucoromycotina"," Mucorales"," Mucorineae","Rhizopodaceae"," Rhizopus.",0,0,0,0]
["A0A0A1TRF2",{"$f":"VLOOKUP(A87, architecture!D87:E189, 2, FALSE)","v":3},1553,"Eukaryota"," Fungi"," Dikarya"," Ascomycota"," Pezizomycotina","Sordariomycetes"," Hypocreomycetidae"," Hypocreales"," Clavicipitaceae","Torrubiella.",0,0]
["A0A0A1UPQ1",{"$f":"VLOOKUP(A88, architecture!D88:E190, 2, FALSE)","v":3},1541,"Eukaryota"," Fungi"," Dikarya"," Ascomycota"," Pezizomycotina","Sordariomycetes"," Hypocreomycetidae"," Hypocreales"," Clavicipitaceae","Metarhizium.",0,0]
["A0A0A2IUN1",{"$f":"VLOOKUP(A89, architecture!D89:E191, 2, FALSE)","v":3},1534,"Eukaryota"," Fungi"," Dikarya"," Ascomycota"," Pezizomycotina"," Eurotiomycetes","Eurotiomycetidae"," Eurotiales"," Aspergillaceae"," Penicillium.",0,0]
["A0A0A2LCV9",{"$f":"VLOOKUP(A90, architecture!D90:E192, 2, FALSE)","v":3},1534,"Eukaryota"," Fungi"," Dikarya"," Ascomycota"," Pezizomycotina"," Eurotiomycetes","Eurotiomycetidae"," Eurotiales"," Aspergillaceae"," Penicillium.",0,0]
["A0A0A2UZZ1",{"$f":"VLOOKUP(A91, architecture!D91:E193, 2, FALSE)","v":3},1455,"Eukaryota"," Fungi"," Dikarya"," Ascomycota"," Pezizomycotina"," Eurotiomycetes","Eurotiomycetidae"," Onygenales"," Onygenales incertae sedis","Paracoccidioides.",0,0]
["A0A0A2VHZ6",{"$f":"VLOOKUP(A92, architecture!D92:E194, 2, FALSE)","v":3},1545,"Eukaryota"," Fungi"," Dikarya"," Ascomycota"," Pezizomycotina","Sordariomycetes"," Hypocreomycetidae"," Hypocreales"," Cordycipitaceae","Beauveria.",0,0]
["A0A0A8L004",{"$f":"VLOOKUP(A93, architecture!D93:E195, 2, FALSE)","v":3},1522,"Eukaryota"," Fungi"," Dikarya"," Ascomycota"," Saccharomycotina","Saccharomycetes"," Saccharomycetales"," Saccharomycetaceae"," Kluyveromyces.",0,0,0]
["A0A0B1P1J1",{"$f":"VLOOKUP(A94, architecture!D94:E196, 2, FALSE)","v":3},1555,"Eukaryota"," Fungi"," Dikarya"," Ascomycota"," Pezizomycotina"," Leotiomycetes","Erysiphales"," Erysiphaceae"," Erysiphe.",0,0,0]
["A0A0B1TUK7",{"$f":"VLOOKUP(A95, architecture!D95:E197, 2, FALSE)","v":{"$error":"#N/A"}},690,"Eukaryota"," Metazoa"," Ecdysozoa"," Nematoda"," Chromadorea"," Rhabditida","Strongylida"," Strongyloidea"," Cloacinidae"," Oesophagostomum.",0,0]
["A0A0B2VE34",{"$f":"VLOOKUP(A96, architecture!D96:E198, 2, FALSE)","v":{"$error":"#N/A"}},575,"Eukaryota"," Metazoa"," Ecdysozoa"," Nematoda"," Chromadorea"," Ascaridida","Ascaridoidea"," Toxocaridae"," Toxocara.",0,0,0]
["A0A0B2WZE8",{"$f":"VLOOKUP(A97, architecture!D97:E199, 2, FALSE)","v":3},1555,"Eukaryota"," Fungi"," Dikarya"," Ascomycota"," Pezizomycotina","Sordariomycetes"," Hypocreomycetidae"," Hypocreales"," Clavicipitaceae","Metarhizium.",0,0]
["A0A0B4GUX9",{"$f":"VLOOKUP(A98, architecture!D98:E200, 2, FALSE)","v":3},1551,"Eukaryota"," Fungi"," Dikarya"," Ascomycota"," Pezizomycotina","Sordariomycetes"," Hypocreomycetidae"," Hypocreales"," Clavicipitaceae","Metarhizium.",0,0]
["A0A0B7N845",{"$f":"VLOOKUP(A99, architecture!D99:E201, 2, FALSE)","v":3},1521,"Eukaryota"," Fungi"," Mucoromycota"," Mucoromycotina"," Mucorales"," Mucorineae","Mucoraceae"," Parasitella.",0,0,0,0]
["A0A0B8N525",{"$f":"VLOOKUP(A100, architecture!D100:E202, 2, FALSE)","v":3},1524,"Eukaryota"," Fungi"," Dikarya"," Ascomycota"," Pezizomycotina"," Eurotiomycetes","Eurotiomycetidae"," Eurotiales"," Trichocomaceae"," Talaromyces.",0,0]
["A0A0C2X5E2",{"$f":"VLOOKUP(A101, architecture!D101:E203, 2, FALSE)","v":3},1598,"Eukaryota"," Fungi"," Dikarya"," Basidiomycota"," Agaricomycotina","Agaricomycetes"," Agaricomycetidae"," Agaricales"," Amanitaceae"," Amanita.",0,0]
["A0A0C2YVD8",{"$f":"VLOOKUP(A102, architecture!D102:E204, 2, FALSE)","v":3},1594,"Eukaryota"," Fungi"," Dikarya"," Basidiomycota"," Agaricomycotina","Agaricomycetes"," Agaricomycetidae"," Agaricales"," Cortinariaceae","Hebeloma.",0,0]
["A0A0C3ACH9",{"$f":"VLOOKUP(A103, architecture!D103:E205, 2, FALSE)","v":{"$error":"#N/A"}},939,"Eukaryota"," Fungi"," Dikarya"," Basidiomycota"," Agaricomycotina","Agaricomycetes"," Agaricomycetidae"," Boletales"," Sclerodermatineae","Sclerodermataceae"," Scleroderma.",0]
["A0A0C3BSZ1",{"$f":"VLOOKUP(A104, architecture!D104:E206, 2, FALSE)","v":3},1595,"Eukaryota"," Fungi"," Dikarya"," Basidiomycota"," Agaricomycotina","Agaricomycetes"," Sebacinales"," Serendipitaceae"," Serendipita.",0,0,0]
["A0A0C3FWV3",{"$f":"VLOOKUP(A105, architecture!D105:E207, 2, FALSE)","v":3},1583,"Eukaryota"," Fungi"," Dikarya"," Basidiomycota"," Agaricomycotina","Agaricomycetes"," Agaricomycetidae"," Atheliales"," Atheliaceae"," Piloderma.",0,0]
["A0A0C3HLL3",{"$f":"VLOOKUP(A106, architecture!D106:E208, 2, FALSE)","v":3},1551,"Eukaryota"," Fungi"," Dikarya"," Ascomycota"," Pezizomycotina"," Leotiomycetes","Leotiomycetes incertae sedis"," Myxotrichaceae"," Oidiodendron.",0,0,0]
["A0A0C3L9K1",{"$f":"VLOOKUP(A107, architecture!D107:E209, 2, FALSE)","v":3},1609,"Eukaryota"," Fungi"," Dikarya"," Basidiomycota"," Agaricomycotina","Agaricomycetes"," Cantharellales"," Tulasnellaceae"," Tulasnella.",0,0,0]
["A0A0C3PQW6",{"$f":"VLOOKUP(A108, architecture!D108:E210, 2, FALSE)","v":3},1596,"Eukaryota"," Fungi"," Dikarya"," Basidiomycota"," Agaricomycotina","Agaricomycetes"," Agaricomycetidae"," Boletales"," Sclerodermatineae","Pisolithaceae"," Pisolithus.",0]
["A0A0C3SDX7",{"$f":"VLOOKUP(A109, architecture!D109:E211, 2, FALSE)","v":3},1590,"Eukaryota"," Fungi"," Dikarya"," Basidiomycota"," Agaricomycotina","Agaricomycetes"," Polyporales"," Phanerochaetaceae"," Phlebiopsis.",0,0,0]
["A0A0C4EF57",{"$f":"VLOOKUP(A110, architecture!D110:E212, 2, FALSE)","v":3},1577,"Eukaryota"," Fungi"," Dikarya"," Ascomycota"," Pezizomycotina","Sordariomycetes"," Sordariomycetidae"," Magnaporthales"," Magnaporthaceae","Magnaporthiopsis.",0,0]
["A0A0C7N3C4",{"$f":"VLOOKUP(A111, architecture!D111:E213, 2, FALSE)","v":3},1521,"Eukaryota"," Fungi"," Dikarya"," Ascomycota"," Saccharomycotina","Saccharomycetes"," Saccharomycetales"," Saccharomycetaceae"," Lachancea.",0,0,0]
["A0A0C9LWN1",{"$f":"VLOOKUP(A112, architecture!D112:E214, 2, FALSE)","v":{"$error":"#N/A"}},1500,"Eukaryota"," Fungi"," Mucoromycota"," Mucoromycotina"," Mucorales"," Mucorineae","Mucoraceae"," Mucor.",0,0,0,0]
["A0A0C9WFV0",{"$f":"VLOOKUP(A113, architecture!D113:E215, 2, FALSE)","v":3},1596,"Eukaryota"," Fungi"," Dikarya"," Basidiomycota"," Agaricomycotina","Agaricomycetes"," Agaricomycetidae"," Boletales"," Paxilineae"," Paxillaceae","Hydnomerulius.",0]
["A0A0C9X698",{"$f":"VLOOKUP(A114, architecture!D114:E216, 2, FALSE)","v":3},1596,"Eukaryota"," Fungi"," Dikarya"," Basidiomycota"," Agaricomycotina","Agaricomycetes"," Agaricomycetidae"," Agaricales"," Tricholomataceae","Laccaria.",0,0]
["A0A0C9Z1J0",{"$f":"VLOOKUP(A115, architecture!D115:E217, 2, FALSE)","v":3},1594,"Eukaryota"," Fungi"," Dikarya"," Basidiomycota"," Agaricomycotina","Agaricomycetes"," Agaricomycetidae"," Boletales"," Sclerodermatineae","Pisolithaceae"," Pisolithus.",0]
["A0A0D0A959",{"$f":"VLOOKUP(A116, architecture!D116:E218, 2, FALSE)","v":3},1601,"Eukaryota"," Fungi"," Dikarya"," Basidiomycota"," Agaricomycotina","Agaricomycetes"," Agaricomycetidae"," Boletales"," Suillineae"," Suillaceae","Suillus.",0]
["A0A0D0CW47",{"$f":"VLOOKUP(A117, architecture!D117:E219, 2, FALSE)","v":3},1593,"Eukaryota"," Fungi"," Dikarya"," Basidiomycota"," Agaricomycotina","Agaricomycetes"," Agaricomycetidae"," Agaricales"," Omphalotaceae"," Gymnopus.",0,0]
["A0A0D0ECG9",{"$f":"VLOOKUP(A118, architecture!D118:E220, 2, FALSE)","v":3},1593,"Eukaryota"," Fungi"," Dikarya"," Basidiomycota"," Agaricomycotina","Agaricomycetes"," Agaricomycetidae"," Boletales"," Paxilineae"," Paxillaceae","Paxillus.",0]
["A0A0D1DW40",{"$f":"VLOOKUP(A119, architecture!D119:E221, 2, FALSE)","v":3},1568,"Eukaryota"," Fungi"," Dikarya"," Basidiomycota"," Ustilaginomycotina","Ustilaginomycetes"," Ustilaginales"," Ustilaginaceae"," Ustilago.",0,0,0]
["A0A0D1Y1X4",{"$f":"VLOOKUP(A120, architecture!D120:E222, 2, FALSE)","v":3},1552,"Eukaryota"," Fungi"," Dikarya"," Ascomycota"," Pezizomycotina"," Eurotiomycetes","Chaetothyriomycetidae"," Chaetothyriales"," Herpotrichiellaceae","Exophiala.",0,0]
["A0A0D1YTW6",{"$f":"VLOOKUP(A121, architecture!D121:E223, 2, FALSE)","v":3},1551,"Eukaryota"," Fungi"," Dikarya"," Ascomycota"," Pezizomycotina"," Eurotiomycetes","Chaetothyriomycetidae"," Chaetothyriales"," Herpotrichiellaceae","Exophiala.",0,0]
["A0A0D1ZYM2",{"$f":"VLOOKUP(A122, architecture!D122:E224, 2, FALSE)","v":3},1554,"Eukaryota"," Fungi"," Dikarya"," Ascomycota"," Pezizomycotina"," Eurotiomycetes","Chaetothyriomycetidae"," Chaetothyriales"," Herpotrichiellaceae","Exophiala.",0,0]
["A0A0D2A5A0",{"$f":"VLOOKUP(A123, architecture!D123:E225, 2, FALSE)","v":3},1562,"Eukaryota"," Fungi"," Dikarya"," Ascomycota"," Pezizomycotina","Dothideomycetes"," Dothideomycetes incertae sedis"," Venturiales","Sympoventuriaceae"," Verruconis.",0,0]
["A0A0D2AR99",{"$f":"VLOOKUP(A124, architecture!D124:E226, 2, FALSE)","v":3},1537,"Eukaryota"," Fungi"," Dikarya"," Ascomycota"," Pezizomycotina"," Eurotiomycetes","Chaetothyriomycetidae"," Chaetothyriales"," Herpotrichiellaceae","Exophiala.",0,0]
["A0A0D2CKN8",{"$f":"VLOOKUP(A125, architecture!D125:E227, 2, FALSE)","v":3},1561,"Eukaryota"," Fungi"," Dikarya"," Ascomycota"," Pezizomycotina"," Eurotiomycetes","Chaetothyriomycetidae"," Chaetothyriales"," Herpotrichiellaceae","Cladophialophora.",0,0]
["A0A0D2DJ28",{"$f":"VLOOKUP(A126, architecture!D126:E228, 2, FALSE)","v":3},1554,"Eukaryota"," Fungi"," Dikarya"," Ascomycota"," Pezizomycotina"," Eurotiomycetes","Chaetothyriomycetidae"," Chaetothyriales"," Herpotrichiellaceae","Exophiala.",0,0]
["A0A0D2E8D8",{"$f":"VLOOKUP(A127, architecture!D127:E229, 2, FALSE)","v":3},1554,"Eukaryota"," Fungi"," Dikarya"," Ascomycota"," Pezizomycotina"," Eurotiomycetes","Chaetothyriomycetidae"," Chaetothyriales"," Herpotrichiellaceae","Exophiala.",0,0]
["A0A0D2G1H9",{"$f":"VLOOKUP(A128, architecture!D128:E230, 2, FALSE)","v":3},1552,"Eukaryota"," Fungi"," Dikarya"," Ascomycota"," Pezizomycotina"," Eurotiomycetes","Chaetothyriomycetidae"," Chaetothyriales"," Herpotrichiellaceae","Phialophora.",0,0]
["A0A0D2HJE3",{"$f":"VLOOKUP(A129, architecture!D129:E231, 2, FALSE)","v":{"$error":"#N/A"}},1917,"Eukaryota"," Fungi"," Dikarya"," Ascomycota"," Pezizomycotina"," Eurotiomycetes","Chaetothyriomycetidae"," Chaetothyriales"," Herpotrichiellaceae","Fonsecaea.",0,0]
["A0A0D2I322",{"$f":"VLOOKUP(A130, architecture!D130:E232, 2, FALSE)","v":3},1534,"Eukaryota"," Fungi"," Dikarya"," Ascomycota"," Pezizomycotina"," Eurotiomycetes","Chaetothyriomycetidae"," Chaetothyriales"," Herpotrichiellaceae","Rhinocladiella.",0,0]
["A0A0D2KAA1",{"$f":"VLOOKUP(A131, architecture!D131:E233, 2, FALSE)","v":3},1538,"Eukaryota"," Fungi"," Dikarya"," Ascomycota"," Pezizomycotina"," Eurotiomycetes","Chaetothyriomycetidae"," Chaetothyriales"," Herpotrichiellaceae","Fonsecaea.",0,0]
["A0A0D2NY00",{"$f":"VLOOKUP(A132, architecture!D132:E234, 2, FALSE)","v":3},1591,"Eukaryota"," Fungi"," Dikarya"," Basidiomycota"," Agaricomycotina","Agaricomycetes"," Agaricomycetidae"," Agaricales"," Strophariaceae","Hypholoma.",0,0]
["A0A0D2X4G8",{"$f":"VLOOKUP(A133, architecture!D133:E235, 2, FALSE)","v":{"$error":"#N/A"}},1949,"Eukaryota"," Ichthyosporea"," Capsaspora.",0,0,0,0,0,0,0,0,0]
["A0A0D2XWJ8",{"$f":"VLOOKUP(A134, architecture!D134:E236, 2, FALSE)","v":3},1556,"Eukaryota"," Fungi"," Dikarya"," Ascomycota"," Pezizomycotina","Sordariomycetes"," Hypocreomycetidae"," Hypocreales"," Nectriaceae","Fusarium"," Fusarium oxysporum species complex.",0]
["A0A0D7AM24",{"$f":"VLOOKUP(A135, architecture!D135:E237, 2, FALSE)","v":3},1585,"Eukaryota"," Fungi"," Dikarya"," Basidiomycota"," Agaricomycotina","Agaricomycetes"," Agaricomycetidae"," Agaricales"," Fistulinaceae","Fistulina.",0,0]
["A0A0D7BL27",{"$f":"VLOOKUP(A136, architecture!D136:E238, 2, FALSE)","v":3},1575,"Eukaryota"," Fungi"," Dikarya"," Basidiomycota"," Agaricomycotina","Agaricomycetes"," Agaricomycetidae"," Agaricales"," Physalacriaceae","Cylindrobasidium.",0,0]
["A0A0D8Y173",{"$f":"VLOOKUP(A137, architecture!D137:E239, 2, FALSE)","v":{"$error":"#N/A"}},1440,"Eukaryota"," Metazoa"," Ecdysozoa"," Nematoda"," Chromadorea"," Rhabditida","Strongylida"," Trichostrongyloidea"," Dictyocaulidae"," Dictyocaulinae","Dictyocaulus.",0]
["A0A0D9N9Z1",{"$f":"VLOOKUP(A138, architecture!D138:E240, 2, FALSE)","v":3},1518,"Eukaryota"," Fungi"," Dikarya"," Ascomycota"," Pezizomycotina"," Eurotiomycetes","Eurotiomycetidae"," Eurotiales"," Aspergillaceae"," Aspergillus.",0,0]
["A0A0D9S6N5",{"$f":"VLOOKUP(A139, architecture!D139:E241, 2, FALSE)","v":3},1532,"Eukaryota"," Metazoa"," Chordata"," Craniata"," Vertebrata"," Euteleostomi","Mammalia"," Eutheria"," Euarchontoglires"," Primates"," Haplorrhini","Catarrhini"]
["A0A0E1RUZ2",{"$f":"VLOOKUP(A140, architecture!D140:E242, 2, FALSE)","v":3},1605,"Eukaryota"," Fungi"," Dikarya"," Ascomycota"," Pezizomycotina"," Eurotiomycetes","Eurotiomycetidae"," Onygenales"," Onygenales incertae sedis"," Coccidioides.",0,0]
["A0A0E9NAY6",{"$f":"VLOOKUP(A141, architecture!D141:E243, 2, FALSE)","v":3},1594,"Eukaryota"," Fungi"," Dikarya"," Ascomycota"," Taphrinomycotina","Taphrinomycotina incertae sedis"," Saitoella.",0,0,0,0,0]
["A0A0F0I5P1",{"$f":"VLOOKUP(A142, architecture!D142:E244, 2, FALSE)","v":3},1518,"Eukaryota"," Fungi"," Dikarya"," Ascomycota"," Pezizomycotina"," Eurotiomycetes","Eurotiomycetidae"," Eurotiales"," Aspergillaceae"," Aspergillus.",0,0]
["A0A0F4GBS7",{"$f":"VLOOKUP(A143, architecture!D143:E245, 2, FALSE)","v":3},1549,"Eukaryota"," Fungi"," Dikarya"," Ascomycota"," Pezizomycotina","Dothideomycetes"," Dothideomycetidae"," Capnodiales"," Mycosphaerellaceae","Zymoseptoria.",0,0]
["A0A0F4YRT6",{"$f":"VLOOKUP(A144, architecture!D144:E246, 2, FALSE)","v":3},1543,"Eukaryota"," Fungi"," Dikarya"," Ascomycota"," Pezizomycotina"," Eurotiomycetes","Eurotiomycetidae"," Eurotiales"," Trichocomaceae"," Rasamsonia.",0,0]
["A0A0F4ZGE2",{"$f":"VLOOKUP(A145, architecture!D145:E247, 2, FALSE)","v":3},1571,"Eukaryota"," Fungi"," Dikarya"," Ascomycota"," Pezizomycotina","Sordariomycetes"," Hypocreomycetidae"," Microascales"," Ceratocystidaceae","Thielaviopsis.",0,0]
["A0A0F7TMN7",{"$f":"VLOOKUP(A146, architecture!D146:E248, 2, FALSE)","v":3},1531,"Eukaryota"," Fungi"," Dikarya"," Ascomycota"," Pezizomycotina"," Eurotiomycetes","Eurotiomycetidae"," Eurotiales"," Aspergillaceae"," Penicillium.",0,0]
["A0A0F8A3N1",{"$f":"VLOOKUP(A147, architecture!D147:E249, 2, FALSE)","v":3},1565,"Eukaryota"," Fungi"," Dikarya"," Ascomycota"," Pezizomycotina","Sordariomycetes"," Hypocreomycetidae"," Hypocreales"," Ophiocordycipitaceae","Hirsutella.",0,0]
["A0A0F8B4S6",{"$f":"VLOOKUP(A148, architecture!D148:E250, 2, FALSE)","v":{"$error":"#N/A"}},1363,"Eukaryota"," Fungi"," Dikarya"," Ascomycota"," Pezizomycotina","Sordariomycetes"," Hypocreomycetidae"," Microascales"," Ceratocystidaceae","Ceratocystis.",0,0]
["A0A0F8UGN8",{"$f":"VLOOKUP(A149, architecture!D149:E251, 2, FALSE)","v":3},1537,"Eukaryota"," Fungi"," Dikarya"," Ascomycota"," Pezizomycotina"," Eurotiomycetes","Eurotiomycetidae"," Eurotiales"," Aspergillaceae"," Aspergillus.",0,0]
["A0A0F9X9B6",{"$f":"VLOOKUP(A150, architecture!D150:E252, 2, FALSE)","v":3},1557,"Eukaryota"," Fungi"," Dikarya"," Ascomycota"," Pezizomycotina","Sordariomycetes"," Hypocreomycetidae"," Hypocreales"," Hypocreaceae","Trichoderma.",0,0]
["A0A0G2E4D9",{"$f":"VLOOKUP(A151, architecture!D151:E253, 2, FALSE)","v":3},1545,"Eukaryota"," Fungi"," Dikarya"," Ascomycota"," Pezizomycotina","Dothideomycetes"," Dothideomycetes incertae sedis"," Botryosphaeriales","Botryosphaeriaceae"," Diplodia.",0,0]
["A0A0G2F9N9",{"$f":"VLOOKUP(A152, architecture!D152:E254, 2, FALSE)","v":3},1556,"Eukaryota"," Fungi"," Dikarya"," Ascomycota"," Pezizomycotina","Sordariomycetes"," Sordariomycetidae"," Diaporthales"," Diaporthaceae","Diaporthe.",0,0]
["A0A0G2FU03",{"$f":"VLOOKUP(A153, architecture!D153:E255, 2, FALSE)","v":{"$error":"#N/A"}},1920,"Eukaryota"," Fungi"," Dikarya"," Ascomycota"," Pezizomycotina"," Eurotiomycetes","Chaetothyriomycetidae"," Phaeomoniellales","Phaeomoniellales incertae sedis"," Phaeomoniella.",0,0]
["A0A0G2I3T6",{"$f":"VLOOKUP(A154, architecture!D154:E256, 2, FALSE)","v":3},1573,"Eukaryota"," Fungi"," Dikarya"," Ascomycota"," Pezizomycotina"," Eurotiomycetes","Eurotiomycetidae"," Onygenales"," Ajellomycetaceae"," Emmonsia.",0,0]
["A0A0G2JGI9",{"$f":"VLOOKUP(A155, architecture!D155:E257, 2, FALSE)","v":3},1279,"Eukaryota"," Metazoa"," Chordata"," Craniata"," Vertebrata"," Euteleostomi","Mammalia"," Eutheria"," Euarchontoglires"," Glires"," Rodentia"," Myomorpha"]
["A0A0G4G102",{"$f":"VLOOKUP(A156, architecture!D156:E258, 2, FALSE)","v":{"$error":"#N/A"}},1743,"Eukaryota"," Alveolata"," Chromerida"," Vitrella.",0,0,0,0,0,0,0,0]
["A0A0G4KZD0",{"$f":"VLOOKUP(A157, architecture!D157:E259, 2, FALSE)","v":{"$error":"#N/A"}},162,"Eukaryota"," Fungi"," Dikarya"," Ascomycota"," Pezizomycotina","Sordariomycetes"," Hypocreomycetidae"," Glomerellales","Plectosphaerellaceae"," Verticillium.",0,0]
["A0A0G4LQK9",{"$f":"VLOOKUP(A158, architecture!D158:E260, 2, FALSE)","v":3},1548,"Eukaryota"," Fungi"," Dikarya"," Ascomycota"," Pezizomycotina","Sordariomycetes"," Hypocreomycetidae"," Glomerellales","Plectosphaerellaceae"," Verticillium.",0,0]
["A0A0G4MAL6",{"$f":"VLOOKUP(A159, architecture!D159:E261, 2, FALSE)","v":3},1525,"Eukaryota"," Fungi"," Dikarya"," Ascomycota"," Pezizomycotina","Sordariomycetes"," Hypocreomycetidae"," Glomerellales","Plectosphaerellaceae"," Verticillium.",0,0]
["A0A0G4NW80",{"$f":"VLOOKUP(A160, architecture!D160:E262, 2, FALSE)","v":3},1534,"Eukaryota"," Fungi"," Dikarya"," Ascomycota"," Pezizomycotina"," Eurotiomycetes","Eurotiomycetidae"," Eurotiales"," Aspergillaceae"," Penicillium.",0,0]
["A0A0H1B6U3",{"$f":"VLOOKUP(A161, architecture!D161:E263, 2, FALSE)","v":3},1579,"Eukaryota"," Fungi"," Dikarya"," Ascomycota"," Pezizomycotina"," Eurotiomycetes","Eurotiomycetidae"," Onygenales"," Ajellomycetaceae"," Emmonsia.",0,0]
["A0A0H2RII2",{"$f":"VLOOKUP(A162, architecture!D162:E264, 2, FALSE)","v":3},1619,"Eukaryota"," Fungi"," Dikarya"," Basidiomycota"," Agaricomycotina","Agaricomycetes"," Hymenochaetales"," Schizoporaceae"," Schizopora.",0,0,0]
["A0A0H5C1A1",{"$f":"VLOOKUP(A163, architecture!D163:E265, 2, FALSE)","v":{"$error":"#N/A"}},798,"Eukaryota"," Fungi"," Dikarya"," Ascomycota"," Saccharomycotina","Saccharomycetes"," Saccharomycetales"," Phaffomycetaceae"," Cyberlindnera.",0,0,0]
["A0A0J0XP15",{"$f":"VLOOKUP(A164, architecture!D164:E266, 2, FALSE)","v":3},1602,"Eukaryota"," Fungi"," Dikarya"," Basidiomycota"," Agaricomycotina","Tremellomycetes"," Trichosporonales"," Trichosporonaceae","Cutaneotrichosporon.",0,0,0]
["A0A0J7BGE2",{"$f":"VLOOKUP(A165, architecture!D165:E267, 2, FALSE)","v":3},1512,"Eukaryota"," Fungi"," Dikarya"," Ascomycota"," Pezizomycotina"," Eurotiomycetes","Eurotiomycetidae"," Onygenales"," Onygenales incertae sedis"," Coccidioides.",0,0]
["A0A0J7NAZ8",{"$f":"VLOOKUP(A166, architecture!D166:E268, 2, FALSE)","v":{"$error":"#N/A"}},946,"Eukaryota"," Metazoa"," Ecdysozoa"," Arthropoda"," Hexapoda"," Insecta","Pterygota"," Neoptera"," Holometabola"," Hymenoptera"," Apocrita"," Aculeata"]
["A0A0J8TWI9",{"$f":"VLOOKUP(A167, architecture!D167:E269, 2, FALSE)","v":3},1605,"Eukaryota"," Fungi"," Dikarya"," Ascomycota"," Pezizomycotina"," Eurotiomycetes","Eurotiomycetidae"," Onygenales"," Onygenales incertae sedis"," Coccidioides.",0,0]
["A0A0K6GIF6",{"$f":"VLOOKUP(A168, architecture!D168:E270, 2, FALSE)","v":3},1609,"Eukaryota"," Fungi"," Dikarya"," Basidiomycota"," Agaricomycotina","Agaricomycetes"," Cantharellales"," Ceratobasidiaceae"," Rhizoctonia.",0,0,0]
["A0A0K8LPV6",{"$f":"VLOOKUP(A169, architecture!D169:E271, 2, FALSE)","v":{"$error":"#N/A"}},2382,"Eukaryota"," Fungi"," Dikarya"," Ascomycota"," Pezizomycotina"," Eurotiomycetes","Eurotiomycetidae"," Eurotiales"," Aspergillaceae"," Aspergillus.",0,0]
["A0A0L0BUP1",{"$f":"VLOOKUP(A170, architecture!D170:E272, 2, FALSE)","v":3},1322,"Eukaryota"," Metazoa"," Ecdysozoa"," Arthropoda"," Hexapoda"," Insecta","Pterygota"," Neoptera"," Holometabola"," Diptera"," Brachycera"," Muscomorpha"]
["A0A0L0FY95",{"$f":"VLOOKUP(A171, architecture!D171:E273, 2, FALSE)","v":{"$error":"#N/A"}},897,"Eukaryota"," Ichthyosporea"," Ichthyophonida"," Sphaeroforma.",0,0,0,0,0,0,0,0]
["A0A0L0HGW7",{"$f":"VLOOKUP(A172, architecture!D172:E274, 2, FALSE)","v":3},1741,"Eukaryota"," Fungi"," Chytridiomycota"," Chytridiomycetes","Spizellomycetales"," Spizellomycetaceae"," Spizellomyces.",0,0,0,0,0]
["A0A0L0N7E7",{"$f":"VLOOKUP(A173, architecture!D173:E275, 2, FALSE)","v":3},1560,"Eukaryota"," Fungi"," Dikarya"," Ascomycota"," Pezizomycotina","Sordariomycetes"," Hypocreomycetidae"," Hypocreales"," Ophiocordycipitaceae","Tolypocladium.",0,0]
["A0A0L0P4J2",{"$f":"VLOOKUP(A174, architecture!D174:E276, 2, FALSE)","v":3},1514,"Eukaryota"," Fungi"," Dikarya"," Ascomycota"," Saccharomycotina","Saccharomycetes"," Saccharomycetales"," Metschnikowiaceae"," Clavispora","Clavispora/Candida clade.",0,0]
["A0A0L0TEU8",{"$f":"VLOOKUP(A175, architecture!D175:E277, 2, FALSE)","v":3},1651,"Eukaryota"," Fungi"," Blastocladiomycota"," Blastocladiomycetes","Blastocladiales"," Blastocladiaceae"," Allomyces.",0,0,0,0,0]
["A0A0L0TF30",{"$f":"VLOOKUP(A176, architecture!D176:E278, 2, FALSE)","v":{"$error":"#N/A"}},1402,"Eukaryota"," Fungi"," Blastocladiomycota"," Blastocladiomycetes","Blastocladiales"," Blastocladiaceae"," Allomyces.",0,0,0,0,0]
["A0A0L0VQ97",{"$f":"VLOOKUP(A177, architecture!D177:E279, 2, FALSE)","v":3},1628,"Eukaryota"," Fungi"," Dikarya"," Basidiomycota"," Pucciniomycotina","Pucciniomycetes"," Pucciniales"," Pucciniaceae"," Puccinia.",0,0,0]
["A0A0L1HSN2",{"$f":"VLOOKUP(A178, architecture!D178:E280, 2, FALSE)","v":{"$error":"#N/A"}},2266,"Eukaryota"," Fungi"," Dikarya"," Ascomycota"," Pezizomycotina","Dothideomycetes"," Pleosporomycetidae"," Pleosporales"," Pleosporineae","Pleosporaceae"," Stemphylium.",0]
["A0A0L1J5G2",{"$f":"VLOOKUP(A179, architecture!D179:E281, 2, FALSE)","v":{"$error":"#N/A"}},2214,"Eukaryota"," Fungi"," Dikarya"," Ascomycota"," Pezizomycotina"," Eurotiomycetes","Eurotiomycetidae"," Eurotiales"," Aspergillaceae"," Aspergillus.",0,0]
["A0A0L6UGP3",{"$f":"VLOOKUP(A180, architecture!D180:E282, 2, FALSE)","v":3},1642,"Eukaryota"," Fungi"," Dikarya"," Basidiomycota"," Pucciniomycotina","Pucciniomycetes"," Pucciniales"," Pucciniaceae"," Puccinia.",0,0,0]
["A0A0L6WZ71",{"$f":"VLOOKUP(A181, architecture!D181:E283, 2, FALSE)","v":{"$error":"#N/A"}},1871,"Eukaryota"," Fungi"," Dikarya"," Basidiomycota"," Agaricomycotina","Agaricomycetes"," Agaricomycetidae"," Agaricales"," Lyophyllaceae","Termitomyces.",0,0]
["A0A0L7QQA0",{"$f":"VLOOKUP(A182, architecture!D182:E284, 2, FALSE)","v":3},1970,"Eukaryota"," Metazoa"," Ecdysozoa"," Arthropoda"," Hexapoda"," Insecta","Pterygota"," Neoptera"," Holometabola"," Hymenoptera"," Apocrita"," Aculeata"]
["A0A0L9T245",{"$f":"VLOOKUP(A183, architecture!D183:E285, 2, FALSE)","v":3},1568,{"$error":"#N/A"},{"$error":"#N/A"},{"$error":"#N/A"},{"$error":"#N/A"},{"$error":"#N/A"},{"$error":"#N/A"},{"$error":"#N/A"},{"$error":"#N/A"},{"$error":"#N/A"},{"$error":"#N/A"},{"$error":"#N/A"},{"$error":"#N/A"}]
["A0A0M8N0M3",{"$f":"VLOOKUP(A184, architecture!D184:E286, 2, FALSE)","v":3},1557,"Eukaryota"," Fungi"," Dikarya"," Ascomycota"," Pezizomycotina","Sordariomycetes"," Hypocreomycetidae"," Hypocreales"," Hypocreaceae","Escovopsis.",0,0]
["A0A0M9A074",{"$f":"VLOOKUP(A185, architecture!D185:E287, 2, FALSE)","v":{"$error":"#N/A"}},1877,"Eukaryota"," Metazoa"," Ecdysozoa"," Arthropoda"," Hexapoda"," Insecta","Pterygota"," Neoptera"," Holometabola"," Hymenoptera"," Apocrita"," Aculeata"]
["A0A0M9EXZ4",{"$f":"VLOOKUP(A186, architecture!D186:E288, 2, FALSE)","v":3},1553,"Eukaryota"," Fungi"," Dikarya"," Ascomycota"," Pezizomycotina","Sordariomycetes"," Hypocreomycetidae"," Hypocreales"," Nectriaceae","Fusarium.",0,0]
["A0A0M9WGZ0",{"$f":"VLOOKUP(A187, architecture!D187:E289, 2, FALSE)","v":3},1535,"Eukaryota"," Fungi"," Dikarya"," Ascomycota"," Pezizomycotina"," Eurotiomycetes","Eurotiomycetidae"," Eurotiales"," Aspergillaceae"," Penicillium.",0,0]
["A0A0N0NS63",{"$f":"VLOOKUP(A188, architecture!D188:E290, 2, FALSE)","v":3},1538,"Eukaryota"," Fungi"," Dikarya"," Ascomycota"," Pezizomycotina"," Eurotiomycetes","Chaetothyriomycetidae"," Chaetothyriales"," Herpotrichiellaceae","Phialophora.",0,0]
["A0A0N4T439",{"$f":"VLOOKUP(A189, architecture!D189:E291, 2, FALSE)","v":{"$error":"#N/A"}},827,"Eukaryota"," Metazoa"," Ecdysozoa"," Nematoda"," Chromadorea"," Spirurida","Spiruromorpha"," Filarioidea"," Onchocercidae"," Brugia.",0,0]
["A0A0N4VVA2",{"$f":"VLOOKUP(A190, architecture!D190:E292, 2, FALSE)","v":{"$error":"#N/A"}},194,"Eukaryota"," Metazoa"," Ecdysozoa"," Nematoda"," Chromadorea"," Rhabditida","Strongylida"," Trichostrongyloidea"," Haemonchidae"," Haemonchinae","Haemonchus.",0]
["A0A0N4ZYY6",{"$f":"VLOOKUP(A191, architecture!D191:E293, 2, FALSE)","v":3},1476,"Eukaryota"," Metazoa"," Ecdysozoa"," Nematoda"," Chromadorea"," Tylenchida","Panagrolaimomorpha"," Strongyloidoidea"," Strongyloididae","Parastrongyloides.",0,0]
["A0A0N5CNJ6",{"$f":"VLOOKUP(A192, architecture!D192:E294, 2, FALSE)","v":{"$error":"#N/A"}},1448,"Eukaryota"," Metazoa"," Ecdysozoa"," Nematoda"," Chromadorea"," Spirurida","Spiruromorpha"," Thelazioidea"," Thelaziidae"," Thelazia.",0,0]
["A0A0P1BQ20",{"$f":"VLOOKUP(A193, architecture!D193:E295, 2, FALSE)","v":3},1601,"Eukaryota"," Fungi"," Dikarya"," Basidiomycota"," Ustilaginomycotina","Exobasidiomycetes"," Ceraceosorales"," Ceraceosoraceae"," Ceraceosorus.",0,0,0]
["A0A0P7BVC3",{"$f":"VLOOKUP(A194, architecture!D194:E296, 2, FALSE)","v":3},1553,"Eukaryota"," Fungi"," Dikarya"," Ascomycota"," Pezizomycotina","Sordariomycetes"," Hypocreomycetidae"," Hypocreales"," Nectriaceae","Neonectria.",0,0]
["A0A0P7USB6",{"$f":"VLOOKUP(A195, architecture!D195:E297, 2, FALSE)","v":3},1158,"Eukaryota"," Metazoa"," Chordata"," Craniata"," Vertebrata"," Euteleostomi","Actinopterygii"," Neopterygii"," Teleostei"," Osteoglossocephala","Osteoglossomorpha"," Osteoglossiformes"]
["A0A0P8XMZ1",{"$f":"VLOOKUP(A196, architecture!D196:E298, 2, FALSE)","v":3},1546,"Eukaryota"," Metazoa"," Ecdysozoa"," Arthropoda"," Hexapoda"," Insecta","Pterygota"," Neoptera"," Holometabola"," Diptera"," Brachycera"," Muscomorpha"]
["A0A0P9AD98",{"$f":"VLOOKUP(A197, architecture!D197:E299, 2, FALSE)","v":3},1539,"Eukaryota"," Metazoa"," Ecdysozoa"," Arthropoda"," Hexapoda"," Insecta","Pterygota"," Neoptera"," Holometabola"," Diptera"," Brachycera"," Muscomorpha"]
["A0A0Q3LTJ5",{"$f":"VLOOKUP(A198, architecture!D198:E300, 2, FALSE)","v":3},1530,"Eukaryota"," Metazoa"," Chordata"," Craniata"," Vertebrata"," Euteleostomi","Archelosauria"," Archosauria"," Dinosauria"," Saurischia"," Theropoda","Coelurosauria"]
["A0A0Q9W6A7",{"$f":"VLOOKUP(A199, architecture!D199:E301, 2, FALSE)","v":3},1572,"Eukaryota"," Metazoa"," Ecdysozoa"," Arthropoda"," Hexapoda"," Insecta","Pterygota"," Neoptera"," Holometabola"," Diptera"," Brachycera"," Muscomorpha"]
["A0A0Q9WH87",{"$f":"VLOOKUP(A200, architecture!D200:E302, 2, FALSE)","v":3},1538,"Eukaryota"," Metazoa"," Ecdysozoa"," Arthropoda"," Hexapoda"," Insecta","Pterygota"," Neoptera"," Holometabola"," Diptera"," Brachycera"," Muscomorpha"]
["A0A0Q9X8G5",{"$f":"VLOOKUP(A201, architecture!D201:E303, 2, FALSE)","v":3},1601,"Eukaryota"," Metazoa"," Ecdysozoa"," Arthropoda"," Hexapoda"," Insecta","Pterygota"," Neoptera"," Holometabola"," Diptera"," Brachycera"," Muscomorpha"]
["A0A0Q9X9A0",{"$f":"VLOOKUP(A202, architecture!D202:E304, 2, FALSE)","v":3},1538,"Eukaryota"," Metazoa"," Ecdysozoa"," Arthropoda"," Hexapoda"," Insecta","Pterygota"," Neoptera"," Holometabola"," Diptera"," Brachycera"," Muscomorpha"]
["A0A0Q9XL69",{"$f":"VLOOKUP(A203, architecture!D203:E305, 2, FALSE)","v":3},1580,"Eukaryota"," Metazoa"," Ecdysozoa"," Arthropoda"," Hexapoda"," Insecta","Pterygota"," Neoptera"," Holometabola"," Diptera"," Brachycera"," Muscomorpha"]
["A0A0R3NSL8",{"$f":"VLOOKUP(A204, architecture!D204:E306, 2, FALSE)","v":3},1583,"Eukaryota"," Metazoa"," Ecdysozoa"," Arthropoda"," Hexapoda"," Insecta","Pterygota"," Neoptera"," Holometabola"," Diptera"," Brachycera"," Muscomorpha"]
["A0A0R3PR76",{"$f":"VLOOKUP(A205, architecture!D205:E307, 2, FALSE)","v":3},1448,"Eukaryota"," Metazoa"," Ecdysozoa"," Nematoda"," Chromadorea"," Rhabditida","Strongylida"," Metastrongyloidea"," Angiostrongylidae"," Angiostrongylus.",0,0]
["A0A0R3RCE9",{"$f":"VLOOKUP(A206, architecture!D206:E308, 2, FALSE)","v":{"$error":"#N/A"}},257,"Eukaryota"," Metazoa"," Ecdysozoa"," Nematoda"," Chromadorea"," Spirurida","Spiruromorpha"," Filarioidea"," Onchocercidae"," Brugia.",0,0]
["A0A0R3S651",{"$f":"VLOOKUP(A207, architecture!D207:E309, 2, FALSE)","v":{"$error":"#N/A"}},844,"Eukaryota"," Metazoa"," Ecdysozoa"," Nematoda"," Chromadorea"," Spirurida","Spiruromorpha"," Filarioidea"," Onchocercidae"," Elaeophora.",0,0]
["A0A0R3TSV0",{"$f":"VLOOKUP(A208, architecture!D208:E310, 2, FALSE)","v":3},1524,"Eukaryota"," Metazoa"," Platyhelminthes"," Cestoda"," Eucestoda","Cyclophyllidea"," Hymenolepididae"," Hymenolepis.",0,0,0,0]
["A0A0R3U9I3",{"$f":"VLOOKUP(A209, architecture!D209:E311, 2, FALSE)","v":{"$error":"#N/A"}},942,"Eukaryota"," Metazoa"," Platyhelminthes"," Cestoda"," Eucestoda","Cyclophyllidea"," Mesocestoididae"," Mesocestoides.",0,0,0,0]
["A0A0R3UQS6",{"$f":"VLOOKUP(A210, architecture!D210:E312, 2, FALSE)","v":{"$error":"#N/A"}},856,"Eukaryota"," Metazoa"," Platyhelminthes"," Cestoda"," Eucestoda","Cyclophyllidea"," Mesocestoididae"," Mesocestoides.",0,0,0,0]
["A0A0R3XAA9",{"$f":"VLOOKUP(A211, architecture!D211:E313, 2, FALSE)","v":{"$error":"#N/A"}},493,"Eukaryota"," Metazoa"," Platyhelminthes"," Cestoda"," Eucestoda","Cyclophyllidea"," Taeniidae"," Hydatigera.",0,0,0,0]
["A0A0R4IF54",{"$f":"VLOOKUP(A212, architecture!D212:E314, 2, FALSE)","v":3},1533,"Eukaryota"," Metazoa"," Chordata"," Craniata"," Vertebrata"," Euteleostomi","Actinopterygii"," Neopterygii"," Teleostei"," Ostariophysi"," Cypriniformes","Cyprinidae"]
["A0A0R4IH04",{"$f":"VLOOKUP(A213, architecture!D213:E315, 2, FALSE)","v":{"$error":"#N/A"}},996,"Eukaryota"," Metazoa"," Chordata"," Craniata"," Vertebrata"," Euteleostomi","Actinopterygii"," Neopterygii"," Teleostei"," Ostariophysi"," Cypriniformes","Cyprinidae"]
["A0A0R4IU33",{"$f":"VLOOKUP(A214, architecture!D214:E316, 2, FALSE)","v":3},1533,"Eukaryota"," Metazoa"," Chordata"," Craniata"," Vertebrata"," Euteleostomi","Actinopterygii"," Neopterygii"," Teleostei"," Ostariophysi"," Cypriniformes","Cyprinidae"]
["A0A0R4IV67",{"$f":"VLOOKUP(A215, architecture!D215:E317, 2, FALSE)","v":3},1532,"Eukaryota"," Metazoa"," Chordata"," Craniata"," Vertebrata"," Euteleostomi","Actinopterygii"," Neopterygii"," Teleostei"," Ostariophysi"," Cypriniformes","Cyprinidae"]
["A0A0R4IZH8",{"$f":"VLOOKUP(A216, architecture!D216:E318, 2, FALSE)","v":3},1532,"Eukaryota"," Metazoa"," Chordata"," Craniata"," Vertebrata"," Euteleostomi","Actinopterygii"," Neopterygii"," Teleostei"," Ostariophysi"," Cypriniformes","Cyprinidae"]
["A0A0S7E419",{"$f":"VLOOKUP(A217, architecture!D217:E319, 2, FALSE)","v":3},1527,"Eukaryota"," Fungi"," Dikarya"," Ascomycota"," Pezizomycotina"," Eurotiomycetes","Eurotiomycetidae"," Eurotiales"," Aspergillaceae"," Aspergillus.",0,0]
["A0A0T6B546",{"$f":"VLOOKUP(A218, architecture!D218:E320, 2, FALSE)","v":{"$error":"#N/A"}},950,"Eukaryota"," Metazoa"," Ecdysozoa"," Arthropoda"," Hexapoda"," Insecta","Pterygota"," Neoptera"," Holometabola"," Coleoptera"," Polyphaga","Scarabaeiformia"]
["A0A0U1M6K4",{"$f":"VLOOKUP(A219, architecture!D219:E321, 2, FALSE)","v":3},1524,"Eukaryota"," Fungi"," Dikarya"," Ascomycota"," Pezizomycotina"," Eurotiomycetes","Eurotiomycetidae"," Eurotiales"," Trichocomaceae"," Talaromyces.",0,0]
["A0A0U5G358",{"$f":"VLOOKUP(A220, architecture!D220:E322, 2, FALSE)","v":3},1537,"Eukaryota"," Fungi"," Dikarya"," Ascomycota"," Pezizomycotina"," Eurotiomycetes","Eurotiomycetidae"," Eurotiales"," Aspergillaceae"," Aspergillus.",0,0]
["A0A0V0QAH6",{"$f":"VLOOKUP(A221, architecture!D221:E323, 2, FALSE)","v":{"$error":"#N/A"}},2516,"Eukaryota"," Alveolata"," Ciliophora"," Intramacronucleata","Oligohymenophorea"," Scuticociliatia"," Philasterida"," Pseudocohnilembidae","Pseudocohnilembus.",0,0,0]
["A0A0V0R3M8",{"$f":"VLOOKUP(A222, architecture!D222:E324, 2, FALSE)","v":{"$error":"#N/A"}},1959,"Eukaryota"," Alveolata"," Ciliophora"," Intramacronucleata","Oligohymenophorea"," Scuticociliatia"," Philasterida"," Pseudocohnilembidae","Pseudocohnilembus.",0,0,0]
["A0A0V0SG53",{"$f":"VLOOKUP(A223, architecture!D223:E325, 2, FALSE)","v":{"$error":"#N/A"}},1713,"Eukaryota"," Metazoa"," Ecdysozoa"," Nematoda"," Enoplea"," Dorylaimia","Trichinellida"," Trichinellidae"," Trichinella.",0,0,0]
["A0A0V0TWA6",{"$f":"VLOOKUP(A224, architecture!D224:E326, 2, FALSE)","v":3},1601,"Eukaryota"," Metazoa"," Ecdysozoa"," Nematoda"," Enoplea"," Dorylaimia","Trichinellida"," Trichinellidae"," Trichinella.",0,0,0]
["A0A0V0TWF8",{"$f":"VLOOKUP(A225, architecture!D225:E327, 2, FALSE)","v":3},1625,"Eukaryota"," Metazoa"," Ecdysozoa"," Nematoda"," Enoplea"," Dorylaimia","Trichinellida"," Trichinellidae"," Trichinella.",0,0,0]
["A0A0V0TWQ3",{"$f":"VLOOKUP(A226, architecture!D226:E328, 2, FALSE)","v":{"$error":"#N/A"}},946,"Eukaryota"," Metazoa"," Ecdysozoa"," Nematoda"," Enoplea"," Dorylaimia","Trichinellida"," Trichinellidae"," Trichinella.",0,0,0]
["A0A0V0VQX3",{"$f":"VLOOKUP(A227, architecture!D227:E329, 2, FALSE)","v":{"$error":"#N/A"}},966,"Eukaryota"," Metazoa"," Ecdysozoa"," Nematoda"," Enoplea"," Dorylaimia","Trichinellida"," Trichinellidae"," Trichinella.",0,0,0]
["A0A0V0VQX8",{"$f":"VLOOKUP(A228, architecture!D228:E330, 2, FALSE)","v":3},1619,"Eukaryota"," Metazoa"," Ecdysozoa"," Nematoda"," Enoplea"," Dorylaimia","Trichinellida"," Trichinellidae"," Trichinella.",0,0,0]
["A0A0V0VQY2",{"$f":"VLOOKUP(A229, architecture!D229:E331, 2, FALSE)","v":{"$error":"#N/A"}},671,"Eukaryota"," Metazoa"," Ecdysozoa"," Nematoda"," Enoplea"," Dorylaimia","Trichinellida"," Trichinellidae"," Trichinella.",0,0,0]
["A0A0V0VQY7",{"$f":"VLOOKUP(A230, architecture!D230:E332, 2, FALSE)","v":3},1595,"Eukaryota"," Metazoa"," Ecdysozoa"," Nematoda"," Enoplea"," Dorylaimia","Trichinellida"," Trichinellidae"," Trichinella.",0,0,0]
["A0A0V0X128",{"$f":"VLOOKUP(A231, architecture!D231:E333, 2, FALSE)","v":{"$error":"#N/A"}},1729,"Eukaryota"," Metazoa"," Ecdysozoa"," Nematoda"," Enoplea"," Dorylaimia","Trichinellida"," Trichinellidae"," Trichinella.",0,0,0]
["A0A0V0X1D4",{"$f":"VLOOKUP(A232, architecture!D232:E334, 2, FALSE)","v":{"$error":"#N/A"}},1759,"Eukaryota"," Metazoa"," Ecdysozoa"," Nematoda"," Enoplea"," Dorylaimia","Trichinellida"," Trichinellidae"," Trichinella.",0,0,0]
["A0A0V0X1F2",{"$f":"VLOOKUP(A233, architecture!D233:E335, 2, FALSE)","v":3},1504,"Eukaryota"," Metazoa"," Ecdysozoa"," Nematoda"," Enoplea"," Dorylaimia","Trichinellida"," Trichinellidae"," Trichinella.",0,0,0]
["A0A0V0X1G1",{"$f":"VLOOKUP(A234, architecture!D234:E336, 2, FALSE)","v":{"$error":"#N/A"}},1724,"Eukaryota"," Metazoa"," Ecdysozoa"," Nematoda"," Enoplea"," Dorylaimia","Trichinellida"," Trichinellidae"," Trichinella.",0,0,0]
["A0A0V0X1J3",{"$f":"VLOOKUP(A235, architecture!D235:E337, 2, FALSE)","v":3},1595,"Eukaryota"," Metazoa"," Ecdysozoa"," Nematoda"," Enoplea"," Dorylaimia","Trichinellida"," Trichinellidae"," Trichinella.",0,0,0]
["A0A0V0Y4S8",{"$f":"VLOOKUP(A236, architecture!D236:E338, 2, FALSE)","v":3},1561,"Eukaryota"," Metazoa"," Ecdysozoa"," Nematoda"," Enoplea"," Dorylaimia","Trichinellida"," Trichinellidae"," Trichinella.",0,0,0]
["A0A0V0Y4W1",{"$f":"VLOOKUP(A237, architecture!D237:E339, 2, FALSE)","v":3},1574,"Eukaryota"," Metazoa"," Ecdysozoa"," Nematoda"," Enoplea"," Dorylaimia","Trichinellida"," Trichinellidae"," Trichinella.",0,0,0]
["A0A0V1AFM7",{"$f":"VLOOKUP(A238, architecture!D238:E340, 2, FALSE)","v":3},1590,"Eukaryota"," Metazoa"," Ecdysozoa"," Nematoda"," Enoplea"," Dorylaimia","Trichinellida"," Trichinellidae"," Trichinella.",0,0,0]
["A0A0V1AG06",{"$f":"VLOOKUP(A239, architecture!D239:E341, 2, FALSE)","v":3},1504,"Eukaryota"," Metazoa"," Ecdysozoa"," Nematoda"," Enoplea"," Dorylaimia","Trichinellida"," Trichinellidae"," Trichinella.",0,0,0]
["A0A0V1AHE9",{"$f":"VLOOKUP(A240, architecture!D240:E342, 2, FALSE)","v":3},1596,"Eukaryota"," Metazoa"," Ecdysozoa"," Nematoda"," Enoplea"," Dorylaimia","Trichinellida"," Trichinellidae"," Trichinella.",0,0,0]
["A0A0V1CSK8",{"$f":"VLOOKUP(A241, architecture!D241:E343, 2, FALSE)","v":3},1464,"Eukaryota"," Metazoa"," Ecdysozoa"," Nematoda"," Enoplea"," Dorylaimia","Trichinellida"," Trichinellidae"," Trichinella.",0,0,0]
["A0A0V1CSQ0",{"$f":"VLOOKUP(A242, architecture!D242:E344, 2, FALSE)","v":3},1619,"Eukaryota"," Metazoa"," Ecdysozoa"," Nematoda"," Enoplea"," Dorylaimia","Trichinellida"," Trichinellidae"," Trichinella.",0,0,0]
["A0A0V1CT18",{"$f":"VLOOKUP(A243, architecture!D243:E345, 2, FALSE)","v":{"$error":"#N/A"}},1742,"Eukaryota"," Metazoa"," Ecdysozoa"," Nematoda"," Enoplea"," Dorylaimia","Trichinellida"," Trichinellidae"," Trichinella.",0,0,0]
["A0A0V1CUE4",{"$f":"VLOOKUP(A244, architecture!D244:E346, 2, FALSE)","v":{"$error":"#N/A"}},1737,"Eukaryota"," Metazoa"," Ecdysozoa"," Nematoda"," Enoplea"," Dorylaimia","Trichinellida"," Trichinellidae"," Trichinella.",0,0,0]
["A0A0V1HRF5",{"$f":"VLOOKUP(A245, architecture!D245:E347, 2, FALSE)","v":{"$error":"#N/A"}},1067,"Eukaryota"," Metazoa"," Ecdysozoa"," Nematoda"," Enoplea"," Dorylaimia","Trichinellida"," Trichinellidae"," Trichinella.",0,0,0]
["A0A0V1L3P3",{"$f":"VLOOKUP(A246, architecture!D246:E348, 2, FALSE)","v":{"$error":"#N/A"}},1715,"Eukaryota"," Metazoa"," Ecdysozoa"," Nematoda"," Enoplea"," Dorylaimia","Trichinellida"," Trichinellidae"," Trichinella.",0,0,0]
["A0A0V1L3R1",{"$f":"VLOOKUP(A247, architecture!D247:E349, 2, FALSE)","v":{"$error":"#N/A"}},1702,"Eukaryota"," Metazoa"," Ecdysozoa"," Nematoda"," Enoplea"," Dorylaimia","Trichinellida"," Trichinellidae"," Trichinella.",0,0,0]
["A0A0V1L4L3",{"$f":"VLOOKUP(A248, architecture!D248:E350, 2, FALSE)","v":3},1586,"Eukaryota"," Metazoa"," Ecdysozoa"," Nematoda"," Enoplea"," Dorylaimia","Trichinellida"," Trichinellidae"," Trichinella.",0,0,0]
["A0A0V1PH35",{"$f":"VLOOKUP(A249, architecture!D249:E351, 2, FALSE)","v":{"$error":"#N/A"}},1759,"Eukaryota"," Metazoa"," Ecdysozoa"," Nematoda"," Enoplea"," Dorylaimia","Trichinellida"," Trichinellidae"," Trichinella.",0,0,0]
["A0A0V1PHD2",{"$f":"VLOOKUP(A250, architecture!D250:E352, 2, FALSE)","v":{"$error":"#N/A"}},1738,"Eukaryota"," Metazoa"," Ecdysozoa"," Nematoda"," Enoplea"," Dorylaimia","Trichinellida"," Trichinellidae"," Trichinella.",0,0,0]
["A0A0W0FZI5",{"$f":"VLOOKUP(A251, architecture!D251:E353, 2, FALSE)","v":3},1593,"Eukaryota"," Fungi"," Dikarya"," Basidiomycota"," Agaricomycotina","Agaricomycetes"," Agaricomycetidae"," Agaricales"," Marasmiaceae","Moniliophthora.",0,0]
["A0A0W4ZQK3",{"$f":"VLOOKUP(A252, architecture!D252:E354, 2, FALSE)","v":3},1516,"Eukaryota"," Fungi"," Dikarya"," Ascomycota"," Taphrinomycotina","Pneumocystidomycetes"," Pneumocystidaceae"," Pneumocystis.",0,0,0,0]
["A0A0W4ZUI4",{"$f":"VLOOKUP(A253, architecture!D253:E355, 2, FALSE)","v":3},1516,"Eukaryota"," Fungi"," Dikarya"," Ascomycota"," Taphrinomycotina","Pneumocystidomycetes"," Pneumocystidaceae"," Pneumocystis.",0,0,0,0]
["A0A0W7W367",{"$f":"VLOOKUP(A254, architecture!D254:E356, 2, FALSE)","v":3},1557,"Eukaryota"," Fungi"," Dikarya"," Ascomycota"," Pezizomycotina","Sordariomycetes"," Hypocreomycetidae"," Hypocreales"," Hypocreaceae","Trichoderma.",0,0]
["A0A101MIR9",{"$f":"VLOOKUP(A255, architecture!D255:E357, 2, FALSE)","v":3},1534,"Eukaryota"," Fungi"," Dikarya"," Ascomycota"," Pezizomycotina"," Eurotiomycetes","Eurotiomycetidae"," Eurotiales"," Aspergillaceae"," Penicillium.",0,0]
["A0A109FAQ5",{"$f":"VLOOKUP(A256, architecture!D256:E358, 2, FALSE)","v":3},1612,"Eukaryota"," Fungi"," Dikarya"," Basidiomycota"," Pucciniomycotina","Microbotryomycetes"," Sporidiobolales"," Sporidiobolaceae"," Rhodotorula.",0,0,0]
["A0A124BUR9",{"$f":"VLOOKUP(A257, architecture!D257:E359, 2, FALSE)","v":{"$error":"#N/A"}},2359,"Eukaryota"," Fungi"," Dikarya"," Ascomycota"," Pezizomycotina"," Eurotiomycetes","Eurotiomycetidae"," Eurotiales"," Aspergillaceae"," Aspergillus.",0,0]
["A0A132A5T5",{"$f":"VLOOKUP(A258, architecture!D258:E360, 2, FALSE)","v":{"$error":"#N/A"}},1435,"Eukaryota"," Metazoa"," Ecdysozoa"," Arthropoda"," Chelicerata"," Arachnida","Acari"," Acariformes"," Sarcoptiformes"," Astigmata"," Psoroptidia","Sarcoptoidea"]
["A0A135LZ37",{"$f":"VLOOKUP(A259, architecture!D259:E361, 2, FALSE)","v":3},1534,"Eukaryota"," Fungi"," Dikarya"," Ascomycota"," Pezizomycotina"," Eurotiomycetes","Eurotiomycetidae"," Eurotiales"," Aspergillaceae"," Penicillium.",0,0]
["A0A135RMG2",{"$f":"VLOOKUP(A260, architecture!D260:E362, 2, FALSE)","v":3},1568,"Eukaryota"," Fungi"," Dikarya"," Ascomycota"," Pezizomycotina","Sordariomycetes"," Hypocreomycetidae"," Glomerellales"," Glomerellaceae","Colletotrichum.",0,0]
["A0A135UQZ0",{"$f":"VLOOKUP(A261, architecture!D261:E363, 2, FALSE)","v":3},1568,"Eukaryota"," Fungi"," Dikarya"," Ascomycota"," Pezizomycotina","Sordariomycetes"," Hypocreomycetidae"," Glomerellales"," Glomerellaceae","Colletotrichum.",0,0]
["A0A136J2Y3",{"$f":"VLOOKUP(A262, architecture!D262:E364, 2, FALSE)","v":3},1548,"Eukaryota"," Fungi"," Dikarya"," Ascomycota"," Pezizomycotina","Sordariomycetes"," Xylariomycetidae"," Xylariales"," Microdochiaceae","Microdochium.",0,0]
["A0A137P5H3",{"$f":"VLOOKUP(A263, architecture!D263:E365, 2, FALSE)","v":3},1566,"Eukaryota"," Fungi"," Zoopagomycota"," Entomophthoromycotina","Entomophthoromycetes"," Entomophthorales"," Ancylistaceae"," Conidiobolus.",0,0,0,0]
["A0A137QHA0",{"$f":"VLOOKUP(A264, architecture!D264:E366, 2, FALSE)","v":3},1590,"Eukaryota"," Fungi"," Dikarya"," Basidiomycota"," Agaricomycotina","Agaricomycetes"," Agaricomycetidae"," Agaricales"," Agaricaceae","Leucoagaricus.",0,0]
["A0A139A531",{"$f":"VLOOKUP(A265, architecture!D265:E367, 2, FALSE)","v":3},1710,"Eukaryota"," Fungi"," Chytridiomycota"," Monoblepharidomycetes","Monoblepharidales"," Gonapodyaceae"," Gonapodya.",0,0,0,0,0]
["A0A139GV41",{"$f":"VLOOKUP(A266, architecture!D266:E368, 2, FALSE)","v":3},1554,"Eukaryota"," Fungi"," Dikarya"," Ascomycota"," Pezizomycotina","Dothideomycetes"," Dothideomycetidae"," Capnodiales"," Mycosphaerellaceae","Mycosphaerella.",0,0]
["A0A139IKD5",{"$f":"VLOOKUP(A267, architecture!D267:E369, 2, FALSE)","v":3},1554,"Eukaryota"," Fungi"," Dikarya"," Ascomycota"," Pezizomycotina","Dothideomycetes"," Dothideomycetidae"," Capnodiales"," Mycosphaerellaceae","Pseudocercospora.",0,0]
["A0A139WC21",{"$f":"VLOOKUP(A268, architecture!D268:E370, 2, FALSE)","v":3},1542,"Eukaryota"," Metazoa"," Ecdysozoa"," Arthropoda"," Hexapoda"," Insecta","Pterygota"," Neoptera"," Holometabola"," Coleoptera"," Polyphaga","Cucujiformia"]
["A0A150VIY2",{"$f":"VLOOKUP(A269, architecture!D269:E371, 2, FALSE)","v":3},1552,"Eukaryota"," Fungi"," Dikarya"," Ascomycota"," Pezizomycotina","Dothideomycetes"," Dothideomycetes incertae sedis"," Acidomyces.",0,0,0,0]
["A0A151GPN9",{"$f":"VLOOKUP(A270, architecture!D270:E372, 2, FALSE)","v":3},1584,"Eukaryota"," Fungi"," Dikarya"," Ascomycota"," Pezizomycotina","Sordariomycetes"," Hypocreomycetidae"," Hypocreales"," Ophiocordycipitaceae","Drechmeria.",0,0]
["A0A151M4V6",{"$f":"VLOOKUP(A271, architecture!D271:E373, 2, FALSE)","v":{"$error":"#N/A"}},2015,"Eukaryota"," Metazoa"," Chordata"," Craniata"," Vertebrata"," Euteleostomi","Archelosauria"," Archosauria"," Crocodylia"," Alligatoridae"," Alligatorinae","Alligator."]
["A0A151M4W7",{"$f":"VLOOKUP(A272, architecture!D272:E374, 2, FALSE)","v":{"$error":"#N/A"}},1980,"Eukaryota"," Metazoa"," Chordata"," Craniata"," Vertebrata"," Euteleostomi","Archelosauria"," Archosauria"," Crocodylia"," Alligatoridae"," Alligatorinae","Alligator."]
["A0A151VFH8",{"$f":"VLOOKUP(A273, architecture!D273:E375, 2, FALSE)","v":3},1592,"Eukaryota"," Fungi"," Dikarya"," Basidiomycota"," Agaricomycotina","Agaricomycetes"," Agaricomycetidae"," Agaricales"," Lyophyllaceae","Hypsizygus.",0,0]
["A0A151WGY4",{"$f":"VLOOKUP(A274, architecture!D274:E376, 2, FALSE)","v":3},1763,"Eukaryota"," Metazoa"," Ecdysozoa"," Arthropoda"," Hexapoda"," Insecta","Pterygota"," Neoptera"," Holometabola"," Hymenoptera"," Apocrita"," Aculeata"]
["A0A152A9F1",{"$f":"VLOOKUP(A275, architecture!D275:E377, 2, FALSE)","v":3},1552,"Eukaryota"," Amoebozoa"," Mycetozoa"," Dictyostelids"," Dictyosteliales","Raperosteliaceae"," Tieghemostelium.",0,0,0,0,0]
["A0A154PFZ0",{"$f":"VLOOKUP(A276, architecture!D276:E378, 2, FALSE)","v":3},1969,"Eukaryota"," Metazoa"," Ecdysozoa"," Arthropoda"," Hexapoda"," Insecta","Pterygota"," Neoptera"," Holometabola"," Hymenoptera"," Apocrita"," Aculeata"]
["A0A158NS37",{"$f":"VLOOKUP(A277, architecture!D277:E379, 2, FALSE)","v":3},1589,"Eukaryota"," Metazoa"," Ecdysozoa"," Arthropoda"," Hexapoda"," Insecta","Pterygota"," Neoptera"," Holometabola"," Hymenoptera"," Apocrita"," Aculeata"]
["A0A158PC84",{"$f":"VLOOKUP(A278, architecture!D278:E380, 2, FALSE)","v":3},1124,"Eukaryota"," Metazoa"," Ecdysozoa"," Nematoda"," Chromadorea"," Rhabditida","Strongylida"," Metastrongyloidea"," Angiostrongylidae"," Angiostrongylus.",0,0]
["A0A158QFZ4",{"$f":"VLOOKUP(A279, architecture!D279:E381, 2, FALSE)","v":{"$error":"#N/A"}},1731,"Eukaryota"," Metazoa"," Platyhelminthes"," Cestoda"," Eucestoda","Cyclophyllidea"," Hymenolepididae"," Hymenolepis.",0,0,0,0]
["A0A158QX09",{"$f":"VLOOKUP(A280, architecture!D280:E382, 2, FALSE)","v":3},1463,"Eukaryota"," Metazoa"," Ecdysozoa"," Nematoda"," Chromadorea"," Rhabditida","Strongylida"," Trichostrongyloidea"," Heligmonellidae"," Nippostrongylinae","Nippostrongylus.",0]
["A0A158R7U9",{"$f":"VLOOKUP(A281, architecture!D281:E383, 2, FALSE)","v":3},1737,"Eukaryota"," Metazoa"," Platyhelminthes"," Cestoda"," Eucestoda","Cyclophyllidea"," Taeniidae"," Taenia.",0,0,0,0]
["A0A162K3D0",{"$f":"VLOOKUP(A282, architecture!D282:E384, 2, FALSE)","v":3},1545,"Eukaryota"," Fungi"," Dikarya"," Ascomycota"," Pezizomycotina","Sordariomycetes"," Hypocreomycetidae"," Hypocreales"," Cordycipitaceae","Cordyceps"," Cordyceps brongniartii.",0]
["A0A163DBX9",{"$f":"VLOOKUP(A283, architecture!D283:E385, 2, FALSE)","v":3},1553,"Eukaryota"," Fungi"," Dikarya"," Ascomycota"," Pezizomycotina","Dothideomycetes"," Pleosporomycetidae"," Pleosporales"," Pleosporineae","Didymellaceae"," Ascochyta.",0]
["A0A164NPU1",{"$f":"VLOOKUP(A284, architecture!D284:E386, 2, FALSE)","v":{"$error":"#N/A"}},1612,"Eukaryota"," Metazoa"," Ecdysozoa"," Arthropoda"," Crustacea"," Branchiopoda","Diplostraca"," Cladocera"," Anomopoda"," Daphniidae"," Daphnia.",0]
["A0A164VTK7",{"$f":"VLOOKUP(A285, architecture!D285:E387, 2, FALSE)","v":3},1609,"Eukaryota"," Fungi"," Dikarya"," Basidiomycota"," Agaricomycotina","Agaricomycetes"," Trechisporales"," Hydnodontaceae"," Sistotremastrum.",0,0,0]
["A0A165GB67",{"$f":"VLOOKUP(A286, architecture!D286:E388, 2, FALSE)","v":3},1522,"Eukaryota"," Fungi"," Dikarya"," Basidiomycota"," Agaricomycotina","Agaricomycetes"," Polyporales"," Laetiporus.",0,0,0,0]
["A0A165HYM6",{"$f":"VLOOKUP(A287, architecture!D287:E389, 2, FALSE)","v":3},1613,"Eukaryota"," Fungi"," Dikarya"," Basidiomycota"," Agaricomycotina","Dacrymycetes"," Dacrymycetales"," Dacrymycetaceae"," Calocera.",0,0,0]
["A0A165JZD4",{"$f":"VLOOKUP(A288, architecture!D288:E390, 2, FALSE)","v":3},1551,"Eukaryota"," Fungi"," Dikarya"," Ascomycota"," Pezizomycotina"," Xylonomycetes","Xylonomycetales"," Xylonomycetaceae"," Xylona.",0,0,0]
["A0A165LZL5",{"$f":"VLOOKUP(A289, architecture!D289:E391, 2, FALSE)","v":3},1605,"Eukaryota"," Fungi"," Dikarya"," Basidiomycota"," Agaricomycotina","Agaricomycetes"," Polyporales"," Daedalea.",0,0,0,0]
["A0A165U9Q9",{"$f":"VLOOKUP(A290, architecture!D290:E392, 2, FALSE)","v":3},1609,"Eukaryota"," Fungi"," Dikarya"," Basidiomycota"," Agaricomycotina","Agaricomycetes"," Gloeophyllales"," Gloeophyllaceae"," Neolentinus.",0,0,0]
["A0A166BCP4",{"$f":"VLOOKUP(A291, architecture!D291:E393, 2, FALSE)","v":3},1613,"Eukaryota"," Fungi"," Dikarya"," Basidiomycota"," Agaricomycotina","Agaricomycetes"," Auriculariales"," Exidiaceae"," Exidia.",0,0,0]
["A0A166CDF1",{"$f":"VLOOKUP(A292, architecture!D292:E394, 2, FALSE)","v":3},1597,"Eukaryota"," Fungi"," Dikarya"," Basidiomycota"," Agaricomycotina","Agaricomycetes"," Russulales"," Peniophoraceae"," Peniophora.",0,0,0]
["A0A166FBI4",{"$f":"VLOOKUP(A293, architecture!D293:E395, 2, FALSE)","v":3},1582,"Eukaryota"," Fungi"," Dikarya"," Basidiomycota"," Agaricomycotina","Agaricomycetes"," Agaricomycetidae"," Atheliales"," Atheliaceae","Fibularhizoctonia.",0,0]
["A0A166HVI1",{"$f":"VLOOKUP(A294, architecture!D294:E396, 2, FALSE)","v":3},1609,"Eukaryota"," Fungi"," Dikarya"," Basidiomycota"," Agaricomycotina","Agaricomycetes"," Trechisporales"," Hydnodontaceae"," Sistotremastrum.",0,0,0]
["A0A166UV10",{"$f":"VLOOKUP(A295, architecture!D295:E397, 2, FALSE)","v":3},1573,"Eukaryota"," Fungi"," Dikarya"," Ascomycota"," Pezizomycotina","Sordariomycetes"," Hypocreomycetidae"," Glomerellales"," Glomerellaceae","Colletotrichum.",0,0]
["A0A167BNH3",{"$f":"VLOOKUP(A296, architecture!D296:E398, 2, FALSE)","v":3},1620,"Eukaryota"," Fungi"," Dikarya"," Ascomycota"," Pezizomycotina","Sordariomycetes"," Hypocreomycetidae"," Glomerellales"," Glomerellaceae","Colletotrichum.",0,0]
["A0A167S918",{"$f":"VLOOKUP(A297, architecture!D297:E399, 2, FALSE)","v":3},1615,"Eukaryota"," Fungi"," Dikarya"," Basidiomycota"," Agaricomycotina","Dacrymycetes"," Dacrymycetales"," Dacrymycetaceae"," Calocera.",0,0,0]
["A0A167UPF6",{"$f":"VLOOKUP(A298, architecture!D298:E400, 2, FALSE)","v":3},1568,"Eukaryota"," Fungi"," Dikarya"," Ascomycota"," Pezizomycotina","Sordariomycetes"," Sordariomycetidae"," Ophiostomatales"," Ophiostomataceae","Sporothrix.",0,0]
["A0A168GI85",{"$f":"VLOOKUP(A299, architecture!D299:E401, 2, FALSE)","v":3},1446,"Eukaryota"," Fungi"," Mucoromycota"," Mucoromycotina"," Mucorales"," Mucorineae","Mucoraceae"," Mucor.",0,0,0,0]
["A0A168GXS6",{"$f":"VLOOKUP(A300, architecture!D300:E402, 2, FALSE)","v":3},1545,"Eukaryota"," Fungi"," Dikarya"," Ascomycota"," Pezizomycotina","Sordariomycetes"," Hypocreomycetidae"," Hypocreales"," Cordycipitaceae","Cordyceps.",0,0]
["A0A177BY91",{"$f":"VLOOKUP(A301, architecture!D301:E403, 2, FALSE)","v":3},1552,"Eukaryota"," Fungi"," Dikarya"," Ascomycota"," Pezizomycotina","Dothideomycetes"," Pleosporomycetidae"," Pleosporales"," Massarineae","Didymosphaeriaceae"," Paraphaeosphaeria.",0]
["A0A177DMY2",{"$f":"VLOOKUP(A302, architecture!D302:E404, 2, FALSE)","v":3},1561,"Eukaryota"," Fungi"," Dikarya"," Ascomycota"," Pezizomycotina","Dothideomycetes"," Pleosporomycetidae"," Pleosporales"," Pleosporineae","Pleosporaceae"," Alternaria"," Alternaria alternata group."]
["A0A177WDZ8",{"$f":"VLOOKUP(A303, architecture!D303:E405, 2, FALSE)","v":{"$error":"#N/A"}},1177,"Eukaryota"," Fungi"," Chytridiomycota"," Chytridiomycetes"," Rhizophydiales","Rhizophydiales incertae sedis"," Batrachochytrium.",0,0,0,0,0]
["A0A178BB70",{"$f":"VLOOKUP(A304, architecture!D304:E406, 2, FALSE)","v":3},1554,"Eukaryota"," Fungi"," Dikarya"," Ascomycota"," Pezizomycotina","Dothideomycetes"," Pleosporomycetidae"," Pleosporales"," Massarineae","Massarinaceae"," Stagonospora.",0]
["A0A178EBW2",{"$f":"VLOOKUP(A305, architecture!D305:E407, 2, FALSE)","v":3},1563,"Eukaryota"," Fungi"," Dikarya"," Ascomycota"," Pezizomycotina","Dothideomycetes"," Pleosporomycetidae"," Pleosporales"," Pleosporineae","Cucurbitariaceae"," Pyrenochaeta.",0]
["A0A180H1Z8",{"$f":"VLOOKUP(A306, architecture!D306:E408, 2, FALSE)","v":3},1616,"Eukaryota"," Fungi"," Dikarya"," Basidiomycota"," Pucciniomycotina","Pucciniomycetes"," Pucciniales"," Pucciniaceae"," Puccinia.",0,0,0]
["A0A183E542",{"$f":"VLOOKUP(A307, architecture!D307:E409, 2, FALSE)","v":{"$error":"#N/A"}},258,"Eukaryota"," Metazoa"," Ecdysozoa"," Nematoda"," Chromadorea"," Spirurida","Spiruromorpha"," Spiruroidea"," Gongylonematidae"," Gongylonema.",0,0]
["A0A183EVV2",{"$f":"VLOOKUP(A308, architecture!D308:E410, 2, FALSE)","v":{"$error":"#N/A"}},223,"Eukaryota"," Metazoa"," Ecdysozoa"," Nematoda"," Chromadorea"," Spirurida","Spiruromorpha"," Spiruroidea"," Gongylonematidae"," Gongylonema.",0,0]
["A0A183IQB6",{"$f":"VLOOKUP(A309, architecture!D309:E411, 2, FALSE)","v":{"$error":"#N/A"}},1215,"Eukaryota"," Metazoa"," Ecdysozoa"," Nematoda"," Enoplea"," Dorylaimia","Dioctophymatida"," Dioctophymatoidea"," Soboliphymatidae"," Soboliphyme.",0,0]
["A0A183PBC8",{"$f":"VLOOKUP(A310, architecture!D310:E412, 2, FALSE)","v":{"$error":"#N/A"}},348,"Eukaryota"," Metazoa"," Platyhelminthes"," Trematoda"," Digenea"," Strigeidida","Schistosomatoidea"," Schistosomatidae"," Schistosoma.",0,0,0]
["A0A183PHM0",{"$f":"VLOOKUP(A311, architecture!D311:E413, 2, FALSE)","v":{"$error":"#N/A"}},468,"Eukaryota"," Metazoa"," Platyhelminthes"," Trematoda"," Digenea"," Strigeidida","Schistosomatoidea"," Schistosomatidae"," Schistosoma.",0,0,0]
["A0A183QFQ2",{"$f":"VLOOKUP(A312, architecture!D312:E414, 2, FALSE)","v":{"$error":"#N/A"}},441,"Eukaryota"," Metazoa"," Platyhelminthes"," Trematoda"," Digenea"," Strigeidida","Schistosomatoidea"," Schistosomatidae"," Schistosoma.",0,0,0]
["A0A183QFQ3",{"$f":"VLOOKUP(A313, architecture!D313:E415, 2, FALSE)","v":{"$error":"#N/A"}},569,"Eukaryota"," Metazoa"," Platyhelminthes"," Trematoda"," Digenea"," Strigeidida","Schistosomatoidea"," Schistosomatidae"," Schistosoma.",0,0,0]
["A0A183TE88",{"$f":"VLOOKUP(A314, architecture!D314:E416, 2, FALSE)","v":{"$error":"#N/A"}},1557,"Eukaryota"," Metazoa"," Platyhelminthes"," Cestoda"," Eucestoda","Diphyllobothriidea"," Diphyllobothriidae"," Schistocephalus.",0,0,0,0]
["A0A194PXK2",{"$f":"VLOOKUP(A315, architecture!D315:E417, 2, FALSE)","v":{"$error":"#N/A"}},1697,"Eukaryota"," Metazoa"," Ecdysozoa"," Arthropoda"," Hexapoda"," Insecta","Pterygota"," Neoptera"," Holometabola"," Lepidoptera"," Glossata"," Ditrysia"]
["A0A194REP1",{"$f":"VLOOKUP(A316, architecture!D316:E418, 2, FALSE)","v":{"$error":"#N/A"}},1298,"Eukaryota"," Metazoa"," Ecdysozoa"," Arthropoda"," Hexapoda"," Insecta","Pterygota"," Neoptera"," Holometabola"," Lepidoptera"," Glossata"," Ditrysia"]
["A0A194SBG9",{"$f":"VLOOKUP(A317, architecture!D317:E419, 2, FALSE)","v":{"$error":"#N/A"}},1620,"Eukaryota"," Fungi"," Dikarya"," Basidiomycota"," Pucciniomycotina","Microbotryomycetes"," Sporidiobolales"," Sporidiobolaceae"," Rhodotorula.",0,0,0]
["A0A194XSF5",{"$f":"VLOOKUP(A318, architecture!D318:E420, 2, FALSE)","v":{"$error":"#N/A"}},1566,"Eukaryota"," Fungi"," Dikarya"," Ascomycota"," Pezizomycotina"," Leotiomycetes","Helotiales"," Helotiales incertae sedis"," Phialocephala.",0,0,0]
["A0BFM1",{"$f":"VLOOKUP(A319, architecture!D319:E421, 2, FALSE)","v":{"$error":"#N/A"}},1057,"Eukaryota"," Alveolata"," Ciliophora"," Intramacronucleata","Oligohymenophorea"," Peniculida"," Parameciidae"," Paramecium.",0,0,0,0]
["A0BWA0",{"$f":"VLOOKUP(A320, architecture!D320:E422, 2, FALSE)","v":{"$error":"#N/A"}},1528,"Eukaryota"," Alveolata"," Ciliophora"," Intramacronucleata","Oligohymenophorea"," Peniculida"," Parameciidae"," Paramecium.",0,0,0,0]
["A0EEA7",{"$f":"VLOOKUP(A321, architecture!D321:E423, 2, FALSE)","v":{"$error":"#N/A"}},1236,"Eukaryota"," Alveolata"," Ciliophora"," Intramacronucleata","Oligohymenophorea"," Peniculida"," Parameciidae"," Paramecium.",0,0,0,0]
["A1CS73",{"$f":"VLOOKUP(A322, architecture!D322:E424, 2, FALSE)","v":{"$error":"#N/A"}},1542,"Eukaryota"," Fungi"," Dikarya"," Ascomycota"," Pezizomycotina"," Eurotiomycetes","Eurotiomycetidae"," Eurotiales"," Aspergillaceae"," Aspergillus.",0,0]
["A1D547",{"$f":"VLOOKUP(A323, architecture!D323:E425, 2, FALSE)","v":{"$error":"#N/A"}},1537,"Eukaryota"," Fungi"," Dikarya"," Ascomycota"," Pezizomycotina"," Eurotiomycetes","Eurotiomycetidae"," Eurotiales"," Aspergillaceae"," Aspergillus.",0,0]
["A2DRU5",{"$f":"VLOOKUP(A324, architecture!D324:E426, 2, FALSE)","v":{"$error":"#N/A"}},1149,"Eukaryota"," Parabasalia"," Trichomonadida"," Trichomonadidae"," Trichomonas.",0,0,0,0,0,0,0]
["A2EWE5",{"$f":"VLOOKUP(A325, architecture!D325:E427, 2, FALSE)","v":{"$error":"#N/A"}},1413,"Eukaryota"," Parabasalia"," Trichomonadida"," Trichomonadidae"," Trichomonas.",0,0,0,0,0,0,0]
["A2Q8Z7",{"$f":"VLOOKUP(A326, architecture!D326:E428, 2, FALSE)","v":{"$error":"#N/A"}},1539,"Eukaryota"," Fungi"," Dikarya"," Ascomycota"," Pezizomycotina"," Eurotiomycetes","Eurotiomycetidae"," Eurotiales"," Aspergillaceae"," Aspergillus.",0,0]
["A3GF70",{"$f":"VLOOKUP(A327, architecture!D327:E429, 2, FALSE)","v":{"$error":"#N/A"}},1526,"Eukaryota"," Fungi"," Dikarya"," Ascomycota"," Saccharomycotina","Saccharomycetes"," Saccharomycetales"," Debaryomycetaceae","Scheffersomyces.",0,0,0]
["A5DQ07",{"$f":"VLOOKUP(A328, architecture!D328:E430, 2, FALSE)","v":{"$error":"#N/A"}},942,"Eukaryota"," Fungi"," Dikarya"," Ascomycota"," Saccharomycotina","Saccharomycetes"," Saccharomycetales"," Debaryomycetaceae"," Meyerozyma.",0,0,0]
["A5E4R5",{"$f":"VLOOKUP(A329, architecture!D329:E431, 2, FALSE)","v":{"$error":"#N/A"}},1524,"Eukaryota"," Fungi"," Dikarya"," Ascomycota"," Saccharomycotina","Saccharomycetes"," Saccharomycetales"," Debaryomycetaceae","Candida/Lodderomyces clade"," Lodderomyces.",0,0]
["A6R0W1",{"$f":"VLOOKUP(A330, architecture!D330:E432, 2, FALSE)","v":{"$error":"#N/A"}},1800,"Eukaryota"," Fungi"," Dikarya"," Ascomycota"," Pezizomycotina"," Eurotiomycetes","Eurotiomycetidae"," Onygenales"," Ajellomycetaceae"," Histoplasma.",0,0]
["A7F5B8",{"$f":"VLOOKUP(A331, architecture!D331:E433, 2, FALSE)","v":{"$error":"#N/A"}},1179,"Eukaryota"," Fungi"," Dikarya"," Ascomycota"," Pezizomycotina"," Leotiomycetes","Helotiales"," Sclerotiniaceae"," Sclerotinia.",0,0,0]
["A7TH79",{"$f":"VLOOKUP(A332, architecture!D332:E434, 2, FALSE)","v":{"$error":"#N/A"}},1565,"Eukaryota"," Fungi"," Dikarya"," Ascomycota"," Saccharomycotina","Saccharomycetes"," Saccharomycetales"," Saccharomycetaceae","Vanderwaltozyma.",0,0,0]
["A8BPE3",{"$f":"VLOOKUP(A333, architecture!D333:E435, 2, FALSE)","v":{"$error":"#N/A"}},1731,"Eukaryota"," Diplomonadida"," Hexamitidae"," Giardiinae"," Giardia.",0,0,0,0,0,0,0]
["A8BQB4",{"$f":"VLOOKUP(A334, architecture!D334:E436, 2, FALSE)","v":{"$error":"#N/A"}},1533,"Eukaryota"," Metazoa"," Chordata"," Craniata"," Vertebrata"," Euteleostomi","Mammalia"," Eutheria"," Laurasiatheria"," Perissodactyla"," Equidae"," Equus."]
["A8N9L1",{"$f":"VLOOKUP(A335, architecture!D335:E437, 2, FALSE)","v":{"$error":"#N/A"}},1598,"Eukaryota"," Fungi"," Dikarya"," Basidiomycota"," Agaricomycotina","Agaricomycetes"," Agaricomycetidae"," Agaricales"," Psathyrellaceae","Coprinopsis.",0,0]
["A8XCF0",{"$f":"VLOOKUP(A336, architecture!D336:E438, 2, FALSE)","v":{"$error":"#N/A"}},1534,"Eukaryota"," Metazoa"," Ecdysozoa"," Nematoda"," Chromadorea"," Rhabditida","Rhabditoidea"," Rhabditidae"," Peloderinae"," Caenorhabditis.",0,0]
["A9V544",{"$f":"VLOOKUP(A337, architecture!D337:E439, 2, FALSE)","v":{"$error":"#N/A"}},1489,"Eukaryota"," Choanoflagellida"," Craspedida"," Salpingoecidae"," Monosiga.",0,0,0,0,0,0,0]
["B0DI75",{"$f":"VLOOKUP(A338, architecture!D338:E440, 2, FALSE)","v":{"$error":"#N/A"}},1594,"Eukaryota"," Fungi"," Dikarya"," Basidiomycota"," Agaricomycotina","Agaricomycetes"," Agaricomycetidae"," Agaricales"," Tricholomataceae","Laccaria.",0,0]
["B0X1H0",{"$f":"VLOOKUP(A339, architecture!D339:E441, 2, FALSE)","v":{"$error":"#N/A"}},784,"Eukaryota"," Metazoa"," Ecdysozoa"," Arthropoda"," Hexapoda"," Insecta","Pterygota"," Neoptera"," Holometabola"," Diptera"," Nematocera"," Culicoidea"]
["B0XLP5",{"$f":"VLOOKUP(A340, architecture!D340:E442, 2, FALSE)","v":{"$error":"#N/A"}},672,"Eukaryota"," Metazoa"," Ecdysozoa"," Arthropoda"," Hexapoda"," Insecta","Pterygota"," Neoptera"," Holometabola"," Diptera"," Nematocera"," Culicoidea"]
["B2AB57",{"$f":"VLOOKUP(A341, architecture!D341:E443, 2, FALSE)","v":{"$error":"#N/A"}},1571,"Eukaryota"," Fungi"," Dikarya"," Ascomycota"," Pezizomycotina","Sordariomycetes"," Sordariomycetidae"," Sordariales"," Lasiosphaeriaceae","Podospora.",0,0]
["B2VZS2",{"$f":"VLOOKUP(A342, architecture!D342:E444, 2, FALSE)","v":{"$error":"#N/A"}},1567,"Eukaryota"," Fungi"," Dikarya"," Ascomycota"," Pezizomycotina","Dothideomycetes"," Pleosporomycetidae"," Pleosporales"," Pleosporineae","Pleosporaceae"," Pyrenophora.",0]
["B3MBX1",{"$f":"VLOOKUP(A343, architecture!D343:E445, 2, FALSE)","v":{"$error":"#N/A"}},1641,"Eukaryota"," Metazoa"," Ecdysozoa"," Arthropoda"," Hexapoda"," Insecta","Pterygota"," Neoptera"," Holometabola"," Diptera"," Brachycera"," Muscomorpha"]
["B4GA88",{"$f":"VLOOKUP(A344, architecture!D344:E446, 2, FALSE)","v":{"$error":"#N/A"}},1667,"Eukaryota"," Metazoa"," Ecdysozoa"," Arthropoda"," Hexapoda"," Insecta","Pterygota"," Neoptera"," Holometabola"," Diptera"," Brachycera"," Muscomorpha"]
["B4J7H5",{"$f":"VLOOKUP(A345, architecture!D345:E447, 2, FALSE)","v":{"$error":"#N/A"}},1538,"Eukaryota"," Metazoa"," Ecdysozoa"," Arthropoda"," Hexapoda"," Insecta","Pterygota"," Neoptera"," Holometabola"," Diptera"," Brachycera"," Muscomorpha"]
["B4KSI9",{"$f":"VLOOKUP(A346, architecture!D346:E448, 2, FALSE)","v":{"$error":"#N/A"}},1670,"Eukaryota"," Metazoa"," Ecdysozoa"," Arthropoda"," Hexapoda"," Insecta","Pterygota"," Neoptera"," Holometabola"," Diptera"," Brachycera"," Muscomorpha"]
["B4LMF7",{"$f":"VLOOKUP(A347, architecture!D347:E449, 2, FALSE)","v":{"$error":"#N/A"}},1687,"Eukaryota"," Metazoa"," Ecdysozoa"," Arthropoda"," Hexapoda"," Insecta","Pterygota"," Neoptera"," Holometabola"," Diptera"," Brachycera"," Muscomorpha"]
["B4MPI2",{"$f":"VLOOKUP(A348, architecture!D348:E450, 2, FALSE)","v":{"$error":"#N/A"}},1535,"Eukaryota"," Metazoa"," Ecdysozoa"," Arthropoda"," Hexapoda"," Insecta","Pterygota"," Neoptera"," Holometabola"," Diptera"," Brachycera"," Muscomorpha"]
["B4QG18",{"$f":"VLOOKUP(A349, architecture!D349:E451, 2, FALSE)","v":{"$error":"#N/A"}},1283,"Eukaryota"," Metazoa"," Ecdysozoa"," Arthropoda"," Hexapoda"," Insecta","Pterygota"," Neoptera"," Holometabola"," Diptera"," Brachycera"," Muscomorpha"]
["B6ABH3",{"$f":"VLOOKUP(A350, architecture!D350:E452, 2, FALSE)","v":{"$error":"#N/A"}},1859,"Eukaryota"," Alveolata"," Apicomplexa"," Conoidasida"," Coccidia","Eucoccidiorida"," Eimeriorina"," Cryptosporidiidae"," Cryptosporidium.",0,0,0]
["B6HTR6",{"$f":"VLOOKUP(A351, architecture!D351:E453, 2, FALSE)","v":{"$error":"#N/A"}},1534,"Eukaryota"," Fungi"," Dikarya"," Ascomycota"," Pezizomycotina"," Eurotiomycetes","Eurotiomycetidae"," Eurotiales"," Aspergillaceae"," Penicillium","Penicillium chrysogenum species complex.",0]
["B6QE94",{"$f":"VLOOKUP(A352, architecture!D352:E454, 2, FALSE)","v":{"$error":"#N/A"}},1523,"Eukaryota"," Fungi"," Dikarya"," Ascomycota"," Pezizomycotina"," Eurotiomycetes","Eurotiomycetidae"," Eurotiales"," Trichocomaceae"," Talaromyces.",0,0]
["B8MB42",{"$f":"VLOOKUP(A353, architecture!D353:E455, 2, FALSE)","v":{"$error":"#N/A"}},1524,"Eukaryota"," Fungi"," Dikarya"," Ascomycota"," Pezizomycotina"," Eurotiomycetes","Eurotiomycetidae"," Eurotiales"," Trichocomaceae"," Talaromyces.",0,0]
["B8MYJ6",{"$f":"VLOOKUP(A354, architecture!D354:E456, 2, FALSE)","v":{"$error":"#N/A"}},1537,"Eukaryota"," Fungi"," Dikarya"," Ascomycota"," Pezizomycotina"," Eurotiomycetes","Eurotiomycetidae"," Eurotiales"," Aspergillaceae"," Aspergillus.",0,0]
["C0NQD3",{"$f":"VLOOKUP(A355, architecture!D355:E457, 2, FALSE)","v":{"$error":"#N/A"}},1572,"Eukaryota"," Fungi"," Dikarya"," Ascomycota"," Pezizomycotina"," Eurotiomycetes","Eurotiomycetidae"," Onygenales"," Ajellomycetaceae"," Histoplasma.",0,0]
["C1GL12",{"$f":"VLOOKUP(A356, architecture!D356:E458, 2, FALSE)","v":{"$error":"#N/A"}},1593,"Eukaryota"," Fungi"," Dikarya"," Ascomycota"," Pezizomycotina"," Eurotiomycetes","Eurotiomycetidae"," Onygenales"," Onygenales incertae sedis","Paracoccidioides.",0,0]
["C3YID9",{"$f":"VLOOKUP(A357, architecture!D357:E459, 2, FALSE)","v":{"$error":"#N/A"}},1932,"Eukaryota"," Metazoa"," Chordata"," Cephalochordata"," Branchiostomidae","Branchiostoma.",0,0,0,0,0,0]
["C4JU91",{"$f":"VLOOKUP(A358, architecture!D358:E460, 2, FALSE)","v":{"$error":"#N/A"}},1458,"Eukaryota"," Fungi"," Dikarya"," Ascomycota"," Pezizomycotina"," Eurotiomycetes","Eurotiomycetidae"," Onygenales"," Onygenaceae"," Uncinocarpus.",0,0]
["C4R1U8",{"$f":"VLOOKUP(A359, architecture!D359:E461, 2, FALSE)","v":{"$error":"#N/A"}},1525,"Eukaryota"," Fungi"," Dikarya"," Ascomycota"," Saccharomycotina","Saccharomycetes"," Saccharomycetales"," Phaffomycetaceae"," Komagataella.",0,0,0]
["C4Y8I7",{"$f":"VLOOKUP(A360, architecture!D360:E462, 2, FALSE)","v":{"$error":"#N/A"}},1228,"Eukaryota"," Fungi"," Dikarya"," Ascomycota"," Saccharomycotina","Saccharomycetes"," Saccharomycetales"," Metschnikowiaceae"," Clavispora.",0,0,0]
["C5DB95",{"$f":"VLOOKUP(A361, architecture!D361:E463, 2, FALSE)","v":{"$error":"#N/A"}},1512,"Eukaryota"," Fungi"," Dikarya"," Ascomycota"," Saccharomycotina","Saccharomycetes"," Saccharomycetales"," Saccharomycetaceae"," Lachancea.",0,0,0]
["C5DUS3",{"$f":"VLOOKUP(A362, architecture!D362:E464, 2, FALSE)","v":{"$error":"#N/A"}},1524,"Eukaryota"," Fungi"," Dikarya"," Ascomycota"," Saccharomycotina","Saccharomycetes"," Saccharomycetales"," Saccharomycetaceae","Zygosaccharomyces.",0,0,0]
["C5FS32",{"$f":"VLOOKUP(A363, architecture!D363:E465, 2, FALSE)","v":{"$error":"#N/A"}},1525,"Eukaryota"," Fungi"," Dikarya"," Ascomycota"," Pezizomycotina"," Eurotiomycetes","Eurotiomycetidae"," Onygenales"," Arthrodermataceae"," Microsporum.",0,0]
["C5GTI6",{"$f":"VLOOKUP(A364, architecture!D364:E466, 2, FALSE)","v":{"$error":"#N/A"}},1578,"Eukaryota"," Fungi"," Dikarya"," Ascomycota"," Pezizomycotina"," Eurotiomycetes","Eurotiomycetidae"," Onygenales"," Ajellomycetaceae"," Blastomyces.",0,0]
["C5MCK0",{"$f":"VLOOKUP(A365, architecture!D365:E467, 2, FALSE)","v":{"$error":"#N/A"}},1522,"Eukaryota"," Fungi"," Dikarya"," Ascomycota"," Saccharomycotina","Saccharomycetes"," Saccharomycetales"," Debaryomycetaceae","Candida/Lodderomyces clade"," Candida.",0,0]
["C6HS62",{"$f":"VLOOKUP(A366, architecture!D366:E468, 2, FALSE)","v":{"$error":"#N/A"}},1457,"Eukaryota"," Fungi"," Dikarya"," Ascomycota"," Pezizomycotina"," Eurotiomycetes","Eurotiomycetidae"," Onygenales"," Ajellomycetaceae"," Histoplasma.",0,0]
["C7Z6K9",{"$f":"VLOOKUP(A367, architecture!D367:E469, 2, FALSE)","v":{"$error":"#N/A"}},1554,"Eukaryota"," Fungi"," Dikarya"," Ascomycota"," Pezizomycotina","Sordariomycetes"," Hypocreomycetidae"," Hypocreales"," Nectriaceae","Fusarium"," Fusarium solani species complex.",0]
["C8VTT8",{"$f":"VLOOKUP(A368, architecture!D368:E470, 2, FALSE)","v":{"$error":"#N/A"}},1537,"Eukaryota"," Fungi"," Dikarya"," Ascomycota"," Pezizomycotina"," Eurotiomycetes","Eurotiomycetidae"," Eurotiales"," Aspergillaceae"," Aspergillus.",0,0]
["C9SJ23",{"$f":"VLOOKUP(A369, architecture!D369:E471, 2, FALSE)","v":{"$error":"#N/A"}},733,"Eukaryota"," Fungi"," Dikarya"," Ascomycota"," Pezizomycotina","Sordariomycetes"," Hypocreomycetidae"," Glomerellales","Plectosphaerellaceae"," Verticillium.",0,0]
["D3AZS3",{"$f":"VLOOKUP(A370, architecture!D370:E472, 2, FALSE)","v":{"$error":"#N/A"}},1473,"Eukaryota"," Amoebozoa"," Mycetozoa"," Dictyostelids"," Acytosteliales","Acytosteliaceae"," Heterostelium.",0,0,0,0,0]
["D4AEH9",{"$f":"VLOOKUP(A371, architecture!D371:E473, 2, FALSE)","v":{"$error":"#N/A"}},1532,"Eukaryota"," Metazoa"," Chordata"," Craniata"," Vertebrata"," Euteleostomi","Mammalia"," Eutheria"," Euarchontoglires"," Glires"," Rodentia"," Myomorpha"]
["D4ASG4",{"$f":"VLOOKUP(A372, architecture!D372:E474, 2, FALSE)","v":{"$error":"#N/A"}},1506,"Eukaryota"," Fungi"," Dikarya"," Ascomycota"," Pezizomycotina"," Eurotiomycetes","Eurotiomycetidae"," Onygenales"," Arthrodermataceae"," Trichophyton.",0,0]
["D5G4I5",{"$f":"VLOOKUP(A373, architecture!D373:E475, 2, FALSE)","v":{"$error":"#N/A"}},1473,"Eukaryota"," Fungi"," Dikarya"," Ascomycota"," Pezizomycotina"," Pezizomycetes","Pezizales"," Tuberaceae"," Tuber.",0,0,0]
["D8LWI1",{"$f":"VLOOKUP(A374, architecture!D374:E476, 2, FALSE)","v":{"$error":"#N/A"}},1088,"Eukaryota"," Stramenopiles"," Blastocystis.",0,0,0,0,0,0,0,0,0]
["D8Q378",{"$f":"VLOOKUP(A375, architecture!D375:E477, 2, FALSE)","v":{"$error":"#N/A"}},1596,"Eukaryota"," Fungi"," Dikarya"," Basidiomycota"," Agaricomycotina","Agaricomycetes"," Agaricomycetidae"," Agaricales"," Schizophyllaceae","Schizophyllum.",0,0]
["E0VNL2",{"$f":"VLOOKUP(A376, architecture!D376:E478, 2, FALSE)","v":{"$error":"#N/A"}},1543,"Eukaryota"," Metazoa"," Ecdysozoa"," Arthropoda"," Hexapoda"," Insecta","Pterygota"," Neoptera"," Paraneoptera"," Psocodea"," Phthiraptera"," Anoplura"]
["E1JGQ5",{"$f":"VLOOKUP(A377, architecture!D377:E479, 2, FALSE)","v":{"$error":"#N/A"}},1563,"Eukaryota"," Metazoa"," Ecdysozoa"," Arthropoda"," Hexapoda"," Insecta","Pterygota"," Neoptera"," Holometabola"," Diptera"," Brachycera"," Muscomorpha"]
["E2A7S3",{"$f":"VLOOKUP(A378, architecture!D378:E480, 2, FALSE)","v":{"$error":"#N/A"}},1498,"Eukaryota"," Metazoa"," Ecdysozoa"," Arthropoda"," Hexapoda"," Insecta","Pterygota"," Neoptera"," Holometabola"," Hymenoptera"," Apocrita"," Aculeata"]
["E2BPT9",{"$f":"VLOOKUP(A379, architecture!D379:E481, 2, FALSE)","v":{"$error":"#N/A"}},2005,"Eukaryota"," Metazoa"," Ecdysozoa"," Arthropoda"," Hexapoda"," Insecta","Pterygota"," Neoptera"," Holometabola"," Hymenoptera"," Apocrita"," Aculeata"]
["E3KWY4",{"$f":"VLOOKUP(A380, architecture!D380:E482, 2, FALSE)","v":{"$error":"#N/A"}},1608,"Eukaryota"," Fungi"," Dikarya"," Basidiomycota"," Pucciniomycotina","Pucciniomycetes"," Pucciniales"," Pucciniaceae"," Puccinia.",0,0,0]
["E3MHZ4",{"$f":"VLOOKUP(A381, architecture!D381:E483, 2, FALSE)","v":{"$error":"#N/A"}},1472,"Eukaryota"," Metazoa"," Ecdysozoa"," Nematoda"," Chromadorea"," Rhabditida","Rhabditoidea"," Rhabditidae"," Peloderinae"," Caenorhabditis.",0,0]
["E3QZQ7",{"$f":"VLOOKUP(A382, architecture!D382:E484, 2, FALSE)","v":{"$error":"#N/A"}},1573,"Eukaryota"," Fungi"," Dikarya"," Ascomycota"," Pezizomycotina","Sordariomycetes"," Hypocreomycetidae"," Glomerellales"," Glomerellaceae","Colletotrichum.",0,0]
["E3RH37",{"$f":"VLOOKUP(A383, architecture!D383:E485, 2, FALSE)","v":{"$error":"#N/A"}},1569,"Eukaryota"," Fungi"," Dikarya"," Ascomycota"," Pezizomycotina","Dothideomycetes"," Pleosporomycetidae"," Pleosporales"," Pleosporineae","Pleosporaceae"," Pyrenophora.",0]
["E4UNH6",{"$f":"VLOOKUP(A384, architecture!D384:E486, 2, FALSE)","v":{"$error":"#N/A"}},1523,"Eukaryota"," Fungi"," Dikarya"," Ascomycota"," Pezizomycotina"," Eurotiomycetes","Eurotiomycetidae"," Onygenales"," Arthrodermataceae"," Nannizzia.",0,0]
["E4ZG29",{"$f":"VLOOKUP(A385, architecture!D385:E487, 2, FALSE)","v":{"$error":"#N/A"}},1561,"Eukaryota"," Fungi"," Dikarya"," Ascomycota"," Pezizomycotina","Dothideomycetes"," Pleosporomycetidae"," Pleosporales"," Pleosporineae","Leptosphaeriaceae"," Leptosphaeria","Leptosphaeria maculans species complex."]
["E5S846",{"$f":"VLOOKUP(A386, architecture!D386:E488, 2, FALSE)","v":{"$error":"#N/A"}},1638,"Eukaryota"," Metazoa"," Ecdysozoa"," Nematoda"," Enoplea"," Dorylaimia","Trichinellida"," Trichinellidae"," Trichinella.",0,0,0]
["E6ZMW0",{"$f":"VLOOKUP(A387, architecture!D387:E489, 2, FALSE)","v":{"$error":"#N/A"}},1571,"Eukaryota"," Fungi"," Dikarya"," Basidiomycota"," Ustilaginomycotina","Ustilaginomycetes"," Ustilaginales"," Ustilaginaceae"," Sporisorium.",0,0,0]
["E7KJ04",{"$f":"VLOOKUP(A388, architecture!D388:E490, 2, FALSE)","v":{"$error":"#N/A"}},1536,"Eukaryota"," Fungi"," Dikarya"," Ascomycota"," Saccharomycotina","Saccharomycetes"," Saccharomycetales"," Saccharomycetaceae"," Saccharomyces.",0,0,0]
["E7M1B8",{"$f":"VLOOKUP(A389, architecture!D389:E491, 2, FALSE)","v":{"$error":"#N/A"}},1538,"Eukaryota"," Fungi"," Dikarya"," Ascomycota"," Saccharomycotina","Saccharomycetes"," Saccharomycetales"," Saccharomycetaceae"," Saccharomyces.",0,0,0]
["E9DJT7",{"$f":"VLOOKUP(A390, architecture!D390:E492, 2, FALSE)","v":{"$error":"#N/A"}},1472,"Eukaryota"," Fungi"," Dikarya"," Ascomycota"," Pezizomycotina"," Eurotiomycetes","Eurotiomycetidae"," Onygenales"," Onygenales incertae sedis"," Coccidioides.",0,0]
["E9E262",{"$f":"VLOOKUP(A391, architecture!D391:E493, 2, FALSE)","v":{"$error":"#N/A"}},1556,"Eukaryota"," Fungi"," Dikarya"," Ascomycota"," Pezizomycotina","Sordariomycetes"," Hypocreomycetidae"," Hypocreales"," Clavicipitaceae","Metarhizium.",0,0]
["E9F3Z7",{"$f":"VLOOKUP(A392, architecture!D392:E494, 2, FALSE)","v":{"$error":"#N/A"}},1555,"Eukaryota"," Fungi"," Dikarya"," Ascomycota"," Pezizomycotina","Sordariomycetes"," Hypocreomycetidae"," Hypocreales"," Clavicipitaceae","Metarhizium.",0,0]
["E9IFN1",{"$f":"VLOOKUP(A393, architecture!D393:E495, 2, FALSE)","v":{"$error":"#N/A"}},688,"Eukaryota"," Metazoa"," Ecdysozoa"," Arthropoda"," Hexapoda"," Insecta","Pterygota"," Neoptera"," Holometabola"," Hymenoptera"," Apocrita"," Aculeata"]
["F0UTC9",{"$f":"VLOOKUP(A394, architecture!D394:E496, 2, FALSE)","v":{"$error":"#N/A"}},1583,"Eukaryota"," Fungi"," Dikarya"," Ascomycota"," Pezizomycotina"," Eurotiomycetes","Eurotiomycetidae"," Onygenales"," Ajellomycetaceae"," Histoplasma.",0,0]
["F0VLQ0",{"$f":"VLOOKUP(A395, architecture!D395:E497, 2, FALSE)","v":{"$error":"#N/A"}},1849,"Eukaryota"," Alveolata"," Apicomplexa"," Conoidasida"," Coccidia","Eucoccidiorida"," Eimeriorina"," Sarcocystidae"," Neospora.",0,0,0]
["F0XQV3",{"$f":"VLOOKUP(A396, architecture!D396:E498, 2, FALSE)","v":{"$error":"#N/A"}},1563,"Eukaryota"," Fungi"," Dikarya"," Ascomycota"," Pezizomycotina","Sordariomycetes"," Sordariomycetidae"," Ophiostomatales"," Ophiostomataceae","Grosmannia.",0,0]
["F0ZCG6",{"$f":"VLOOKUP(A397, architecture!D397:E499, 2, FALSE)","v":{"$error":"#N/A"}},1567,"Eukaryota"," Amoebozoa"," Mycetozoa"," Dictyostelids"," Dictyosteliales","Dictyosteliaceae"," Dictyostelium.",0,0,0,0,0]
["F1MHT1",{"$f":"VLOOKUP(A398, architecture!D398:E500, 2, FALSE)","v":{"$error":"#N/A"}},1532,"Eukaryota"," Metazoa"," Chordata"," Craniata"," Vertebrata"," Euteleostomi","Mammalia"," Eutheria"," Laurasiatheria"," Cetartiodactyla"," Ruminantia","Pecora"]
["F1NX83",{"$f":"VLOOKUP(A399, architecture!D399:E501, 2, FALSE)","v":{"$error":"#N/A"}},1530,"Eukaryota"," Metazoa"," Chordata"," Craniata"," Vertebrata"," Euteleostomi","Archelosauria"," Archosauria"," Dinosauria"," Saurischia"," Theropoda","Coelurosauria"]
["F1PBL3",{"$f":"VLOOKUP(A400, architecture!D400:E502, 2, FALSE)","v":{"$error":"#N/A"}},1533,"Eukaryota"," Metazoa"," Chordata"," Craniata"," Vertebrata"," Euteleostomi","Mammalia"," Eutheria"," Laurasiatheria"," Carnivora"," Caniformia"," Canidae"]
["F1S557",{"$f":"VLOOKUP(A401, architecture!D401:E503, 2, FALSE)","v":{"$error":"#N/A"}},1318,"Eukaryota"," Metazoa"," Chordata"," Craniata"," Vertebrata"," Euteleostomi","Mammalia"," Eutheria"," Laurasiatheria"," Cetartiodactyla"," Suina"," Suidae"]
["F2SVW0",{"$f":"VLOOKUP(A402, architecture!D402:E504, 2, FALSE)","v":{"$error":"#N/A"}},1494,"Eukaryota"," Fungi"," Dikarya"," Ascomycota"," Pezizomycotina"," Eurotiomycetes","Eurotiomycetidae"," Onygenales"," Arthrodermataceae"," Trichophyton.",0,0]
["F2UQQ0",{"$f":"VLOOKUP(A403, architecture!D403:E505, 2, FALSE)","v":{"$error":"#N/A"}},1194,"Eukaryota"," Choanoflagellida"," Craspedida"," Salpingoecidae"," Salpingoeca.",0,0,0,0,0,0,0]
["F4RSD6",{"$f":"VLOOKUP(A404, architecture!D404:E506, 2, FALSE)","v":{"$error":"#N/A"}},1649,"Eukaryota"," Fungi"," Dikarya"," Basidiomycota"," Pucciniomycotina","Pucciniomycetes"," Pucciniales"," Melampsoraceae"," Melampsora.",0,0,0]
["F5HMX0",{"$f":"VLOOKUP(A405, architecture!D405:E507, 2, FALSE)","v":{"$error":"#N/A"}},1532,"Eukaryota"," Metazoa"," Ecdysozoa"," Arthropoda"," Hexapoda"," Insecta","Pterygota"," Neoptera"," Holometabola"," Diptera"," Nematocera"," Culicoidea"]
["F6TE92",{"$f":"VLOOKUP(A406, architecture!D406:E508, 2, FALSE)","v":{"$error":"#N/A"}},1535,"Eukaryota"," Metazoa"," Chordata"," Craniata"," Vertebrata"," Euteleostomi","Mammalia"," Eutheria"," Laurasiatheria"," Perissodactyla"," Equidae"," Equus."]
["F6UM75",{"$f":"VLOOKUP(A407, architecture!D407:E509, 2, FALSE)","v":{"$error":"#N/A"}},1514,"Eukaryota"," Metazoa"," Chordata"," Tunicata"," Ascidiacea"," Enterogona","Phlebobranchia"," Cionidae"," Ciona.",0,0,0]
["F6XXE6",{"$f":"VLOOKUP(A408, architecture!D408:E510, 2, FALSE)","v":{"$error":"#N/A"}},830,"Eukaryota"," Metazoa"," Chordata"," Craniata"," Vertebrata"," Euteleostomi","Mammalia"," Eutheria"," Euarchontoglires"," Glires"," Rodentia"," Myomorpha"]
["F7D8W4",{"$f":"VLOOKUP(A409, architecture!D409:E511, 2, FALSE)","v":{"$error":"#N/A"}},1532,"Eukaryota"," Metazoa"," Chordata"," Craniata"," Vertebrata"," Euteleostomi","Amphibia"," Batrachia"," Anura"," Pipoidea"," Pipidae"," Xenopodinae"]
["F7EAR4",{"$f":"VLOOKUP(A410, architecture!D410:E512, 2, FALSE)","v":{"$error":"#N/A"}},1533,"Eukaryota"," Metazoa"," Chordata"," Craniata"," Vertebrata"," Euteleostomi","Mammalia"," Eutheria"," Euarchontoglires"," Primates"," Haplorrhini","Catarrhini"]
["F7EAR8",{"$f":"VLOOKUP(A411, architecture!D411:E513, 2, FALSE)","v":{"$error":"#N/A"}},1532,"Eukaryota"," Metazoa"," Chordata"," Craniata"," Vertebrata"," Euteleostomi","Mammalia"," Eutheria"," Euarchontoglires"," Primates"," Haplorrhini","Catarrhini"]
["F7GJD2",{"$f":"VLOOKUP(A412, architecture!D412:E514, 2, FALSE)","v":{"$error":"#N/A"}},1533,"Eukaryota"," Metazoa"," Chordata"," Craniata"," Vertebrata"," Euteleostomi","Mammalia"," Metatheria"," Didelphimorphia"," Didelphidae"," Monodelphis.",0]
["F7VQT1",{"$f":"VLOOKUP(A413, architecture!D413:E515, 2, FALSE)","v":{"$error":"#N/A"}},1566,"Eukaryota"," Fungi"," Dikarya"," Ascomycota"," Pezizomycotina","Sordariomycetes"," Sordariomycetidae"," Sordariales"," Sordariaceae","Sordaria.",0,0]
["F8Q4P4",{"$f":"VLOOKUP(A414, architecture!D414:E516, 2, FALSE)","v":{"$error":"#N/A"}},1564,"Eukaryota"," Fungi"," Dikarya"," Basidiomycota"," Agaricomycotina","Agaricomycetes"," Agaricomycetidae"," Boletales"," Coniophorineae","Serpulaceae"," Serpula.",0]
["F8VPN4",{"$f":"VLOOKUP(A415, architecture!D415:E517, 2, FALSE)","v":{"$error":"#N/A"}},1532,"Eukaryota"," Metazoa"," Chordata"," Craniata"," Vertebrata"," Euteleostomi","Mammalia"," Eutheria"," Euarchontoglires"," Glires"," Rodentia"," Myomorpha"]
["F9FVA4",{"$f":"VLOOKUP(A416, architecture!D416:E518, 2, FALSE)","v":{"$error":"#N/A"}},1556,"Eukaryota"," Fungi"," Dikarya"," Ascomycota"," Pezizomycotina","Sordariomycetes"," Hypocreomycetidae"," Hypocreales"," Nectriaceae","Fusarium"," Fusarium oxysporum species complex.",0]
["F9XGA6",{"$f":"VLOOKUP(A417, architecture!D417:E519, 2, FALSE)","v":{"$error":"#N/A"}},1549,"Eukaryota"," Fungi"," Dikarya"," Ascomycota"," Pezizomycotina","Dothideomycetes"," Dothideomycetidae"," Capnodiales"," Mycosphaerellaceae","Zymoseptoria.",0,0]
["G0N6Z0",{"$f":"VLOOKUP(A418, architecture!D418:E520, 2, FALSE)","v":{"$error":"#N/A"}},1090,"Eukaryota"," Metazoa"," Ecdysozoa"," Nematoda"," Chromadorea"," Rhabditida","Rhabditoidea"," Rhabditidae"," Peloderinae"," Caenorhabditis.",0,0]
["G0PCL2",{"$f":"VLOOKUP(A419, architecture!D419:E521, 2, FALSE)","v":{"$error":"#N/A"}},1464,"Eukaryota"," Metazoa"," Ecdysozoa"," Nematoda"," Chromadorea"," Rhabditida","Rhabditoidea"," Rhabditidae"," Peloderinae"," Caenorhabditis.",0,0]
["G0QV62",{"$f":"VLOOKUP(A420, architecture!D420:E522, 2, FALSE)","v":{"$error":"#N/A"}},753,"Eukaryota"," Alveolata"," Ciliophora"," Intramacronucleata","Oligohymenophorea"," Hymenostomatida"," Ophryoglenina"," Ichthyophthirius.",0,0,0,0]
["G0RBU1",{"$f":"VLOOKUP(A421, architecture!D421:E523, 2, FALSE)","v":{"$error":"#N/A"}},1557,"Eukaryota"," Fungi"," Dikarya"," Ascomycota"," Pezizomycotina","Sordariomycetes"," Hypocreomycetidae"," Hypocreales"," Hypocreaceae","Trichoderma.",0,0]
["G0SC60",{"$f":"VLOOKUP(A422, architecture!D422:E524, 2, FALSE)","v":{"$error":"#N/A"}},1567,"Eukaryota"," Fungi"," Dikarya"," Ascomycota"," Pezizomycotina","Sordariomycetes"," Sordariomycetidae"," Sordariales"," Chaetomiaceae","Chaetomium.",0,0]
["G0V9D2",{"$f":"VLOOKUP(A423, architecture!D423:E525, 2, FALSE)","v":{"$error":"#N/A"}},1521,"Eukaryota"," Fungi"," Dikarya"," Ascomycota"," Saccharomycotina","Saccharomycetes"," Saccharomycetales"," Saccharomycetaceae"," Naumovozyma.",0,0,0]
["G0WHD0",{"$f":"VLOOKUP(A424, architecture!D424:E526, 2, FALSE)","v":{"$error":"#N/A"}},1523,"Eukaryota"," Fungi"," Dikarya"," Ascomycota"," Saccharomycotina","Saccharomycetes"," Saccharomycetales"," Saccharomycetaceae"," Naumovozyma.",0,0,0]
["G1KCM2",{"$f":"VLOOKUP(A425, architecture!D425:E527, 2, FALSE)","v":{"$error":"#N/A"}},1531,"Eukaryota"," Metazoa"," Chordata"," Craniata"," Vertebrata"," Euteleostomi","Lepidosauria"," Squamata"," Bifurcata"," Unidentata"," Episquamata","Toxicofera"]
["G1LR84",{"$f":"VLOOKUP(A426, architecture!D426:E528, 2, FALSE)","v":{"$error":"#N/A"}},1533,"Eukaryota"," Metazoa"," Chordata"," Craniata"," Vertebrata"," Euteleostomi","Mammalia"," Eutheria"," Laurasiatheria"," Carnivora"," Caniformia"," Ursidae"]
["G1N5J6",{"$f":"VLOOKUP(A427, architecture!D427:E529, 2, FALSE)","v":{"$error":"#N/A"}},1536,"Eukaryota"," Metazoa"," Chordata"," Craniata"," Vertebrata"," Euteleostomi","Archelosauria"," Archosauria"," Dinosauria"," Saurischia"," Theropoda","Coelurosauria"]
["G1PTA9",{"$f":"VLOOKUP(A428, architecture!D428:E530, 2, FALSE)","v":{"$error":"#N/A"}},1533,"Eukaryota"," Metazoa"," Chordata"," Craniata"," Vertebrata"," Euteleostomi","Mammalia"," Eutheria"," Laurasiatheria"," Chiroptera"," Microchiroptera","Vespertilionidae"]
["G1RLT1",{"$f":"VLOOKUP(A429, architecture!D429:E531, 2, FALSE)","v":{"$error":"#N/A"}},1532,"Eukaryota"," Metazoa"," Chordata"," Craniata"," Vertebrata"," Euteleostomi","Mammalia"," Eutheria"," Euarchontoglires"," Primates"," Haplorrhini","Catarrhini"]
["G1TS42",{"$f":"VLOOKUP(A430, architecture!D430:E532, 2, FALSE)","v":{"$error":"#N/A"}},1533,"Eukaryota"," Metazoa"," Chordata"," Craniata"," Vertebrata"," Euteleostomi","Mammalia"," Eutheria"," Euarchontoglires"," Glires"," Lagomorpha"," Leporidae"]
["G1X7A7",{"$f":"VLOOKUP(A431, architecture!D431:E533, 2, FALSE)","v":{"$error":"#N/A"}},1520,"Eukaryota"," Fungi"," Dikarya"," Ascomycota"," Pezizomycotina"," Orbiliomycetes","Orbiliales"," Orbiliaceae"," Arthrobotrys.",0,0,0]
["G2Q5G4",{"$f":"VLOOKUP(A432, architecture!D432:E534, 2, FALSE)","v":{"$error":"#N/A"}},1573,"Eukaryota"," Fungi"," Dikarya"," Ascomycota"," Pezizomycotina","Sordariomycetes"," Sordariomycetidae"," Sordariales"," Chaetomiaceae","Thermothelomyces.",0,0]
["G2QYC2",{"$f":"VLOOKUP(A433, architecture!D433:E535, 2, FALSE)","v":{"$error":"#N/A"}},1574,"Eukaryota"," Fungi"," Dikarya"," Ascomycota"," Pezizomycotina","Sordariomycetes"," Sordariomycetidae"," Sordariales"," Chaetomiaceae","Thielavia.",0,0]
["G2XJI1",{"$f":"VLOOKUP(A434, architecture!D434:E536, 2, FALSE)","v":{"$error":"#N/A"}},1566,"Eukaryota"," Fungi"," Dikarya"," Ascomycota"," Pezizomycotina","Sordariomycetes"," Hypocreomycetidae"," Glomerellales","Plectosphaerellaceae"," Verticillium.",0,0]
["G2XQH5",{"$f":"VLOOKUP(A435, architecture!D435:E537, 2, FALSE)","v":{"$error":"#N/A"}},1287,"Eukaryota"," Fungi"," Dikarya"," Ascomycota"," Pezizomycotina"," Leotiomycetes","Helotiales"," Sclerotiniaceae"," Botrytis.",0,0,0]
["G3AER9",{"$f":"VLOOKUP(A436, architecture!D436:E538, 2, FALSE)","v":{"$error":"#N/A"}},1530,"Eukaryota"," Fungi"," Dikarya"," Ascomycota"," Saccharomycotina","Saccharomycetes"," Saccharomycetales"," Debaryomycetaceae"," Spathaspora.",0,0,0]
["G3B7R1",{"$f":"VLOOKUP(A437, architecture!D437:E539, 2, FALSE)","v":{"$error":"#N/A"}},1511,"Eukaryota"," Fungi"," Dikarya"," Ascomycota"," Saccharomycotina","Saccharomycetes"," Saccharomycetales"," Debaryomycetaceae"," Yamadazyma","Yamadazyma/Candida clade.",0,0]
["G3JB92",{"$f":"VLOOKUP(A438, architecture!D438:E540, 2, FALSE)","v":{"$error":"#N/A"}},1545,"Eukaryota"," Fungi"," Dikarya"," Ascomycota"," Pezizomycotina","Sordariomycetes"," Hypocreomycetidae"," Hypocreales"," Cordycipitaceae","Cordyceps.",0,0]
["G3PNW0",{"$f":"VLOOKUP(A439, architecture!D439:E541, 2, FALSE)","v":{"$error":"#N/A"}},1559,"Eukaryota"," Metazoa"," Chordata"," Craniata"," Vertebrata"," Euteleostomi","Actinopterygii"," Neopterygii"," Teleostei"," Neoteleostei"," Acanthomorphata","Eupercaria"]
["G3SJU0",{"$f":"VLOOKUP(A440, architecture!D440:E542, 2, FALSE)","v":{"$error":"#N/A"}},1363,"Eukaryota"," Metazoa"," Chordata"," Craniata"," Vertebrata"," Euteleostomi","Mammalia"," Eutheria"," Euarchontoglires"," Primates"," Haplorrhini","Catarrhini"]
["G3SM26",{"$f":"VLOOKUP(A441, architecture!D441:E543, 2, FALSE)","v":{"$error":"#N/A"}},1554,"Eukaryota"," Metazoa"," Chordata"," Craniata"," Vertebrata"," Euteleostomi","Mammalia"," Eutheria"," Afrotheria"," Proboscidea"," Elephantidae"," Loxodonta."]
["G3UCH9",{"$f":"VLOOKUP(A442, architecture!D442:E544, 2, FALSE)","v":{"$error":"#N/A"}},1531,"Eukaryota"," Metazoa"," Chordata"," Craniata"," Vertebrata"," Euteleostomi","Mammalia"," Eutheria"," Afrotheria"," Proboscidea"," Elephantidae"," Loxodonta."]
["G3XSN7",{"$f":"VLOOKUP(A443, architecture!D443:E545, 2, FALSE)","v":{"$error":"#N/A"}},1539,"Eukaryota"," Fungi"," Dikarya"," Ascomycota"," Pezizomycotina"," Eurotiomycetes","Eurotiomycetidae"," Eurotiales"," Aspergillaceae"," Aspergillus.",0,0]
["G4NES1",{"$f":"VLOOKUP(A444, architecture!D444:E546, 2, FALSE)","v":{"$error":"#N/A"}},1588,"Eukaryota"," Fungi"," Dikarya"," Ascomycota"," Pezizomycotina","Sordariomycetes"," Sordariomycetidae"," Magnaporthales"," Magnaporthaceae","Magnaporthe.",0,0]
["G4U2U9",{"$f":"VLOOKUP(A445, architecture!D445:E547, 2, FALSE)","v":{"$error":"#N/A"}},1604,"Eukaryota"," Fungi"," Dikarya"," Basidiomycota"," Agaricomycotina","Agaricomycetes"," Sebacinales"," Serendipitaceae"," Serendipita.",0,0,0]
["G4U8D0",{"$f":"VLOOKUP(A446, architecture!D446:E548, 2, FALSE)","v":{"$error":"#N/A"}},1566,"Eukaryota"," Fungi"," Dikarya"," Ascomycota"," Pezizomycotina","Sordariomycetes"," Sordariomycetidae"," Sordariales"," Sordariaceae","Neurospora.",0,0]
["G4VPZ3",{"$f":"VLOOKUP(A447, architecture!D447:E549, 2, FALSE)","v":{"$error":"#N/A"}},978,"Eukaryota"," Metazoa"," Platyhelminthes"," Trematoda"," Digenea"," Strigeidida","Schistosomatoidea"," Schistosomatidae"," Schistosoma.",0,0,0]
["G5C720",{"$f":"VLOOKUP(A448, architecture!D448:E550, 2, FALSE)","v":{"$error":"#N/A"}},1523,"Eukaryota"," Metazoa"," Chordata"," Craniata"," Vertebrata"," Euteleostomi","Mammalia"," Eutheria"," Euarchontoglires"," Glires"," Rodentia","Hystricomorpha"]
["G6D6T7",{"$f":"VLOOKUP(A449, architecture!D449:E551, 2, FALSE)","v":{"$error":"#N/A"}},1659,{"$error":"#N/A"},{"$error":"#N/A"},{"$error":"#N/A"},{"$error":"#N/A"},{"$error":"#N/A"},{"$error":"#N/A"},{"$error":"#N/A"},{"$error":"#N/A"},{"$error":"#N/A"},{"$error":"#N/A"},{"$error":"#N/A"},{"$error":"#N/A"}]
["G7DTR3",{"$f":"VLOOKUP(A450, architecture!D450:E552, 2, FALSE)","v":{"$error":"#N/A"}},1594,"Eukaryota"," Fungi"," Dikarya"," Basidiomycota"," Pucciniomycotina","Mixiomycetes"," Mixiales"," Mixiaceae"," Mixia.",0,0,0]
["G7NV22",{"$f":"VLOOKUP(A451, architecture!D451:E553, 2, FALSE)","v":{"$error":"#N/A"}},1533,"Eukaryota"," Metazoa"," Chordata"," Craniata"," Vertebrata"," Euteleostomi","Mammalia"," Eutheria"," Euarchontoglires"," Primates"," Haplorrhini","Catarrhini"]
["G7X9C7",{"$f":"VLOOKUP(A452, architecture!D452:E554, 2, FALSE)","v":{"$error":"#N/A"}},1536,"Eukaryota"," Fungi"," Dikarya"," Ascomycota"," Pezizomycotina"," Eurotiomycetes","Eurotiomycetidae"," Eurotiales"," Aspergillaceae"," Aspergillus.",0,0]
["G7YQV3",{"$f":"VLOOKUP(A453, architecture!D453:E555, 2, FALSE)","v":{"$error":"#N/A"}},1499,"Eukaryota"," Metazoa"," Platyhelminthes"," Trematoda"," Digenea","Opisthorchiida"," Opisthorchiata"," Opisthorchiidae"," Clonorchis.",0,0,0]
["G8BH52",{"$f":"VLOOKUP(A454, architecture!D454:E556, 2, FALSE)","v":{"$error":"#N/A"}},1519,"Eukaryota"," Fungi"," Dikarya"," Ascomycota"," Saccharomycotina","Saccharomycetes"," Saccharomycetales"," Debaryomycetaceae","Candida/Lodderomyces clade"," Candida.",0,0]
["G8BY52",{"$f":"VLOOKUP(A455, architecture!D455:E557, 2, FALSE)","v":{"$error":"#N/A"}},1563,"Eukaryota"," Fungi"," Dikarya"," Ascomycota"," Saccharomycotina","Saccharomycetes"," Saccharomycetales"," Saccharomycetaceae","Tetrapisispora.",0,0,0]
["G8JQE8",{"$f":"VLOOKUP(A456, architecture!D456:E558, 2, FALSE)","v":{"$error":"#N/A"}},1524,"Eukaryota"," Fungi"," Dikarya"," Ascomycota"," Saccharomycotina","Saccharomycetes"," Saccharomycetales"," Saccharomycetaceae"," Eremothecium.",0,0,0]
["G8YCT6",{"$f":"VLOOKUP(A457, architecture!D457:E559, 2, FALSE)","v":{"$error":"#N/A"}},1513,"Eukaryota"," Fungi"," Dikarya"," Ascomycota"," Saccharomycotina","Saccharomycetes"," Saccharomycetales"," Debaryomycetaceae"," Millerozyma.",0,0,0]
["G8YF87",{"$f":"VLOOKUP(A458, architecture!D458:E560, 2, FALSE)","v":{"$error":"#N/A"}},1513,"Eukaryota"," Fungi"," Dikarya"," Ascomycota"," Saccharomycotina","Saccharomycetes"," Saccharomycetales"," Debaryomycetaceae"," Millerozyma.",0,0,0]
["G8ZZ45",{"$f":"VLOOKUP(A459, architecture!D459:E561, 2, FALSE)","v":{"$error":"#N/A"}},1526,"Eukaryota"," Fungi"," Dikarya"," Ascomycota"," Saccharomycotina","Saccharomycetes"," Saccharomycetales"," Saccharomycetaceae"," Torulaspora.",0,0,0]
["G9N5P0",{"$f":"VLOOKUP(A460, architecture!D460:E562, 2, FALSE)","v":{"$error":"#N/A"}},1557,"Eukaryota"," Fungi"," Dikarya"," Ascomycota"," Pezizomycotina","Sordariomycetes"," Hypocreomycetidae"," Hypocreales"," Hypocreaceae","Trichoderma.",0,0]
["G9NGJ9",{"$f":"VLOOKUP(A461, architecture!D461:E563, 2, FALSE)","v":{"$error":"#N/A"}},1557,"Eukaryota"," Fungi"," Dikarya"," Ascomycota"," Pezizomycotina","Sordariomycetes"," Hypocreomycetidae"," Hypocreales"," Hypocreaceae","Trichoderma.",0,0]
["H0EHK2",{"$f":"VLOOKUP(A462, architecture!D462:E564, 2, FALSE)","v":{"$error":"#N/A"}},1557,"Eukaryota"," Fungi"," Dikarya"," Ascomycota"," Pezizomycotina"," Leotiomycetes","Helotiales"," Helotiaceae"," Glarea.",0,0,0]
["H0VJR7",{"$f":"VLOOKUP(A463, architecture!D463:E565, 2, FALSE)","v":{"$error":"#N/A"}},1531,"Eukaryota"," Metazoa"," Chordata"," Craniata"," Vertebrata"," Euteleostomi","Mammalia"," Eutheria"," Euarchontoglires"," Glires"," Rodentia","Hystricomorpha"]
["H0WSE9",{"$f":"VLOOKUP(A464, architecture!D464:E566, 2, FALSE)","v":{"$error":"#N/A"}},1554,"Eukaryota"," Metazoa"," Chordata"," Craniata"," Vertebrata"," Euteleostomi","Mammalia"," Eutheria"," Euarchontoglires"," Primates"," Strepsirrhini","Lorisiformes"]
["H0XMV7",{"$f":"VLOOKUP(A465, architecture!D465:E567, 2, FALSE)","v":{"$error":"#N/A"}},1532,"Eukaryota"," Metazoa"," Chordata"," Craniata"," Vertebrata"," Euteleostomi","Mammalia"," Eutheria"," Euarchontoglires"," Primates"," Strepsirrhini","Lorisiformes"]
["H0Z4Q4",{"$f":"VLOOKUP(A466, architecture!D466:E568, 2, FALSE)","v":{"$error":"#N/A"}},1530,"Eukaryota"," Metazoa"," Chordata"," Craniata"," Vertebrata"," Euteleostomi","Archelosauria"," Archosauria"," Dinosauria"," Saurischia"," Theropoda","Coelurosauria"]
["H1UVW2",{"$f":"VLOOKUP(A467, architecture!D467:E569, 2, FALSE)","v":{"$error":"#N/A"}},1571,"Eukaryota"," Fungi"," Dikarya"," Ascomycota"," Pezizomycotina","Sordariomycetes"," Hypocreomycetidae"," Glomerellales"," Glomerellaceae","Colletotrichum.",0,0]
["H2APN0",{"$f":"VLOOKUP(A468, architecture!D468:E570, 2, FALSE)","v":{"$error":"#N/A"}},1529,"Eukaryota"," Fungi"," Dikarya"," Ascomycota"," Saccharomycotina","Saccharomycetes"," Saccharomycetales"," Saccharomycetaceae"," Kazachstania.",0,0,0]
["H2LLD2",{"$f":"VLOOKUP(A469, architecture!D469:E571, 2, FALSE)","v":{"$error":"#N/A"}},1559,"Eukaryota"," Metazoa"," Chordata"," Craniata"," Vertebrata"," Euteleostomi","Actinopterygii"," Neopterygii"," Teleostei"," Neoteleostei"," Acanthomorphata","Ovalentaria"]
["H2N6N7",{"$f":"VLOOKUP(A470, architecture!D470:E572, 2, FALSE)","v":{"$error":"#N/A"}},1299,"Eukaryota"," Metazoa"," Chordata"," Craniata"," Vertebrata"," Euteleostomi","Mammalia"," Eutheria"," Euarchontoglires"," Primates"," Haplorrhini","Catarrhini"]
["H2PZG8",{"$f":"VLOOKUP(A471, architecture!D471:E573, 2, FALSE)","v":{"$error":"#N/A"}},1532,"Eukaryota"," Metazoa"," Chordata"," Craniata"," Vertebrata"," Euteleostomi","Mammalia"," Eutheria"," Euarchontoglires"," Primates"," Haplorrhini","Catarrhini"]
["H2U5M9",{"$f":"VLOOKUP(A472, architecture!D472:E574, 2, FALSE)","v":{"$error":"#N/A"}},1532,"Eukaryota"," Metazoa"," Chordata"," Craniata"," Vertebrata"," Euteleostomi","Actinopterygii"," Neopterygii"," Teleostei"," Neoteleostei"," Acanthomorphata","Eupercaria"]
["H2U5N0",{"$f":"VLOOKUP(A473, architecture!D473:E575, 2, FALSE)","v":{"$error":"#N/A"}},1532,"Eukaryota"," Metazoa"," Chordata"," Craniata"," Vertebrata"," Euteleostomi","Actinopterygii"," Neopterygii"," Teleostei"," Neoteleostei"," Acanthomorphata","Eupercaria"]
["H2W410",{"$f":"VLOOKUP(A474, architecture!D474:E576, 2, FALSE)","v":{"$error":"#N/A"}},830,{"$error":"#N/A"},{"$error":"#N/A"},{"$error":"#N/A"},{"$error":"#N/A"},{"$error":"#N/A"},{"$error":"#N/A"},{"$error":"#N/A"},{"$error":"#N/A"},{"$error":"#N/A"},{"$error":"#N/A"},{"$error":"#N/A"},{"$error":"#N/A"}]
["H2ZLQ6",{"$f":"VLOOKUP(A475, architecture!D475:E577, 2, FALSE)","v":{"$error":"#N/A"}},1410,"Eukaryota"," Metazoa"," Chordata"," Tunicata"," Ascidiacea"," Enterogona","Phlebobranchia"," Cionidae"," Ciona.",0,0,0]
["H3AL55",{"$f":"VLOOKUP(A476, architecture!D476:E578, 2, FALSE)","v":{"$error":"#N/A"}},1533,"Eukaryota"," Metazoa"," Chordata"," Craniata"," Vertebrata"," Euteleostomi","Coelacanthiformes"," Coelacanthidae"," Latimeria.",0,0,0]
["H3AL56",{"$f":"VLOOKUP(A477, architecture!D477:E579, 2, FALSE)","v":{"$error":"#N/A"}},1533,"Eukaryota"," Metazoa"," Chordata"," Craniata"," Vertebrata"," Euteleostomi","Coelacanthiformes"," Coelacanthidae"," Latimeria.",0,0,0]
["H3DLB9",{"$f":"VLOOKUP(A478, architecture!D478:E580, 2, FALSE)","v":{"$error":"#N/A"}},1534,"Eukaryota"," Metazoa"," Chordata"," Craniata"," Vertebrata"," Euteleostomi","Actinopterygii"," Neopterygii"," Teleostei"," Neoteleostei"," Acanthomorphata","Eupercaria"]
["H3FFD1",{"$f":"VLOOKUP(A479, architecture!D479:E581, 2, FALSE)","v":{"$error":"#N/A"}},685,"Eukaryota"," Metazoa"," Ecdysozoa"," Nematoda"," Chromadorea"," Diplogasterida","Neodiplogasteridae"," Pristionchus.",0,0,0,0]
["H3FFD2",{"$f":"VLOOKUP(A480, architecture!D480:E582, 2, FALSE)","v":{"$error":"#N/A"}},860,"Eukaryota"," Metazoa"," Ecdysozoa"," Nematoda"," Chromadorea"," Diplogasterida","Neodiplogasteridae"," Pristionchus.",0,0,0,0]
["H6BL98",{"$f":"VLOOKUP(A481, architecture!D481:E583, 2, FALSE)","v":{"$error":"#N/A"}},1556,"Eukaryota"," Fungi"," Dikarya"," Ascomycota"," Pezizomycotina"," Eurotiomycetes","Chaetothyriomycetidae"," Chaetothyriales"," Herpotrichiellaceae","Exophiala.",0,0]
["H9JMY5",{"$f":"VLOOKUP(A482, architecture!D482:E584, 2, FALSE)","v":{"$error":"#N/A"}},1138,"Eukaryota"," Metazoa"," Ecdysozoa"," Arthropoda"," Hexapoda"," Insecta","Pterygota"," Neoptera"," Holometabola"," Lepidoptera"," Glossata"," Ditrysia"]
["I1C152",{"$f":"VLOOKUP(A483, architecture!D483:E585, 2, FALSE)","v":{"$error":"#N/A"}},1499,"Eukaryota"," Fungi"," Mucoromycota"," Mucoromycotina"," Mucorales"," Mucorineae","Rhizopodaceae"," Rhizopus.",0,0,0,0]
["I1FDE0",{"$f":"VLOOKUP(A484, architecture!D484:E586, 2, FALSE)","v":{"$error":"#N/A"}},1425,{"$error":"#N/A"},{"$error":"#N/A"},{"$error":"#N/A"},{"$error":"#N/A"},{"$error":"#N/A"},{"$error":"#N/A"},{"$error":"#N/A"},{"$error":"#N/A"},{"$error":"#N/A"},{"$error":"#N/A"},{"$error":"#N/A"},{"$error":"#N/A"}]
["I1RZ78",{"$f":"VLOOKUP(A485, architecture!D485:E587, 2, FALSE)","v":{"$error":"#N/A"}},1553,"Eukaryota"," Fungi"," Dikarya"," Ascomycota"," Pezizomycotina","Sordariomycetes"," Hypocreomycetidae"," Hypocreales"," Nectriaceae","Fusarium.",0,0]
["I2FPU0",{"$f":"VLOOKUP(A486, architecture!D486:E588, 2, FALSE)","v":{"$error":"#N/A"}},1571,"Eukaryota"," Fungi"," Dikarya"," Basidiomycota"," Ustilaginomycotina","Ustilaginomycetes"," Ustilaginales"," Ustilaginaceae"," Ustilago.",0,0,0]
["I2H9G0",{"$f":"VLOOKUP(A487, architecture!D487:E589, 2, FALSE)","v":{"$error":"#N/A"}},1533,"Eukaryota"," Fungi"," Dikarya"," Ascomycota"," Saccharomycotina","Saccharomycetes"," Saccharomycetales"," Saccharomycetaceae","Tetrapisispora.",0,0,0]
["I2K053",{"$f":"VLOOKUP(A488, architecture!D488:E590, 2, FALSE)","v":{"$error":"#N/A"}},867,"Eukaryota"," Fungi"," Dikarya"," Ascomycota"," Saccharomycotina","Saccharomycetes"," Saccharomycetales"," Pichiaceae"," Brettanomyces.",0,0,0]
["I3IZN6",{"$f":"VLOOKUP(A489, architecture!D489:E591, 2, FALSE)","v":{"$error":"#N/A"}},1518,"Eukaryota"," Metazoa"," Chordata"," Craniata"," Vertebrata"," Euteleostomi","Actinopterygii"," Neopterygii"," Teleostei"," Neoteleostei"," Acanthomorphata","Ovalentaria"]
["J3P6J6",{"$f":"VLOOKUP(A490, architecture!D490:E592, 2, FALSE)","v":{"$error":"#N/A"}},1577,"Eukaryota"," Fungi"," Dikarya"," Ascomycota"," Pezizomycotina","Sordariomycetes"," Sordariomycetidae"," Magnaporthales"," Magnaporthaceae","Gaeumannomyces.",0,0]
["J4GPF6",{"$f":"VLOOKUP(A491, architecture!D491:E593, 2, FALSE)","v":{"$error":"#N/A"}},1611,"Eukaryota"," Fungi"," Dikarya"," Basidiomycota"," Agaricomycotina","Agaricomycetes"," Polyporales"," Polyporales incertae sedis"," Fibroporia.",0,0,0]
["J4KPW8",{"$f":"VLOOKUP(A492, architecture!D492:E594, 2, FALSE)","v":{"$error":"#N/A"}},1545,"Eukaryota"," Fungi"," Dikarya"," Ascomycota"," Pezizomycotina","Sordariomycetes"," Hypocreomycetidae"," Hypocreales"," Cordycipitaceae","Beauveria.",0,0]
["J7R876",{"$f":"VLOOKUP(A493, architecture!D493:E595, 2, FALSE)","v":{"$error":"#N/A"}},1538,"Eukaryota"," Fungi"," Dikarya"," Ascomycota"," Saccharomycotina","Saccharomycetes"," Saccharomycetales"," Saccharomycetaceae"," Kazachstania.",0,0,0]
["J9E4Y2",{"$f":"VLOOKUP(A494, architecture!D494:E596, 2, FALSE)","v":{"$error":"#N/A"}},284,"Eukaryota"," Metazoa"," Ecdysozoa"," Nematoda"," Chromadorea"," Spirurida","Spiruromorpha"," Filarioidea"," Onchocercidae"," Wuchereria.",0,0]
["J9EHP7",{"$f":"VLOOKUP(A495, architecture!D495:E597, 2, FALSE)","v":{"$error":"#N/A"}},251,"Eukaryota"," Metazoa"," Ecdysozoa"," Nematoda"," Chromadorea"," Spirurida","Spiruromorpha"," Filarioidea"," Onchocercidae"," Wuchereria.",0,0]
["J9ICV4",{"$f":"VLOOKUP(A496, architecture!D496:E598, 2, FALSE)","v":{"$error":"#N/A"}},1776,"Eukaryota"," Alveolata"," Ciliophora"," Intramacronucleata"," Spirotrichea","Stichotrichia"," Sporadotrichida"," Oxytrichidae"," Oxytrichinae"," Oxytricha.",0,0]
["J9J9U9",{"$f":"VLOOKUP(A497, architecture!D497:E599, 2, FALSE)","v":{"$error":"#N/A"}},1018,"Eukaryota"," Alveolata"," Ciliophora"," Intramacronucleata"," Spirotrichea","Stichotrichia"," Sporadotrichida"," Oxytrichidae"," Oxytrichinae"," Oxytricha.",0,0]
["J9JL61",{"$f":"VLOOKUP(A498, architecture!D498:E600, 2, FALSE)","v":{"$error":"#N/A"}},1520,"Eukaryota"," Metazoa"," Ecdysozoa"," Arthropoda"," Hexapoda"," Insecta","Pterygota"," Neoptera"," Paraneoptera"," Hemiptera"," Sternorrhyncha","Aphidomorpha"]
["K0KJM8",{"$f":"VLOOKUP(A499, architecture!D499:E601, 2, FALSE)","v":{"$error":"#N/A"}},1501,"Eukaryota"," Fungi"," Dikarya"," Ascomycota"," Saccharomycotina","Saccharomycetes"," Saccharomycetales"," Phaffomycetaceae"," Wickerhamomyces.",0,0,0]
["K1PW08",{"$f":"VLOOKUP(A500, architecture!D500:E602, 2, FALSE)","v":{"$error":"#N/A"}},1137,"Eukaryota"," Metazoa"," Lophotrochozoa"," Mollusca"," Bivalvia"," Pteriomorphia","Ostreoida"," Ostreoidea"," Ostreidae"," Crassostrea.",0,0]
["K1VYD8",{"$f":"VLOOKUP(A501, architecture!D501:E603, 2, FALSE)","v":{"$error":"#N/A"}},1639,"Eukaryota"," Fungi"," Dikarya"," Basidiomycota"," Agaricomycotina","Tremellomycetes"," Trichosporonales"," Trichosporonaceae"," Trichosporon.",0,0,0]
["K1WXM4",{"$f":"VLOOKUP(A502, architecture!D502:E604, 2, FALSE)","v":{"$error":"#N/A"}},1550,"Eukaryota"," Fungi"," Dikarya"," Ascomycota"," Pezizomycotina"," Leotiomycetes","Helotiales"," Dermateaceae"," Marssonina.",0,0,0]
["K2RJH2",{"$f":"VLOOKUP(A503, architecture!D503:E605, 2, FALSE)","v":{"$error":"#N/A"}},1545,"Eukaryota"," Fungi"," Dikarya"," Ascomycota"," Pezizomycotina","Dothideomycetes"," Dothideomycetes incertae sedis"," Botryosphaeriales","Botryosphaeriaceae"," Macrophomina.",0,0]
["K3VP26",{"$f":"VLOOKUP(A504, architecture!D504:E606, 2, FALSE)","v":{"$error":"#N/A"}},1553,"Eukaryota"," Fungi"," Dikarya"," Ascomycota"," Pezizomycotina","Sordariomycetes"," Hypocreomycetidae"," Hypocreales"," Nectriaceae","Fusarium.",0,0]
["K5WID5",{"$f":"VLOOKUP(A505, architecture!D505:E607, 2, FALSE)","v":{"$error":"#N/A"}},1611,"Eukaryota"," Fungi"," Dikarya"," Basidiomycota"," Agaricomycotina","Agaricomycetes"," Polyporales"," Phanerochaetaceae"," Phanerochaete.",0,0,0]
["K5XER8",{"$f":"VLOOKUP(A506, architecture!D506:E608, 2, FALSE)","v":{"$error":"#N/A"}},1544,"Eukaryota"," Fungi"," Dikarya"," Basidiomycota"," Agaricomycotina","Agaricomycetes"," Agaricomycetidae"," Agaricales"," Agaricaceae"," Agaricus.",0,0]
["K7G8P8",{"$f":"VLOOKUP(A507, architecture!D507:E609, 2, FALSE)","v":{"$error":"#N/A"}},1531,"Eukaryota"," Metazoa"," Chordata"," Craniata"," Vertebrata"," Euteleostomi","Archelosauria"," Testudines"," Cryptodira"," Trionychia"," Trionychidae","Pelodiscus."]
["K7J9S2",{"$f":"VLOOKUP(A508, architecture!D508:E610, 2, FALSE)","v":{"$error":"#N/A"}},1667,"Eukaryota"," Metazoa"," Ecdysozoa"," Arthropoda"," Hexapoda"," Insecta","Pterygota"," Neoptera"," Holometabola"," Hymenoptera"," Apocrita"," Terebrantes"]
["K9GPV4",{"$f":"VLOOKUP(A509, architecture!D509:E611, 2, FALSE)","v":{"$error":"#N/A"}},1534,"Eukaryota"," Fungi"," Dikarya"," Ascomycota"," Pezizomycotina"," Eurotiomycetes","Eurotiomycetidae"," Eurotiales"," Aspergillaceae"," Penicillium.",0,0]
["L0PG12",{"$f":"VLOOKUP(A510, architecture!D510:E612, 2, FALSE)","v":{"$error":"#N/A"}},1786,"Eukaryota"," Fungi"," Dikarya"," Ascomycota"," Taphrinomycotina","Pneumocystidomycetes"," Pneumocystidaceae"," Pneumocystis.",0,0,0,0]
["L2G928",{"$f":"VLOOKUP(A511, architecture!D511:E613, 2, FALSE)","v":{"$error":"#N/A"}},1566,"Eukaryota"," Fungi"," Dikarya"," Ascomycota"," Pezizomycotina","Sordariomycetes"," Hypocreomycetidae"," Glomerellales"," Glomerellaceae","Colletotrichum.",0,0]
["L5K396",{"$f":"VLOOKUP(A512, architecture!D512:E614, 2, FALSE)","v":{"$error":"#N/A"}},1390,"Eukaryota"," Metazoa"," Chordata"," Craniata"," Vertebrata"," Euteleostomi","Mammalia"," Eutheria"," Laurasiatheria"," Chiroptera"," Megachiroptera","Pteropodidae"]
["L5LXG2",{"$f":"VLOOKUP(A513, architecture!D513:E615, 2, FALSE)","v":{"$error":"#N/A"}},1536,"Eukaryota"," Metazoa"," Chordata"," Craniata"," Vertebrata"," Euteleostomi","Mammalia"," Eutheria"," Laurasiatheria"," Chiroptera"," Microchiroptera","Vespertilionidae"]
["L8X4Q1",{"$f":"VLOOKUP(A514, architecture!D514:E616, 2, FALSE)","v":{"$error":"#N/A"}},1629,"Eukaryota"," Fungi"," Dikarya"," Basidiomycota"," Agaricomycotina","Agaricomycetes"," Cantharellales"," Ceratobasidiaceae"," Rhizoctonia.",0,0,0]
["L8Y2P5",{"$f":"VLOOKUP(A515, architecture!D515:E617, 2, FALSE)","v":{"$error":"#N/A"}},1039,"Eukaryota"," Metazoa"," Chordata"," Craniata"," Vertebrata"," Euteleostomi","Mammalia"," Eutheria"," Euarchontoglires"," Scandentia"," Tupaiidae"," Tupaia."]
["M1W1F8",{"$f":"VLOOKUP(A516, architecture!D516:E618, 2, FALSE)","v":{"$error":"#N/A"}},1559,"Eukaryota"," Fungi"," Dikarya"," Ascomycota"," Pezizomycotina","Sordariomycetes"," Hypocreomycetidae"," Hypocreales"," Clavicipitaceae","Claviceps.",0,0]
["M2M3S2",{"$f":"VLOOKUP(A517, architecture!D517:E619, 2, FALSE)","v":{"$error":"#N/A"}},1559,"Eukaryota"," Fungi"," Dikarya"," Ascomycota"," Pezizomycotina","Dothideomycetes"," Dothideomycetidae"," Capnodiales"," Teratosphaeriaceae","Baudoinia.",0,0]
["M2RJS3",{"$f":"VLOOKUP(A518, architecture!D518:E620, 2, FALSE)","v":{"$error":"#N/A"}},1516,"Eukaryota"," Fungi"," Dikarya"," Basidiomycota"," Agaricomycotina","Agaricomycetes"," Polyporales"," Gelatoporiaceae"," Gelatoporia.",0,0,0]
["M2S4D3",{"$f":"VLOOKUP(A519, architecture!D519:E621, 2, FALSE)","v":{"$error":"#N/A"}},1559,"Eukaryota"," Fungi"," Dikarya"," Ascomycota"," Pezizomycotina","Dothideomycetes"," Pleosporomycetidae"," Pleosporales"," Pleosporineae","Pleosporaceae"," Bipolaris.",0]
["M2TWV8",{"$f":"VLOOKUP(A520, architecture!D520:E622, 2, FALSE)","v":{"$error":"#N/A"}},1559,"Eukaryota"," Fungi"," Dikarya"," Ascomycota"," Pezizomycotina","Dothideomycetes"," Pleosporomycetidae"," Pleosporales"," Pleosporineae","Pleosporaceae"," Bipolaris.",0]
["M2YK58",{"$f":"VLOOKUP(A521, architecture!D521:E623, 2, FALSE)","v":{"$error":"#N/A"}},1553,"Eukaryota"," Fungi"," Dikarya"," Ascomycota"," Pezizomycotina","Dothideomycetes"," Dothideomycetidae"," Capnodiales"," Mycosphaerellaceae","Dothistroma.",0,0]
["M3A760",{"$f":"VLOOKUP(A522, architecture!D522:E624, 2, FALSE)","v":{"$error":"#N/A"}},1554,"Eukaryota"," Fungi"," Dikarya"," Ascomycota"," Pezizomycotina","Dothideomycetes"," Dothideomycetidae"," Capnodiales"," Mycosphaerellaceae","Pseudocercospora.",0,0]
["M3BU19",{"$f":"VLOOKUP(A523, architecture!D523:E625, 2, FALSE)","v":{"$error":"#N/A"}},1552,"Eukaryota"," Fungi"," Dikarya"," Ascomycota"," Pezizomycotina","Dothideomycetes"," Dothideomycetidae"," Capnodiales"," Mycosphaerellaceae","Sphaerulina.",0,0]
["M3JST8",{"$f":"VLOOKUP(A524, architecture!D524:E626, 2, FALSE)","v":{"$error":"#N/A"}},1530,"Eukaryota"," Fungi"," Dikarya"," Ascomycota"," Saccharomycotina","Saccharomycetes"," Saccharomycetales"," Debaryomycetaceae","Candida/Lodderomyces clade"," Candida.",0,0]
["M3X112",{"$f":"VLOOKUP(A525, architecture!D525:E627, 2, FALSE)","v":{"$error":"#N/A"}},1532,"Eukaryota"," Metazoa"," Chordata"," Craniata"," Vertebrata"," Euteleostomi","Mammalia"," Eutheria"," Laurasiatheria"," Carnivora"," Feliformia"," Felidae"]
["M3YLH2",{"$f":"VLOOKUP(A526, architecture!D526:E628, 2, FALSE)","v":{"$error":"#N/A"}},1533,"Eukaryota"," Metazoa"," Chordata"," Craniata"," Vertebrata"," Euteleostomi","Mammalia"," Eutheria"," Laurasiatheria"," Carnivora"," Caniformia"," Mustelidae"]
["M3ZFB7",{"$f":"VLOOKUP(A527, architecture!D527:E629, 2, FALSE)","v":{"$error":"#N/A"}},1529,"Eukaryota"," Metazoa"," Chordata"," Craniata"," Vertebrata"," Euteleostomi","Actinopterygii"," Neopterygii"," Teleostei"," Neoteleostei"," Acanthomorphata","Ovalentaria"]
["M5BPU2",{"$f":"VLOOKUP(A528, architecture!D528:E630, 2, FALSE)","v":{"$error":"#N/A"}},2104,"Eukaryota"," Fungi"," Dikarya"," Basidiomycota"," Agaricomycotina","Agaricomycetes"," Cantharellales"," Ceratobasidiaceae"," Rhizoctonia.",0,0,0]
["M5FZW2",{"$f":"VLOOKUP(A529, architecture!D529:E631, 2, FALSE)","v":{"$error":"#N/A"}},1596,"Eukaryota"," Fungi"," Dikarya"," Basidiomycota"," Agaricomycotina","Dacrymycetes"," Dacrymycetales"," Dacrymycetaceae"," Dacryopinax.",0,0,0]
["M7B7S1",{"$f":"VLOOKUP(A530, architecture!D530:E632, 2, FALSE)","v":{"$error":"#N/A"}},1748,"Eukaryota"," Metazoa"," Chordata"," Craniata"," Vertebrata"," Euteleostomi","Archelosauria"," Testudines"," Cryptodira"," Durocryptodira"," Americhelydia","Chelonioidea"]
["M7PC58",{"$f":"VLOOKUP(A531, architecture!D531:E633, 2, FALSE)","v":{"$error":"#N/A"}},1516,"Eukaryota"," Fungi"," Dikarya"," Ascomycota"," Taphrinomycotina","Pneumocystidomycetes"," Pneumocystidaceae"," Pneumocystis.",0,0,0,0]
["M7SMT2",{"$f":"VLOOKUP(A532, architecture!D532:E634, 2, FALSE)","v":{"$error":"#N/A"}},1551,"Eukaryota"," Fungi"," Dikarya"," Ascomycota"," Pezizomycotina","Sordariomycetes"," Xylariomycetidae"," Xylariales"," Diatrypaceae"," Eutypa.",0,0]
["M7TLI0",{"$f":"VLOOKUP(A533, architecture!D533:E635, 2, FALSE)","v":{"$error":"#N/A"}},1551,"Eukaryota"," Fungi"," Dikarya"," Ascomycota"," Pezizomycotina"," Leotiomycetes","Helotiales"," Sclerotiniaceae"," Botrytis.",0,0,0]
["M7XLS6",{"$f":"VLOOKUP(A534, architecture!D534:E636, 2, FALSE)","v":{"$error":"#N/A"}},1597,"Eukaryota"," Fungi"," Dikarya"," Basidiomycota"," Pucciniomycotina","Microbotryomycetes"," Sporidiobolales"," Sporidiobolaceae"," Rhodotorula.",0,0,0]
["M9MG38",{"$f":"VLOOKUP(A535, architecture!D535:E637, 2, FALSE)","v":{"$error":"#N/A"}},1581,"Eukaryota"," Fungi"," Dikarya"," Basidiomycota"," Ustilaginomycotina","Ustilaginomycetes"," Ustilaginales"," Ustilaginaceae"," Moesziomyces.",0,0,0]
["N1J6R0",{"$f":"VLOOKUP(A536, architecture!D536:E638, 2, FALSE)","v":{"$error":"#N/A"}},1558,"Eukaryota"," Fungi"," Dikarya"," Ascomycota"," Pezizomycotina"," Leotiomycetes","Erysiphales"," Erysiphaceae"," Blumeria.",0,0,0]
["N1RE77",{"$f":"VLOOKUP(A537, architecture!D537:E639, 2, FALSE)","v":{"$error":"#N/A"}},1556,"Eukaryota"," Fungi"," Dikarya"," Ascomycota"," Pezizomycotina","Sordariomycetes"," Hypocreomycetidae"," Hypocreales"," Nectriaceae","Fusarium"," Fusarium oxysporum species complex.",0]
["N4UG34",{"$f":"VLOOKUP(A538, architecture!D538:E640, 2, FALSE)","v":{"$error":"#N/A"}},1556,"Eukaryota"," Fungi"," Dikarya"," Ascomycota"," Pezizomycotina","Sordariomycetes"," Hypocreomycetidae"," Hypocreales"," Nectriaceae","Fusarium"," Fusarium oxysporum species complex.",0]
["N4VNG1",{"$f":"VLOOKUP(A539, architecture!D539:E641, 2, FALSE)","v":{"$error":"#N/A"}},1571,"Eukaryota"," Fungi"," Dikarya"," Ascomycota"," Pezizomycotina","Sordariomycetes"," Hypocreomycetidae"," Glomerellales"," Glomerellaceae","Colletotrichum.",0,0]
["O62334",{"$f":"VLOOKUP(A540, architecture!D540:E642, 2, FALSE)","v":{"$error":"#N/A"}},1467,"Eukaryota"," Metazoa"," Ecdysozoa"," Nematoda"," Chromadorea"," Rhabditida","Rhabditoidea"," Rhabditidae"," Peloderinae"," Caenorhabditis.",0,0]
["P35573",{"$f":"VLOOKUP(A541, architecture!D541:E643, 2, FALSE)","v":{"$error":"#N/A"}},1532,"Eukaryota"," Metazoa"," Chordata"," Craniata"," Vertebrata"," Euteleostomi","Mammalia"," Eutheria"," Euarchontoglires"," Primates"," Haplorrhini","Catarrhini"]
["P35574",{"$f":"VLOOKUP(A542, architecture!D542:E644, 2, FALSE)","v":{"$error":"#N/A"}},1555,"Eukaryota"," Metazoa"," Chordata"," Craniata"," Vertebrata"," Euteleostomi","Mammalia"," Eutheria"," Euarchontoglires"," Glires"," Lagomorpha"," Leporidae"]
["Q06625",{"$f":"VLOOKUP(A543, architecture!D543:E645, 2, FALSE)","v":{"$error":"#N/A"}},1536,"Eukaryota"," Fungi"," Dikarya"," Ascomycota"," Saccharomycotina","Saccharomycetes"," Saccharomycetales"," Saccharomycetaceae"," Saccharomyces.",0,0,0]
["Q0CN55",{"$f":"VLOOKUP(A544, architecture!D544:E646, 2, FALSE)","v":{"$error":"#N/A"}},1544,"Eukaryota"," Fungi"," Dikarya"," Ascomycota"," Pezizomycotina"," Eurotiomycetes","Eurotiomycetidae"," Eurotiales"," Aspergillaceae"," Aspergillus.",0,0]
["Q0UXB3",{"$f":"VLOOKUP(A545, architecture!D545:E647, 2, FALSE)","v":{"$error":"#N/A"}},1563,"Eukaryota"," Fungi"," Dikarya"," Ascomycota"," Pezizomycotina","Dothideomycetes"," Pleosporomycetidae"," Pleosporales"," Pleosporineae","Phaeosphaeriaceae"," Parastagonospora.",0]
["Q16UP5",{"$f":"VLOOKUP(A546, architecture!D546:E648, 2, FALSE)","v":{"$error":"#N/A"}},1550,"Eukaryota"," Metazoa"," Ecdysozoa"," Arthropoda"," Hexapoda"," Insecta","Pterygota"," Neoptera"," Holometabola"," Diptera"," Nematocera"," Culicoidea"]
["Q291U7",{"$f":"VLOOKUP(A547, architecture!D547:E649, 2, FALSE)","v":{"$error":"#N/A"}},1564,"Eukaryota"," Metazoa"," Ecdysozoa"," Arthropoda"," Hexapoda"," Insecta","Pterygota"," Neoptera"," Holometabola"," Diptera"," Brachycera"," Muscomorpha"]
["Q2HF43",{"$f":"VLOOKUP(A548, architecture!D548:E650, 2, FALSE)","v":{"$error":"#N/A"}},1563,"Eukaryota"," Fungi"," Dikarya"," Ascomycota"," Pezizomycotina","Sordariomycetes"," Sordariomycetidae"," Sordariales"," Chaetomiaceae","Chaetomium.",0,0]
["Q2PQH8",{"$f":"VLOOKUP(A549, architecture!D549:E651, 2, FALSE)","v":{"$error":"#N/A"}},1533,"Eukaryota"," Metazoa"," Chordata"," Craniata"," Vertebrata"," Euteleostomi","Mammalia"," Eutheria"," Laurasiatheria"," Carnivora"," Caniformia"," Canidae"]
["Q2URC4",{"$f":"VLOOKUP(A550, architecture!D550:E652, 2, FALSE)","v":{"$error":"#N/A"}},1537,"Eukaryota"," Fungi"," Dikarya"," Ascomycota"," Pezizomycotina"," Eurotiomycetes","Eurotiomycetidae"," Eurotiales"," Aspergillaceae"," Aspergillus.",0,0]
["Q4WKK6",{"$f":"VLOOKUP(A551, architecture!D551:E653, 2, FALSE)","v":{"$error":"#N/A"}},1612,"Eukaryota"," Fungi"," Dikarya"," Ascomycota"," Pezizomycotina"," Eurotiomycetes","Eurotiomycetidae"," Eurotiales"," Aspergillaceae"," Aspergillus.",0,0]
["Q59MN2",{"$f":"VLOOKUP(A552, architecture!D552:E654, 2, FALSE)","v":{"$error":"#N/A"}},1527,"Eukaryota"," Fungi"," Dikarya"," Ascomycota"," Saccharomycotina","Saccharomycetes"," Saccharomycetales"," Debaryomycetaceae","Candida/Lodderomyces clade"," Candida.",0,0]
["Q5CXJ2",{"$f":"VLOOKUP(A553, architecture!D553:E655, 2, FALSE)","v":{"$error":"#N/A"}},1891,"Eukaryota"," Alveolata"," Apicomplexa"," Conoidasida"," Coccidia","Eucoccidiorida"," Eimeriorina"," Cryptosporidiidae"," Cryptosporidium.",0,0,0]
["Q5KA48",{"$f":"VLOOKUP(A554, architecture!D554:E656, 2, FALSE)","v":{"$error":"#N/A"}},1593,"Eukaryota"," Fungi"," Dikarya"," Basidiomycota"," Agaricomycotina","Tremellomycetes"," Tremellales"," Cryptococcaceae"," Cryptococcus","Cryptococcus neoformans species complex.",0,0]
["Q6BUY8",{"$f":"VLOOKUP(A555, architecture!D555:E657, 2, FALSE)","v":{"$error":"#N/A"}},1521,"Eukaryota"," Fungi"," Dikarya"," Ascomycota"," Saccharomycotina","Saccharomycetes"," Saccharomycetales"," Debaryomycetaceae"," Debaryomyces.",0,0,0]
["Q6CGI3",{"$f":"VLOOKUP(A556, architecture!D556:E658, 2, FALSE)","v":{"$error":"#N/A"}},1494,"Eukaryota"," Fungi"," Dikarya"," Ascomycota"," Saccharomycotina","Saccharomycetes"," Saccharomycetales"," Dipodascaceae"," Yarrowia.",0,0,0]
["Q6FSK0",{"$f":"VLOOKUP(A557, architecture!D557:E659, 2, FALSE)","v":{"$error":"#N/A"}},1528,"Eukaryota"," Fungi"," Dikarya"," Ascomycota"," Saccharomycotina","Saccharomycetes"," Saccharomycetales"," Saccharomycetaceae"," Nakaseomyces","Nakaseomyces/Candida clade.",0,0]
["Q758N1",{"$f":"VLOOKUP(A558, architecture!D558:E660, 2, FALSE)","v":{"$error":"#N/A"}},1518,"Eukaryota"," Fungi"," Dikarya"," Ascomycota"," Saccharomycotina","Saccharomycetes"," Saccharomycetales"," Saccharomycetaceae"," Eremothecium.",0,0,0]
["Q7KVP4",{"$f":"VLOOKUP(A559, architecture!D559:E661, 2, FALSE)","v":{"$error":"#N/A"}},1542,"Eukaryota"," Metazoa"," Ecdysozoa"," Arthropoda"," Hexapoda"," Insecta","Pterygota"," Neoptera"," Holometabola"," Diptera"," Brachycera"," Muscomorpha"]
["Q7PX40",{"$f":"VLOOKUP(A560, architecture!D560:E662, 2, FALSE)","v":{"$error":"#N/A"}},1557,"Eukaryota"," Metazoa"," Ecdysozoa"," Arthropoda"," Hexapoda"," Insecta","Pterygota"," Neoptera"," Holometabola"," Diptera"," Nematocera"," Culicoidea"]
["Q7SED5",{"$f":"VLOOKUP(A561, architecture!D561:E663, 2, FALSE)","v":{"$error":"#N/A"}},1566,"Eukaryota"," Fungi"," Dikarya"," Ascomycota"," Pezizomycotina","Sordariomycetes"," Sordariomycetidae"," Sordariales"," Sordariaceae","Neurospora.",0,0]
["Q86BS7",{"$f":"VLOOKUP(A562, architecture!D562:E664, 2, FALSE)","v":{"$error":"#N/A"}},1546,"Eukaryota"," Metazoa"," Ecdysozoa"," Arthropoda"," Hexapoda"," Insecta","Pterygota"," Neoptera"," Holometabola"," Diptera"," Brachycera"," Muscomorpha"]
["Q9W2H8",{"$f":"VLOOKUP(A563, architecture!D563:E665, 2, FALSE)","v":{"$error":"#N/A"}},1629,"Eukaryota"," Metazoa"," Ecdysozoa"," Arthropoda"," Hexapoda"," Insecta","Pterygota"," Neoptera"," Holometabola"," Diptera"," Brachycera"," Muscomorpha"]
["R0I5E7",{"$f":"VLOOKUP(A564, architecture!D564:E666, 2, FALSE)","v":{"$error":"#N/A"}},1564,"Eukaryota"," Fungi"," Dikarya"," Ascomycota"," Pezizomycotina","Dothideomycetes"," Pleosporomycetidae"," Pleosporales"," Pleosporineae","Pleosporaceae"," Setosphaeria.",0]
["R1ENZ2",{"$f":"VLOOKUP(A565, architecture!D565:E667, 2, FALSE)","v":{"$error":"#N/A"}},1546,"Eukaryota"," Fungi"," Dikarya"," Ascomycota"," Pezizomycotina","Dothideomycetes"," Dothideomycetes incertae sedis"," Botryosphaeriales","Botryosphaeriaceae"," Neofusicoccum.",0,0]
["R4X711",{"$f":"VLOOKUP(A566, architecture!D566:E668, 2, FALSE)","v":{"$error":"#N/A"}},1511,"Eukaryota"," Fungi"," Dikarya"," Ascomycota"," Taphrinomycotina","Taphrinomycetes"," Taphrinales"," Taphrinaceae"," Taphrina.",0,0,0]
["R7YY15",{"$f":"VLOOKUP(A567, architecture!D567:E669, 2, FALSE)","v":{"$error":"#N/A"}},1554,"Eukaryota"," Fungi"," Dikarya"," Ascomycota"," Pezizomycotina","Dothideomycetes"," Dothideomycetes incertae sedis"," Coniosporium.",0,0,0,0]
["R8BET4",{"$f":"VLOOKUP(A568, architecture!D568:E670, 2, FALSE)","v":{"$error":"#N/A"}},1561,"Eukaryota"," Fungi"," Dikarya"," Ascomycota"," Pezizomycotina","Sordariomycetes"," Sordariomycetidae"," Togniniales"," Togniniaceae","Phaeoacremonium.",0,0]
["R9PE26",{"$f":"VLOOKUP(A569, architecture!D569:E671, 2, FALSE)","v":{"$error":"#N/A"}},1568,"Eukaryota"," Fungi"," Dikarya"," Basidiomycota"," Ustilaginomycotina","Ustilaginomycetes"," Ustilaginales"," Ustilaginaceae"," Pseudozyma.",0,0,0]
["S0DU02",{"$f":"VLOOKUP(A570, architecture!D570:E672, 2, FALSE)","v":{"$error":"#N/A"}},1556,"Eukaryota"," Fungi"," Dikarya"," Ascomycota"," Pezizomycotina","Sordariomycetes"," Hypocreomycetidae"," Hypocreales"," Nectriaceae","Fusarium"," Fusarium fujikuroi species complex.",0]
["S2JV67",{"$f":"VLOOKUP(A571, architecture!D571:E673, 2, FALSE)","v":{"$error":"#N/A"}},1522,"Eukaryota"," Fungi"," Mucoromycota"," Mucoromycotina"," Mucorales"," Mucorineae","Mucoraceae"," Mucor.",0,0,0,0]
["S3BXP7",{"$f":"VLOOKUP(A572, architecture!D572:E674, 2, FALSE)","v":{"$error":"#N/A"}},1569,"Eukaryota"," Fungi"," Dikarya"," Ascomycota"," Pezizomycotina","Sordariomycetes"," Sordariomycetidae"," Ophiostomatales"," Ophiostomataceae","Ophiostoma.",0,0]
["S3CNJ0",{"$f":"VLOOKUP(A573, architecture!D573:E675, 2, FALSE)","v":{"$error":"#N/A"}},1557,"Eukaryota"," Fungi"," Dikarya"," Ascomycota"," Pezizomycotina"," Leotiomycetes","Helotiales"," Helotiaceae"," Glarea.",0,0,0]
["S6F5Y1",{"$f":"VLOOKUP(A574, architecture!D574:E676, 2, FALSE)","v":{"$error":"#N/A"}},1524,"Eukaryota"," Fungi"," Dikarya"," Ascomycota"," Saccharomycotina","Saccharomycetes"," Saccharomycetales"," Saccharomycetaceae","Zygosaccharomyces.",0,0,0]
["S7Q397",{"$f":"VLOOKUP(A575, architecture!D575:E677, 2, FALSE)","v":{"$error":"#N/A"}},1512,"Eukaryota"," Metazoa"," Chordata"," Craniata"," Vertebrata"," Euteleostomi","Mammalia"," Eutheria"," Laurasiatheria"," Chiroptera"," Microchiroptera","Vespertilionidae"]
["S7RTJ5",{"$f":"VLOOKUP(A576, architecture!D576:E678, 2, FALSE)","v":{"$error":"#N/A"}},1609,"Eukaryota"," Fungi"," Dikarya"," Basidiomycota"," Agaricomycotina","Agaricomycetes"," Gloeophyllales"," Gloeophyllaceae"," Gloeophyllum.",0,0,0]
["S7ZFX6",{"$f":"VLOOKUP(A577, architecture!D577:E679, 2, FALSE)","v":{"$error":"#N/A"}},1531,"Eukaryota"," Fungi"," Dikarya"," Ascomycota"," Pezizomycotina"," Eurotiomycetes","Eurotiomycetidae"," Eurotiales"," Aspergillaceae"," Penicillium.",0,0]
["S8AGT1",{"$f":"VLOOKUP(A578, architecture!D578:E680, 2, FALSE)","v":{"$error":"#N/A"}},1520,"Eukaryota"," Fungi"," Dikarya"," Ascomycota"," Pezizomycotina"," Orbiliomycetes","Orbiliales"," Orbiliaceae"," Dactylellina.",0,0,0]
["S8FR05",{"$f":"VLOOKUP(A579, architecture!D579:E681, 2, FALSE)","v":{"$error":"#N/A"}},1523,"Eukaryota"," Fungi"," Dikarya"," Basidiomycota"," Agaricomycotina","Agaricomycetes"," Polyporales"," Fomitopsis.",0,0,0,0]
["S9WDR6",{"$f":"VLOOKUP(A580, architecture!D580:E682, 2, FALSE)","v":{"$error":"#N/A"}},786,"Eukaryota"," Metazoa"," Chordata"," Craniata"," Vertebrata"," Euteleostomi","Mammalia"," Eutheria"," Laurasiatheria"," Cetartiodactyla"," Tylopoda","Camelidae"]
["T0K3Z4",{"$f":"VLOOKUP(A581, architecture!D581:E683, 2, FALSE)","v":{"$error":"#N/A"}},1565,"Eukaryota"," Fungi"," Dikarya"," Ascomycota"," Pezizomycotina","Sordariomycetes"," Hypocreomycetidae"," Glomerellales"," Glomerellaceae","Colletotrichum.",0,0]
["T1EEV2",{"$f":"VLOOKUP(A582, architecture!D582:E684, 2, FALSE)","v":{"$error":"#N/A"}},1530,"Eukaryota"," Metazoa"," Lophotrochozoa"," Annelida"," Clitellata"," Hirudinea","Rhynchobdellida"," Glossiphoniidae"," Helobdella.",0,0,0]
["T1GKN8",{"$f":"VLOOKUP(A583, architecture!D583:E685, 2, FALSE)","v":{"$error":"#N/A"}},536,"Eukaryota"," Metazoa"," Ecdysozoa"," Arthropoda"," Hexapoda"," Insecta","Pterygota"," Neoptera"," Holometabola"," Diptera"," Brachycera"," Muscomorpha"]
["T1HQC3",{"$f":"VLOOKUP(A584, architecture!D584:E686, 2, FALSE)","v":{"$error":"#N/A"}},1474,"Eukaryota"," Metazoa"," Ecdysozoa"," Arthropoda"," Hexapoda"," Insecta","Pterygota"," Neoptera"," Paraneoptera"," Hemiptera"," Heteroptera","Panheteroptera"]
["T1J746",{"$f":"VLOOKUP(A585, architecture!D585:E687, 2, FALSE)","v":{"$error":"#N/A"}},1569,"Eukaryota"," Metazoa"," Ecdysozoa"," Arthropoda"," Myriapoda"," Chilopoda","Pleurostigmophora"," Geophilomorpha"," Linotaeniidae"," Strigamia.",0,0]
["T1JUG0",{"$f":"VLOOKUP(A586, architecture!D586:E688, 2, FALSE)","v":{"$error":"#N/A"}},1532,"Eukaryota"," Metazoa"," Ecdysozoa"," Arthropoda"," Chelicerata"," Arachnida","Acari"," Acariformes"," Trombidiformes"," Prostigmata"," Eleutherengona","Raphignathae"]
["T1JUL4",{"$f":"VLOOKUP(A587, architecture!D587:E689, 2, FALSE)","v":{"$error":"#N/A"}},1307,"Eukaryota"," Metazoa"," Ecdysozoa"," Arthropoda"," Chelicerata"," Arachnida","Acari"," Acariformes"," Trombidiformes"," Prostigmata"," Eleutherengona","Raphignathae"]
["T5AFY6",{"$f":"VLOOKUP(A588, architecture!D588:E690, 2, FALSE)","v":{"$error":"#N/A"}},1594,"Eukaryota"," Fungi"," Dikarya"," Ascomycota"," Pezizomycotina","Sordariomycetes"," Hypocreomycetidae"," Hypocreales"," Ophiocordycipitaceae","Ophiocordyceps.",0,0]
["U1HM11",{"$f":"VLOOKUP(A589, architecture!D589:E691, 2, FALSE)","v":{"$error":"#N/A"}},1546,"Eukaryota"," Fungi"," Dikarya"," Ascomycota"," Pezizomycotina"," Eurotiomycetes","Chaetothyriomycetidae"," Verrucariales"," Verrucariaceae"," Endocarpon.",0,0]
["U3JI98",{"$f":"VLOOKUP(A590, architecture!D590:E692, 2, FALSE)","v":{"$error":"#N/A"}},1530,"Eukaryota"," Metazoa"," Chordata"," Craniata"," Vertebrata"," Euteleostomi","Archelosauria"," Archosauria"," Dinosauria"," Saurischia"," Theropoda","Coelurosauria"]
["U4KYJ0",{"$f":"VLOOKUP(A591, architecture!D591:E693, 2, FALSE)","v":{"$error":"#N/A"}},1525,"Eukaryota"," Fungi"," Dikarya"," Ascomycota"," Pezizomycotina"," Pezizomycetes","Pezizales"," Pyronemataceae"," Pyronema.",0,0,0]
["U4UE49",{"$f":"VLOOKUP(A592, architecture!D592:E694, 2, FALSE)","v":{"$error":"#N/A"}},1718,"Eukaryota"," Metazoa"," Ecdysozoa"," Arthropoda"," Hexapoda"," Insecta","Pterygota"," Neoptera"," Holometabola"," Coleoptera"," Polyphaga","Cucujiformia"]
["U5H663",{"$f":"VLOOKUP(A593, architecture!D593:E695, 2, FALSE)","v":{"$error":"#N/A"}},1565,"Eukaryota"," Fungi"," Dikarya"," Basidiomycota"," Pucciniomycotina","Microbotryomycetes"," Microbotryales"," Microbotryaceae"," Microbotryum.",0,0,0]
["U6GUU5",{"$f":"VLOOKUP(A594, architecture!D594:E696, 2, FALSE)","v":{"$error":"#N/A"}},1171,"Eukaryota"," Alveolata"," Apicomplexa"," Conoidasida"," Coccidia","Eucoccidiorida"," Eimeriorina"," Eimeriidae"," Eimeria.",0,0,0]
["U6JZI1",{"$f":"VLOOKUP(A595, architecture!D595:E697, 2, FALSE)","v":{"$error":"#N/A"}},774,"Eukaryota"," Alveolata"," Apicomplexa"," Conoidasida"," Coccidia","Eucoccidiorida"," Eimeriorina"," Eimeriidae"," Eimeria.",0,0,0]
["U6L804",{"$f":"VLOOKUP(A596, architecture!D596:E698, 2, FALSE)","v":{"$error":"#N/A"}},571,"Eukaryota"," Alveolata"," Apicomplexa"," Conoidasida"," Coccidia","Eucoccidiorida"," Eimeriorina"," Eimeriidae"," Eimeria.",0,0,0]
["U6N4S6",{"$f":"VLOOKUP(A597, architecture!D597:E699, 2, FALSE)","v":{"$error":"#N/A"}},1183,"Eukaryota"," Alveolata"," Apicomplexa"," Conoidasida"," Coccidia","Eucoccidiorida"," Eimeriorina"," Eimeriidae"," Eimeria.",0,0,0]
["U6P8Q5",{"$f":"VLOOKUP(A598, architecture!D598:E700, 2, FALSE)","v":{"$error":"#N/A"}},1509,"Eukaryota"," Metazoa"," Ecdysozoa"," Nematoda"," Chromadorea"," Rhabditida","Strongylida"," Trichostrongyloidea"," Haemonchidae"," Haemonchinae","Haemonchus.",0]
["U7PL85",{"$f":"VLOOKUP(A599, architecture!D599:E701, 2, FALSE)","v":{"$error":"#N/A"}},1582,"Eukaryota"," Fungi"," Dikarya"," Ascomycota"," Pezizomycotina","Sordariomycetes"," Sordariomycetidae"," Ophiostomatales"," Ophiostomataceae","Sporothrix.",0,0]
["U9T0T6",{"$f":"VLOOKUP(A600, architecture!D600:E702, 2, FALSE)","v":{"$error":"#N/A"}},1613,"Eukaryota"," Fungi"," Mucoromycota"," Glomeromycotina"," Glomeromycetes","Glomerales"," Glomeraceae"," Rhizophagus.",0,0,0,0]
["V2YXH6",{"$f":"VLOOKUP(A601, architecture!D601:E703, 2, FALSE)","v":{"$error":"#N/A"}},1594,"Eukaryota"," Fungi"," Dikarya"," Basidiomycota"," Agaricomycotina","Agaricomycetes"," Agaricomycetidae"," Agaricales"," Marasmiaceae","Moniliophthora.",0,0]
["V4ALP1",{"$f":"VLOOKUP(A602, architecture!D602:E704, 2, FALSE)","v":{"$error":"#N/A"}},1563,"Eukaryota"," Metazoa"," Lophotrochozoa"," Mollusca"," Gastropoda","Patellogastropoda"," Lottioidea"," Lottiidae"," Lottia.",0,0,0]
["V4ZBE9",{"$f":"VLOOKUP(A603, architecture!D603:E705, 2, FALSE)","v":{"$error":"#N/A"}},1880,"Eukaryota"," Alveolata"," Apicomplexa"," Conoidasida"," Coccidia","Eucoccidiorida"," Eimeriorina"," Sarcocystidae"," Toxoplasma.",0,0,0]
["V5E335",{"$error":"#N/A"},1570,"Eukaryota"," Fungi"," Dikarya"," Basidiomycota"," Ustilaginomycotina","Ustilaginomycetes"," Ustilaginales"," Ustilaginaceae"," Kalmanozyma.",0,0,0]
["V5FW38",{"$error":"#N/A"},1536,"Eukaryota"," Fungi"," Dikarya"," Ascomycota"," Pezizomycotina"," Eurotiomycetes","Eurotiomycetidae"," Eurotiales"," Thermoascaceae"," Byssochlamys.",0,0]
["V6TUL1",{"$error":"#N/A"},1735,"Eukaryota"," Diplomonadida"," Hexamitidae"," Giardiinae"," Giardia.",0,0,0,0,0,0,0]
["V8PGB5",{"$error":"#N/A"},1479,"Eukaryota"," Metazoa"," Chordata"," Craniata"," Vertebrata"," Euteleostomi","Lepidosauria"," Squamata"," Bifurcata"," Unidentata"," Episquamata","Toxicofera"]
["W1QEP6",{"$error":"#N/A"},1512,"Eukaryota"," Fungi"," Dikarya"," Ascomycota"," Saccharomycotina","Saccharomycetes"," Saccharomycetales"," Pichiaceae"," Ogataea.",0,0,0]
["W2RR45",{"$error":"#N/A"},1553,"Eukaryota"," Fungi"," Dikarya"," Ascomycota"," Pezizomycotina"," Eurotiomycetes","Chaetothyriomycetidae"," Chaetothyriales"," Cyphellophoraceae","Cyphellophora.",0,0]
["W2THL3",{"$error":"#N/A"},1286,"Eukaryota"," Metazoa"," Ecdysozoa"," Nematoda"," Chromadorea"," Rhabditida","Strongylida"," Ancylostomatoidea"," Ancylostomatidae"," Bunostominae","Necator.",0]
["W3XM16",{"$error":"#N/A"},1547,"Eukaryota"," Fungi"," Dikarya"," Ascomycota"," Pezizomycotina","Sordariomycetes"," Xylariomycetidae"," Xylariales"," Sporocadaceae","Pestalotiopsis.",0,0]
["W4K1A9",{"$error":"#N/A"},1586,"Eukaryota"," Fungi"," Dikarya"," Basidiomycota"," Agaricomycotina","Agaricomycetes"," Russulales"," Bondarzewiaceae"," Heterobasidion","Heterobasidion annosum species complex.",0,0]
["W4Z8R1",{"$error":"#N/A"},1368,"Eukaryota"," Metazoa"," Echinodermata"," Eleutherozoa"," Echinozoa","Echinoidea"," Euechinoidea"," Echinacea"," Echinoida"," Strongylocentrotidae","Strongylocentrotus.",0]
["W5J8I8",{"$error":"#N/A"},1558,"Eukaryota"," Metazoa"," Ecdysozoa"," Arthropoda"," Hexapoda"," Insecta","Pterygota"," Neoptera"," Holometabola"," Diptera"," Nematocera"," Culicoidea"]
["W5KD30",{"$error":"#N/A"},1516,"Eukaryota"," Metazoa"," Chordata"," Craniata"," Vertebrata"," Euteleostomi","Actinopterygii"," Neopterygii"," Teleostei"," Ostariophysi"," Characiformes","Characoidei"]
["W5LYQ0",{"$error":"#N/A"},1534,"Eukaryota"," Metazoa"," Chordata"," Craniata"," Vertebrata"," Euteleostomi","Actinopterygii"," Neopterygii"," Holostei"," Semionotiformes"," Lepisosteidae","Lepisosteus."]
["W5Q8M3",{"$error":"#N/A"},1532,"Eukaryota"," Metazoa"," Chordata"," Craniata"," Vertebrata"," Euteleostomi","Mammalia"," Eutheria"," Laurasiatheria"," Cetartiodactyla"," Ruminantia","Pecora"]
["W6MVH6",{"$error":"#N/A"},1528,"Eukaryota"," Fungi"," Dikarya"," Ascomycota"," Saccharomycotina","Saccharomycetes"," Saccharomycetales"," Saccharomycetales incertae sedis","Kuraishia.",0,0,0]
["W6PTC3",{"$error":"#N/A"},1534,"Eukaryota"," Fungi"," Dikarya"," Ascomycota"," Pezizomycotina"," Eurotiomycetes","Eurotiomycetidae"," Eurotiales"," Aspergillaceae"," Penicillium.",0,0]
["W6YBJ1",{"$error":"#N/A"},1559,"Eukaryota"," Fungi"," Dikarya"," Ascomycota"," Pezizomycotina","Dothideomycetes"," Pleosporomycetidae"," Pleosporales"," Pleosporineae","Pleosporaceae"," Bipolaris.",0]
["W7M3J4",{"$error":"#N/A"},1556,"Eukaryota"," Fungi"," Dikarya"," Ascomycota"," Pezizomycotina","Sordariomycetes"," Hypocreomycetidae"," Hypocreales"," Nectriaceae","Fusarium"," Fusarium fujikuroi species complex.",0]
["W7XI56",{"$error":"#N/A"},1735,"Eukaryota"," Alveolata"," Ciliophora"," Intramacronucleata","Oligohymenophorea"," Hymenostomatida"," Tetrahymenina"," Tetrahymenidae","Tetrahymena.",0,0,0]
["W9CJT9",{"$error":"#N/A"},1551,"Eukaryota"," Fungi"," Dikarya"," Ascomycota"," Pezizomycotina"," Leotiomycetes","Helotiales"," Sclerotiniaceae"," Sclerotinia.",0,0,0]
["W9W037",{"$error":"#N/A"},1544,"Eukaryota"," Fungi"," Dikarya"," Ascomycota"," Pezizomycotina"," Eurotiomycetes","Chaetothyriomycetidae"," Chaetothyriales"," Herpotrichiellaceae","Cladophialophora.",0,0]
["W9W9T5",{"$error":"#N/A"},1552,"Eukaryota"," Fungi"," Dikarya"," Ascomycota"," Pezizomycotina"," Eurotiomycetes","Chaetothyriomycetidae"," Chaetothyriales"," Herpotrichiellaceae","Cladophialophora.",0,0]
["W9XNU5",{"$error":"#N/A"},1556,"Eukaryota"," Fungi"," Dikarya"," Ascomycota"," Pezizomycotina"," Eurotiomycetes","Chaetothyriomycetidae"," Chaetothyriales"," Herpotrichiellaceae"," Capronia.",0,0]
["W9ZPQ4",{"$error":"#N/A"},1561,"Eukaryota"," Fungi"," Dikarya"," Ascomycota"," Pezizomycotina"," Eurotiomycetes","Chaetothyriomycetidae"," Chaetothyriales"," Herpotrichiellaceae"," Capronia.",0,0]
["X0CNT7",{"$error":"#N/A"},1556,"Eukaryota"," Fungi"," Dikarya"," Ascomycota"," Pezizomycotina","Sordariomycetes"," Hypocreomycetidae"," Hypocreales"," Nectriaceae","Fusarium"," Fusarium oxysporum species complex.",0]
["X0JV77",{"$error":"#N/A"},1396,"Eukaryota"," Fungi"," Dikarya"," Ascomycota"," Pezizomycotina","Sordariomycetes"," Hypocreomycetidae"," Hypocreales"," Nectriaceae","Fusarium"," Fusarium oxysporum species complex.",0]
["X0JVI1",{"$error":"#N/A"},1556,"Eukaryota"," Fungi"," Dikarya"," Ascomycota"," Pezizomycotina","Sordariomycetes"," Hypocreomycetidae"," Hypocreales"," Nectriaceae","Fusarium"," Fusarium oxysporum species complex.",0]

{"sheet":"final_tab","index":8,"n_rows":103,"n_cols":15,"rows_kept":103,"cut":false,"hidden":false,"merged":[]}
["AC","Архитектура","Длина домена PF14702","Таксономия","--","--2","--3","--4","--5","--6","--7","--8","--9","--10","--11"]
["A0A016T824",1,1191,"Eukaryota"," Metazoa"," Ecdysozoa"," Nematoda"," Chromadorea"," Rhabditida","Strongylida"," Ancylostomatoidea"," Ancylostomatidae"," Ancylostomatinae","Ancylostoma.",0]
["A0A016T8T2",1,1119,"Eukaryota"," Metazoa"," Ecdysozoa"," Nematoda"," Chromadorea"," Rhabditida","Strongylida"," Ancylostomatoidea"," Ancylostomatidae"," Ancylostomatinae","Ancylostoma.",0]
["A0A016T905",1,1215,"Eukaryota"," Metazoa"," Ecdysozoa"," Nematoda"," Chromadorea"," Rhabditida","Strongylida"," Ancylostomatoidea"," Ancylostomatidae"," Ancylostomatinae","Ancylostoma.",0]
["A0A044QLY7",1,1497,"Eukaryota"," Metazoa"," Ecdysozoa"," Nematoda"," Chromadorea"," Spirurida","Spiruromorpha"," Filarioidea"," Onchocercidae"," Onchocerca.",0,0]
["A0A068Y9Z0",3,1565,"Eukaryota"," Metazoa"," Platyhelminthes"," Cestoda"," Eucestoda","Cyclophyllidea"," Taeniidae"," Echinococcus.",0,0,0,0]
["A0A077YY88",1,1583,"Eukaryota"," Metazoa"," Ecdysozoa"," Nematoda"," Enoplea"," Dorylaimia","Trichinellida"," Trichuridae"," Trichuris.",0,0,0]
["A0A085NDC7",1,1627,"Eukaryota"," Metazoa"," Ecdysozoa"," Nematoda"," Enoplea"," Dorylaimia","Trichinellida"," Trichuridae"," Trichuris.",0,0,0]
["A0A085NML0",1,1716,"Eukaryota"," Metazoa"," Ecdysozoa"," Nematoda"," Enoplea"," Dorylaimia","Trichinellida"," Trichuridae"," Trichuris.",0,0,0]
["A0A087U9R3",2,74,"Eukaryota"," Metazoa"," Ecdysozoa"," Arthropoda"," Chelicerata"," Arachnida","Araneae"," Araneomorphae"," Entelegynae"," Eresoidea"," Eresidae"," Stegodyphus."]
["A0A087U9R4",2,152,"Eukaryota"," Metazoa"," Ecdysozoa"," Arthropoda"," Chelicerata"," Arachnida","Araneae"," Araneomorphae"," Entelegynae"," Eresoidea"," Eresidae"," Stegodyphus."]
["A0A090L6T4",1,1486,"Eukaryota"," Metazoa"," Ecdysozoa"," Nematoda"," Chromadorea"," Tylenchida","Panagrolaimomorpha"," Strongyloidoidea"," Strongyloididae"," Strongyloides.",0,0]
["A0A0A1U014",1,1426,"Eukaryota"," Amoebozoa"," Archamoebae"," Entamoebidae"," Entamoeba.",0,0,0,0,0,0,0]
["A0A0B2V6Z8",1,1096,"Eukaryota"," Metazoa"," Ecdysozoa"," Nematoda"," Chromadorea"," Ascaridida","Ascaridoidea"," Toxocaridae"," Toxocara.",0,0,0]
["A0A0C2GKR7",2,105,"Eukaryota"," Metazoa"," Ecdysozoa"," Nematoda"," Chromadorea"," Rhabditida","Strongylida"," Ancylostomatoidea"," Ancylostomatidae"," Ancylostomatinae","Ancylostoma.",0]
["A0A0C2M3A6",2,188,"Eukaryota"," Metazoa"," Cnidaria"," Myxozoa"," Myxosporea"," Bivalvulida","Platysporina"," Myxobolidae"," Thelohanellus.",0,0,0]
["A0A0C2MJT8",2,234,"Eukaryota"," Metazoa"," Cnidaria"," Myxozoa"," Myxosporea"," Bivalvulida","Platysporina"," Myxobolidae"," Thelohanellus.",0,0,0]
["A0A0J9V7A0",1,1396,"Eukaryota"," Fungi"," Dikarya"," Ascomycota"," Pezizomycotina","Sordariomycetes"," Hypocreomycetidae"," Hypocreales"," Nectriaceae","Fusarium"," Fusarium oxysporum species complex.",0]
["A0A0K0E803",1,1474,"Eukaryota"," Metazoa"," Ecdysozoa"," Nematoda"," Chromadorea"," Tylenchida","Panagrolaimomorpha"," Strongyloidoidea"," Strongyloididae"," Strongyloides.",0,0]
["A0A0K0FGL4",1,1476,"Eukaryota"," Metazoa"," Ecdysozoa"," Nematoda"," Chromadorea"," Tylenchida","Panagrolaimomorpha"," Strongyloidoidea"," Strongyloididae"," Strongyloides.",0,0]
["A0A0L0D597",1,1413,"Eukaryota"," Apusozoa"," Apusomonadidae"," Thecamonas.",0,0,0,0,0,0,0,0]
["A0A0L8G6V0",1,1407,"Eukaryota"," Metazoa"," Lophotrochozoa"," Mollusca"," Cephalopoda"," Coleoidea","Neocoleoidea"," Octopodiformes"," Octopoda"," Incirrata"," Octopodidae","Octopus."]
["A0A0N4UM20",3,1467,"Eukaryota"," Metazoa"," Ecdysozoa"," Nematoda"," Chromadorea"," Spirurida","Spirurida incertae sedis"," Dracunculoidea"," Dracunculidae"," Dracunculus.",0,0]
["A0A0N4VFZ0",3,1464,"Eukaryota"," Metazoa"," Ecdysozoa"," Nematoda"," Chromadorea"," Oxyurida","Oxyuroidea"," Oxyuridae"," Enterobius.",0,0,0]
["A0A0N4VY25",2,210,"Eukaryota"," Metazoa"," Ecdysozoa"," Nematoda"," Chromadorea"," Rhabditida","Strongylida"," Trichostrongyloidea"," Haemonchidae"," Haemonchinae","Haemonchus.",0]
["A0A0N5AQW6",3,1457,"Eukaryota"," Metazoa"," Ecdysozoa"," Nematoda"," Chromadorea"," Oxyurida","Oxyuroidea"," Oxyuridae"," Syphacia.",0,0,0]
["A0A0N5CB21",3,1476,"Eukaryota"," Metazoa"," Ecdysozoa"," Nematoda"," Chromadorea"," Tylenchida","Panagrolaimomorpha"," Strongyloidoidea"," Strongyloididae"," Strongyloides.",0,0]
["A0A0N5DQX3",1,1777,"Eukaryota"," Metazoa"," Ecdysozoa"," Nematoda"," Enoplea"," Dorylaimia","Trichinellida"," Trichuridae"," Trichuris.",0,0,0]
["A0A0N5E2Y0",3,1663,"Eukaryota"," Metazoa"," Ecdysozoa"," Nematoda"," Enoplea"," Dorylaimia","Trichinellida"," Trichuridae"," Trichuris.",0,0,0]
["A0A0R3QD39",2,198,"Eukaryota"," Metazoa"," Ecdysozoa"," Nematoda"," Chromadorea"," Spirurida","Spiruromorpha"," Filarioidea"," Onchocercidae"," Brugia.",0,0]
["A0A0R3RER8",3,1495,"Eukaryota"," Metazoa"," Ecdysozoa"," Nematoda"," Chromadorea"," Spirurida","Spiruromorpha"," Filarioidea"," Onchocercidae"," Brugia.",0,0]
["A0A0R3SBE9",2,144,"Eukaryota"," Metazoa"," Platyhelminthes"," Cestoda"," Eucestoda","Cyclophyllidea"," Hymenolepididae"," Hymenolepis.",0,0,0,0]
["A0A0R3XCR1",2,189,"Eukaryota"," Metazoa"," Platyhelminthes"," Cestoda"," Eucestoda","Cyclophyllidea"," Taeniidae"," Hydatigera.",0,0,0,0]
["A0A0R4IA63",2,181,"Eukaryota"," Metazoa"," Chordata"," Craniata"," Vertebrata"," Euteleostomi","Actinopterygii"," Neopterygii"," Teleostei"," Ostariophysi"," Cypriniformes","Cyprinidae"]
["A0A151VFH8",3,1592,"Eukaryota"," Fungi"," Dikarya"," Basidiomycota"," Agaricomycotina","Agaricomycetes"," Agaricomycetidae"," Agaricales"," Lyophyllaceae","Hypsizygus.",0,0]
["A0A151WGY4",1,1763,"Eukaryota"," Metazoa"," Ecdysozoa"," Arthropoda"," Hexapoda"," Insecta","Pterygota"," Neoptera"," Holometabola"," Hymenoptera"," Apocrita"," Aculeata"]
["A0A154PFZ0",3,1969,"Eukaryota"," Metazoa"," Ecdysozoa"," Arthropoda"," Hexapoda"," Insecta","Pterygota"," Neoptera"," Holometabola"," Hymenoptera"," Apocrita"," Aculeata"]
["A0A183L3P4",2,130,"Eukaryota"," Metazoa"," Platyhelminthes"," Trematoda"," Digenea"," Strigeidida","Schistosomatoidea"," Schistosomatidae"," Schistosoma.",0,0,0]
["A0A183L5T7",2,255,"Eukaryota"," Metazoa"," Platyhelminthes"," Trematoda"," Digenea"," Strigeidida","Schistosomatoidea"," Schistosomatidae"," Schistosoma.",0,0,0]
["A0A158NS37",3,1589,"Eukaryota"," Metazoa"," Ecdysozoa"," Arthropoda"," Hexapoda"," Insecta","Pterygota"," Neoptera"," Holometabola"," Hymenoptera"," Apocrita"," Aculeata"]
["A0A183PB67",2,255,"Eukaryota"," Metazoa"," Platyhelminthes"," Trematoda"," Digenea"," Strigeidida","Schistosomatoidea"," Schistosomatidae"," Schistosoma.",0,0,0]
["A0A183VKK7",2,99,"Eukaryota"," Metazoa"," Platyhelminthes"," Trematoda"," Digenea"," Strigeidida","Schistosomatoidea"," Schistosomatidae"," Trichobilharzia.",0,0,0]
["A0A183WMJ4",2,142,"Eukaryota"," Metazoa"," Platyhelminthes"," Trematoda"," Digenea"," Strigeidida","Schistosomatoidea"," Schistosomatidae"," Trichobilharzia.",0,0,0]
["A0A183WVX9",2,213,"Eukaryota"," Metazoa"," Platyhelminthes"," Trematoda"," Digenea"," Strigeidida","Schistosomatoidea"," Schistosomatidae"," Trichobilharzia.",0,0,0]
["A2F4M9",1,1469,"Eukaryota"," Parabasalia"," Trichomonadida"," Trichomonadidae"," Trichomonas.",0,0,0,0,0,0,0]
["B0DME9",2,115,"Eukaryota"," Fungi"," Dikarya"," Basidiomycota"," Agaricomycotina","Agaricomycetes"," Agaricomycetidae"," Agaricales"," Tricholomataceae","Laccaria.",0,0]
["B0DZ84",2,115,"Eukaryota"," Fungi"," Dikarya"," Basidiomycota"," Agaricomycotina","Agaricomycetes"," Agaricomycetidae"," Agaricales"," Tricholomataceae","Laccaria.",0,0]
["A0A158PC84",3,1124,"Eukaryota"," Metazoa"," Ecdysozoa"," Nematoda"," Chromadorea"," Rhabditida","Strongylida"," Metastrongyloidea"," Angiostrongylidae"," Angiostrongylus.",0,0]
["A0A158PN69",3,1488,"Eukaryota"," Metazoa"," Ecdysozoa"," Nematoda"," Chromadorea"," Ascaridida","Ascaridoidea"," Anisakidae"," Anisakis"," Anisakis simplex complex.",0,0]
["C4LXB9",1,1428,"Eukaryota"," Amoebozoa"," Archamoebae"," Entamoebidae"," Entamoeba.",0,0,0,0,0,0,0]
["E1G3C1",1,1147,{"$f":"uniprot_tax!C426","v":"Deleted."}]
["E2L5Q4",2,138,"Eukaryota"," Fungi"," Dikarya"," Basidiomycota"," Agaricomycotina","Agaricomycetes"," Agaricomycetidae"," Agaricales"," Marasmiaceae","Moniliophthora.",0,0]
["A0A158QX09",3,1463,"Eukaryota"," Metazoa"," Ecdysozoa"," Nematoda"," Chromadorea"," Rhabditida","Strongylida"," Trichostrongyloidea"," Heligmonellidae"," Nippostrongylinae","Nippostrongylus.",0]
["A0A158R7U9",3,1737,"Eukaryota"," Metazoa"," Platyhelminthes"," Cestoda"," Eucestoda","Cyclophyllidea"," Taeniidae"," Taenia.",0,0,0,0]
["A0A162K3D0",3,1545,"Eukaryota"," Fungi"," Dikarya"," Ascomycota"," Pezizomycotina","Sordariomycetes"," Hypocreomycetidae"," Hypocreales"," Cordycipitaceae","Cordyceps"," Cordyceps brongniartii.",0]
["A0A162UR45",3,1363,"Eukaryota"," Fungi"," Mucoromycota"," Mucoromycotina"," Mucorales","Phycomycetaceae"," Phycomyces.",0,0,0,0,0]
["F4PRV5",1,1535,"Eukaryota"," Amoebozoa"," Mycetozoa"," Dictyostelids"," Acytosteliales","Cavenderiaceae"," Cavenderia.",0,0,0,0,0]
["A0A164VTK7",1,1609,"Eukaryota"," Fungi"," Dikarya"," Basidiomycota"," Agaricomycotina","Agaricomycetes"," Trechisporales"," Hydnodontaceae"," Sistotremastrum.",0,0,0]
["F7CSZ6",2,198,"Eukaryota"," Metazoa"," Chordata"," Craniata"," Vertebrata"," Euteleostomi","Mammalia"," Eutheria"," Euarchontoglires"," Glires"," Rodentia"," Myomorpha"]
["G0QZ29",1,1612,"Eukaryota"," Alveolata"," Ciliophora"," Intramacronucleata","Oligohymenophorea"," Hymenostomatida"," Ophryoglenina"," Ichthyophthirius.",0,0,0,0]
["A0A165HYM6",1,1613,"Eukaryota"," Fungi"," Dikarya"," Basidiomycota"," Agaricomycotina","Dacrymycetes"," Dacrymycetales"," Dacrymycetaceae"," Calocera.",0,0,0]
["A0A165JZD4",3,1551,"Eukaryota"," Fungi"," Dikarya"," Ascomycota"," Pezizomycotina"," Xylonomycetes","Xylonomycetales"," Xylonomycetaceae"," Xylona.",0,0,0]
["A0A165LZL5",3,1605,"Eukaryota"," Fungi"," Dikarya"," Basidiomycota"," Agaricomycotina","Agaricomycetes"," Polyporales"," Daedalea.",0,0,0,0]
["Q54K94",1,1608,"Eukaryota"," Amoebozoa"," Mycetozoa"," Dictyostelids"," Dictyosteliales","Dictyosteliaceae"," Dictyostelium.",0,0,0,0,0]
["U1MI54",1,1477,{"$f":"uniprot_tax!C653","v":"Deleted."}]
["A0A165U9Q9",3,1609,"Eukaryota"," Fungi"," Dikarya"," Basidiomycota"," Agaricomycotina","Agaricomycetes"," Gloeophyllales"," Gloeophyllaceae"," Neolentinus.",0,0,0]
["U6LN22",1,1381,"Eukaryota"," Alveolata"," Apicomplexa"," Conoidasida"," Coccidia","Eucoccidiorida"," Eimeriorina"," Eimeriidae"," Eimeria.",0,0,0]
["V6LPQ1",1,1428,"Eukaryota"," Diplomonadida"," Hexamitidae"," Hexamitinae"," Spironucleus.",0,0,0,0,0,0,0]
["A0A166BCP4",3,1613,"Eukaryota"," Fungi"," Dikarya"," Basidiomycota"," Agaricomycotina","Agaricomycetes"," Auriculariales"," Exidiaceae"," Exidia.",0,0,0]
["A0A166CDF1",3,1597,"Eukaryota"," Fungi"," Dikarya"," Basidiomycota"," Agaricomycotina","Agaricomycetes"," Russulales"," Peniophoraceae"," Peniophora.",0,0,0]
["A0A166FBI4",3,1582,"Eukaryota"," Fungi"," Dikarya"," Basidiomycota"," Agaricomycotina","Agaricomycetes"," Agaricomycetidae"," Atheliales"," Atheliaceae","Fibularhizoctonia.",0,0]
["A0A166HVI1",3,1609,"Eukaryota"," Fungi"," Dikarya"," Basidiomycota"," Agaricomycotina","Agaricomycetes"," Trechisporales"," Hydnodontaceae"," Sistotremastrum.",0,0,0]
["A0A166UV10",3,1573,"Eukaryota"," Fungi"," Dikarya"," Ascomycota"," Pezizomycotina","Sordariomycetes"," Hypocreomycetidae"," Glomerellales"," Glomerellaceae","Colletotrichum.",0,0]
["A0A167BNH3",3,1620,"Eukaryota"," Fungi"," Dikarya"," Ascomycota"," Pezizomycotina","Sordariomycetes"," Hypocreomycetidae"," Glomerellales"," Glomerellaceae","Colletotrichum.",0,0]
["A0A152A9F1",3,1552,"Eukaryota"," Amoebozoa"," Mycetozoa"," Dictyostelids"," Dictyosteliales","Raperosteliaceae"," Tieghemostelium.",0,0,0,0,0]
["A0A167S918",3,1615,"Eukaryota"," Fungi"," Dikarya"," Basidiomycota"," Agaricomycotina","Dacrymycetes"," Dacrymycetales"," Dacrymycetaceae"," Calocera.",0,0,0]
["A0A167UPF6",3,1568,"Eukaryota"," Fungi"," Dikarya"," Ascomycota"," Pezizomycotina","Sordariomycetes"," Sordariomycetidae"," Ophiostomatales"," Ophiostomataceae","Sporothrix.",0,0]
["A0A168GI85",3,1446,"Eukaryota"," Fungi"," Mucoromycota"," Mucoromycotina"," Mucorales"," Mucorineae","Mucoraceae"," Mucor.",0,0,0,0]
["A0A168GXS6",3,1545,"Eukaryota"," Fungi"," Dikarya"," Ascomycota"," Pezizomycotina","Sordariomycetes"," Hypocreomycetidae"," Hypocreales"," Cordycipitaceae","Cordyceps.",0,0]
["A0A177BY91",3,1552,"Eukaryota"," Fungi"," Dikarya"," Ascomycota"," Pezizomycotina","Dothideomycetes"," Pleosporomycetidae"," Pleosporales"," Massarineae","Didymosphaeriaceae"," Paraphaeosphaeria.",0]
["A0A177DMY2",3,1561,"Eukaryota"," Fungi"," Dikarya"," Ascomycota"," Pezizomycotina","Dothideomycetes"," Pleosporomycetidae"," Pleosporales"," Pleosporineae","Pleosporaceae"," Alternaria"," Alternaria alternata group."]
["A0A163DBX9",2,1553,"Eukaryota"," Fungi"," Dikarya"," Ascomycota"," Pezizomycotina","Dothideomycetes"," Pleosporomycetidae"," Pleosporales"," Pleosporineae","Didymellaceae"," Ascochyta.",0]
["A0A178BB70",3,1554,"Eukaryota"," Fungi"," Dikarya"," Ascomycota"," Pezizomycotina","Dothideomycetes"," Pleosporomycetidae"," Pleosporales"," Massarineae","Massarinaceae"," Stagonospora.",0]
["A0A165GB67",2,1522,"Eukaryota"," Fungi"," Dikarya"," Basidiomycota"," Agaricomycotina","Agaricomycetes"," Polyporales"," Laetiporus.",0,0,0,0]
["A0A178EBW2",3,1563,"Eukaryota"," Fungi"," Dikarya"," Ascomycota"," Pezizomycotina","Dothideomycetes"," Pleosporomycetidae"," Pleosporales"," Pleosporineae","Cucurbitariaceae"," Pyrenochaeta.",0]
["A0A180H1Z8",3,1616,"Eukaryota"," Fungi"," Dikarya"," Basidiomycota"," Pucciniomycotina","Pucciniomycetes"," Pucciniales"," Pucciniaceae"," Puccinia.",0,0,0]
["A0A183AAW8",3,1572,"Eukaryota"," Metazoa"," Platyhelminthes"," Trematoda"," Digenea","Plagiorchiida"," Echinostomata"," Echinostomatoidea"," Echinostomatidae","Echinostoma.",0,0]
["A0A183MQF5",3,1246,"Eukaryota"," Metazoa"," Platyhelminthes"," Trematoda"," Digenea"," Strigeidida","Schistosomatoidea"," Schistosomatidae"," Schistosoma.",0,0,0]
["B4I7P0",3,1114,"Eukaryota"," Metazoa"," Ecdysozoa"," Arthropoda"," Hexapoda"," Insecta","Pterygota"," Neoptera"," Holometabola"," Diptera"," Brachycera"," Muscomorpha"]
["B7QG62",3,1123,"Eukaryota"," Metazoa"," Ecdysozoa"," Arthropoda"," Chelicerata"," Arachnida","Acari"," Parasitiformes"," Ixodida"," Ixodoidea"," Ixodidae"," Ixodinae"]
["E4X3A2",3,1399,"Eukaryota"," Metazoa"," Chordata"," Tunicata"," Appendicularia"," Oikopleuridae","Oikopleura.",0,0,0,0,0]
["E7QAP2",1,1407,"Eukaryota"," Fungi"," Dikarya"," Ascomycota"," Saccharomycotina","Saccharomycetes"," Saccharomycetales"," Saccharomycetaceae"," Saccharomyces.",0,0,0]
["F2PHR1",1,1115,"Eukaryota"," Fungi"," Dikarya"," Ascomycota"," Pezizomycotina"," Eurotiomycetes","Eurotiomycetidae"," Onygenales"," Arthrodermataceae"," Trichophyton.",0,0]
["F4PBL6",1,1471,"Eukaryota"," Fungi"," Chytridiomycota"," Chytridiomycetes"," Rhizophydiales","Rhizophydiales incertae sedis"," Batrachochytrium.",0,0,0,0,0]
["F6YVZ9",3,1109,"Eukaryota"," Metazoa"," Chordata"," Craniata"," Vertebrata"," Euteleostomi","Mammalia"," Monotremata"," Ornithorhynchidae"," Ornithorhynchus.",0,0]
["G3WP17",3,937,"Eukaryota"," Metazoa"," Chordata"," Craniata"," Vertebrata"," Euteleostomi","Mammalia"," Metatheria"," Dasyuromorphia"," Dasyuridae"," Sarcophilus.",0]
["G3WP18",3,1182,"Eukaryota"," Metazoa"," Chordata"," Craniata"," Vertebrata"," Euteleostomi","Mammalia"," Metatheria"," Dasyuromorphia"," Dasyuridae"," Sarcophilus.",0]
["L8FUI4",1,1153,"Eukaryota"," Fungi"," Dikarya"," Ascomycota"," Pezizomycotina"," Leotiomycetes","Leotiomycetes incertae sedis"," Pseudeurotiaceae"," Pseudogymnoascus.",0,0,0]
["U3J1L9",3,1312,"Eukaryota"," Metazoa"," Chordata"," Craniata"," Vertebrata"," Euteleostomi","Archelosauria"," Archosauria"," Dinosauria"," Saurischia"," Theropoda","Coelurosauria"]
["W5LJR7",3,1407,"Eukaryota"," Metazoa"," Chordata"," Craniata"," Vertebrata"," Euteleostomi","Actinopterygii"," Neopterygii"," Teleostei"," Ostariophysi"," Characiformes","Characoidei"]
["W6V9C7",3,1225,"Eukaryota"," Metazoa"," Platyhelminthes"," Cestoda"," Eucestoda","Cyclophyllidea"," Taeniidae"," Echinococcus.",0,0,0,0]
["W7MLL3",1,1396,"Eukaryota"," Fungi"," Dikarya"," Ascomycota"," Pezizomycotina","Sordariomycetes"," Hypocreomycetidae"," Hypocreales"," Nectriaceae","Fusarium"," Fusarium fujikuroi species complex.",0]
["X0CDJ6",1,1396,"Eukaryota"," Fungi"," Dikarya"," Ascomycota"," Pezizomycotina","Sordariomycetes"," Hypocreomycetidae"," Hypocreales"," Nectriaceae","Fusarium"," Fusarium oxysporum species complex.",0]

{"sheet":"chosen_tab","index":9,"n_rows":70,"n_cols":15,"rows_kept":70,"cut":false,"hidden":false,"merged":[]}
["AC","Архитектура","Длина домена PF14702","Таксономия","--","--2","--3","--4","--5","--6","--7","--8","--9","--10","--11"]
["A0A016T824",1,1191,"Eukaryota"," Metazoa"," Ecdysozoa"," Nematoda"," Chromadorea"," Rhabditida","Strongylida"," Ancylostomatoidea"," Ancylostomatidae"," Ancylostomatinae","Ancylostoma.",0]
["A0A016T8T2",1,1119,"Eukaryota"," Metazoa"," Ecdysozoa"," Nematoda"," Chromadorea"," Rhabditida","Strongylida"," Ancylostomatoidea"," Ancylostomatidae"," Ancylostomatinae","Ancylostoma.",0]
["A0A016T905",1,1215,"Eukaryota"," Metazoa"," Ecdysozoa"," Nematoda"," Chromadorea"," Rhabditida","Strongylida"," Ancylostomatoidea"," Ancylostomatidae"," Ancylostomatinae","Ancylostoma.",0]
["A0A044QLY7",1,1497,"Eukaryota"," Metazoa"," Ecdysozoa"," Nematoda"," Chromadorea"," Spirurida","Spiruromorpha"," Filarioidea"," Onchocercidae"," Onchocerca.",0,0]
["A0A068Y9Z0",3,1565,"Eukaryota"," Metazoa"," Platyhelminthes"," Cestoda"," Eucestoda","Cyclophyllidea"," Taeniidae"," Echinococcus.",0,0,0,0]
["A0A077YY88",1,1583,"Eukaryota"," Metazoa"," Ecdysozoa"," Nematoda"," Enoplea"," Dorylaimia","Trichinellida"," Trichuridae"," Trichuris.",0,0,0]
["A0A085NDC7",1,1627,"Eukaryota"," Metazoa"," Ecdysozoa"," Nematoda"," Enoplea"," Dorylaimia","Trichinellida"," Trichuridae"," Trichuris.",0,0,0]
["A0A085NML0",1,1716,"Eukaryota"," Metazoa"," Ecdysozoa"," Nematoda"," Enoplea"," Dorylaimia","Trichinellida"," Trichuridae"," Trichuris.",0,0,0]
["A0A090L6T4",1,1486,"Eukaryota"," Metazoa"," Ecdysozoa"," Nematoda"," Chromadorea"," Tylenchida","Panagrolaimomorpha"," Strongyloidoidea"," Strongyloididae"," Strongyloides.",0,0]
["A0A0B2V6Z8",1,1096,"Eukaryota"," Metazoa"," Ecdysozoa"," Nematoda"," Chromadorea"," Ascaridida","Ascaridoidea"," Toxocaridae"," Toxocara.",0,0,0]
["A0A0J9V7A0",1,1396,"Eukaryota"," Fungi"," Dikarya"," Ascomycota"," Pezizomycotina","Sordariomycetes"," Hypocreomycetidae"," Hypocreales"," Nectriaceae","Fusarium"," Fusarium oxysporum species complex.",0]
["A0A0K0E803",1,1474,"Eukaryota"," Metazoa"," Ecdysozoa"," Nematoda"," Chromadorea"," Tylenchida","Panagrolaimomorpha"," Strongyloidoidea"," Strongyloididae"," Strongyloides.",0,0]
["A0A0K0FGL4",1,1476,"Eukaryota"," Metazoa"," Ecdysozoa"," Nematoda"," Chromadorea"," Tylenchida","Panagrolaimomorpha"," Strongyloidoidea"," Strongyloididae"," Strongyloides.",0,0]
["A0A0L8G6V0",1,1407,"Eukaryota"," Metazoa"," Lophotrochozoa"," Mollusca"," Cephalopoda"," Coleoidea","Neocoleoidea"," Octopodiformes"," Octopoda"," Incirrata"," Octopodidae","Octopus."]
["A0A0N4UM20",1,1467,"Eukaryota"," Metazoa"," Ecdysozoa"," Nematoda"," Chromadorea"," Spirurida","Spirurida incertae sedis"," Dracunculoidea"," Dracunculidae"," Dracunculus.",0,0]
["A0A0N4VFZ0",1,1464,"Eukaryota"," Metazoa"," Ecdysozoa"," Nematoda"," Chromadorea"," Oxyurida","Oxyuroidea"," Oxyuridae"," Enterobius.",0,0,0]
["A0A0N5AQW6",1,1457,"Eukaryota"," Metazoa"," Ecdysozoa"," Nematoda"," Chromadorea"," Oxyurida","Oxyuroidea"," Oxyuridae"," Syphacia.",0,0,0]
["A0A0N5CB21",1,1476,"Eukaryota"," Metazoa"," Ecdysozoa"," Nematoda"," Chromadorea"," Tylenchida","Panagrolaimomorpha"," Strongyloidoidea"," Strongyloididae"," Strongyloides.",0,0]
["A0A0N5DQX3",1,1777,"Eukaryota"," Metazoa"," Ecdysozoa"," Nematoda"," Enoplea"," Dorylaimia","Trichinellida"," Trichuridae"," Trichuris.",0,0,0]
["A0A0N5E2Y0",1,1663,"Eukaryota"," Metazoa"," Ecdysozoa"," Nematoda"," Enoplea"," Dorylaimia","Trichinellida"," Trichuridae"," Trichuris.",0,0,0]
["A0A0R3RER8",1,1495,"Eukaryota"," Metazoa"," Ecdysozoa"," Nematoda"," Chromadorea"," Spirurida","Spiruromorpha"," Filarioidea"," Onchocercidae"," Brugia.",0,0]
["A0A151VFH8",3,1592,"Eukaryota"," Fungi"," Dikarya"," Basidiomycota"," Agaricomycotina","Agaricomycetes"," Agaricomycetidae"," Agaricales"," Lyophyllaceae","Hypsizygus.",0,0]
["A0A151WGY4",3,1763,"Eukaryota"," Metazoa"," Ecdysozoa"," Arthropoda"," Hexapoda"," Insecta","Pterygota"," Neoptera"," Holometabola"," Hymenoptera"," Apocrita"," Aculeata"]
["A0A154PFZ0",3,1969,"Eukaryota"," Metazoa"," Ecdysozoa"," Arthropoda"," Hexapoda"," Insecta","Pterygota"," Neoptera"," Holometabola"," Hymenoptera"," Apocrita"," Aculeata"]
["A0A158NS37",3,1589,"Eukaryota"," Metazoa"," Ecdysozoa"," Arthropoda"," Hexapoda"," Insecta","Pterygota"," Neoptera"," Holometabola"," Hymenoptera"," Apocrita"," Aculeata"]
["A0A158PC84",3,1124,"Eukaryota"," Metazoa"," Ecdysozoa"," Nematoda"," Chromadorea"," Rhabditida","Strongylida"," Metastrongyloidea"," Angiostrongylidae"," Angiostrongylus.",0,0]
["A0A158PN69",1,1488,"Eukaryota"," Metazoa"," Ecdysozoa"," Nematoda"," Chromadorea"," Ascaridida","Ascaridoidea"," Anisakidae"," Anisakis"," Anisakis simplex complex.",0,0]
["A0A158QX09",3,1463,"Eukaryota"," Metazoa"," Ecdysozoa"," Nematoda"," Chromadorea"," Rhabditida","Strongylida"," Trichostrongyloidea"," Heligmonellidae"," Nippostrongylinae","Nippostrongylus.",0]
["A0A158R7U9",3,1737,"Eukaryota"," Metazoa"," Platyhelminthes"," Cestoda"," Eucestoda","Cyclophyllidea"," Taeniidae"," Taenia.",0,0,0,0]
["A0A162K3D0",3,1545,"Eukaryota"," Fungi"," Dikarya"," Ascomycota"," Pezizomycotina","Sordariomycetes"," Hypocreomycetidae"," Hypocreales"," Cordycipitaceae","Cordyceps"," Cordyceps brongniartii.",0]
["A0A162UR45",1,1363,"Eukaryota"," Fungi"," Mucoromycota"," Mucoromycotina"," Mucorales","Phycomycetaceae"," Phycomyces.",0,0,0,0,0]
["A0A164VTK7",3,1609,"Eukaryota"," Fungi"," Dikarya"," Basidiomycota"," Agaricomycotina","Agaricomycetes"," Trechisporales"," Hydnodontaceae"," Sistotremastrum.",0,0,0]
["A0A165HYM6",1,1613,"Eukaryota"," Fungi"," Dikarya"," Basidiomycota"," Agaricomycotina","Dacrymycetes"," Dacrymycetales"," Dacrymycetaceae"," Calocera.",0,0,0]
["A0A165JZD4",3,1551,"Eukaryota"," Fungi"," Dikarya"," Ascomycota"," Pezizomycotina"," Xylonomycetes","Xylonomycetales"," Xylonomycetaceae"," Xylona.",0,0,0]
["A0A165LZL5",1,1605,"Eukaryota"," Fungi"," Dikarya"," Basidiomycota"," Agaricomycotina","Agaricomycetes"," Polyporales"," Daedalea.",0,0,0,0]
["A0A165U9Q9",3,1609,"Eukaryota"," Fungi"," Dikarya"," Basidiomycota"," Agaricomycotina","Agaricomycetes"," Gloeophyllales"," Gloeophyllaceae"," Neolentinus.",0,0,0]
["A0A166BCP4",3,1613,"Eukaryota"," Fungi"," Dikarya"," Basidiomycota"," Agaricomycotina","Agaricomycetes"," Auriculariales"," Exidiaceae"," Exidia.",0,0,0]
["A0A166CDF1",3,1597,"Eukaryota"," Fungi"," Dikarya"," Basidiomycota"," Agaricomycotina","Agaricomycetes"," Russulales"," Peniophoraceae"," Peniophora.",0,0,0]
["A0A166FBI4",3,1582,"Eukaryota"," Fungi"," Dikarya"," Basidiomycota"," Agaricomycotina","Agaricomycetes"," Agaricomycetidae"," Atheliales"," Atheliaceae","Fibularhizoctonia.",0,0]
["A0A166HVI1",3,1609,"Eukaryota"," Fungi"," Dikarya"," Basidiomycota"," Agaricomycotina","Agaricomycetes"," Trechisporales"," Hydnodontaceae"," Sistotremastrum.",0,0,0]
["A0A166UV10",1,1573,"Eukaryota"," Fungi"," Dikarya"," Ascomycota"," Pezizomycotina","Sordariomycetes"," Hypocreomycetidae"," Glomerellales"," Glomerellaceae","Colletotrichum.",0,0]
["A0A167BNH3",1,1620,"Eukaryota"," Fungi"," Dikarya"," Ascomycota"," Pezizomycotina","Sordariomycetes"," Hypocreomycetidae"," Glomerellales"," Glomerellaceae","Colletotrichum.",0,0]
["A0A167S918",3,1615,"Eukaryota"," Fungi"," Dikarya"," Basidiomycota"," Agaricomycotina","Dacrymycetes"," Dacrymycetales"," Dacrymycetaceae"," Calocera.",0,0,0]
["A0A167UPF6",1,1568,"Eukaryota"," Fungi"," Dikarya"," Ascomycota"," Pezizomycotina","Sordariomycetes"," Sordariomycetidae"," Ophiostomatales"," Ophiostomataceae","Sporothrix.",0,0]
["A0A168GI85",1,1446,"Eukaryota"," Fungi"," Mucoromycota"," Mucoromycotina"," Mucorales"," Mucorineae","Mucoraceae"," Mucor.",0,0,0,0]
["A0A168GXS6",3,1545,"Eukaryota"," Fungi"," Dikarya"," Ascomycota"," Pezizomycotina","Sordariomycetes"," Hypocreomycetidae"," Hypocreales"," Cordycipitaceae","Cordyceps.",0,0]
["A0A177BY91",3,1552,"Eukaryota"," Fungi"," Dikarya"," Ascomycota"," Pezizomycotina","Dothideomycetes"," Pleosporomycetidae"," Pleosporales"," Massarineae","Didymosphaeriaceae"," Paraphaeosphaeria.",0]
["A0A177DMY2",3,1561,"Eukaryota"," Fungi"," Dikarya"," Ascomycota"," Pezizomycotina","Dothideomycetes"," Pleosporomycetidae"," Pleosporales"," Pleosporineae","Pleosporaceae"," Alternaria"," Alternaria alternata group."]
["A0A178BB70",3,1554,"Eukaryota"," Fungi"," Dikarya"," Ascomycota"," Pezizomycotina","Dothideomycetes"," Pleosporomycetidae"," Pleosporales"," Massarineae","Massarinaceae"," Stagonospora.",0]
["A0A178EBW2",3,1563,"Eukaryota"," Fungi"," Dikarya"," Ascomycota"," Pezizomycotina","Dothideomycetes"," Pleosporomycetidae"," Pleosporales"," Pleosporineae","Cucurbitariaceae"," Pyrenochaeta.",0]
["A0A180H1Z8",3,1616,"Eukaryota"," Fungi"," Dikarya"," Basidiomycota"," Pucciniomycotina","Pucciniomycetes"," Pucciniales"," Pucciniaceae"," Puccinia.",0,0,0]
["A0A183AAW8",3,1572,"Eukaryota"," Metazoa"," Platyhelminthes"," Trematoda"," Digenea","Plagiorchiida"," Echinostomata"," Echinostomatoidea"," Echinostomatidae","Echinostoma.",0,0]
["A0A183MQF5",3,1246,"Eukaryota"," Metazoa"," Platyhelminthes"," Trematoda"," Digenea"," Strigeidida","Schistosomatoidea"," Schistosomatidae"," Schistosoma.",0,0,0]
["B4I7P0",3,1114,"Eukaryota"," Metazoa"," Ecdysozoa"," Arthropoda"," Hexapoda"," Insecta","Pterygota"," Neoptera"," Holometabola"," Diptera"," Brachycera"," Muscomorpha"]
["B7QG62",3,1123,"Eukaryota"," Metazoa"," Ecdysozoa"," Arthropoda"," Chelicerata"," Arachnida","Acari"," Parasitiformes"," Ixodida"," Ixodoidea"," Ixodidae"," Ixodinae"]
["E4X3A2",3,1399,"Eukaryota"," Metazoa"," Chordata"," Tunicata"," Appendicularia"," Oikopleuridae","Oikopleura.",0,0,0,0,0]
["E7QAP2",1,1407,"Eukaryota"," Fungi"," Dikarya"," Ascomycota"," Saccharomycotina","Saccharomycetes"," Saccharomycetales"," Saccharomycetaceae"," Saccharomyces.",0,0,0]
["F2PHR1",1,1115,"Eukaryota"," Fungi"," Dikarya"," Ascomycota"," Pezizomycotina"," Eurotiomycetes","Eurotiomycetidae"," Onygenales"," Arthrodermataceae"," Trichophyton.",0,0]
["F4PBL6",1,1471,"Eukaryota"," Fungi"," Chytridiomycota"," Chytridiomycetes"," Rhizophydiales","Rhizophydiales incertae sedis"," Batrachochytrium.",0,0,0,0,0]
["F6YVZ9",3,1109,"Eukaryota"," Metazoa"," Chordata"," Craniata"," Vertebrata"," Euteleostomi","Mammalia"," Monotremata"," Ornithorhynchidae"," Ornithorhynchus.",0,0]
["G3WP17",3,937,"Eukaryota"," Metazoa"," Chordata"," Craniata"," Vertebrata"," Euteleostomi","Mammalia"," Metatheria"," Dasyuromorphia"," Dasyuridae"," Sarcophilus.",0]
["G3WP18",3,1182,"Eukaryota"," Metazoa"," Chordata"," Craniata"," Vertebrata"," Euteleostomi","Mammalia"," Metatheria"," Dasyuromorphia"," Dasyuridae"," Sarcophilus.",0]
["L8FUI4",1,1153,"Eukaryota"," Fungi"," Dikarya"," Ascomycota"," Pezizomycotina"," Leotiomycetes","Leotiomycetes incertae sedis"," Pseudeurotiaceae"," Pseudogymnoascus.",0,0,0]
["Q6FSK0","_______ ",1528,"Eukaryota"," Fungi"," Dikarya"," Ascomycota"," Saccharomycotina","Saccharomycetes"," Saccharomycetales"," Saccharomycetaceae"," Nakaseomyces","Nakaseomyces/Candida clade."]
["U3J1L9",3,1312,"Eukaryota"," Metazoa"," Chordata"," Craniata"," Vertebrata"," Euteleostomi","Archelosauria"," Archosauria"," Dinosauria"," Saurischia"," Theropoda","Coelurosauria"]
["W5LJR7",3,1407,"Eukaryota"," Metazoa"," Chordata"," Craniata"," Vertebrata"," Euteleostomi","Actinopterygii"," Neopterygii"," Teleostei"," Ostariophysi"," Characiformes","Characoidei"]
["W6V9C7",3,1225,"Eukaryota"," Metazoa"," Platyhelminthes"," Cestoda"," Eucestoda","Cyclophyllidea"," Taeniidae"," Echinococcus.",0,0,0,0]
["W7MLL3",1,1396,"Eukaryota"," Fungi"," Dikarya"," Ascomycota"," Pezizomycotina","Sordariomycetes"," Hypocreomycetidae"," Hypocreales"," Nectriaceae","Fusarium"," Fusarium fujikuroi species complex.",0]
["X0CDJ6",1,1396,"Eukaryota"," Fungi"," Dikarya"," Ascomycota"," Pezizomycotina","Sordariomycetes"," Hypocreomycetidae"," Hypocreales"," Nectriaceae","Fusarium"," Fusarium oxysporum species complex.",0]